{"text_format":"1","workbook":"xlsx","n_sheets":24,"sheets":["Info","1a","1b","1c","1d","2a","2b","2c","2d","3a","3b","3c","3d","4a","4b","4c","4d","Kopplung","Zusammenfassung","Teamteaching","Verteilung Lehrer","LehrerLFV","klasse_lehrer_gegenstaende","Gesamtverbrauch"],"not_rendered":{"charts":0,"images":0,"macros":1,"external_links":0,"defined_names":7,"comments":0,"pivot_tables":2},"unopened":[],"bounds":{"document_bytes":16777216,"sheet_cells":100000,"rows_first":2000,"rows_last":500,"rows_between":2000,"halvings":0,"cell_chars":16384,"cell_head_chars":4096},"cells_cut":0,"cells_raw":0,"read":"whole","date_system":"1900"}

{"sheet":"Info","index":0,"n_rows":0,"n_cols":0,"rows_kept":0,"cut":false,"hidden":false,"merged":[]}

{"sheet":"1a","index":1,"n_rows":50,"n_cols":57,"rows_kept":50,"cut":false,"hidden":false,"merged":[[0,0,0,1]]}
["Lehrer gesamt",null,{"$f":"SUM(C3:C50)","v":0}," Summe GSt pro Klasse",{"$f":"SUM(E3:E50)","v":0},{"$f":"SUM(F3:F50)","v":0},0,0,0,{"$f":"SUM(J3:J50)","v":0},0,0,0,0,0,0,0,0,0,0,0,0,0,0,0,0,0,0,0,0,0,0,0,0,0,0,0,0,0,0,0,0,0,0,0,0,0,0,0,0,0,0,0,0,0,0,0]
["Klasse","Soll","in LVF","Lehrer","M","M-T","M-Stütz","D","D-T","D-Stütz","E","E-T","E-Stütz","BE","Soz","BSP","BU","C","EH","GS","GW","GZ","ME","PH","P / C","Werken","Relisl","S-BO","S-BU","S-EH","S-GW","S-GZ","S-PC","S-BE","S-Werk","vÜ BO","vÜ Soz","unv. DSP","unv. FB","INF Sta","INF ECDL","unv. KET","GTS","GTS-L","BE","Soz","BSP","frei","frei","frei","frei","frei","frei","frei","frei","frei","Summe Lehrer pro Klasse"]
["1a",0,{"$f":"'1a'!BE3+'1b'!BE3+'1c'!BE3+'1d'!BE3+'2a'!BE3+'2b'!BE3+'2c'!BE3 +'2d'!BE3+'3a'!BE3+'3b'!BE3+'3c'!BE3+'3d'!BE3+'4a'!BE3+'4b'!BE3+'4c'!BE3+'4d'!BE3+Kopplung!BE3","v":0},"lehrer01",null,null,null,null,null,null,null,null,null,null,null,null,null,null,null,null,null,null,null,null,null,null,null,null,null,null,null,null,null,null,null,null,null,null,null,null,null,null,null,null,null,null,null,null,null,null,null,null,null,null,null,null,{"$f":"SUM(E3:BD3)","v":0}]
["1a",0,{"$f":"'1a'!BE4+'1b'!BE4+'1c'!BE4+'1d'!BE4+'2a'!BE4+'2b'!BE4+'2c'!BE4 +'2d'!BE4+'3a'!BE4+'3b'!BE4+'3c'!BE4+'3d'!BE4+'4a'!BE4+'4b'!BE4+'4c'!BE4+'4d'!BE4+Kopplung!BE4","v":0},"lehrer02",null,null,null,null,null,null,null,null,null,null,null,null,null,null,null,null,null,null,null,null,null,null,null,null,null,null,null,null,null,null,null,null,null,null,null,null,null,null,null,null,null,null,null,null,null,null,null,null,null,null,null,null,0]
["1a",0,{"$f":"'1a'!BE5+'1b'!BE5+'1c'!BE5+'1d'!BE5+'2a'!BE5+'2b'!BE5+'2c'!BE5 +'2d'!BE5+'3a'!BE5+'3b'!BE5+'3c'!BE5+'3d'!BE5+'4a'!BE5+'4b'!BE5+'4c'!BE5+'4d'!BE5+Kopplung!BE5","v":0},"lehrer03",null,null,null,null,null,null,null,null,null,null,null,null,null,null,null,null,null,null,null,null,null,null,null,null,null,null,null,null,null,null,null,null,null,null,null,null,null,null,null,null,null,null,null,null,null,null,null,null,null,null,null,null,0]
["1a",0,{"$f":"'1a'!BE6+'1b'!BE6+'1c'!BE6+'1d'!BE6+'2a'!BE6+'2b'!BE6+'2c'!BE6 +'2d'!BE6+'3a'!BE6+'3b'!BE6+'3c'!BE6+'3d'!BE6+'4a'!BE6+'4b'!BE6+'4c'!BE6+'4d'!BE6+Kopplung!BE6","v":0},"lehrer04",null,null,null,null,null,null,null,null,null,null,null,null,null,null,null,null,null,null,null,null,null,null,null,null,null,null,null,null,null,null,null,null,null,null,null,null,null,null,null,null,null,null,null,null,null,null,null,null,null,null,null,null,0]
["1a",0,{"$f":"'1a'!BE7+'1b'!BE7+'1c'!BE7+'1d'!BE7+'2a'!BE7+'2b'!BE7+'2c'!BE7 +'2d'!BE7+'3a'!BE7+'3b'!BE7+'3c'!BE7+'3d'!BE7+'4a'!BE7+'4b'!BE7+'4c'!BE7+'4d'!BE7+Kopplung!BE7","v":0},"lehrer05",null,null,null,null,null,null,null,null,null,null,null,null,null,null,null,null,null,null,null,null,null,null,null,null,null,null,null,null,null,null,null,null,null,null,null,null,null,null,null,null,null,null,null,null,null,null,null,null,null,null,null,null,0]
["1a",0,{"$f":"'1a'!BE8+'1b'!BE8+'1c'!BE8+'1d'!BE8+'2a'!BE8+'2b'!BE8+'2c'!BE8 +'2d'!BE8+'3a'!BE8+'3b'!BE8+'3c'!BE8+'3d'!BE8+'4a'!BE8+'4b'!BE8+'4c'!BE8+'4d'!BE8+Kopplung!BE8","v":0},"lehrer06",null,null,null,null,null,null,null,null,null,null,null,null,null,null,null,null,null,null,null,null,null,null,null,null,null,null,null,null,null,null,null,null,null,null,null,null,null,null,null,null,null,null,null,null,null,null,null,null,null,null,null,null,0]
["1a",0,{"$f":"'1a'!BE9+'1b'!BE9+'1c'!BE9+'1d'!BE9+'2a'!BE9+'2b'!BE9+'2c'!BE9 +'2d'!BE9+'3a'!BE9+'3b'!BE9+'3c'!BE9+'3d'!BE9+'4a'!BE9+'4b'!BE9+'4c'!BE9+'4d'!BE9+Kopplung!BE9","v":0},"lehrer07",null,null,null,null,null,null,null,null,null,null,null,null,null,null,null,null,null,null,null,null,null,null,null,null,null,null,null,null,null,null,null,null,null,null,null,null,null,null,null,null,null,null,null,null,null,null,null,null,null,null,null,null,0]
["1a",0,{"$f":"'1a'!BE10+'1b'!BE10+'1c'!BE10+'1d'!BE10+'2a'!BE10+'2b'!BE10+'2c'!BE10 +'2d'!BE10+'3a'!BE10+'3b'!BE10+'3c'!BE10+'3d'!BE10+'4a'!BE10+'4b'!BE10+'4c'!BE10+'4d'!BE10+Kopplung!BE10","v":0},"lehrer08",null,null,null,null,null,null,null,null,null,null,null,null,null,null,null,null,null,null,null,null,null,null,null,null,null,null,null,null,null,null,null,null,null,null,null,null,null,null,null,null,null,null,null,null,null,null,null,null,null,null,null,null,0]
["1a",0,{"$f":"'1a'!BE11+'1b'!BE11+'1c'!BE11+'1d'!BE11+'2a'!BE11+'2b'!BE11+'2c'!BE11 +'2d'!BE11+'3a'!BE11+'3b'!BE11+'3c'!BE11+'3d'!BE11+'4a'!BE11+'4b'!BE11+'4c'!BE11+'4d'!BE11+Kopplung!BE11","v":0},"lehrer09",null,null,null,null,null,null,null,null,null,null,null,null,null,null,null,null,null,null,null,null,null,null,null,null,null,null,null,null,null,null,null,null,null,null,null,null,null,null,null,null,null,null,null,null,null,null,null,null,null,null,null,null,0]
["1a",0,{"$f":"'1a'!BE12+'1b'!BE12+'1c'!BE12+'1d'!BE12+'2a'!BE12+'2b'!BE12+'2c'!BE12 +'2d'!BE12+'3a'!BE12+'3b'!BE12+'3c'!BE12+'3d'!BE12+'4a'!BE12+'4b'!BE12+'4c'!BE12+'4d'!BE12+Kopplung!BE12","v":0},"lehrer10",null,null,null,null,null,null,null,null,null,null,null,null,null,null,null,null,null,null,null,null,null,null,null,null,null,null,null,null,null,null,null,null,null,null,null,null,null,null,null,null,null,null,null,null,null,null,null,null,null,null,null,null,0]
["1a",0,{"$f":"'1a'!BE13+'1b'!BE13+'1c'!BE13+'1d'!BE13+'2a'!BE13+'2b'!BE13+'2c'!BE13 +'2d'!BE13+'3a'!BE13+'3b'!BE13+'3c'!BE13+'3d'!BE13+'4a'!BE13+'4b'!BE13+'4c'!BE13+'4d'!BE13+Kopplung!BE13","v":0},"lehrer11",null,null,null,null,null,null,null,null,null,null,null,null,null,null,null,null,null,null,null,null,null,null,null,null,null,null,null,null,null,null,null,null,null,null,null,null,null,null,null,null,null,null,null,null,null,null,null,null,null,null,null,null,0]
["1a",0,{"$f":"'1a'!BE14+'1b'!BE14+'1c'!BE14+'1d'!BE14+'2a'!BE14+'2b'!BE14+'2c'!BE14 +'2d'!BE14+'3a'!BE14+'3b'!BE14+'3c'!BE14+'3d'!BE14+'4a'!BE14+'4b'!BE14+'4c'!BE14+'4d'!BE14+Kopplung!BE14","v":0},"lehrer12",null,null,null,null,null,null,null,null,null,null,null,null,null,null,null,null,null,null,null,null,null,null,null,null,null,null,null,null,null,null,null,null,null,null,null,null,null,null,null,null,null,null,null,null,null,null,null,null,null,null,null,null,0]
["1a",0,{"$f":"'1a'!BE15+'1b'!BE15+'1c'!BE15+'1d'!BE15+'2a'!BE15+'2b'!BE15+'2c'!BE15 +'2d'!BE15+'3a'!BE15+'3b'!BE15+'3c'!BE15+'3d'!BE15+'4a'!BE15+'4b'!BE15+'4c'!BE15+'4d'!BE15+Kopplung!BE15","v":0},"lehrer13",null,null,null,null,null,null,null,null,null,null,null,null,null,null,null,null,null,null,null,null,null,null,null,null,null,null,null,null,null,null,null,null,null,null,null,null,null,null,null,null,null,null,null,null,null,null,null,null,null,null,null,null,0]
["1a",0,{"$f":"'1a'!BE16+'1b'!BE16+'1c'!BE16+'1d'!BE16+'2a'!BE16+'2b'!BE16+'2c'!BE16 +'2d'!BE16+'3a'!BE16+'3b'!BE16+'3c'!BE16+'3d'!BE16+'4a'!BE16+'4b'!BE16+'4c'!BE16+'4d'!BE16+Kopplung!BE16","v":0},"lehrer14",null,null,null,null,null,null,null,null,null,null,null,null,null,null,null,null,null,null,null,null,null,null,null,null,null,null,null,null,null,null,null,null,null,null,null,null,null,null,null,null,null,null,null,null,null,null,null,null,null,null,null,null,0]
["1a",0,{"$f":"'1a'!BE17+'1b'!BE17+'1c'!BE17+'1d'!BE17+'2a'!BE17+'2b'!BE17+'2c'!BE17 +'2d'!BE17+'3a'!BE17+'3b'!BE17+'3c'!BE17+'3d'!BE17+'4a'!BE17+'4b'!BE17+'4c'!BE17+'4d'!BE17+Kopplung!BE17","v":0},"lehrer15",null,null,null,null,null,null,null,null,null,null,null,null,null,null,null,null,null,null,null,null,null,null,null,null,null,null,null,null,null,null,null,null,null,null,null,null,null,null,null,null,null,null,null,null,null,null,null,null,null,null,null,null,0]
["1a",0,{"$f":"'1a'!BE18+'1b'!BE18+'1c'!BE18+'1d'!BE18+'2a'!BE18+'2b'!BE18+'2c'!BE18 +'2d'!BE18+'3a'!BE18+'3b'!BE18+'3c'!BE18+'3d'!BE18+'4a'!BE18+'4b'!BE18+'4c'!BE18+'4d'!BE18+Kopplung!BE18","v":0},"lehrer16",null,null,null,null,null,null,null,null,null,null,null,null,null,null,null,null,null,null,null,null,null,null,null,null,null,null,null,null,null,null,null,null,null,null,null,null,null,null,null,null,null,null,null,null,null,null,null,null,null,null,null,null,0]
["1a",0,{"$f":"'1a'!BE19+'1b'!BE19+'1c'!BE19+'1d'!BE19+'2a'!BE19+'2b'!BE19+'2c'!BE19 +'2d'!BE19+'3a'!BE19+'3b'!BE19+'3c'!BE19+'3d'!BE19+'4a'!BE19+'4b'!BE19+'4c'!BE19+'4d'!BE19+Kopplung!BE19","v":0},"lehrer17",null,null,null,null,null,null,null,null,null,null,null,null,null,null,null,null,null,null,null,null,null,null,null,null,null,null,null,null,null,null,null,null,null,null,null,null,null,null,null,null,null,null,null,null,null,null,null,null,null,null,null,null,0]
["1a",0,{"$f":"'1a'!BE20+'1b'!BE20+'1c'!BE20+'1d'!BE20+'2a'!BE20+'2b'!BE20+'2c'!BE20 +'2d'!BE20+'3a'!BE20+'3b'!BE20+'3c'!BE20+'3d'!BE20+'4a'!BE20+'4b'!BE20+'4c'!BE20+'4d'!BE20+Kopplung!BE20","v":0},"lehrer18",null,null,null,null,null,null,null,null,null,null,null,null,null,null,null,null,null,null,null,null,null,null,null,null,null,null,null,null,null,null,null,null,null,null,null,null,null,null,null,null,null,null,null,null,null,null,null,null,null,null,null,null,0]
["1a",0,{"$f":"'1a'!BE21+'1b'!BE21+'1c'!BE21+'1d'!BE21+'2a'!BE21+'2b'!BE21+'2c'!BE21 +'2d'!BE21+'3a'!BE21+'3b'!BE21+'3c'!BE21+'3d'!BE21+'4a'!BE21+'4b'!BE21+'4c'!BE21+'4d'!BE21+Kopplung!BE21","v":0},"lehrer19",null,null,null,null,null,null,null,null,null,null,null,null,null,null,null,null,null,null,null,null,null,null,null,null,null,null,null,null,null,null,null,null,null,null,null,null,null,null,null,null,null,null,null,null,null,null,null,null,null,null,null,null,0]
["1a",0,{"$f":"'1a'!BE22+'1b'!BE22+'1c'!BE22+'1d'!BE22+'2a'!BE22+'2b'!BE22+'2c'!BE22 +'2d'!BE22+'3a'!BE22+'3b'!BE22+'3c'!BE22+'3d'!BE22+'4a'!BE22+'4b'!BE22+'4c'!BE22+'4d'!BE22+Kopplung!BE22","v":0},"lehrer20",null,null,null,null,null,null,null,null,null,null,null,null,null,null,null,null,null,null,null,null,null,null,null,null,null,null,null,null,null,null,null,null,null,null,null,null,null,null,null,null,null,null,null,null,null,null,null,null,null,null,null,null,0]
["1a",0,{"$f":"'1a'!BE23+'1b'!BE23+'1c'!BE23+'1d'!BE23+'2a'!BE23+'2b'!BE23+'2c'!BE23 +'2d'!BE23+'3a'!BE23+'3b'!BE23+'3c'!BE23+'3d'!BE23+'4a'!BE23+'4b'!BE23+'4c'!BE23+'4d'!BE23+Kopplung!BE23","v":0},"lehrer21",null,null,null,null,null,null,null,null,null,null,null,null,null,null,null,null,null,null,null,null,null,null,null,null,null,null,null,null,null,null,null,null,null,null,null,null,null,null,null,null,null,null,null,null,null,null,null,null,null,null,null,null,0]
["1a",0,{"$f":"'1a'!BE24+'1b'!BE24+'1c'!BE24+'1d'!BE24+'2a'!BE24+'2b'!BE24+'2c'!BE24 +'2d'!BE24+'3a'!BE24+'3b'!BE24+'3c'!BE24+'3d'!BE24+'4a'!BE24+'4b'!BE24+'4c'!BE24+'4d'!BE24+Kopplung!BE24","v":0},"lehrer22",null,null,null,null,null,null,null,null,null,null,null,null,null,null,null,null,null,null,null,null,null,null,null,null,null,null,null,null,null,null,null,null,null,null,null,null,null,null,null,null,null,null,null,null,null,null,null,null,null,null,null,null,0]
["1a",0,{"$f":"'1a'!BE25+'1b'!BE25+'1c'!BE25+'1d'!BE25+'2a'!BE25+'2b'!BE25+'2c'!BE25 +'2d'!BE25+'3a'!BE25+'3b'!BE25+'3c'!BE25+'3d'!BE25+'4a'!BE25+'4b'!BE25+'4c'!BE25+'4d'!BE25+Kopplung!BE25","v":0},"lehrer23",null,null,null,null,null,null,null,null,null,null,null,null,null,null,null,null,null,null,null,null,null,null,null,null,null,null,null,null,null,null,null,null,null,null,null,null,null,null,null,null,null,null,null,null,null,null,null,null,null,null,null,null,0]
["1a",0,{"$f":"'1a'!BE26+'1b'!BE26+'1c'!BE26+'1d'!BE26+'2a'!BE26+'2b'!BE26+'2c'!BE26 +'2d'!BE26+'3a'!BE26+'3b'!BE26+'3c'!BE26+'3d'!BE26+'4a'!BE26+'4b'!BE26+'4c'!BE26+'4d'!BE26+Kopplung!BE26","v":0},"lehrer24",null,null,null,null,null,null,null,null,null,null,null,null,null,null,null,null,null,null,null,null,null,null,null,null,null,null,null,null,null,null,null,null,null,null,null,null,null,null,null,null,null,null,null,null,null,null,null,null,null,null,null,null,0]
["1a",0,{"$f":"'1a'!BE27+'1b'!BE27+'1c'!BE27+'1d'!BE27+'2a'!BE27+'2b'!BE27+'2c'!BE27 +'2d'!BE27+'3a'!BE27+'3b'!BE27+'3c'!BE27+'3d'!BE27+'4a'!BE27+'4b'!BE27+'4c'!BE27+'4d'!BE27+Kopplung!BE27","v":0},"lehrer25",null,null,null,null,null,null,null,null,null,null,null,null,null,null,null,null,null,null,null,null,null,null,null,null,null,null,null,null,null,null,null,null,null,null,null,null,null,null,null,null,null,null,null,null,null,null,null,null,null,null,null,null,0]
["1a",0,{"$f":"'1a'!BE28+'1b'!BE28+'1c'!BE28+'1d'!BE28+'2a'!BE28+'2b'!BE28+'2c'!BE28 +'2d'!BE28+'3a'!BE28+'3b'!BE28+'3c'!BE28+'3d'!BE28+'4a'!BE28+'4b'!BE28+'4c'!BE28+'4d'!BE28+Kopplung!BE28","v":0},"lehrer26",null,null,null,null,null,null,null,null,null,null,null,null,null,null,null,null,null,null,null,null,null,null,null,null,null,null,null,null,null,null,null,null,null,null,null,null,null,null,null,null,null,null,null,null,null,null,null,null,null,null,null,null,0]
["1a",0,{"$f":"'1a'!BE29+'1b'!BE29+'1c'!BE29+'1d'!BE29+'2a'!BE29+'2b'!BE29+'2c'!BE29 +'2d'!BE29+'3a'!BE29+'3b'!BE29+'3c'!BE29+'3d'!BE29+'4a'!BE29+'4b'!BE29+'4c'!BE29+'4d'!BE29+Kopplung!BE29","v":0},"lehrer27",null,null,null,null,null,null,null,null,null,null,null,null,null,null,null,null,null,null,null,null,null,null,null,null,null,null,null,null,null,null,null,null,null,null,null,null,null,null,null,null,null,null,null,null,null,null,null,null,null,null,null,null,0]
["1a",0,{"$f":"'1a'!BE30+'1b'!BE30+'1c'!BE30+'1d'!BE30+'2a'!BE30+'2b'!BE30+'2c'!BE30 +'2d'!BE30+'3a'!BE30+'3b'!BE30+'3c'!BE30+'3d'!BE30+'4a'!BE30+'4b'!BE30+'4c'!BE30+'4d'!BE30+Kopplung!BE30","v":0},"lehrer28",null,null,null,null,null,null,null,null,null,null,null,null,null,null,null,null,null,null,null,null,null,null,null,null,null,null,null,null,null,null,null,null,null,null,null,null,null,null,null,null,null,null,null,null,null,null,null,null,null,null,null,null,0]
["1a",0,{"$f":"'1a'!BE31+'1b'!BE31+'1c'!BE31+'1d'!BE31+'2a'!BE31+'2b'!BE31+'2c'!BE31 +'2d'!BE31+'3a'!BE31+'3b'!BE31+'3c'!BE31+'3d'!BE31+'4a'!BE31+'4b'!BE31+'4c'!BE31+'4d'!BE31+Kopplung!BE31","v":0},"lehrer29",null,null,null,null,null,null,null,null,null,null,null,null,null,null,null,null,null,null,null,null,null,null,null,null,null,null,null,null,null,null,null,null,null,null,null,null,null,null,null,null,null,null,null,null,null,null,null,null,null,null,null,null,0]
["1a",0,{"$f":"'1a'!BE32+'1b'!BE32+'1c'!BE32+'1d'!BE32+'2a'!BE32+'2b'!BE32+'2c'!BE32 +'2d'!BE32+'3a'!BE32+'3b'!BE32+'3c'!BE32+'3d'!BE32+'4a'!BE32+'4b'!BE32+'4c'!BE32+'4d'!BE32+Kopplung!BE32","v":0},"lehrer30",null,null,null,null,null,null,null,null,null,null,null,null,null,null,null,null,null,null,null,null,null,null,null,null,null,null,null,null,null,null,null,null,null,null,null,null,null,null,null,null,null,null,null,null,null,null,null,null,null,null,null,null,0]
["1a",0,{"$f":"'1a'!BE33+'1b'!BE33+'1c'!BE33+'1d'!BE33+'2a'!BE33+'2b'!BE33+'2c'!BE33 +'2d'!BE33+'3a'!BE33+'3b'!BE33+'3c'!BE33+'3d'!BE33+'4a'!BE33+'4b'!BE33+'4c'!BE33+'4d'!BE33+Kopplung!BE33","v":0},"lehrer31",null,null,null,null,null,null,null,null,null,null,null,null,null,null,null,null,null,null,null,null,null,null,null,null,null,null,null,null,null,null,null,null,null,null,null,null,null,null,null,null,null,null,null,null,null,null,null,null,null,null,null,null,{"$f":"SUM(E33:BD33)","v":0}]
["1a",0,{"$f":"'1a'!BE34+'1b'!BE34+'1c'!BE34+'1d'!BE34+'2a'!BE34+'2b'!BE34+'2c'!BE34 +'2d'!BE34+'3a'!BE34+'3b'!BE34+'3c'!BE34+'3d'!BE34+'4a'!BE34+'4b'!BE34+'4c'!BE34+'4d'!BE34+Kopplung!BE34","v":0},"lehrer32",null,null,null,null,null,null,null,null,null,null,null,null,null,null,null,null,null,null,null,null,null,null,null,null,null,null,null,null,null,null,null,null,null,null,null,null,null,null,null,null,null,null,null,null,null,null,null,null,null,null,null,null,0]
["1a",0,{"$f":"'1a'!BE35+'1b'!BE35+'1c'!BE35+'1d'!BE35+'2a'!BE35+'2b'!BE35+'2c'!BE35 +'2d'!BE35+'3a'!BE35+'3b'!BE35+'3c'!BE35+'3d'!BE35+'4a'!BE35+'4b'!BE35+'4c'!BE35+'4d'!BE35+Kopplung!BE35","v":0},"lehrer33",null,null,null,null,null,null,null,null,null,null,null,null,null,null,null,null,null,null,null,null,null,null,null,null,null,null,null,null,null,null,null,null,null,null,null,null,null,null,null,null,null,null,null,null,null,null,null,null,null,null,null,null,0]
["1a",0,{"$f":"'1a'!BE36+'1b'!BE36+'1c'!BE36+'1d'!BE36+'2a'!BE36+'2b'!BE36+'2c'!BE36 +'2d'!BE36+'3a'!BE36+'3b'!BE36+'3c'!BE36+'3d'!BE36+'4a'!BE36+'4b'!BE36+'4c'!BE36+'4d'!BE36+Kopplung!BE36","v":0},"lehrer34",null,null,null,null,null,null,null,null,null,null,null,null,null,null,null,null,null,null,null,null,null,null,null,null,null,null,null,null,null,null,null,null,null,null,null,null,null,null,null,null,null,null,null,null,null,null,null,null,null,null,null,null,0]
["1a",0,{"$f":"'1a'!BE37+'1b'!BE37+'1c'!BE37+'1d'!BE37+'2a'!BE37+'2b'!BE37+'2c'!BE37 +'2d'!BE37+'3a'!BE37+'3b'!BE37+'3c'!BE37+'3d'!BE37+'4a'!BE37+'4b'!BE37+'4c'!BE37+'4d'!BE37+Kopplung!BE37","v":0},"lehrer35",null,null,null,null,null,null,null,null,null,null,null,null,null,null,null,null,null,null,null,null,null,null,null,null,null,null,null,null,null,null,null,null,null,null,null,null,null,null,null,null,null,null,null,null,null,null,null,null,null,null,null,null,0]
["1a",0,{"$f":"'1a'!BE38+'1b'!BE38+'1c'!BE38+'1d'!BE38+'2a'!BE38+'2b'!BE38+'2c'!BE38 +'2d'!BE38+'3a'!BE38+'3b'!BE38+'3c'!BE38+'3d'!BE38+'4a'!BE38+'4b'!BE38+'4c'!BE38+'4d'!BE38+Kopplung!BE38","v":0},"lehrer36",null,null,null,null,null,null,null,null,null,null,null,null,null,null,null,null,null,null,null,null,null,null,null,null,null,null,null,null,null,null,null,null,null,null,null,null,null,null,null,null,null,null,null,null,null,null,null,null,null,null,null,null,0]
["1a",0,{"$f":"'1a'!BE39+'1b'!BE39+'1c'!BE39+'1d'!BE39+'2a'!BE39+'2b'!BE39+'2c'!BE39 +'2d'!BE39+'3a'!BE39+'3b'!BE39+'3c'!BE39+'3d'!BE39+'4a'!BE39+'4b'!BE39+'4c'!BE39+'4d'!BE39+Kopplung!BE39","v":0},"lehrer37",null,null,null,null,null,null,null,null,null,null,null,null,null,null,null,null,null,null,null,null,null,null,null,null,null,null,null,null,null,null,null,null,null,null,null,null,null,null,null,null,null,null,null,null,null,null,null,null,null,null,null,null,0]
["1a",0,{"$f":"'1a'!BE40+'1b'!BE40+'1c'!BE40+'1d'!BE40+'2a'!BE40+'2b'!BE40+'2c'!BE40 +'2d'!BE40+'3a'!BE40+'3b'!BE40+'3c'!BE40+'3d'!BE40+'4a'!BE40+'4b'!BE40+'4c'!BE40+'4d'!BE40+Kopplung!BE40","v":0},"lehrer38",null,null,null,null,null,null,null,null,null,null,null,null,null,null,null,null,null,null,null,null,null,null,null,null,null,null,null,null,null,null,null,null,null,null,null,null,null,null,null,null,null,null,null,null,null,null,null,null,null,null,null,null,0]
["1a",0,{"$f":"'1a'!BE41+'1b'!BE41+'1c'!BE41+'1d'!BE41+'2a'!BE41+'2b'!BE41+'2c'!BE41 +'2d'!BE41+'3a'!BE41+'3b'!BE41+'3c'!BE41+'3d'!BE41+'4a'!BE41+'4b'!BE41+'4c'!BE41+'4d'!BE41+Kopplung!BE41","v":0},"lehrer39",null,null,null,null,null,null,null,null,null,null,null,null,null,null,null,null,null,null,null,null,null,null,null,null,null,null,null,null,null,null,null,null,null,null,null,null,null,null,null,null,null,null,null,null,null,null,null,null,null,null,null,null,0]
["1a",0,{"$f":"'1a'!BE42+'1b'!BE42+'1c'!BE42+'1d'!BE42+'2a'!BE42+'2b'!BE42+'2c'!BE42 +'2d'!BE42+'3a'!BE42+'3b'!BE42+'3c'!BE42+'3d'!BE42+'4a'!BE42+'4b'!BE42+'4c'!BE42+'4d'!BE42+Kopplung!BE42","v":0},"lehrer40",null,null,null,null,null,null,null,null,null,null,null,null,null,null,null,null,null,null,null,null,null,null,null,null,null,null,null,null,null,null,null,null,null,null,null,null,null,null,null,null,null,null,null,null,null,null,null,null,null,null,null,null,0]
["1a",0,{"$f":"'1a'!BE43+'1b'!BE43+'1c'!BE43+'1d'!BE43+'2a'!BE43+'2b'!BE43+'2c'!BE43 +'2d'!BE43+'3a'!BE43+'3b'!BE43+'3c'!BE43+'3d'!BE43+'4a'!BE43+'4b'!BE43+'4c'!BE43+'4d'!BE43+Kopplung!BE43","v":0},"lehrer41",null,null,null,null,null,null,null,null,null,null,null,null,null,null,null,null,null,null,null,null,null,null,null,null,null,null,null,null,null,null,null,null,null,null,null,null,null,null,null,null,null,null,null,null,null,null,null,null,null,null,null,null,0]
["1a",0,{"$f":"'1a'!BE44+'1b'!BE44+'1c'!BE44+'1d'!BE44+'2a'!BE44+'2b'!BE44+'2c'!BE44 +'2d'!BE44+'3a'!BE44+'3b'!BE44+'3c'!BE44+'3d'!BE44+'4a'!BE44+'4b'!BE44+'4c'!BE44+'4d'!BE44+Kopplung!BE44","v":0},"lehrer42",null,null,null,null,null,null,null,null,null,null,null,null,null,null,null,null,null,null,null,null,null,null,null,null,null,null,null,null,null,null,null,null,null,null,null,null,null,null,null,null,null,null,null,null,null,null,null,null,null,null,null,null,0]
["1a",0,{"$f":"'1a'!BE45+'1b'!BE45+'1c'!BE45+'1d'!BE45+'2a'!BE45+'2b'!BE45+'2c'!BE45 +'2d'!BE45+'3a'!BE45+'3b'!BE45+'3c'!BE45+'3d'!BE45+'4a'!BE45+'4b'!BE45+'4c'!BE45+'4d'!BE45+Kopplung!BE45","v":0},"lehrer43",null,null,null,null,null,null,null,null,null,null,null,null,null,null,null,null,null,null,null,null,null,null,null,null,null,null,null,null,null,null,null,null,null,null,null,null,null,null,null,null,null,null,null,null,null,null,null,null,null,null,null,null,0]
["1a",0,{"$f":"'1a'!BE46+'1b'!BE46+'1c'!BE46+'1d'!BE46+'2a'!BE46+'2b'!BE46+'2c'!BE46 +'2d'!BE46+'3a'!BE46+'3b'!BE46+'3c'!BE46+'3d'!BE46+'4a'!BE46+'4b'!BE46+'4c'!BE46+'4d'!BE46+Kopplung!BE46","v":0},"lehrer44",null,null,null,null,null,null,null,null,null,null,null,null,null,null,null,null,null,null,null,null,null,null,null,null,null,null,null,null,null,null,null,null,null,null,null,null,null,null,null,null,null,null,null,null,null,null,null,null,null,null,null,null,0]
["1a",0,{"$f":"'1a'!BE47+'1b'!BE47+'1c'!BE47+'1d'!BE47+'2a'!BE47+'2b'!BE47+'2c'!BE47 +'2d'!BE47+'3a'!BE47+'3b'!BE47+'3c'!BE47+'3d'!BE47+'4a'!BE47+'4b'!BE47+'4c'!BE47+'4d'!BE47+Kopplung!BE47","v":0},"lehrer45",null,null,null,null,null,null,null,null,null,null,null,null,null,null,null,null,null,null,null,null,null,null,null,null,null,null,null,null,null,null,null,null,null,null,null,null,null,null,null,null,null,null,null,null,null,null,null,null,null,null,null,null,0]
["1a",0,{"$f":"'1a'!BE48+'1b'!BE48+'1c'!BE48+'1d'!BE48+'2a'!BE48+'2b'!BE48+'2c'!BE48 +'2d'!BE48+'3a'!BE48+'3b'!BE48+'3c'!BE48+'3d'!BE48+'4a'!BE48+'4b'!BE48+'4c'!BE48+'4d'!BE48+Kopplung!BE48","v":0},"lehrer46",null,null,null,null,null,null,null,null,null,null,null,null,null,null,null,null,null,null,null,null,null,null,null,null,null,null,null,null,null,null,null,null,null,null,null,null,null,null,null,null,null,null,null,null,null,null,null,null,null,null,null,null,0]
["1a",0,{"$f":"'1a'!BE49+'1b'!BE49+'1c'!BE49+'1d'!BE49+'2a'!BE49+'2b'!BE49+'2c'!BE49 +'2d'!BE49+'3a'!BE49+'3b'!BE49+'3c'!BE49+'3d'!BE49+'4a'!BE49+'4b'!BE49+'4c'!BE49+'4d'!BE49+Kopplung!BE49","v":0},"lehrer47",null,null,null,null,null,null,null,null,null,null,null,null,null,null,null,null,null,null,null,null,null,null,null,null,null,null,null,null,null,null,null,null,null,null,null,null,null,null,null,null,null,null,null,null,null,null,null,null,null,null,null,null,0]
["1a",0,{"$f":"'1a'!BE50+'1b'!BE50+'1c'!BE50+'1d'!BE50+'2a'!BE50+'2b'!BE50+'2c'!BE50 +'2d'!BE50+'3a'!BE50+'3b'!BE50+'3c'!BE50+'3d'!BE50+'4a'!BE50+'4b'!BE50+'4c'!BE50+'4d'!BE50+Kopplung!BE50","v":0},"lehrer48",null,null,null,null,null,null,null,null,null,null,null,null,null,null,null,null,null,null,null,null,null,null,null,null,null,null,null,null,null,null,null,null,null,null,null,null,null,null,null,null,null,null,null,null,null,null,null,null,null,null,null,null,0]

{"sheet":"1b","index":2,"n_rows":50,"n_cols":57,"rows_kept":50,"cut":false,"hidden":false,"merged":[]}
[null,null,null," Summe GSt pro Klasse",{"$f":"SUM(E3:E50)","v":0},{"$f":"SUM(F3:F50)","v":0},0,0,0,0,0,0,0,0,0,0,0,0,0,0,0,0,0,0,0,0,0,0,0,0,0,0,0,0,0,0,0,0,0,0,0,0,0,0,0,0,0,0,0,0,0,0,0,0,0,0,0]
[{"$f":"header","v":"Klasse"},"Soll","in LVF","Lehrer","M","M-T","M-Stütz","D","D-T","D-Stütz","E","E-T","E-Stütz","BE","Soz","BSP","BU","C","EH","GS","GW","GZ","ME","PH","P / C","Werken","Relisl","S-BO","S-BU","S-EH","S-GW","S-GZ","S-PC","S-BE","S-Werk","vÜ BO","vÜ Soz","unv. DSP","unv. FB","INF Sta","INF ECDL","unv. KET","GTS","GTS-L","BE","Soz","BSP","frei","frei","frei","frei","frei","frei","frei","frei","frei","Summe Lehrer pro Klasse"]
["1b",{"$f":"'1a'!B3","v":0},{"$f":"'1a'!C3","v":0},{"$f":"'1a'!D3","v":"lehrer01"},null,null,null,null,null,null,null,null,null,null,null,null,null,null,null,null,null,null,null,null,null,null,null,null,null,null,null,null,null,null,null,null,null,null,null,null,null,null,null,null,null,null,null,null,null,null,null,null,null,null,null,null,{"$f":"SUM(E3:BD3)","v":0}]
["1b",{"$f":"'1a'!B4","v":0},{"$f":"'1a'!C4","v":0},{"$f":"'1a'!D4","v":"lehrer02"},null,null,null,null,null,null,null,null,null,null,null,null,null,null,null,null,null,null,null,null,null,null,null,null,null,null,null,null,null,null,null,null,null,null,null,null,null,null,null,null,null,null,null,null,null,null,null,null,null,null,null,null,{"$f":"SUM(E4:BD4)","v":0}]
["1b",{"$f":"'1a'!B5","v":0},{"$f":"'1a'!C5","v":0},{"$f":"'1a'!D5","v":"lehrer03"},null,null,null,null,null,null,null,null,null,null,null,null,null,null,null,null,null,null,null,null,null,null,null,null,null,null,null,null,null,null,null,null,null,null,null,null,null,null,null,null,null,null,null,null,null,null,null,null,null,null,null,null,0]
["1b",{"$f":"'1a'!B6","v":0},{"$f":"'1a'!C6","v":0},{"$f":"'1a'!D6","v":"lehrer04"},null,null,null,null,null,null,null,null,null,null,null,null,null,null,null,null,null,null,null,null,null,null,null,null,null,null,null,null,null,null,null,null,null,null,null,null,null,null,null,null,null,null,null,null,null,null,null,null,null,null,null,null,0]
["1b",{"$f":"'1a'!B7","v":0},{"$f":"'1a'!C7","v":0},{"$f":"'1a'!D7","v":"lehrer05"},null,null,null,null,null,null,null,null,null,null,null,null,null,null,null,null,null,null,null,null,null,null,null,null,null,null,null,null,null,null,null,null,null,null,null,null,null,null,null,null,null,null,null,null,null,null,null,null,null,null,null,null,0]
["1b",{"$f":"'1a'!B8","v":0},{"$f":"'1a'!C8","v":0},{"$f":"'1a'!D8","v":"lehrer06"},null,null,null,null,null,null,null,null,null,null,null,null,null,null,null,null,null,null,null,null,null,null,null,null,null,null,null,null,null,null,null,null,null,null,null,null,null,null,null,null,null,null,null,null,null,null,null,null,null,null,null,null,0]
["1b",{"$f":"'1a'!B9","v":0},{"$f":"'1a'!C9","v":0},{"$f":"'1a'!D9","v":"lehrer07"},null,null,null,null,null,null,null,null,null,null,null,null,null,null,null,null,null,null,null,null,null,null,null,null,null,null,null,null,null,null,null,null,null,null,null,null,null,null,null,null,null,null,null,null,null,null,null,null,null,null,null,null,0]
["1b",{"$f":"'1a'!B10","v":0},{"$f":"'1a'!C10","v":0},{"$f":"'1a'!D10","v":"lehrer08"},null,null,null,null,null,null,null,null,null,null,null,null,null,null,null,null,null,null,null,null,null,null,null,null,null,null,null,null,null,null,null,null,null,null,null,null,null,null,null,null,null,null,null,null,null,null,null,null,null,null,null,null,0]
["1b",{"$f":"'1a'!B11","v":0},{"$f":"'1a'!C11","v":0},{"$f":"'1a'!D11","v":"lehrer09"},null,null,null,null,null,null,null,null,null,null,null,null,null,null,null,null,null,null,null,null,null,null,null,null,null,null,null,null,null,null,null,null,null,null,null,null,null,null,null,null,null,null,null,null,null,null,null,null,null,null,null,null,0]
["1b",{"$f":"'1a'!B12","v":0},{"$f":"'1a'!C12","v":0},{"$f":"'1a'!D12","v":"lehrer10"},null,null,null,null,null,null,null,null,null,null,null,null,null,null,null,null,null,null,null,null,null,null,null,null,null,null,null,null,null,null,null,null,null,null,null,null,null,null,null,null,null,null,null,null,null,null,null,null,null,null,null,null,0]
["1b",{"$f":"'1a'!B13","v":0},{"$f":"'1a'!C13","v":0},{"$f":"'1a'!D13","v":"lehrer11"},null,null,null,null,null,null,null,null,null,null,null,null,null,null,null,null,null,null,null,null,null,null,null,null,null,null,null,null,null,null,null,null,null,null,null,null,null,null,null,null,null,null,null,null,null,null,null,null,null,null,null,null,0]
["1b",{"$f":"'1a'!B14","v":0},{"$f":"'1a'!C14","v":0},{"$f":"'1a'!D14","v":"lehrer12"},null,null,null,null,null,null,null,null,null,null,null,null,null,null,null,null,null,null,null,null,null,null,null,null,null,null,null,null,null,null,null,null,null,null,null,null,null,null,null,null,null,null,null,null,null,null,null,null,null,null,null,null,0]
["1b",{"$f":"'1a'!B15","v":0},{"$f":"'1a'!C15","v":0},{"$f":"'1a'!D15","v":"lehrer13"},null,null,null,null,null,null,null,null,null,null,null,null,null,null,null,null,null,null,null,null,null,null,null,null,null,null,null,null,null,null,null,null,null,null,null,null,null,null,null,null,null,null,null,null,null,null,null,null,null,null,null,null,0]
["1b",{"$f":"'1a'!B16","v":0},{"$f":"'1a'!C16","v":0},{"$f":"'1a'!D16","v":"lehrer14"},null,null,null,null,null,null,null,null,null,null,null,null,null,null,null,null,null,null,null,null,null,null,null,null,null,null,null,null,null,null,null,null,null,null,null,null,null,null,null,null,null,null,null,null,null,null,null,null,null,null,null,null,0]
["1b",{"$f":"'1a'!B17","v":0},{"$f":"'1a'!C17","v":0},{"$f":"'1a'!D17","v":"lehrer15"},null,null,null,null,null,null,null,null,null,null,null,null,null,null,null,null,null,null,null,null,null,null,null,null,null,null,null,null,null,null,null,null,null,null,null,null,null,null,null,null,null,null,null,null,null,null,null,null,null,null,null,null,0]
["1b",{"$f":"'1a'!B18","v":0},{"$f":"'1a'!C18","v":0},{"$f":"'1a'!D18","v":"lehrer16"},null,null,null,null,null,null,null,null,null,null,null,null,null,null,null,null,null,null,null,null,null,null,null,null,null,null,null,null,null,null,null,null,null,null,null,null,null,null,null,null,null,null,null,null,null,null,null,null,null,null,null,null,0]
["1b",{"$f":"'1a'!B19","v":0},{"$f":"'1a'!C19","v":0},{"$f":"'1a'!D19","v":"lehrer17"},null,null,null,null,null,null,null,null,null,null,null,null,null,null,null,null,null,null,null,null,null,null,null,null,null,null,null,null,null,null,null,null,null,null,null,null,null,null,null,null,null,null,null,null,null,null,null,null,null,null,null,null,0]
["1b",{"$f":"'1a'!B20","v":0},{"$f":"'1a'!C20","v":0},{"$f":"'1a'!D20","v":"lehrer18"},null,null,null,null,null,null,null,null,null,null,null,null,null,null,null,null,null,null,null,null,null,null,null,null,null,null,null,null,null,null,null,null,null,null,null,null,null,null,null,null,null,null,null,null,null,null,null,null,null,null,null,null,0]
["1b",{"$f":"'1a'!B21","v":0},{"$f":"'1a'!C21","v":0},{"$f":"'1a'!D21","v":"lehrer19"},null,null,null,null,null,null,null,null,null,null,null,null,null,null,null,null,null,null,null,null,null,null,null,null,null,null,null,null,null,null,null,null,null,null,null,null,null,null,null,null,null,null,null,null,null,null,null,null,null,null,null,null,0]
["1b",{"$f":"'1a'!B22","v":0},{"$f":"'1a'!C22","v":0},{"$f":"'1a'!D22","v":"lehrer20"},null,null,null,null,null,null,null,null,null,null,null,null,null,null,null,null,null,null,null,null,null,null,null,null,null,null,null,null,null,null,null,null,null,null,null,null,null,null,null,null,null,null,null,null,null,null,null,null,null,null,null,null,0]
["1b",{"$f":"'1a'!B23","v":0},{"$f":"'1a'!C23","v":0},{"$f":"'1a'!D23","v":"lehrer21"},null,null,null,null,null,null,null,null,null,null,null,null,null,null,null,null,null,null,null,null,null,null,null,null,null,null,null,null,null,null,null,null,null,null,null,null,null,null,null,null,null,null,null,null,null,null,null,null,null,null,null,null,0]
["1b",{"$f":"'1a'!B24","v":0},{"$f":"'1a'!C24","v":0},{"$f":"'1a'!D24","v":"lehrer22"},null,null,null,null,null,null,null,null,null,null,null,null,null,null,null,null,null,null,null,null,null,null,null,null,null,null,null,null,null,null,null,null,null,null,null,null,null,null,null,null,null,null,null,null,null,null,null,null,null,null,null,null,0]
["1b",{"$f":"'1a'!B25","v":0},{"$f":"'1a'!C25","v":0},{"$f":"'1a'!D25","v":"lehrer23"},null,null,null,null,null,null,null,null,null,null,null,null,null,null,null,null,null,null,null,null,null,null,null,null,null,null,null,null,null,null,null,null,null,null,null,null,null,null,null,null,null,null,null,null,null,null,null,null,null,null,null,null,0]
["1b",{"$f":"'1a'!B26","v":0},{"$f":"'1a'!C26","v":0},{"$f":"'1a'!D26","v":"lehrer24"},null,null,null,null,null,null,null,null,null,null,null,null,null,null,null,null,null,null,null,null,null,null,null,null,null,null,null,null,null,null,null,null,null,null,null,null,null,null,null,null,null,null,null,null,null,null,null,null,null,null,null,null,0]
["1b",{"$f":"'1a'!B27","v":0},{"$f":"'1a'!C27","v":0},{"$f":"'1a'!D27","v":"lehrer25"},null,null,null,null,null,null,null,null,null,null,null,null,null,null,null,null,null,null,null,null,null,null,null,null,null,null,null,null,null,null,null,null,null,null,null,null,null,null,null,null,null,null,null,null,null,null,null,null,null,null,null,null,0]
["1b",{"$f":"'1a'!B28","v":0},{"$f":"'1a'!C28","v":0},{"$f":"'1a'!D28","v":"lehrer26"},null,null,null,null,null,null,null,null,null,null,null,null,null,null,null,null,null,null,null,null,null,null,null,null,null,null,null,null,null,null,null,null,null,null,null,null,null,null,null,null,null,null,null,null,null,null,null,null,null,null,null,null,0]
["1b",{"$f":"'1a'!B29","v":0},{"$f":"'1a'!C29","v":0},{"$f":"'1a'!D29","v":"lehrer27"},null,null,null,null,null,null,null,null,null,null,null,null,null,null,null,null,null,null,null,null,null,null,null,null,null,null,null,null,null,null,null,null,null,null,null,null,null,null,null,null,null,null,null,null,null,null,null,null,null,null,null,null,0]
["1b",{"$f":"'1a'!B30","v":0},{"$f":"'1a'!C30","v":0},{"$f":"'1a'!D30","v":"lehrer28"},null,null,null,null,null,null,null,null,null,null,null,null,null,null,null,null,null,null,null,null,null,null,null,null,null,null,null,null,null,null,null,null,null,null,null,null,null,null,null,null,null,null,null,null,null,null,null,null,null,null,null,null,0]
["1b",{"$f":"'1a'!B31","v":0},{"$f":"'1a'!C31","v":0},{"$f":"'1a'!D31","v":"lehrer29"},null,null,null,null,null,null,null,null,null,null,null,null,null,null,null,null,null,null,null,null,null,null,null,null,null,null,null,null,null,null,null,null,null,null,null,null,null,null,null,null,null,null,null,null,null,null,null,null,null,null,null,null,0]
["1b",{"$f":"'1a'!B32","v":0},{"$f":"'1a'!C32","v":0},{"$f":"'1a'!D32","v":"lehrer30"},null,null,null,null,null,null,null,null,null,null,null,null,null,null,null,null,null,null,null,null,null,null,null,null,null,null,null,null,null,null,null,null,null,null,null,null,null,null,null,null,null,null,null,null,null,null,null,null,null,null,null,null,0]
["1b",{"$f":"'1a'!B33","v":0},{"$f":"'1a'!C33","v":0},{"$f":"'1a'!D33","v":"lehrer31"},null,null,null,null,null,null,null,null,null,null,null,null,null,null,null,null,null,null,null,null,null,null,null,null,null,null,null,null,null,null,null,null,null,null,null,null,null,null,null,null,null,null,null,null,null,null,null,null,null,null,null,null,{"$f":"SUM(E33:BD33)","v":0}]
["1b",{"$f":"'1a'!B34","v":0},{"$f":"'1a'!C34","v":0},{"$f":"'1a'!D34","v":"lehrer32"},null,null,null,null,null,null,null,null,null,null,null,null,null,null,null,null,null,null,null,null,null,null,null,null,null,null,null,null,null,null,null,null,null,null,null,null,null,null,null,null,null,null,null,null,null,null,null,null,null,null,null,null,0]
["1b",{"$f":"'1a'!B35","v":0},{"$f":"'1a'!C35","v":0},{"$f":"'1a'!D35","v":"lehrer33"},null,null,null,null,null,null,null,null,null,null,null,null,null,null,null,null,null,null,null,null,null,null,null,null,null,null,null,null,null,null,null,null,null,null,null,null,null,null,null,null,null,null,null,null,null,null,null,null,null,null,null,null,0]
["1b",{"$f":"'1a'!B36","v":0},{"$f":"'1a'!C36","v":0},{"$f":"'1a'!D36","v":"lehrer34"},null,null,null,null,null,null,null,null,null,null,null,null,null,null,null,null,null,null,null,null,null,null,null,null,null,null,null,null,null,null,null,null,null,null,null,null,null,null,null,null,null,null,null,null,null,null,null,null,null,null,null,null,0]
["1b",{"$f":"'1a'!B37","v":0},{"$f":"'1a'!C37","v":0},{"$f":"'1a'!D37","v":"lehrer35"},null,null,null,null,null,null,null,null,null,null,null,null,null,null,null,null,null,null,null,null,null,null,null,null,null,null,null,null,null,null,null,null,null,null,null,null,null,null,null,null,null,null,null,null,null,null,null,null,null,null,null,null,0]
["1b",{"$f":"'1a'!B38","v":0},{"$f":"'1a'!C38","v":0},{"$f":"'1a'!D38","v":"lehrer36"},null,null,null,null,null,null,null,null,null,null,null,null,null,null,null,null,null,null,null,null,null,null,null,null,null,null,null,null,null,null,null,null,null,null,null,null,null,null,null,null,null,null,null,null,null,null,null,null,null,null,null,null,0]
["1b",{"$f":"'1a'!B39","v":0},{"$f":"'1a'!C39","v":0},{"$f":"'1a'!D39","v":"lehrer37"},null,null,null,null,null,null,null,null,null,null,null,null,null,null,null,null,null,null,null,null,null,null,null,null,null,null,null,null,null,null,null,null,null,null,null,null,null,null,null,null,null,null,null,null,null,null,null,null,null,null,null,null,0]
["1b",{"$f":"'1a'!B40","v":0},{"$f":"'1a'!C40","v":0},{"$f":"'1a'!D40","v":"lehrer38"},null,null,null,null,null,null,null,null,null,null,null,null,null,null,null,null,null,null,null,null,null,null,null,null,null,null,null,null,null,null,null,null,null,null,null,null,null,null,null,null,null,null,null,null,null,null,null,null,null,null,null,null,0]
["1b",{"$f":"'1a'!B41","v":0},{"$f":"'1a'!C41","v":0},{"$f":"'1a'!D41","v":"lehrer39"},null,null,null,null,null,null,null,null,null,null,null,null,null,null,null,null,null,null,null,null,null,null,null,null,null,null,null,null,null,null,null,null,null,null,null,null,null,null,null,null,null,null,null,null,null,null,null,null,null,null,null,null,0]
["1b",{"$f":"'1a'!B42","v":0},{"$f":"'1a'!C42","v":0},{"$f":"'1a'!D42","v":"lehrer40"},null,null,null,null,null,null,null,null,null,null,null,null,null,null,null,null,null,null,null,null,null,null,null,null,null,null,null,null,null,null,null,null,null,null,null,null,null,null,null,null,null,null,null,null,null,null,null,null,null,null,null,null,0]
["1b",{"$f":"'1a'!B43","v":0},{"$f":"'1a'!C43","v":0},{"$f":"'1a'!D43","v":"lehrer41"},null,null,null,null,null,null,null,null,null,null,null,null,null,null,null,null,null,null,null,null,null,null,null,null,null,null,null,null,null,null,null,null,null,null,null,null,null,null,null,null,null,null,null,null,null,null,null,null,null,null,null,null,0]
["1b",{"$f":"'1a'!B44","v":0},{"$f":"'1a'!C44","v":0},{"$f":"'1a'!D44","v":"lehrer42"},null,null,null,null,null,null,null,null,null,null,null,null,null,null,null,null,null,null,null,null,null,null,null,null,null,null,null,null,null,null,null,null,null,null,null,null,null,null,null,null,null,null,null,null,null,null,null,null,null,null,null,null,0]
["1b",{"$f":"'1a'!B45","v":0},{"$f":"'1a'!C45","v":0},{"$f":"'1a'!D45","v":"lehrer43"},null,null,null,null,null,null,null,null,null,null,null,null,null,null,null,null,null,null,null,null,null,null,null,null,null,null,null,null,null,null,null,null,null,null,null,null,null,null,null,null,null,null,null,null,null,null,null,null,null,null,null,null,0]
["1b",{"$f":"'1a'!B46","v":0},{"$f":"'1a'!C46","v":0},{"$f":"'1a'!D46","v":"lehrer44"},null,null,null,null,null,null,null,null,null,null,null,null,null,null,null,null,null,null,null,null,null,null,null,null,null,null,null,null,null,null,null,null,null,null,null,null,null,null,null,null,null,null,null,null,null,null,null,null,null,null,null,null,0]
["1b",{"$f":"'1a'!B47","v":0},{"$f":"'1a'!C47","v":0},{"$f":"'1a'!D47","v":"lehrer45"},null,null,null,null,null,null,null,null,null,null,null,null,null,null,null,null,null,null,null,null,null,null,null,null,null,null,null,null,null,null,null,null,null,null,null,null,null,null,null,null,null,null,null,null,null,null,null,null,null,null,null,null,0]
["1b",{"$f":"'1a'!B48","v":0},{"$f":"'1a'!C48","v":0},{"$f":"'1a'!D48","v":"lehrer46"},null,null,null,null,null,null,null,null,null,null,null,null,null,null,null,null,null,null,null,null,null,null,null,null,null,null,null,null,null,null,null,null,null,null,null,null,null,null,null,null,null,null,null,null,null,null,null,null,null,null,null,null,0]
["1b",{"$f":"'1a'!B49","v":0},{"$f":"'1a'!C49","v":0},{"$f":"'1a'!D49","v":"lehrer47"},null,null,null,null,null,null,null,null,null,null,null,null,null,null,null,null,null,null,null,null,null,null,null,null,null,null,null,null,null,null,null,null,null,null,null,null,null,null,null,null,null,null,null,null,null,null,null,null,null,null,null,null,0]
["1b",{"$f":"'1a'!B50","v":0},{"$f":"'1a'!C50","v":0},{"$f":"'1a'!D50","v":"lehrer48"},null,null,null,null,null,null,null,null,null,null,null,null,null,null,null,null,null,null,null,null,null,null,null,null,null,null,null,null,null,null,null,null,null,null,null,null,null,null,null,null,null,null,null,null,null,null,null,null,null,null,null,null,0]

{"sheet":"1c","index":3,"n_rows":50,"n_cols":57,"rows_kept":50,"cut":false,"hidden":false,"merged":[]}
[null,null,null," Summe GSt pro Klasse",{"$f":"SUM(E3:E50)","v":0},{"$f":"SUM(F3:F50)","v":0},0,0,0,0,0,0,0,0,0,0,0,0,0,0,0,0,0,0,0,0,0,0,0,0,0,0,0,0,0,0,0,0,0,0,0,0,0,0,0,0,0,0,0,0,0,0,0,0,0,0,0]
[{"$f":"header","v":"Klasse"},"Soll","in LVF","Lehrer","M","M-T","M-Stütz","D","D-T","D-Stütz","E","E-T","E-Stütz","BE","Soz","BSP","BU","C","EH","GS","GW","GZ","ME","PH","P / C","Werken","Relisl","S-BO","S-BU","S-EH","S-GW","S-GZ","S-PC","S-BE","S-Werk","vÜ BO","vÜ Soz","unv. DSP","unv. FB","INF Sta","INF ECDL","unv. KET","GTS","GTS-L","BE","Soz","BSP","frei","frei","frei","frei","frei","frei","frei","frei","frei","Summe Lehrer pro Klasse"]
["1c",{"$f":"'1a'!B3","v":0},{"$f":"'1a'!C3","v":0},{"$f":"'1a'!D3","v":"lehrer01"},null,null,null,null,null,null,null,null,null,null,null,null,null,null,null,null,null,null,null,null,null,null,null,null,null,null,null,null,null,null,null,null,null,null,null,null,null,null,null,null,null,null,null,null,null,null,null,null,null,null,null,null,{"$f":"SUM(E3:BD3)","v":0}]
["1c",{"$f":"'1a'!B4","v":0},{"$f":"'1a'!C4","v":0},{"$f":"'1a'!D4","v":"lehrer02"},null,null,null,null,null,null,null,null,null,null,null,null,null,null,null,null,null,null,null,null,null,null,null,null,null,null,null,null,null,null,null,null,null,null,null,null,null,null,null,null,null,null,null,null,null,null,null,null,null,null,null,null,{"$f":"SUM(E4:BD4)","v":0}]
["1c",{"$f":"'1a'!B5","v":0},{"$f":"'1a'!C5","v":0},{"$f":"'1a'!D5","v":"lehrer03"},null,null,null,null,null,null,null,null,null,null,null,null,null,null,null,null,null,null,null,null,null,null,null,null,null,null,null,null,null,null,null,null,null,null,null,null,null,null,null,null,null,null,null,null,null,null,null,null,null,null,null,null,0]
["1c",{"$f":"'1a'!B6","v":0},{"$f":"'1a'!C6","v":0},{"$f":"'1a'!D6","v":"lehrer04"},null,null,null,null,null,null,null,null,null,null,null,null,null,null,null,null,null,null,null,null,null,null,null,null,null,null,null,null,null,null,null,null,null,null,null,null,null,null,null,null,null,null,null,null,null,null,null,null,null,null,null,null,0]
["1c",{"$f":"'1a'!B7","v":0},{"$f":"'1a'!C7","v":0},{"$f":"'1a'!D7","v":"lehrer05"},null,null,null,null,null,null,null,null,null,null,null,null,null,null,null,null,null,null,null,null,null,null,null,null,null,null,null,null,null,null,null,null,null,null,null,null,null,null,null,null,null,null,null,null,null,null,null,null,null,null,null,null,0]
["1c",{"$f":"'1a'!B8","v":0},{"$f":"'1a'!C8","v":0},{"$f":"'1a'!D8","v":"lehrer06"},null,null,null,null,null,null,null,null,null,null,null,null,null,null,null,null,null,null,null,null,null,null,null,null,null,null,null,null,null,null,null,null,null,null,null,null,null,null,null,null,null,null,null,null,null,null,null,null,null,null,null,null,0]
["1c",{"$f":"'1a'!B9","v":0},{"$f":"'1a'!C9","v":0},{"$f":"'1a'!D9","v":"lehrer07"},null,null,null,null,null,null,null,null,null,null,null,null,null,null,null,null,null,null,null,null,null,null,null,null,null,null,null,null,null,null,null,null,null,null,null,null,null,null,null,null,null,null,null,null,null,null,null,null,null,null,null,null,0]
["1c",{"$f":"'1a'!B10","v":0},{"$f":"'1a'!C10","v":0},{"$f":"'1a'!D10","v":"lehrer08"},null,null,null,null,null,null,null,null,null,null,null,null,null,null,null,null,null,null,null,null,null,null,null,null,null,null,null,null,null,null,null,null,null,null,null,null,null,null,null,null,null,null,null,null,null,null,null,null,null,null,null,null,0]
["1c",{"$f":"'1a'!B11","v":0},{"$f":"'1a'!C11","v":0},{"$f":"'1a'!D11","v":"lehrer09"},null,null,null,null,null,null,null,null,null,null,null,null,null,null,null,null,null,null,null,null,null,null,null,null,null,null,null,null,null,null,null,null,null,null,null,null,null,null,null,null,null,null,null,null,null,null,null,null,null,null,null,null,0]
["1c",{"$f":"'1a'!B12","v":0},{"$f":"'1a'!C12","v":0},{"$f":"'1a'!D12","v":"lehrer10"},null,null,null,null,null,null,null,null,null,null,null,null,null,null,null,null,null,null,null,null,null,null,null,null,null,null,null,null,null,null,null,null,null,null,null,null,null,null,null,null,null,null,null,null,null,null,null,null,null,null,null,null,0]
["1c",{"$f":"'1a'!B13","v":0},{"$f":"'1a'!C13","v":0},{"$f":"'1a'!D13","v":"lehrer11"},null,null,null,null,null,null,null,null,null,null,null,null,null,null,null,null,null,null,null,null,null,null,null,null,null,null,null,null,null,null,null,null,null,null,null,null,null,null,null,null,null,null,null,null,null,null,null,null,null,null,null,null,0]
["1c",{"$f":"'1a'!B14","v":0},{"$f":"'1a'!C14","v":0},{"$f":"'1a'!D14","v":"lehrer12"},null,null,null,null,null,null,null,null,null,null,null,null,null,null,null,null,null,null,null,null,null,null,null,null,null,null,null,null,null,null,null,null,null,null,null,null,null,null,null,null,null,null,null,null,null,null,null,null,null,null,null,null,0]
["1c",{"$f":"'1a'!B15","v":0},{"$f":"'1a'!C15","v":0},{"$f":"'1a'!D15","v":"lehrer13"},null,null,null,null,null,null,null,null,null,null,null,null,null,null,null,null,null,null,null,null,null,null,null,null,null,null,null,null,null,null,null,null,null,null,null,null,null,null,null,null,null,null,null,null,null,null,null,null,null,null,null,null,0]
["1c",{"$f":"'1a'!B16","v":0},{"$f":"'1a'!C16","v":0},{"$f":"'1a'!D16","v":"lehrer14"},null,null,null,null,null,null,null,null,null,null,null,null,null,null,null,null,null,null,null,null,null,null,null,null,null,null,null,null,null,null,null,null,null,null,null,null,null,null,null,null,null,null,null,null,null,null,null,null,null,null,null,null,0]
["1c",{"$f":"'1a'!B17","v":0},{"$f":"'1a'!C17","v":0},{"$f":"'1a'!D17","v":"lehrer15"},null,null,null,null,null,null,null,null,null,null,null,null,null,null,null,null,null,null,null,null,null,null,null,null,null,null,null,null,null,null,null,null,null,null,null,null,null,null,null,null,null,null,null,null,null,null,null,null,null,null,null,null,0]
["1c",{"$f":"'1a'!B18","v":0},{"$f":"'1a'!C18","v":0},{"$f":"'1a'!D18","v":"lehrer16"},null,null,null,null,null,null,null,null,null,null,null,null,null,null,null,null,null,null,null,null,null,null,null,null,null,null,null,null,null,null,null,null,null,null,null,null,null,null,null,null,null,null,null,null,null,null,null,null,null,null,null,null,0]
["1c",{"$f":"'1a'!B19","v":0},{"$f":"'1a'!C19","v":0},{"$f":"'1a'!D19","v":"lehrer17"},null,null,null,null,null,null,null,null,null,null,null,null,null,null,null,null,null,null,null,null,null,null,null,null,null,null,null,null,null,null,null,null,null,null,null,null,null,null,null,null,null,null,null,null,null,null,null,null,null,null,null,null,0]
["1c",{"$f":"'1a'!B20","v":0},{"$f":"'1a'!C20","v":0},{"$f":"'1a'!D20","v":"lehrer18"},null,null,null,null,null,null,null,null,null,null,null,null,null,null,null,null,null,null,null,null,null,null,null,null,null,null,null,null,null,null,null,null,null,null,null,null,null,null,null,null,null,null,null,null,null,null,null,null,null,null,null,null,0]
["1c",{"$f":"'1a'!B21","v":0},{"$f":"'1a'!C21","v":0},{"$f":"'1a'!D21","v":"lehrer19"},null,null,null,null,null,null,null,null,null,null,null,null,null,null,null,null,null,null,null,null,null,null,null,null,null,null,null,null,null,null,null,null,null,null,null,null,null,null,null,null,null,null,null,null,null,null,null,null,null,null,null,null,0]
["1c",{"$f":"'1a'!B22","v":0},{"$f":"'1a'!C22","v":0},{"$f":"'1a'!D22","v":"lehrer20"},null,null,null,null,null,null,null,null,null,null,null,null,null,null,null,null,null,null,null,null,null,null,null,null,null,null,null,null,null,null,null,null,null,null,null,null,null,null,null,null,null,null,null,null,null,null,null,null,null,null,null,null,0]
["1c",{"$f":"'1a'!B23","v":0},{"$f":"'1a'!C23","v":0},{"$f":"'1a'!D23","v":"lehrer21"},null,null,null,null,null,null,null,null,null,null,null,null,null,null,null,null,null,null,null,null,null,null,null,null,null,null,null,null,null,null,null,null,null,null,null,null,null,null,null,null,null,null,null,null,null,null,null,null,null,null,null,null,0]
["1c",{"$f":"'1a'!B24","v":0},{"$f":"'1a'!C24","v":0},{"$f":"'1a'!D24","v":"lehrer22"},null,null,null,null,null,null,null,null,null,null,null,null,null,null,null,null,null,null,null,null,null,null,null,null,null,null,null,null,null,null,null,null,null,null,null,null,null,null,null,null,null,null,null,null,null,null,null,null,null,null,null,null,0]
["1c",{"$f":"'1a'!B25","v":0},{"$f":"'1a'!C25","v":0},{"$f":"'1a'!D25","v":"lehrer23"},null,null,null,null,null,null,null,null,null,null,null,null,null,null,null,null,null,null,null,null,null,null,null,null,null,null,null,null,null,null,null,null,null,null,null,null,null,null,null,null,null,null,null,null,null,null,null,null,null,null,null,null,0]
["1c",{"$f":"'1a'!B26","v":0},{"$f":"'1a'!C26","v":0},{"$f":"'1a'!D26","v":"lehrer24"},null,null,null,null,null,null,null,null,null,null,null,null,null,null,null,null,null,null,null,null,null,null,null,null,null,null,null,null,null,null,null,null,null,null,null,null,null,null,null,null,null,null,null,null,null,null,null,null,null,null,null,null,0]
["1c",{"$f":"'1a'!B27","v":0},{"$f":"'1a'!C27","v":0},{"$f":"'1a'!D27","v":"lehrer25"},null,null,null,null,null,null,null,null,null,null,null,null,null,null,null,null,null,null,null,null,null,null,null,null,null,null,null,null,null,null,null,null,null,null,null,null,null,null,null,null,null,null,null,null,null,null,null,null,null,null,null,null,0]
["1c",{"$f":"'1a'!B28","v":0},{"$f":"'1a'!C28","v":0},{"$f":"'1a'!D28","v":"lehrer26"},null,null,null,null,null,null,null,null,null,null,null,null,null,null,null,null,null,null,null,null,null,null,null,null,null,null,null,null,null,null,null,null,null,null,null,null,null,null,null,null,null,null,null,null,null,null,null,null,null,null,null,null,0]
["1c",{"$f":"'1a'!B29","v":0},{"$f":"'1a'!C29","v":0},{"$f":"'1a'!D29","v":"lehrer27"},null,null,null,null,null,null,null,null,null,null,null,null,null,null,null,null,null,null,null,null,null,null,null,null,null,null,null,null,null,null,null,null,null,null,null,null,null,null,null,null,null,null,null,null,null,null,null,null,null,null,null,null,0]
["1c",{"$f":"'1a'!B30","v":0},{"$f":"'1a'!C30","v":0},{"$f":"'1a'!D30","v":"lehrer28"},null,null,null,null,null,null,null,null,null,null,null,null,null,null,null,null,null,null,null,null,null,null,null,null,null,null,null,null,null,null,null,null,null,null,null,null,null,null,null,null,null,null,null,null,null,null,null,null,null,null,null,null,0]
["1c",{"$f":"'1a'!B31","v":0},{"$f":"'1a'!C31","v":0},{"$f":"'1a'!D31","v":"lehrer29"},null,null,null,null,null,null,null,null,null,null,null,null,null,null,null,null,null,null,null,null,null,null,null,null,null,null,null,null,null,null,null,null,null,null,null,null,null,null,null,null,null,null,null,null,null,null,null,null,null,null,null,null,0]
["1c",{"$f":"'1a'!B32","v":0},{"$f":"'1a'!C32","v":0},{"$f":"'1a'!D32","v":"lehrer30"},null,null,null,null,null,null,null,null,null,null,null,null,null,null,null,null,null,null,null,null,null,null,null,null,null,null,null,null,null,null,null,null,null,null,null,null,null,null,null,null,null,null,null,null,null,null,null,null,null,null,null,null,0]
["1c",{"$f":"'1a'!B33","v":0},{"$f":"'1a'!C33","v":0},{"$f":"'1a'!D33","v":"lehrer31"},null,null,null,null,null,null,null,null,null,null,null,null,null,null,null,null,null,null,null,null,null,null,null,null,null,null,null,null,null,null,null,null,null,null,null,null,null,null,null,null,null,null,null,null,null,null,null,null,null,null,null,null,{"$f":"SUM(E33:BD33)","v":0}]
["1c",{"$f":"'1a'!B34","v":0},{"$f":"'1a'!C34","v":0},{"$f":"'1a'!D34","v":"lehrer32"},null,null,null,null,null,null,null,null,null,null,null,null,null,null,null,null,null,null,null,null,null,null,null,null,null,null,null,null,null,null,null,null,null,null,null,null,null,null,null,null,null,null,null,null,null,null,null,null,null,null,null,null,0]
["1c",{"$f":"'1a'!B35","v":0},{"$f":"'1a'!C35","v":0},{"$f":"'1a'!D35","v":"lehrer33"},null,null,null,null,null,null,null,null,null,null,null,null,null,null,null,null,null,null,null,null,null,null,null,null,null,null,null,null,null,null,null,null,null,null,null,null,null,null,null,null,null,null,null,null,null,null,null,null,null,null,null,null,0]
["1c",{"$f":"'1a'!B36","v":0},{"$f":"'1a'!C36","v":0},{"$f":"'1a'!D36","v":"lehrer34"},null,null,null,null,null,null,null,null,null,null,null,null,null,null,null,null,null,null,null,null,null,null,null,null,null,null,null,null,null,null,null,null,null,null,null,null,null,null,null,null,null,null,null,null,null,null,null,null,null,null,null,null,0]
["1c",{"$f":"'1a'!B37","v":0},{"$f":"'1a'!C37","v":0},{"$f":"'1a'!D37","v":"lehrer35"},null,null,null,null,null,null,null,null,null,null,null,null,null,null,null,null,null,null,null,null,null,null,null,null,null,null,null,null,null,null,null,null,null,null,null,null,null,null,null,null,null,null,null,null,null,null,null,null,null,null,null,null,0]
["1c",{"$f":"'1a'!B38","v":0},{"$f":"'1a'!C38","v":0},{"$f":"'1a'!D38","v":"lehrer36"},null,null,null,null,null,null,null,null,null,null,null,null,null,null,null,null,null,null,null,null,null,null,null,null,null,null,null,null,null,null,null,null,null,null,null,null,null,null,null,null,null,null,null,null,null,null,null,null,null,null,null,null,0]
["1c",{"$f":"'1a'!B39","v":0},{"$f":"'1a'!C39","v":0},{"$f":"'1a'!D39","v":"lehrer37"},null,null,null,null,null,null,null,null,null,null,null,null,null,null,null,null,null,null,null,null,null,null,null,null,null,null,null,null,null,null,null,null,null,null,null,null,null,null,null,null,null,null,null,null,null,null,null,null,null,null,null,null,0]
["1c",{"$f":"'1a'!B40","v":0},{"$f":"'1a'!C40","v":0},{"$f":"'1a'!D40","v":"lehrer38"},null,null,null,null,null,null,null,null,null,null,null,null,null,null,null,null,null,null,null,null,null,null,null,null,null,null,null,null,null,null,null,null,null,null,null,null,null,null,null,null,null,null,null,null,null,null,null,null,null,null,null,null,0]
["1c",{"$f":"'1a'!B41","v":0},{"$f":"'1a'!C41","v":0},{"$f":"'1a'!D41","v":"lehrer39"},null,null,null,null,null,null,null,null,null,null,null,null,null,null,null,null,null,null,null,null,null,null,null,null,null,null,null,null,null,null,null,null,null,null,null,null,null,null,null,null,null,null,null,null,null,null,null,null,null,null,null,null,0]
["1c",{"$f":"'1a'!B42","v":0},{"$f":"'1a'!C42","v":0},{"$f":"'1a'!D42","v":"lehrer40"},null,null,null,null,null,null,null,null,null,null,null,null,null,null,null,null,null,null,null,null,null,null,null,null,null,null,null,null,null,null,null,null,null,null,null,null,null,null,null,null,null,null,null,null,null,null,null,null,null,null,null,null,0]
["1c",{"$f":"'1a'!B43","v":0},{"$f":"'1a'!C43","v":0},{"$f":"'1a'!D43","v":"lehrer41"},null,null,null,null,null,null,null,null,null,null,null,null,null,null,null,null,null,null,null,null,null,null,null,null,null,null,null,null,null,null,null,null,null,null,null,null,null,null,null,null,null,null,null,null,null,null,null,null,null,null,null,null,0]
["1c",{"$f":"'1a'!B44","v":0},{"$f":"'1a'!C44","v":0},{"$f":"'1a'!D44","v":"lehrer42"},null,null,null,null,null,null,null,null,null,null,null,null,null,null,null,null,null,null,null,null,null,null,null,null,null,null,null,null,null,null,null,null,null,null,null,null,null,null,null,null,null,null,null,null,null,null,null,null,null,null,null,null,0]
["1c",{"$f":"'1a'!B45","v":0},{"$f":"'1a'!C45","v":0},{"$f":"'1a'!D45","v":"lehrer43"},null,null,null,null,null,null,null,null,null,null,null,null,null,null,null,null,null,null,null,null,null,null,null,null,null,null,null,null,null,null,null,null,null,null,null,null,null,null,null,null,null,null,null,null,null,null,null,null,null,null,null,null,0]
["1c",{"$f":"'1a'!B46","v":0},{"$f":"'1a'!C46","v":0},{"$f":"'1a'!D46","v":"lehrer44"},null,null,null,null,null,null,null,null,null,null,null,null,null,null,null,null,null,null,null,null,null,null,null,null,null,null,null,null,null,null,null,null,null,null,null,null,null,null,null,null,null,null,null,null,null,null,null,null,null,null,null,null,0]
["1c",{"$f":"'1a'!B47","v":0},{"$f":"'1a'!C47","v":0},{"$f":"'1a'!D47","v":"lehrer45"},null,null,null,null,null,null,null,null,null,null,null,null,null,null,null,null,null,null,null,null,null,null,null,null,null,null,null,null,null,null,null,null,null,null,null,null,null,null,null,null,null,null,null,null,null,null,null,null,null,null,null,null,0]
["1c",{"$f":"'1a'!B48","v":0},{"$f":"'1a'!C48","v":0},{"$f":"'1a'!D48","v":"lehrer46"},null,null,null,null,null,null,null,null,null,null,null,null,null,null,null,null,null,null,null,null,null,null,null,null,null,null,null,null,null,null,null,null,null,null,null,null,null,null,null,null,null,null,null,null,null,null,null,null,null,null,null,null,0]
["1c",{"$f":"'1a'!B49","v":0},{"$f":"'1a'!C49","v":0},{"$f":"'1a'!D49","v":"lehrer47"},null,null,null,null,null,null,null,null,null,null,null,null,null,null,null,null,null,null,null,null,null,null,null,null,null,null,null,null,null,null,null,null,null,null,null,null,null,null,null,null,null,null,null,null,null,null,null,null,null,null,null,null,0]
["1c",{"$f":"'1a'!B50","v":0},{"$f":"'1a'!C50","v":0},{"$f":"'1a'!D50","v":"lehrer48"},null,null,null,null,null,null,null,null,null,null,null,null,null,null,null,null,null,null,null,null,null,null,null,null,null,null,null,null,null,null,null,null,null,null,null,null,null,null,null,null,null,null,null,null,null,null,null,null,null,null,null,null,0]

{"sheet":"1d","index":4,"n_rows":50,"n_cols":57,"rows_kept":50,"cut":false,"hidden":false,"merged":[]}
[null,null,null," Summe GSt pro Klasse",{"$f":"SUM(E3:E50)","v":0},{"$f":"SUM(F3:F50)","v":0},0,0,0,0,0,0,0,0,0,0,0,0,0,0,0,0,0,0,0,0,0,0,0,0,0,0,0,0,0,0,0,0,0,0,0,0,0,0,0,0,0,0,0,0,0,0,0,0,0,0,0]
[{"$f":"header","v":"Klasse"},"Soll","in LVF","Lehrer","M","M-T","M-Stütz","D","D-T","D-Stütz","E","E-T","E-Stütz","BE","Soz","BSP","BU","C","EH","GS","GW","GZ","ME","PH","P / C","Werken","Relisl","S-BO","S-BU","S-EH","S-GW","S-GZ","S-PC","S-BE","S-Werk","vÜ BO","vÜ Soz","unv. DSP","unv. FB","INF Sta","INF ECDL","unv. KET","GTS","GTS-L","BE","Soz","BSP","frei","frei","frei","frei","frei","frei","frei","frei","frei","Summe Lehrer pro Klasse"]
["1d",{"$f":"'1a'!B3","v":0},{"$f":"'1a'!C3","v":0},{"$f":"'1a'!D3","v":"lehrer01"},null,null,null,null,null,null,null,null,null,null,null,null,null,null,null,null,null,null,null,null,null,null,null,null,null,null,null,null,null,null,null,null,null,null,null,null,null,null,null,null,null,null,null,null,null,null,null,null,null,null,null,null,{"$f":"SUM(E3:BD3)","v":0}]
["1d",{"$f":"'1a'!B4","v":0},{"$f":"'1a'!C4","v":0},{"$f":"'1a'!D4","v":"lehrer02"},null,null,null,null,null,null,null,null,null,null,null,null,null,null,null,null,null,null,null,null,null,null,null,null,null,null,null,null,null,null,null,null,null,null,null,null,null,null,null,null,null,null,null,null,null,null,null,null,null,null,null,null,{"$f":"SUM(E4:BD4)","v":0}]
["1d",{"$f":"'1a'!B5","v":0},{"$f":"'1a'!C5","v":0},{"$f":"'1a'!D5","v":"lehrer03"},null,null,null,null,null,null,null,null,null,null,null,null,null,null,null,null,null,null,null,null,null,null,null,null,null,null,null,null,null,null,null,null,null,null,null,null,null,null,null,null,null,null,null,null,null,null,null,null,null,null,null,null,0]
["1d",{"$f":"'1a'!B6","v":0},{"$f":"'1a'!C6","v":0},{"$f":"'1a'!D6","v":"lehrer04"},null,null,null,null,null,null,null,null,null,null,null,null,null,null,null,null,null,null,null,null,null,null,null,null,null,null,null,null,null,null,null,null,null,null,null,null,null,null,null,null,null,null,null,null,null,null,null,null,null,null,null,null,0]
["1d",{"$f":"'1a'!B7","v":0},{"$f":"'1a'!C7","v":0},{"$f":"'1a'!D7","v":"lehrer05"},null,null,null,null,null,null,null,null,null,null,null,null,null,null,null,null,null,null,null,null,null,null,null,null,null,null,null,null,null,null,null,null,null,null,null,null,null,null,null,null,null,null,null,null,null,null,null,null,null,null,null,null,0]
["1d",{"$f":"'1a'!B8","v":0},{"$f":"'1a'!C8","v":0},{"$f":"'1a'!D8","v":"lehrer06"},null,null,null,null,null,null,null,null,null,null,null,null,null,null,null,null,null,null,null,null,null,null,null,null,null,null,null,null,null,null,null,null,null,null,null,null,null,null,null,null,null,null,null,null,null,null,null,null,null,null,null,null,0]
["1d",{"$f":"'1a'!B9","v":0},{"$f":"'1a'!C9","v":0},{"$f":"'1a'!D9","v":"lehrer07"},null,null,null,null,null,null,null,null,null,null,null,null,null,null,null,null,null,null,null,null,null,null,null,null,null,null,null,null,null,null,null,null,null,null,null,null,null,null,null,null,null,null,null,null,null,null,null,null,null,null,null,null,0]
["1d",{"$f":"'1a'!B10","v":0},{"$f":"'1a'!C10","v":0},{"$f":"'1a'!D10","v":"lehrer08"},null,null,null,null,null,null,null,null,null,null,null,null,null,null,null,null,null,null,null,null,null,null,null,null,null,null,null,null,null,null,null,null,null,null,null,null,null,null,null,null,null,null,null,null,null,null,null,null,null,null,null,null,0]
["1d",{"$f":"'1a'!B11","v":0},{"$f":"'1a'!C11","v":0},{"$f":"'1a'!D11","v":"lehrer09"},null,null,null,null,null,null,null,null,null,null,null,null,null,null,null,null,null,null,null,null,null,null,null,null,null,null,null,null,null,null,null,null,null,null,null,null,null,null,null,null,null,null,null,null,null,null,null,null,null,null,null,null,0]
["1d",{"$f":"'1a'!B12","v":0},{"$f":"'1a'!C12","v":0},{"$f":"'1a'!D12","v":"lehrer10"},null,null,null,null,null,null,null,null,null,null,null,null,null,null,null,null,null,null,null,null,null,null,null,null,null,null,null,null,null,null,null,null,null,null,null,null,null,null,null,null,null,null,null,null,null,null,null,null,null,null,null,null,0]
["1d",{"$f":"'1a'!B13","v":0},{"$f":"'1a'!C13","v":0},{"$f":"'1a'!D13","v":"lehrer11"},null,null,null,null,null,null,null,null,null,null,null,null,null,null,null,null,null,null,null,null,null,null,null,null,null,null,null,null,null,null,null,null,null,null,null,null,null,null,null,null,null,null,null,null,null,null,null,null,null,null,null,null,0]
["1d",{"$f":"'1a'!B14","v":0},{"$f":"'1a'!C14","v":0},{"$f":"'1a'!D14","v":"lehrer12"},null,null,null,null,null,null,null,null,null,null,null,null,null,null,null,null,null,null,null,null,null,null,null,null,null,null,null,null,null,null,null,null,null,null,null,null,null,null,null,null,null,null,null,null,null,null,null,null,null,null,null,null,0]
["1d",{"$f":"'1a'!B15","v":0},{"$f":"'1a'!C15","v":0},{"$f":"'1a'!D15","v":"lehrer13"},null,null,null,null,null,null,null,null,null,null,null,null,null,null,null,null,null,null,null,null,null,null,null,null,null,null,null,null,null,null,null,null,null,null,null,null,null,null,null,null,null,null,null,null,null,null,null,null,null,null,null,null,0]
["1d",{"$f":"'1a'!B16","v":0},{"$f":"'1a'!C16","v":0},{"$f":"'1a'!D16","v":"lehrer14"},null,null,null,null,null,null,null,null,null,null,null,null,null,null,null,null,null,null,null,null,null,null,null,null,null,null,null,null,null,null,null,null,null,null,null,null,null,null,null,null,null,null,null,null,null,null,null,null,null,null,null,null,0]
["1d",{"$f":"'1a'!B17","v":0},{"$f":"'1a'!C17","v":0},{"$f":"'1a'!D17","v":"lehrer15"},null,null,null,null,null,null,null,null,null,null,null,null,null,null,null,null,null,null,null,null,null,null,null,null,null,null,null,null,null,null,null,null,null,null,null,null,null,null,null,null,null,null,null,null,null,null,null,null,null,null,null,null,0]
["1d",{"$f":"'1a'!B18","v":0},{"$f":"'1a'!C18","v":0},{"$f":"'1a'!D18","v":"lehrer16"},null,null,null,null,null,null,null,null,null,null,null,null,null,null,null,null,null,null,null,null,null,null,null,null,null,null,null,null,null,null,null,null,null,null,null,null,null,null,null,null,null,null,null,null,null,null,null,null,null,null,null,null,0]
["1d",{"$f":"'1a'!B19","v":0},{"$f":"'1a'!C19","v":0},{"$f":"'1a'!D19","v":"lehrer17"},null,null,null,null,null,null,null,null,null,null,null,null,null,null,null,null,null,null,null,null,null,null,null,null,null,null,null,null,null,null,null,null,null,null,null,null,null,null,null,null,null,null,null,null,null,null,null,null,null,null,null,null,0]
["1d",{"$f":"'1a'!B20","v":0},{"$f":"'1a'!C20","v":0},{"$f":"'1a'!D20","v":"lehrer18"},null,null,null,null,null,null,null,null,null,null,null,null,null,null,null,null,null,null,null,null,null,null,null,null,null,null,null,null,null,null,null,null,null,null,null,null,null,null,null,null,null,null,null,null,null,null,null,null,null,null,null,null,0]
["1d",{"$f":"'1a'!B21","v":0},{"$f":"'1a'!C21","v":0},{"$f":"'1a'!D21","v":"lehrer19"},null,null,null,null,null,null,null,null,null,null,null,null,null,null,null,null,null,null,null,null,null,null,null,null,null,null,null,null,null,null,null,null,null,null,null,null,null,null,null,null,null,null,null,null,null,null,null,null,null,null,null,null,0]
["1d",{"$f":"'1a'!B22","v":0},{"$f":"'1a'!C22","v":0},{"$f":"'1a'!D22","v":"lehrer20"},null,null,null,null,null,null,null,null,null,null,null,null,null,null,null,null,null,null,null,null,null,null,null,null,null,null,null,null,null,null,null,null,null,null,null,null,null,null,null,null,null,null,null,null,null,null,null,null,null,null,null,null,0]
["1d",{"$f":"'1a'!B23","v":0},{"$f":"'1a'!C23","v":0},{"$f":"'1a'!D23","v":"lehrer21"},null,null,null,null,null,null,null,null,null,null,null,null,null,null,null,null,null,null,null,null,null,null,null,null,null,null,null,null,null,null,null,null,null,null,null,null,null,null,null,null,null,null,null,null,null,null,null,null,null,null,null,null,0]
["1d",{"$f":"'1a'!B24","v":0},{"$f":"'1a'!C24","v":0},{"$f":"'1a'!D24","v":"lehrer22"},null,null,null,null,null,null,null,null,null,null,null,null,null,null,null,null,null,null,null,null,null,null,null,null,null,null,null,null,null,null,null,null,null,null,null,null,null,null,null,null,null,null,null,null,null,null,null,null,null,null,null,null,0]
["1d",{"$f":"'1a'!B25","v":0},{"$f":"'1a'!C25","v":0},{"$f":"'1a'!D25","v":"lehrer23"},null,null,null,null,null,null,null,null,null,null,null,null,null,null,null,null,null,null,null,null,null,null,null,null,null,null,null,null,null,null,null,null,null,null,null,null,null,null,null,null,null,null,null,null,null,null,null,null,null,null,null,null,0]
["1d",{"$f":"'1a'!B26","v":0},{"$f":"'1a'!C26","v":0},{"$f":"'1a'!D26","v":"lehrer24"},null,null,null,null,null,null,null,null,null,null,null,null,null,null,null,null,null,null,null,null,null,null,null,null,null,null,null,null,null,null,null,null,null,null,null,null,null,null,null,null,null,null,null,null,null,null,null,null,null,null,null,null,0]
["1d",{"$f":"'1a'!B27","v":0},{"$f":"'1a'!C27","v":0},{"$f":"'1a'!D27","v":"lehrer25"},null,null,null,null,null,null,null,null,null,null,null,null,null,null,null,null,null,null,null,null,null,null,null,null,null,null,null,null,null,null,null,null,null,null,null,null,null,null,null,null,null,null,null,null,null,null,null,null,null,null,null,null,0]
["1d",{"$f":"'1a'!B28","v":0},{"$f":"'1a'!C28","v":0},{"$f":"'1a'!D28","v":"lehrer26"},null,null,null,null,null,null,null,null,null,null,null,null,null,null,null,null,null,null,null,null,null,null,null,null,null,null,null,null,null,null,null,null,null,null,null,null,null,null,null,null,null,null,null,null,null,null,null,null,null,null,null,null,0]
["1d",{"$f":"'1a'!B29","v":0},{"$f":"'1a'!C29","v":0},{"$f":"'1a'!D29","v":"lehrer27"},null,null,null,null,null,null,null,null,null,null,null,null,null,null,null,null,null,null,null,null,null,null,null,null,null,null,null,null,null,null,null,null,null,null,null,null,null,null,null,null,null,null,null,null,null,null,null,null,null,null,null,null,0]
["1d",{"$f":"'1a'!B30","v":0},{"$f":"'1a'!C30","v":0},{"$f":"'1a'!D30","v":"lehrer28"},null,null,null,null,null,null,null,null,null,null,null,null,null,null,null,null,null,null,null,null,null,null,null,null,null,null,null,null,null,null,null,null,null,null,null,null,null,null,null,null,null,null,null,null,null,null,null,null,null,null,null,null,0]
["1d",{"$f":"'1a'!B31","v":0},{"$f":"'1a'!C31","v":0},{"$f":"'1a'!D31","v":"lehrer29"},null,null,null,null,null,null,null,null,null,null,null,null,null,null,null,null,null,null,null,null,null,null,null,null,null,null,null,null,null,null,null,null,null,null,null,null,null,null,null,null,null,null,null,null,null,null,null,null,null,null,null,null,0]
["1d",{"$f":"'1a'!B32","v":0},{"$f":"'1a'!C32","v":0},{"$f":"'1a'!D32","v":"lehrer30"},null,null,null,null,null,null,null,null,null,null,null,null,null,null,null,null,null,null,null,null,null,null,null,null,null,null,null,null,null,null,null,null,null,null,null,null,null,null,null,null,null,null,null,null,null,null,null,null,null,null,null,null,0]
["1d",{"$f":"'1a'!B33","v":0},{"$f":"'1a'!C33","v":0},{"$f":"'1a'!D33","v":"lehrer31"},null,null,null,null,null,null,null,null,null,null,null,null,null,null,null,null,null,null,null,null,null,null,null,null,null,null,null,null,null,null,null,null,null,null,null,null,null,null,null,null,null,null,null,null,null,null,null,null,null,null,null,null,{"$f":"SUM(E33:BD33)","v":0}]
["1d",{"$f":"'1a'!B34","v":0},{"$f":"'1a'!C34","v":0},{"$f":"'1a'!D34","v":"lehrer32"},null,null,null,null,null,null,null,null,null,null,null,null,null,null,null,null,null,null,null,null,null,null,null,null,null,null,null,null,null,null,null,null,null,null,null,null,null,null,null,null,null,null,null,null,null,null,null,null,null,null,null,null,0]
["1d",{"$f":"'1a'!B35","v":0},{"$f":"'1a'!C35","v":0},{"$f":"'1a'!D35","v":"lehrer33"},null,null,null,null,null,null,null,null,null,null,null,null,null,null,null,null,null,null,null,null,null,null,null,null,null,null,null,null,null,null,null,null,null,null,null,null,null,null,null,null,null,null,null,null,null,null,null,null,null,null,null,null,0]
["1d",{"$f":"'1a'!B36","v":0},{"$f":"'1a'!C36","v":0},{"$f":"'1a'!D36","v":"lehrer34"},null,null,null,null,null,null,null,null,null,null,null,null,null,null,null,null,null,null,null,null,null,null,null,null,null,null,null,null,null,null,null,null,null,null,null,null,null,null,null,null,null,null,null,null,null,null,null,null,null,null,null,null,0]
["1d",{"$f":"'1a'!B37","v":0},{"$f":"'1a'!C37","v":0},{"$f":"'1a'!D37","v":"lehrer35"},null,null,null,null,null,null,null,null,null,null,null,null,null,null,null,null,null,null,null,null,null,null,null,null,null,null,null,null,null,null,null,null,null,null,null,null,null,null,null,null,null,null,null,null,null,null,null,null,null,null,null,null,0]
["1d",{"$f":"'1a'!B38","v":0},{"$f":"'1a'!C38","v":0},{"$f":"'1a'!D38","v":"lehrer36"},null,null,null,null,null,null,null,null,null,null,null,null,null,null,null,null,null,null,null,null,null,null,null,null,null,null,null,null,null,null,null,null,null,null,null,null,null,null,null,null,null,null,null,null,null,null,null,null,null,null,null,null,0]
["1d",{"$f":"'1a'!B39","v":0},{"$f":"'1a'!C39","v":0},{"$f":"'1a'!D39","v":"lehrer37"},null,null,null,null,null,null,null,null,null,null,null,null,null,null,null,null,null,null,null,null,null,null,null,null,null,null,null,null,null,null,null,null,null,null,null,null,null,null,null,null,null,null,null,null,null,null,null,null,null,null,null,null,0]
["1d",{"$f":"'1a'!B40","v":0},{"$f":"'1a'!C40","v":0},{"$f":"'1a'!D40","v":"lehrer38"},null,null,null,null,null,null,null,null,null,null,null,null,null,null,null,null,null,null,null,null,null,null,null,null,null,null,null,null,null,null,null,null,null,null,null,null,null,null,null,null,null,null,null,null,null,null,null,null,null,null,null,null,0]
["1d",{"$f":"'1a'!B41","v":0},{"$f":"'1a'!C41","v":0},{"$f":"'1a'!D41","v":"lehrer39"},null,null,null,null,null,null,null,null,null,null,null,null,null,null,null,null,null,null,null,null,null,null,null,null,null,null,null,null,null,null,null,null,null,null,null,null,null,null,null,null,null,null,null,null,null,null,null,null,null,null,null,null,0]
["1d",{"$f":"'1a'!B42","v":0},{"$f":"'1a'!C42","v":0},{"$f":"'1a'!D42","v":"lehrer40"},null,null,null,null,null,null,null,null,null,null,null,null,null,null,null,null,null,null,null,null,null,null,null,null,null,null,null,null,null,null,null,null,null,null,null,null,null,null,null,null,null,null,null,null,null,null,null,null,null,null,null,null,0]
["1d",{"$f":"'1a'!B43","v":0},{"$f":"'1a'!C43","v":0},{"$f":"'1a'!D43","v":"lehrer41"},null,null,null,null,null,null,null,null,null,null,null,null,null,null,null,null,null,null,null,null,null,null,null,null,null,null,null,null,null,null,null,null,null,null,null,null,null,null,null,null,null,null,null,null,null,null,null,null,null,null,null,null,0]
["1d",{"$f":"'1a'!B44","v":0},{"$f":"'1a'!C44","v":0},{"$f":"'1a'!D44","v":"lehrer42"},null,null,null,null,null,null,null,null,null,null,null,null,null,null,null,null,null,null,null,null,null,null,null,null,null,null,null,null,null,null,null,null,null,null,null,null,null,null,null,null,null,null,null,null,null,null,null,null,null,null,null,null,0]
["1d",{"$f":"'1a'!B45","v":0},{"$f":"'1a'!C45","v":0},{"$f":"'1a'!D45","v":"lehrer43"},null,null,null,null,null,null,null,null,null,null,null,null,null,null,null,null,null,null,null,null,null,null,null,null,null,null,null,null,null,null,null,null,null,null,null,null,null,null,null,null,null,null,null,null,null,null,null,null,null,null,null,null,0]
["1d",{"$f":"'1a'!B46","v":0},{"$f":"'1a'!C46","v":0},{"$f":"'1a'!D46","v":"lehrer44"},null,null,null,null,null,null,null,null,null,null,null,null,null,null,null,null,null,null,null,null,null,null,null,null,null,null,null,null,null,null,null,null,null,null,null,null,null,null,null,null,null,null,null,null,null,null,null,null,null,null,null,null,0]
["1d",{"$f":"'1a'!B47","v":0},{"$f":"'1a'!C47","v":0},{"$f":"'1a'!D47","v":"lehrer45"},null,null,null,null,null,null,null,null,null,null,null,null,null,null,null,null,null,null,null,null,null,null,null,null,null,null,null,null,null,null,null,null,null,null,null,null,null,null,null,null,null,null,null,null,null,null,null,null,null,null,null,null,0]
["1d",{"$f":"'1a'!B48","v":0},{"$f":"'1a'!C48","v":0},{"$f":"'1a'!D48","v":"lehrer46"},null,null,null,null,null,null,null,null,null,null,null,null,null,null,null,null,null,null,null,null,null,null,null,null,null,null,null,null,null,null,null,null,null,null,null,null,null,null,null,null,null,null,null,null,null,null,null,null,null,null,null,null,0]
["1d",{"$f":"'1a'!B49","v":0},{"$f":"'1a'!C49","v":0},{"$f":"'1a'!D49","v":"lehrer47"},null,null,null,null,null,null,null,null,null,null,null,null,null,null,null,null,null,null,null,null,null,null,null,null,null,null,null,null,null,null,null,null,null,null,null,null,null,null,null,null,null,null,null,null,null,null,null,null,null,null,null,null,0]
["1d",{"$f":"'1a'!B50","v":0},{"$f":"'1a'!C50","v":0},{"$f":"'1a'!D50","v":"lehrer48"},null,null,null,null,null,null,null,null,null,null,null,null,null,null,null,null,null,null,null,null,null,null,null,null,null,null,null,null,null,null,null,null,null,null,null,null,null,null,null,null,null,null,null,null,null,null,null,null,null,null,null,null,0]

{"sheet":"2a","index":5,"n_rows":50,"n_cols":57,"rows_kept":50,"cut":false,"hidden":false,"merged":[]}
[null,null,null," Summe GSt pro Klasse",{"$f":"SUM(E3:E50)","v":0},{"$f":"SUM(F3:F50)","v":0},0,0,0,0,0,0,0,0,0,0,0,0,0,0,0,0,0,0,0,0,0,0,0,0,0,0,0,0,0,0,0,0,0,0,0,0,0,0,0,0,0,0,0,0,0,0,0,0,0,0,0]
[{"$f":"header","v":"Klasse"},"Soll","in LVF","Lehrer",{"$f":"header","v":"M"},"M-T","M-Stütz","D","D-T","D-Stütz","E","E-T","E-Stütz","BE","Soz","BSP","BU","C","EH","GS","GW","GZ","ME","PH","P / C","Werken","Relisl","S-BO","S-BU","S-EH","S-GW","S-GZ","S-PC","S-BE","S-Werk","vÜ BO",{"$f":"header","v":"vÜ Soz"},"unv. DSP","unv. FB","INF Sta","INF ECDL","unv. KET","GTS","GTS-L","BE","Soz","BSP","frei","frei","frei","frei","frei","frei","frei","frei","frei","Summe Lehrer pro Klasse"]
["2a",{"$f":"'1a'!B3","v":0},{"$f":"'1a'!C3","v":0},{"$f":"'1a'!D3","v":"lehrer01"},null,null,null,null,null,null,null,null,null,null,null,null,null,null,null,null,null,null,null,null,null,null,null,null,null,null,null,null,null,null,null,null,null,null,null,null,null,null,null,null,null,null,null,null,null,null,null,null,null,null,null,null,{"$f":"SUM(E3:BD3)","v":0}]
["2a",{"$f":"'1a'!B4","v":0},{"$f":"'1a'!C4","v":0},{"$f":"'1a'!D4","v":"lehrer02"},null,null,null,null,null,null,null,null,null,null,null,null,null,null,null,null,null,null,null,null,null,null,null,null,null,null,null,null,null,null,null,null,null,null,null,null,null,null,null,null,null,null,null,null,null,null,null,null,null,null,null,null,{"$f":"SUM(E4:BD4)","v":0}]
["2a",{"$f":"'1a'!B5","v":0},{"$f":"'1a'!C5","v":0},{"$f":"'1a'!D5","v":"lehrer03"},null,null,null,null,null,null,null,null,null,null,null,null,null,null,null,null,null,null,null,null,null,null,null,null,null,null,null,null,null,null,null,null,null,null,null,null,null,null,null,null,null,null,null,null,null,null,null,null,null,null,null,null,0]
["2a",{"$f":"'1a'!B6","v":0},{"$f":"'1a'!C6","v":0},{"$f":"'1a'!D6","v":"lehrer04"},null,null,null,null,null,null,null,null,null,null,null,null,null,null,null,null,null,null,null,null,null,null,null,null,null,null,null,null,null,null,null,null,null,null,null,null,null,null,null,null,null,null,null,null,null,null,null,null,null,null,null,null,0]
["2a",{"$f":"'1a'!B7","v":0},{"$f":"'1a'!C7","v":0},{"$f":"'1a'!D7","v":"lehrer05"},null,null,null,null,null,null,null,null,null,null,null,null,null,null,null,null,null,null,null,null,null,null,null,null,null,null,null,null,null,null,null,null,null,null,null,null,null,null,null,null,null,null,null,null,null,null,null,null,null,null,null,null,0]
["2a",{"$f":"'1a'!B8","v":0},{"$f":"'1a'!C8","v":0},{"$f":"'1a'!D8","v":"lehrer06"},null,null,null,null,null,null,null,null,null,null,null,null,null,null,null,null,null,null,null,null,null,null,null,null,null,null,null,null,null,null,null,null,null,null,null,null,null,null,null,null,null,null,null,null,null,null,null,null,null,null,null,null,0]
["2a",{"$f":"'1a'!B9","v":0},{"$f":"'1a'!C9","v":0},{"$f":"'1a'!D9","v":"lehrer07"},null,null,null,null,null,null,null,null,null,null,null,null,null,null,null,null,null,null,null,null,null,null,null,null,null,null,null,null,null,null,null,null,null,null,null,null,null,null,null,null,null,null,null,null,null,null,null,null,null,null,null,null,0]
["2a",{"$f":"'1a'!B10","v":0},{"$f":"'1a'!C10","v":0},{"$f":"'1a'!D10","v":"lehrer08"},null,null,null,null,null,null,null,null,null,null,null,null,null,null,null,null,null,null,null,null,null,null,null,null,null,null,null,null,null,null,null,null,null,null,null,null,null,null,null,null,null,null,null,null,null,null,null,null,null,null,null,null,0]
["2a",{"$f":"'1a'!B11","v":0},{"$f":"'1a'!C11","v":0},{"$f":"'1a'!D11","v":"lehrer09"},null,null,null,null,null,null,null,null,null,null,null,null,null,null,null,null,null,null,null,null,null,null,null,null,null,null,null,null,null,null,null,null,null,null,null,null,null,null,null,null,null,null,null,null,null,null,null,null,null,null,null,null,0]
["2a",{"$f":"'1a'!B12","v":0},{"$f":"'1a'!C12","v":0},{"$f":"'1a'!D12","v":"lehrer10"},null,null,null,null,null,null,null,null,null,null,null,null,null,null,null,null,null,null,null,null,null,null,null,null,null,null,null,null,null,null,null,null,null,null,null,null,null,null,null,null,null,null,null,null,null,null,null,null,null,null,null,null,0]
["2a",{"$f":"'1a'!B13","v":0},{"$f":"'1a'!C13","v":0},{"$f":"'1a'!D13","v":"lehrer11"},null,null,null,null,null,null,null,null,null,null,null,null,null,null,null,null,null,null,null,null,null,null,null,null,null,null,null,null,null,null,null,null,null,null,null,null,null,null,null,null,null,null,null,null,null,null,null,null,null,null,null,null,0]
["2a",{"$f":"'1a'!B14","v":0},{"$f":"'1a'!C14","v":0},{"$f":"'1a'!D14","v":"lehrer12"},null,null,null,null,null,null,null,null,null,null,null,null,null,null,null,null,null,null,null,null,null,null,null,null,null,null,null,null,null,null,null,null,null,null,null,null,null,null,null,null,null,null,null,null,null,null,null,null,null,null,null,null,0]
["2a",{"$f":"'1a'!B15","v":0},{"$f":"'1a'!C15","v":0},{"$f":"'1a'!D15","v":"lehrer13"},null,null,null,null,null,null,null,null,null,null,null,null,null,null,null,null,null,null,null,null,null,null,null,null,null,null,null,null,null,null,null,null,null,null,null,null,null,null,null,null,null,null,null,null,null,null,null,null,null,null,null,null,0]
["2a",{"$f":"'1a'!B16","v":0},{"$f":"'1a'!C16","v":0},{"$f":"'1a'!D16","v":"lehrer14"},null,null,null,null,null,null,null,null,null,null,null,null,null,null,null,null,null,null,null,null,null,null,null,null,null,null,null,null,null,null,null,null,null,null,null,null,null,null,null,null,null,null,null,null,null,null,null,null,null,null,null,null,0]
["2a",{"$f":"'1a'!B17","v":0},{"$f":"'1a'!C17","v":0},{"$f":"'1a'!D17","v":"lehrer15"},null,null,null,null,null,null,null,null,null,null,null,null,null,null,null,null,null,null,null,null,null,null,null,null,null,null,null,null,null,null,null,null,null,null,null,null,null,null,null,null,null,null,null,null,null,null,null,null,null,null,null,null,{"$f":"SUM(E17:AT17)","v":0}]
["2a",{"$f":"'1a'!B18","v":0},{"$f":"'1a'!C18","v":0},{"$f":"'1a'!D18","v":"lehrer16"},null,null,null,null,null,null,null,null,null,null,null,null,null,null,null,null,null,null,null,null,null,null,null,null,null,null,null,null,null,null,null,null,null,null,null,null,null,null,null,null,null,null,null,null,null,null,null,null,null,null,null,null,0]
["2a",{"$f":"'1a'!B19","v":0},{"$f":"'1a'!C19","v":0},{"$f":"'1a'!D19","v":"lehrer17"},null,null,null,null,null,null,null,null,null,null,null,null,null,null,null,null,null,null,null,null,null,null,null,null,null,null,null,null,null,null,null,null,null,null,null,null,null,null,null,null,null,null,null,null,null,null,null,null,null,null,null,null,0]
["2a",{"$f":"'1a'!B20","v":0},{"$f":"'1a'!C20","v":0},{"$f":"'1a'!D20","v":"lehrer18"},null,null,null,null,null,null,null,null,null,null,null,null,null,null,null,null,null,null,null,null,null,null,null,null,null,null,null,null,null,null,null,null,null,null,null,null,null,null,null,null,null,null,null,null,null,null,null,null,null,null,null,null,0]
["2a",{"$f":"'1a'!B21","v":0},{"$f":"'1a'!C21","v":0},{"$f":"'1a'!D21","v":"lehrer19"},null,null,null,null,null,null,null,null,null,null,null,null,null,null,null,null,null,null,null,null,null,null,null,null,null,null,null,null,null,null,null,null,null,null,null,null,null,null,null,null,null,null,null,null,null,null,null,null,null,null,null,null,0]
["2a",{"$f":"'1a'!B22","v":0},{"$f":"'1a'!C22","v":0},{"$f":"'1a'!D22","v":"lehrer20"},null,null,null,null,null,null,null,null,null,null,null,null,null,null,null,null,null,null,null,null,null,null,null,null,null,null,null,null,null,null,null,null,null,null,null,null,null,null,null,null,null,null,null,null,null,null,null,null,null,null,null,null,0]
["2a",{"$f":"'1a'!B23","v":0},{"$f":"'1a'!C23","v":0},{"$f":"'1a'!D23","v":"lehrer21"},null,null,null,null,null,null,null,null,null,null,null,null,null,null,null,null,null,null,null,null,null,null,null,null,null,null,null,null,null,null,null,null,null,null,null,null,null,null,null,null,null,null,null,null,null,null,null,null,null,null,null,null,0]
["2a",{"$f":"'1a'!B24","v":0},{"$f":"'1a'!C24","v":0},{"$f":"'1a'!D24","v":"lehrer22"},null,null,null,null,null,null,null,null,null,null,null,null,null,null,null,null,null,null,null,null,null,null,null,null,null,null,null,null,null,null,null,null,null,null,null,null,null,null,null,null,null,null,null,null,null,null,null,null,null,null,null,null,0]
["2a",{"$f":"'1a'!B25","v":0},{"$f":"'1a'!C25","v":0},{"$f":"'1a'!D25","v":"lehrer23"},null,null,null,null,null,null,null,null,null,null,null,null,null,null,null,null,null,null,null,null,null,null,null,null,null,null,null,null,null,null,null,null,null,null,null,null,null,null,null,null,null,null,null,null,null,null,null,null,null,null,null,null,0]
["2a",{"$f":"'1a'!B26","v":0},{"$f":"'1a'!C26","v":0},{"$f":"'1a'!D26","v":"lehrer24"},null,null,null,null,null,null,null,null,null,null,null,null,null,null,null,null,null,null,null,null,null,null,null,null,null,null,null,null,null,null,null,null,null,null,null,null,null,null,null,null,null,null,null,null,null,null,null,null,null,null,null,null,0]
["2a",{"$f":"'1a'!B27","v":0},{"$f":"'1a'!C27","v":0},{"$f":"'1a'!D27","v":"lehrer25"},null,null,null,null,null,null,null,null,null,null,null,null,null,null,null,null,null,null,null,null,null,null,null,null,null,null,null,null,null,null,null,null,null,null,null,null,null,null,null,null,null,null,null,null,null,null,null,null,null,null,null,null,0]
["2a",{"$f":"'1a'!B28","v":0},{"$f":"'1a'!C28","v":0},{"$f":"'1a'!D28","v":"lehrer26"},null,null,null,null,null,null,null,null,null,null,null,null,null,null,null,null,null,null,null,null,null,null,null,null,null,null,null,null,null,null,null,null,null,null,null,null,null,null,null,null,null,null,null,null,null,null,null,null,null,null,null,null,0]
["2a",{"$f":"'1a'!B29","v":0},{"$f":"'1a'!C29","v":0},{"$f":"'1a'!D29","v":"lehrer27"},null,null,null,null,null,null,null,null,null,null,null,null,null,null,null,null,null,null,null,null,null,null,null,null,null,null,null,null,null,null,null,null,null,null,null,null,null,null,null,null,null,null,null,null,null,null,null,null,null,null,null,null,0]
["2a",{"$f":"'1a'!B30","v":0},{"$f":"'1a'!C30","v":0},{"$f":"'1a'!D30","v":"lehrer28"},null,null,null,null,null,null,null,null,null,null,null,null,null,null,null,null,null,null,null,null,null,null,null,null,null,null,null,null,null,null,null,null,null,null,null,null,null,null,null,null,null,null,null,null,null,null,null,null,null,null,null,null,0]
["2a",{"$f":"'1a'!B31","v":0},{"$f":"'1a'!C31","v":0},{"$f":"'1a'!D31","v":"lehrer29"},null,null,null,null,null,null,null,null,null,null,null,null,null,null,null,null,null,null,null,null,null,null,null,null,null,null,null,null,null,null,null,null,null,null,null,null,null,null,null,null,null,null,null,null,null,null,null,null,null,null,null,null,0]
["2a",{"$f":"'1a'!B32","v":0},{"$f":"'1a'!C32","v":0},{"$f":"'1a'!D32","v":"lehrer30"},null,null,null,null,null,null,null,null,null,null,null,null,null,null,null,null,null,null,null,null,null,null,null,null,null,null,null,null,null,null,null,null,null,null,null,null,null,null,null,null,null,null,null,null,null,null,null,null,null,null,null,null,0]
["2a",{"$f":"'1a'!B33","v":0},{"$f":"'1a'!C33","v":0},{"$f":"'1a'!D33","v":"lehrer31"},null,null,null,null,null,null,null,null,null,null,null,null,null,null,null,null,null,null,null,null,null,null,null,null,null,null,null,null,null,null,null,null,null,null,null,null,null,null,null,null,null,null,null,null,null,null,null,null,null,null,null,null,{"$f":"SUM(E33:BD33)","v":0}]
["2a",{"$f":"'1a'!B34","v":0},{"$f":"'1a'!C34","v":0},{"$f":"'1a'!D34","v":"lehrer32"},null,null,null,null,null,null,null,null,null,null,null,null,null,null,null,null,null,null,null,null,null,null,null,null,null,null,null,null,null,null,null,null,null,null,null,null,null,null,null,null,null,null,null,null,null,null,null,null,null,null,null,null,0]
["2a",{"$f":"'1a'!B35","v":0},{"$f":"'1a'!C35","v":0},{"$f":"'1a'!D35","v":"lehrer33"},null,null,null,null,null,null,null,null,null,null,null,null,null,null,null,null,null,null,null,null,null,null,null,null,null,null,null,null,null,null,null,null,null,null,null,null,null,null,null,null,null,null,null,null,null,null,null,null,null,null,null,null,0]
["2a",{"$f":"'1a'!B36","v":0},{"$f":"'1a'!C36","v":0},{"$f":"'1a'!D36","v":"lehrer34"},null,null,null,null,null,null,null,null,null,null,null,null,null,null,null,null,null,null,null,null,null,null,null,null,null,null,null,null,null,null,null,null,null,null,null,null,null,null,null,null,null,null,null,null,null,null,null,null,null,null,null,null,0]
["2a",{"$f":"'1a'!B37","v":0},{"$f":"'1a'!C37","v":0},{"$f":"'1a'!D37","v":"lehrer35"},null,null,null,null,null,null,null,null,null,null,null,null,null,null,null,null,null,null,null,null,null,null,null,null,null,null,null,null,null,null,null,null,null,null,null,null,null,null,null,null,null,null,null,null,null,null,null,null,null,null,null,null,0]
["2a",{"$f":"'1a'!B38","v":0},{"$f":"'1a'!C38","v":0},{"$f":"'1a'!D38","v":"lehrer36"},null,null,null,null,null,null,null,null,null,null,null,null,null,null,null,null,null,null,null,null,null,null,null,null,null,null,null,null,null,null,null,null,null,null,null,null,null,null,null,null,null,null,null,null,null,null,null,null,null,null,null,null,0]
["2a",{"$f":"'1a'!B39","v":0},{"$f":"'1a'!C39","v":0},{"$f":"'1a'!D39","v":"lehrer37"},null,null,null,null,null,null,null,null,null,null,null,null,null,null,null,null,null,null,null,null,null,null,null,null,null,null,null,null,null,null,null,null,null,null,null,null,null,null,null,null,null,null,null,null,null,null,null,null,null,null,null,null,0]
["2a",{"$f":"'1a'!B40","v":0},{"$f":"'1a'!C40","v":0},{"$f":"'1a'!D40","v":"lehrer38"},null,null,null,null,null,null,null,null,null,null,null,null,null,null,null,null,null,null,null,null,null,null,null,null,null,null,null,null,null,null,null,null,null,null,null,null,null,null,null,null,null,null,null,null,null,null,null,null,null,null,null,null,0]
["2a",{"$f":"'1a'!B41","v":0},{"$f":"'1a'!C41","v":0},{"$f":"'1a'!D41","v":"lehrer39"},null,null,null,null,null,null,null,null,null,null,null,null,null,null,null,null,null,null,null,null,null,null,null,null,null,null,null,null,null,null,null,null,null,null,null,null,null,null,null,null,null,null,null,null,null,null,null,null,null,null,null,null,0]
["2a",{"$f":"'1a'!B42","v":0},{"$f":"'1a'!C42","v":0},{"$f":"'1a'!D42","v":"lehrer40"},null,null,null,null,null,null,null,null,null,null,null,null,null,null,null,null,null,null,null,null,null,null,null,null,null,null,null,null,null,null,null,null,null,null,null,null,null,null,null,null,null,null,null,null,null,null,null,null,null,null,null,null,0]
["2a",{"$f":"'1a'!B43","v":0},{"$f":"'1a'!C43","v":0},{"$f":"'1a'!D43","v":"lehrer41"},null,null,null,null,null,null,null,null,null,null,null,null,null,null,null,null,null,null,null,null,null,null,null,null,null,null,null,null,null,null,null,null,null,null,null,null,null,null,null,null,null,null,null,null,null,null,null,null,null,null,null,null,0]
["2a",{"$f":"'1a'!B44","v":0},{"$f":"'1a'!C44","v":0},{"$f":"'1a'!D44","v":"lehrer42"},null,null,null,null,null,null,null,null,null,null,null,null,null,null,null,null,null,null,null,null,null,null,null,null,null,null,null,null,null,null,null,null,null,null,null,null,null,null,null,null,null,null,null,null,null,null,null,null,null,null,null,null,0]
["2a",{"$f":"'1a'!B45","v":0},{"$f":"'1a'!C45","v":0},{"$f":"'1a'!D45","v":"lehrer43"},null,null,null,null,null,null,null,null,null,null,null,null,null,null,null,null,null,null,null,null,null,null,null,null,null,null,null,null,null,null,null,null,null,null,null,null,null,null,null,null,null,null,null,null,null,null,null,null,null,null,null,null,0]
["2a",{"$f":"'1a'!B46","v":0},{"$f":"'1a'!C46","v":0},{"$f":"'1a'!D46","v":"lehrer44"},null,null,null,null,null,null,null,null,null,null,null,null,null,null,null,null,null,null,null,null,null,null,null,null,null,null,null,null,null,null,null,null,null,null,null,null,null,null,null,null,null,null,null,null,null,null,null,null,null,null,null,null,0]
["2a",{"$f":"'1a'!B47","v":0},{"$f":"'1a'!C47","v":0},{"$f":"'1a'!D47","v":"lehrer45"},null,null,null,null,null,null,null,null,null,null,null,null,null,null,null,null,null,null,null,null,null,null,null,null,null,null,null,null,null,null,null,null,null,null,null,null,null,null,null,null,null,null,null,null,null,null,null,null,null,null,null,null,0]
["2a",{"$f":"'1a'!B48","v":0},{"$f":"'1a'!C48","v":0},{"$f":"'1a'!D48","v":"lehrer46"},null,null,null,null,null,null,null,null,null,null,null,null,null,null,null,null,null,null,null,null,null,null,null,null,null,null,null,null,null,null,null,null,null,null,null,null,null,null,null,null,null,null,null,null,null,null,null,null,null,null,null,null,0]
["2a",{"$f":"'1a'!B49","v":0},{"$f":"'1a'!C49","v":0},{"$f":"'1a'!D49","v":"lehrer47"},null,null,null,null,null,null,null,null,null,null,null,null,null,null,null,null,null,null,null,null,null,null,null,null,null,null,null,null,null,null,null,null,null,null,null,null,null,null,null,null,null,null,null,null,null,null,null,null,null,null,null,null,0]
["2a",{"$f":"'1a'!B50","v":0},{"$f":"'1a'!C50","v":0},{"$f":"'1a'!D50","v":"lehrer48"},null,null,null,null,null,null,null,null,null,null,null,null,null,null,null,null,null,null,null,null,null,null,null,null,null,null,null,null,null,null,null,null,null,null,null,null,null,null,null,null,null,null,null,null,null,null,null,null,null,null,null,null,0]

{"sheet":"2b","index":6,"n_rows":50,"n_cols":57,"rows_kept":50,"cut":false,"hidden":false,"merged":[]}
[null,null,null," Summe GSt pro Klasse",{"$f":"SUM(E3:E50)","v":0},{"$f":"SUM(F3:F50)","v":0},0,0,0,0,0,0,0,0,0,0,0,0,0,0,0,0,0,0,0,0,0,0,0,0,0,0,0,0,0,0,0,0,0,0,0,0,0,0,0,0,0,0,0,0,0,0,0,0,0,0,0]
[{"$f":"header","v":"Klasse"},"Soll","in LVF","Lehrer","M","M-T","M-Stütz","D","D-T","D-Stütz","E","E-T","E-Stütz","BE","Soz","BSP","BU","C","EH","GS","GW","GZ","ME","PH","P / C","Werken","Relisl","S-BO","S-BU","S-EH","S-GW","S-GZ","S-PC","S-BE","S-Werk","vÜ BO","vÜ Soz","unv. DSP","unv. FB","INF Sta","INF ECDL","unv. KET","GTS","GTS-L","BE","Soz","BSP","frei","frei","frei","frei","frei","frei","frei","frei","frei","Summe Lehrer pro Klasse"]
["2b",{"$f":"'1a'!B3","v":0},{"$f":"'1a'!C3","v":0},{"$f":"'1a'!D3","v":"lehrer01"},null,null,null,null,null,null,null,null,null,null,null,null,null,null,null,null,null,null,null,null,null,null,null,null,null,null,null,null,null,null,null,null,null,null,null,null,null,null,null,null,null,null,null,null,null,null,null,null,null,null,null,null,{"$f":"SUM(E3:BD3)","v":0}]
["2b",{"$f":"'1a'!B4","v":0},{"$f":"'1a'!C4","v":0},{"$f":"'1a'!D4","v":"lehrer02"},null,null,null,null,null,null,null,null,null,null,null,null,null,null,null,null,null,null,null,null,null,null,null,null,null,null,null,null,null,null,null,null,null,null,null,null,null,null,null,null,null,null,null,null,null,null,null,null,null,null,null,null,{"$f":"SUM(E4:BD4)","v":0}]
["2b",{"$f":"'1a'!B5","v":0},{"$f":"'1a'!C5","v":0},{"$f":"'1a'!D5","v":"lehrer03"},null,null,null,null,null,null,null,null,null,null,null,null,null,null,null,null,null,null,null,null,null,null,null,null,null,null,null,null,null,null,null,null,null,null,null,null,null,null,null,null,null,null,null,null,null,null,null,null,null,null,null,null,0]
["2b",{"$f":"'1a'!B6","v":0},{"$f":"'1a'!C6","v":0},{"$f":"'1a'!D6","v":"lehrer04"},null,null,null,null,null,null,null,null,null,null,null,null,null,null,null,null,null,null,null,null,null,null,null,null,null,null,null,null,null,null,null,null,null,null,null,null,null,null,null,null,null,null,null,null,null,null,null,null,null,null,null,null,0]
["2b",{"$f":"'1a'!B7","v":0},{"$f":"'1a'!C7","v":0},{"$f":"'1a'!D7","v":"lehrer05"},null,null,null,null,null,null,null,null,null,null,null,null,null,null,null,null,null,null,null,null,null,null,null,null,null,null,null,null,null,null,null,null,null,null,null,null,null,null,null,null,null,null,null,null,null,null,null,null,null,null,null,null,0]
["2b",{"$f":"'1a'!B8","v":0},{"$f":"'1a'!C8","v":0},{"$f":"'1a'!D8","v":"lehrer06"},null,null,null,null,null,null,null,null,null,null,null,null,null,null,null,null,null,null,null,null,null,null,null,null,null,null,null,null,null,null,null,null,null,null,null,null,null,null,null,null,null,null,null,null,null,null,null,null,null,null,null,null,0]
["2b",{"$f":"'1a'!B9","v":0},{"$f":"'1a'!C9","v":0},{"$f":"'1a'!D9","v":"lehrer07"},null,null,null,null,null,null,null,null,null,null,null,null,null,null,null,null,null,null,null,null,null,null,null,null,null,null,null,null,null,null,null,null,null,null,null,null,null,null,null,null,null,null,null,null,null,null,null,null,null,null,null,null,0]
["2b",{"$f":"'1a'!B10","v":0},{"$f":"'1a'!C10","v":0},{"$f":"'1a'!D10","v":"lehrer08"},null,null,null,null,null,null,null,null,null,null,null,null,null,null,null,null,null,null,null,null,null,null,null,null,null,null,null,null,null,null,null,null,null,null,null,null,null,null,null,null,null,null,null,null,null,null,null,null,null,null,null,null,0]
["2b",{"$f":"'1a'!B11","v":0},{"$f":"'1a'!C11","v":0},{"$f":"'1a'!D11","v":"lehrer09"},null,null,null,null,null,null,null,null,null,null,null,null,null,null,null,null,null,null,null,null,null,null,null,null,null,null,null,null,null,null,null,null,null,null,null,null,null,null,null,null,null,null,null,null,null,null,null,null,null,null,null,null,0]
["2b",{"$f":"'1a'!B12","v":0},{"$f":"'1a'!C12","v":0},{"$f":"'1a'!D12","v":"lehrer10"},null,null,null,null,null,null,null,null,null,null,null,null,null,null,null,null,null,null,null,null,null,null,null,null,null,null,null,null,null,null,null,null,null,null,null,null,null,null,null,null,null,null,null,null,null,null,null,null,null,null,null,null,0]
["2b",{"$f":"'1a'!B13","v":0},{"$f":"'1a'!C13","v":0},{"$f":"'1a'!D13","v":"lehrer11"},null,null,null,null,null,null,null,null,null,null,null,null,null,null,null,null,null,null,null,null,null,null,null,null,null,null,null,null,null,null,null,null,null,null,null,null,null,null,null,null,null,null,null,null,null,null,null,null,null,null,null,null,0]
["2b",{"$f":"'1a'!B14","v":0},{"$f":"'1a'!C14","v":0},{"$f":"'1a'!D14","v":"lehrer12"},null,null,null,null,null,null,null,null,null,null,null,null,null,null,null,null,null,null,null,null,null,null,null,null,null,null,null,null,null,null,null,null,null,null,null,null,null,null,null,null,null,null,null,null,null,null,null,null,null,null,null,null,0]
["2b",{"$f":"'1a'!B15","v":0},{"$f":"'1a'!C15","v":0},{"$f":"'1a'!D15","v":"lehrer13"},null,null,null,null,null,null,null,null,null,null,null,null,null,null,null,null,null,null,null,null,null,null,null,null,null,null,null,null,null,null,null,null,null,null,null,null,null,null,null,null,null,null,null,null,null,null,null,null,null,null,null,null,0]
["2b",{"$f":"'1a'!B16","v":0},{"$f":"'1a'!C16","v":0},{"$f":"'1a'!D16","v":"lehrer14"},null,null,null,null,null,null,null,null,null,null,null,null,null,null,null,null,null,null,null,null,null,null,null,null,null,null,null,null,null,null,null,null,null,null,null,null,null,null,null,null,null,null,null,null,null,null,null,null,null,null,null,null,0]
["2b",{"$f":"'1a'!B17","v":0},{"$f":"'1a'!C17","v":0},{"$f":"'1a'!D17","v":"lehrer15"},null,null,null,null,null,null,null,null,null,null,null,null,null,null,null,null,null,null,null,null,null,null,null,null,null,null,null,null,null,null,null,null,null,null,null,null,null,null,null,null,null,null,null,null,null,null,null,null,null,null,null,null,0]
["2b",{"$f":"'1a'!B18","v":0},{"$f":"'1a'!C18","v":0},{"$f":"'1a'!D18","v":"lehrer16"},null,null,null,null,null,null,null,null,null,null,null,null,null,null,null,null,null,null,null,null,null,null,null,null,null,null,null,null,null,null,null,null,null,null,null,null,null,null,null,null,null,null,null,null,null,null,null,null,null,null,null,null,0]
["2b",{"$f":"'1a'!B19","v":0},{"$f":"'1a'!C19","v":0},{"$f":"'1a'!D19","v":"lehrer17"},null,null,null,null,null,null,null,null,null,null,null,null,null,null,null,null,null,null,null,null,null,null,null,null,null,null,null,null,null,null,null,null,null,null,null,null,null,null,null,null,null,null,null,null,null,null,null,null,null,null,null,null,0]
["2b",{"$f":"'1a'!B20","v":0},{"$f":"'1a'!C20","v":0},{"$f":"'1a'!D20","v":"lehrer18"},null,null,null,null,null,null,null,null,null,null,null,null,null,null,null,null,null,null,null,null,null,null,null,null,null,null,null,null,null,null,null,null,null,null,null,null,null,null,null,null,null,null,null,null,null,null,null,null,null,null,null,null,0]
["2b",{"$f":"'1a'!B21","v":0},{"$f":"'1a'!C21","v":0},{"$f":"'1a'!D21","v":"lehrer19"},null,null,null,null,null,null,null,null,null,null,null,null,null,null,null,null,null,null,null,null,null,null,null,null,null,null,null,null,null,null,null,null,null,null,null,null,null,null,null,null,null,null,null,null,null,null,null,null,null,null,null,null,0]
["2b",{"$f":"'1a'!B22","v":0},{"$f":"'1a'!C22","v":0},{"$f":"'1a'!D22","v":"lehrer20"},null,null,null,null,null,null,null,null,null,null,null,null,null,null,null,null,null,null,null,null,null,null,null,null,null,null,null,null,null,null,null,null,null,null,null,null,null,null,null,null,null,null,null,null,null,null,null,null,null,null,null,null,0]
["2b",{"$f":"'1a'!B23","v":0},{"$f":"'1a'!C23","v":0},{"$f":"'1a'!D23","v":"lehrer21"},null,null,null,null,null,null,null,null,null,null,null,null,null,null,null,null,null,null,null,null,null,null,null,null,null,null,null,null,null,null,null,null,null,null,null,null,null,null,null,null,null,null,null,null,null,null,null,null,null,null,null,null,0]
["2b",{"$f":"'1a'!B24","v":0},{"$f":"'1a'!C24","v":0},{"$f":"'1a'!D24","v":"lehrer22"},null,null,null,null,null,null,null,null,null,null,null,null,null,null,null,null,null,null,null,null,null,null,null,null,null,null,null,null,null,null,null,null,null,null,null,null,null,null,null,null,null,null,null,null,null,null,null,null,null,null,null,null,0]
["2b",{"$f":"'1a'!B25","v":0},{"$f":"'1a'!C25","v":0},{"$f":"'1a'!D25","v":"lehrer23"},null,null,null,null,null,null,null,null,null,null,null,null,null,null,null,null,null,null,null,null,null,null,null,null,null,null,null,null,null,null,null,null,null,null,null,null,null,null,null,null,null,null,null,null,null,null,null,null,null,null,null,null,0]
["2b",{"$f":"'1a'!B26","v":0},{"$f":"'1a'!C26","v":0},{"$f":"'1a'!D26","v":"lehrer24"},null,null,null,null,null,null,null,null,null,null,null,null,null,null,null,null,null,null,null,null,null,null,null,null,null,null,null,null,null,null,null,null,null,null,null,null,null,null,null,null,null,null,null,null,null,null,null,null,null,null,null,null,0]
["2b",{"$f":"'1a'!B27","v":0},{"$f":"'1a'!C27","v":0},{"$f":"'1a'!D27","v":"lehrer25"},null,null,null,null,null,null,null,null,null,null,null,null,null,null,null,null,null,null,null,null,null,null,null,null,null,null,null,null,null,null,null,null,null,null,null,null,null,null,null,null,null,null,null,null,null,null,null,null,null,null,null,null,0]
["2b",{"$f":"'1a'!B28","v":0},{"$f":"'1a'!C28","v":0},{"$f":"'1a'!D28","v":"lehrer26"},null,null,null,null,null,null,null,null,null,null,null,null,null,null,null,null,null,null,null,null,null,null,null,null,null,null,null,null,null,null,null,null,null,null,null,null,null,null,null,null,null,null,null,null,null,null,null,null,null,null,null,null,0]
["2b",{"$f":"'1a'!B29","v":0},{"$f":"'1a'!C29","v":0},{"$f":"'1a'!D29","v":"lehrer27"},null,null,null,null,null,null,null,null,null,null,null,null,null,null,null,null,null,null,null,null,null,null,null,null,null,null,null,null,null,null,null,null,null,null,null,null,null,null,null,null,null,null,null,null,null,null,null,null,null,null,null,null,0]
["2b",{"$f":"'1a'!B30","v":0},{"$f":"'1a'!C30","v":0},{"$f":"'1a'!D30","v":"lehrer28"},null,null,null,null,null,null,null,null,null,null,null,null,null,null,null,null,null,null,null,null,null,null,null,null,null,null,null,null,null,null,null,null,null,null,null,null,null,null,null,null,null,null,null,null,null,null,null,null,null,null,null,null,0]
["2b",{"$f":"'1a'!B31","v":0},{"$f":"'1a'!C31","v":0},{"$f":"'1a'!D31","v":"lehrer29"},null,null,null,null,null,null,null,null,null,null,null,null,null,null,null,null,null,null,null,null,null,null,null,null,null,null,null,null,null,null,null,null,null,null,null,null,null,null,null,null,null,null,null,null,null,null,null,null,null,null,null,null,0]
["2b",{"$f":"'1a'!B32","v":0},{"$f":"'1a'!C32","v":0},{"$f":"'1a'!D32","v":"lehrer30"},null,null,null,null,null,null,null,null,null,null,null,null,null,null,null,null,null,null,null,null,null,null,null,null,null,null,null,null,null,null,null,null,null,null,null,null,null,null,null,null,null,null,null,null,null,null,null,null,null,null,null,null,0]
["2b",{"$f":"'1a'!B33","v":0},{"$f":"'1a'!C33","v":0},{"$f":"'1a'!D33","v":"lehrer31"},null,null,null,null,null,null,null,null,null,null,null,null,null,null,null,null,null,null,null,null,null,null,null,null,null,null,null,null,null,null,null,null,null,null,null,null,null,null,null,null,null,null,null,null,null,null,null,null,null,null,null,null,{"$f":"SUM(E33:BD33)","v":0}]
["2b",{"$f":"'1a'!B34","v":0},{"$f":"'1a'!C34","v":0},{"$f":"'1a'!D34","v":"lehrer32"},null,null,null,null,null,null,null,null,null,null,null,null,null,null,null,null,null,null,null,null,null,null,null,null,null,null,null,null,null,null,null,null,null,null,null,null,null,null,null,null,null,null,null,null,null,null,null,null,null,null,null,null,0]
["2b",{"$f":"'1a'!B35","v":0},{"$f":"'1a'!C35","v":0},{"$f":"'1a'!D35","v":"lehrer33"},null,null,null,null,null,null,null,null,null,null,null,null,null,null,null,null,null,null,null,null,null,null,null,null,null,null,null,null,null,null,null,null,null,null,null,null,null,null,null,null,null,null,null,null,null,null,null,null,null,null,null,null,0]
["2b",{"$f":"'1a'!B36","v":0},{"$f":"'1a'!C36","v":0},{"$f":"'1a'!D36","v":"lehrer34"},null,null,null,null,null,null,null,null,null,null,null,null,null,null,null,null,null,null,null,null,null,null,null,null,null,null,null,null,null,null,null,null,null,null,null,null,null,null,null,null,null,null,null,null,null,null,null,null,null,null,null,null,0]
["2b",{"$f":"'1a'!B37","v":0},{"$f":"'1a'!C37","v":0},{"$f":"'1a'!D37","v":"lehrer35"},null,null,null,null,null,null,null,null,null,null,null,null,null,null,null,null,null,null,null,null,null,null,null,null,null,null,null,null,null,null,null,null,null,null,null,null,null,null,null,null,null,null,null,null,null,null,null,null,null,null,null,null,0]
["2b",{"$f":"'1a'!B38","v":0},{"$f":"'1a'!C38","v":0},{"$f":"'1a'!D38","v":"lehrer36"},null,null,null,null,null,null,null,null,null,null,null,null,null,null,null,null,null,null,null,null,null,null,null,null,null,null,null,null,null,null,null,null,null,null,null,null,null,null,null,null,null,null,null,null,null,null,null,null,null,null,null,null,0]
["2b",{"$f":"'1a'!B39","v":0},{"$f":"'1a'!C39","v":0},{"$f":"'1a'!D39","v":"lehrer37"},null,null,null,null,null,null,null,null,null,null,null,null,null,null,null,null,null,null,null,null,null,null,null,null,null,null,null,null,null,null,null,null,null,null,null,null,null,null,null,null,null,null,null,null,null,null,null,null,null,null,null,null,0]
["2b",{"$f":"'1a'!B40","v":0},{"$f":"'1a'!C40","v":0},{"$f":"'1a'!D40","v":"lehrer38"},null,null,null,null,null,null,null,null,null,null,null,null,null,null,null,null,null,null,null,null,null,null,null,null,null,null,null,null,null,null,null,null,null,null,null,null,null,null,null,null,null,null,null,null,null,null,null,null,null,null,null,null,0]
["2b",{"$f":"'1a'!B41","v":0},{"$f":"'1a'!C41","v":0},{"$f":"'1a'!D41","v":"lehrer39"},null,null,null,null,null,null,null,null,null,null,null,null,null,null,null,null,null,null,null,null,null,null,null,null,null,null,null,null,null,null,null,null,null,null,null,null,null,null,null,null,null,null,null,null,null,null,null,null,null,null,null,null,0]
["2b",{"$f":"'1a'!B42","v":0},{"$f":"'1a'!C42","v":0},{"$f":"'1a'!D42","v":"lehrer40"},null,null,null,null,null,null,null,null,null,null,null,null,null,null,null,null,null,null,null,null,null,null,null,null,null,null,null,null,null,null,null,null,null,null,null,null,null,null,null,null,null,null,null,null,null,null,null,null,null,null,null,null,0]
["2b",{"$f":"'1a'!B43","v":0},{"$f":"'1a'!C43","v":0},{"$f":"'1a'!D43","v":"lehrer41"},null,null,null,null,null,null,null,null,null,null,null,null,null,null,null,null,null,null,null,null,null,null,null,null,null,null,null,null,null,null,null,null,null,null,null,null,null,null,null,null,null,null,null,null,null,null,null,null,null,null,null,null,0]
["2b",{"$f":"'1a'!B44","v":0},{"$f":"'1a'!C44","v":0},{"$f":"'1a'!D44","v":"lehrer42"},null,null,null,null,null,null,null,null,null,null,null,null,null,null,null,null,null,null,null,null,null,null,null,null,null,null,null,null,null,null,null,null,null,null,null,null,null,null,null,null,null,null,null,null,null,null,null,null,null,null,null,null,0]
["2b",{"$f":"'1a'!B45","v":0},{"$f":"'1a'!C45","v":0},{"$f":"'1a'!D45","v":"lehrer43"},null,null,null,null,null,null,null,null,null,null,null,null,null,null,null,null,null,null,null,null,null,null,null,null,null,null,null,null,null,null,null,null,null,null,null,null,null,null,null,null,null,null,null,null,null,null,null,null,null,null,null,null,0]
["2b",{"$f":"'1a'!B46","v":0},{"$f":"'1a'!C46","v":0},{"$f":"'1a'!D46","v":"lehrer44"},null,null,null,null,null,null,null,null,null,null,null,null,null,null,null,null,null,null,null,null,null,null,null,null,null,null,null,null,null,null,null,null,null,null,null,null,null,null,null,null,null,null,null,null,null,null,null,null,null,null,null,null,0]
["2b",{"$f":"'1a'!B47","v":0},{"$f":"'1a'!C47","v":0},{"$f":"'1a'!D47","v":"lehrer45"},null,null,null,null,null,null,null,null,null,null,null,null,null,null,null,null,null,null,null,null,null,null,null,null,null,null,null,null,null,null,null,null,null,null,null,null,null,null,null,null,null,null,null,null,null,null,null,null,null,null,null,null,0]
["2b",{"$f":"'1a'!B48","v":0},{"$f":"'1a'!C48","v":0},{"$f":"'1a'!D48","v":"lehrer46"},null,null,null,null,null,null,null,null,null,null,null,null,null,null,null,null,null,null,null,null,null,null,null,null,null,null,null,null,null,null,null,null,null,null,null,null,null,null,null,null,null,null,null,null,null,null,null,null,null,null,null,null,0]
["2b",{"$f":"'1a'!B49","v":0},{"$f":"'1a'!C49","v":0},{"$f":"'1a'!D49","v":"lehrer47"},null,null,null,null,null,null,null,null,null,null,null,null,null,null,null,null,null,null,null,null,null,null,null,null,null,null,null,null,null,null,null,null,null,null,null,null,null,null,null,null,null,null,null,null,null,null,null,null,null,null,null,null,0]
["2b",{"$f":"'1a'!B50","v":0},{"$f":"'1a'!C50","v":0},{"$f":"'1a'!D50","v":"lehrer48"},null,null,null,null,null,null,null,null,null,null,null,null,null,null,null,null,null,null,null,null,null,null,null,null,null,null,null,null,null,null,null,null,null,null,null,null,null,null,null,null,null,null,null,null,null,null,null,null,null,null,null,null,0]

{"sheet":"2c","index":7,"n_rows":50,"n_cols":57,"rows_kept":50,"cut":false,"hidden":false,"merged":[]}
[null,null,null," Summe GSt pro Klasse",{"$f":"SUM(E3:E50)","v":0},{"$f":"SUM(F3:F50)","v":0},0,0,0,0,0,0,0,0,0,0,0,0,0,0,0,0,0,0,0,0,0,0,0,0,0,0,0,0,0,0,0,0,0,0,0,0,0,0,0,0,0,0,0,0,0,0,0,0,0,0,0]
[{"$f":"header","v":"Klasse"},"Soll","in LVF","Lehrer","M","M-T","M-Stütz","D","D-T","D-Stütz","E","E-T","E-Stütz","BE","Soz","BSP","BU","C","EH","GS","GW","GZ","ME","PH","P / C","Werken","Relisl","S-BO","S-BU","S-EH","S-GW","S-GZ","S-PC","S-BE","S-Werk","vÜ BO","vÜ Soz","unv. DSP","unv. FB","INF Sta","INF ECDL","unv. KET","GTS","GTS-L","BE","Soz","BSP","frei","frei","frei","frei","frei","frei","frei","frei","frei","Summe Lehrer pro Klasse"]
["2c",{"$f":"'1a'!B3","v":0},{"$f":"'1a'!C3","v":0},{"$f":"'1a'!D3","v":"lehrer01"},null,null,null,null,null,null,null,null,null,null,null,null,null,null,null,null,null,null,null,null,null,null,null,null,null,null,null,null,null,null,null,null,null,null,null,null,null,null,null,null,null,null,null,null,null,null,null,null,null,null,null,null,{"$f":"SUM(E3:BD3)","v":0}]
["2c",{"$f":"'1a'!B4","v":0},{"$f":"'1a'!C4","v":0},{"$f":"'1a'!D4","v":"lehrer02"},null,null,null,null,null,null,null,null,null,null,null,null,null,null,null,null,null,null,null,null,null,null,null,null,null,null,null,null,null,null,null,null,null,null,null,null,null,null,null,null,null,null,null,null,null,null,null,null,null,null,null,null,{"$f":"SUM(E4:BD4)","v":0}]
["2c",{"$f":"'1a'!B5","v":0},{"$f":"'1a'!C5","v":0},{"$f":"'1a'!D5","v":"lehrer03"},null,null,null,null,null,null,null,null,null,null,null,null,null,null,null,null,null,null,null,null,null,null,null,null,null,null,null,null,null,null,null,null,null,null,null,null,null,null,null,null,null,null,null,null,null,null,null,null,null,null,null,null,0]
["2c",{"$f":"'1a'!B6","v":0},{"$f":"'1a'!C6","v":0},{"$f":"'1a'!D6","v":"lehrer04"},null,null,null,null,null,null,null,null,null,null,null,null,null,null,null,null,null,null,null,null,null,null,null,null,null,null,null,null,null,null,null,null,null,null,null,null,null,null,null,null,null,null,null,null,null,null,null,null,null,null,null,null,0]
["2c",{"$f":"'1a'!B7","v":0},{"$f":"'1a'!C7","v":0},{"$f":"'1a'!D7","v":"lehrer05"},null,null,null,null,null,null,null,null,null,null,null,null,null,null,null,null,null,null,null,null,null,null,null,null,null,null,null,null,null,null,null,null,null,null,null,null,null,null,null,null,null,null,null,null,null,null,null,null,null,null,null,null,0]
["2c",{"$f":"'1a'!B8","v":0},{"$f":"'1a'!C8","v":0},{"$f":"'1a'!D8","v":"lehrer06"},null,null,null,null,null,null,null,null,null,null,null,null,null,null,null,null,null,null,null,null,null,null,null,null,null,null,null,null,null,null,null,null,null,null,null,null,null,null,null,null,null,null,null,null,null,null,null,null,null,null,null,null,0]
["2c",{"$f":"'1a'!B9","v":0},{"$f":"'1a'!C9","v":0},{"$f":"'1a'!D9","v":"lehrer07"},null,null,null,null,null,null,null,null,null,null,null,null,null,null,null,null,null,null,null,null,null,null,null,null,null,null,null,null,null,null,null,null,null,null,null,null,null,null,null,null,null,null,null,null,null,null,null,null,null,null,null,null,0]
["2c",{"$f":"'1a'!B10","v":0},{"$f":"'1a'!C10","v":0},{"$f":"'1a'!D10","v":"lehrer08"},null,null,null,null,null,null,null,null,null,null,null,null,null,null,null,null,null,null,null,null,null,null,null,null,null,null,null,null,null,null,null,null,null,null,null,null,null,null,null,null,null,null,null,null,null,null,null,null,null,null,null,null,0]
["2c",{"$f":"'1a'!B11","v":0},{"$f":"'1a'!C11","v":0},{"$f":"'1a'!D11","v":"lehrer09"},null,null,null,null,null,null,null,null,null,null,null,null,null,null,null,null,null,null,null,null,null,null,null,null,null,null,null,null,null,null,null,null,null,null,null,null,null,null,null,null,null,null,null,null,null,null,null,null,null,null,null,null,0]
["2c",{"$f":"'1a'!B12","v":0},{"$f":"'1a'!C12","v":0},{"$f":"'1a'!D12","v":"lehrer10"},null,null,null,null,null,null,null,null,null,null,null,null,null,null,null,null,null,null,null,null,null,null,null,null,null,null,null,null,null,null,null,null,null,null,null,null,null,null,null,null,null,null,null,null,null,null,null,null,null,null,null,null,0]
["2c",{"$f":"'1a'!B13","v":0},{"$f":"'1a'!C13","v":0},{"$f":"'1a'!D13","v":"lehrer11"},null,null,null,null,null,null,null,null,null,null,null,null,null,null,null,null,null,null,null,null,null,null,null,null,null,null,null,null,null,null,null,null,null,null,null,null,null,null,null,null,null,null,null,null,null,null,null,null,null,null,null,null,0]
["2c",{"$f":"'1a'!B14","v":0},{"$f":"'1a'!C14","v":0},{"$f":"'1a'!D14","v":"lehrer12"},null,null,null,null,null,null,null,null,null,null,null,null,null,null,null,null,null,null,null,null,null,null,null,null,null,null,null,null,null,null,null,null,null,null,null,null,null,null,null,null,null,null,null,null,null,null,null,null,null,null,null,null,0]
["2c",{"$f":"'1a'!B15","v":0},{"$f":"'1a'!C15","v":0},{"$f":"'1a'!D15","v":"lehrer13"},null,null,null,null,null,null,null,null,null,null,null,null,null,null,null,null,null,null,null,null,null,null,null,null,null,null,null,null,null,null,null,null,null,null,null,null,null,null,null,null,null,null,null,null,null,null,null,null,null,null,null,null,0]
["2c",{"$f":"'1a'!B16","v":0},{"$f":"'1a'!C16","v":0},{"$f":"'1a'!D16","v":"lehrer14"},null,null,null,null,null,null,null,null,null,null,null,null,null,null,null,null,null,null,null,null,null,null,null,null,null,null,null,null,null,null,null,null,null,null,null,null,null,null,null,null,null,null,null,null,null,null,null,null,null,null,null,null,0]
["2c",{"$f":"'1a'!B17","v":0},{"$f":"'1a'!C17","v":0},{"$f":"'1a'!D17","v":"lehrer15"},null,null,null,null,null,null,null,null,null,null,null,null,null,null,null,null,null,null,null,null,null,null,null,null,null,null,null,null,null,null,null,null,null,null,null,null,null,null,null,null,null,null,null,null,null,null,null,null,null,null,null,null,0]
["2c",{"$f":"'1a'!B18","v":0},{"$f":"'1a'!C18","v":0},{"$f":"'1a'!D18","v":"lehrer16"},null,null,null,null,null,null,null,null,null,null,null,null,null,null,null,null,null,null,null,null,null,null,null,null,null,null,null,null,null,null,null,null,null,null,null,null,null,null,null,null,null,null,null,null,null,null,null,null,null,null,null,null,0]
["2c",{"$f":"'1a'!B19","v":0},{"$f":"'1a'!C19","v":0},{"$f":"'1a'!D19","v":"lehrer17"},null,null,null,null,null,null,null,null,null,null,null,null,null,null,null,null,null,null,null,null,null,null,null,null,null,null,null,null,null,null,null,null,null,null,null,null,null,null,null,null,null,null,null,null,null,null,null,null,null,null,null,null,0]
["2c",{"$f":"'1a'!B20","v":0},{"$f":"'1a'!C20","v":0},{"$f":"'1a'!D20","v":"lehrer18"},null,null,null,null,null,null,null,null,null,null,null,null,null,null,null,null,null,null,null,null,null,null,null,null,null,null,null,null,null,null,null,null,null,null,null,null,null,null,null,null,null,null,null,null,null,null,null,null,null,null,null,null,0]
["2c",{"$f":"'1a'!B21","v":0},{"$f":"'1a'!C21","v":0},{"$f":"'1a'!D21","v":"lehrer19"},null,null,null,null,null,null,null,null,null,null,null,null,null,null,null,null,null,null,null,null,null,null,null,null,null,null,null,null,null,null,null,null,null,null,null,null,null,null,null,null,null,null,null,null,null,null,null,null,null,null,null,null,0]
["2c",{"$f":"'1a'!B22","v":0},{"$f":"'1a'!C22","v":0},{"$f":"'1a'!D22","v":"lehrer20"},null,null,null,null,null,null,null,null,null,null,null,null,null,null,null,null,null,null,null,null,null,null,null,null,null,null,null,null,null,null,null,null,null,null,null,null,null,null,null,null,null,null,null,null,null,null,null,null,null,null,null,null,0]
["2c",{"$f":"'1a'!B23","v":0},{"$f":"'1a'!C23","v":0},{"$f":"'1a'!D23","v":"lehrer21"},null,null,null,null,null,null,null,null,null,null,null,null,null,null,null,null,null,null,null,null,null,null,null,null,null,null,null,null,null,null,null,null,null,null,null,null,null,null,null,null,null,null,null,null,null,null,null,null,null,null,null,null,0]
["2c",{"$f":"'1a'!B24","v":0},{"$f":"'1a'!C24","v":0},{"$f":"'1a'!D24","v":"lehrer22"},null,null,null,null,null,null,null,null,null,null,null,null,null,null,null,null,null,null,null,null,null,null,null,null,null,null,null,null,null,null,null,null,null,null,null,null,null,null,null,null,null,null,null,null,null,null,null,null,null,null,null,null,0]
["2c",{"$f":"'1a'!B25","v":0},{"$f":"'1a'!C25","v":0},{"$f":"'1a'!D25","v":"lehrer23"},null,null,null,null,null,null,null,null,null,null,null,null,null,null,null,null,null,null,null,null,null,null,null,null,null,null,null,null,null,null,null,null,null,null,null,null,null,null,null,null,null,null,null,null,null,null,null,null,null,null,null,null,0]
["2c",{"$f":"'1a'!B26","v":0},{"$f":"'1a'!C26","v":0},{"$f":"'1a'!D26","v":"lehrer24"},null,null,null,null,null,null,null,null,null,null,null,null,null,null,null,null,null,null,null,null,null,null,null,null,null,null,null,null,null,null,null,null,null,null,null,null,null,null,null,null,null,null,null,null,null,null,null,null,null,null,null,null,0]
["2c",{"$f":"'1a'!B27","v":0},{"$f":"'1a'!C27","v":0},{"$f":"'1a'!D27","v":"lehrer25"},null,null,null,null,null,null,null,null,null,null,null,null,null,null,null,null,null,null,null,null,null,null,null,null,null,null,null,null,null,null,null,null,null,null,null,null,null,null,null,null,null,null,null,null,null,null,null,null,null,null,null,null,0]
["2c",{"$f":"'1a'!B28","v":0},{"$f":"'1a'!C28","v":0},{"$f":"'1a'!D28","v":"lehrer26"},null,null,null,null,null,null,null,null,null,null,null,null,null,null,null,null,null,null,null,null,null,null,null,null,null,null,null,null,null,null,null,null,null,null,null,null,null,null,null,null,null,null,null,null,null,null,null,null,null,null,null,null,0]
["2c",{"$f":"'1a'!B29","v":0},{"$f":"'1a'!C29","v":0},{"$f":"'1a'!D29","v":"lehrer27"},null,null,null,null,null,null,null,null,null,null,null,null,null,null,null,null,null,null,null,null,null,null,null,null,null,null,null,null,null,null,null,null,null,null,null,null,null,null,null,null,null,null,null,null,null,null,null,null,null,null,null,null,0]
["2c",{"$f":"'1a'!B30","v":0},{"$f":"'1a'!C30","v":0},{"$f":"'1a'!D30","v":"lehrer28"},null,null,null,null,null,null,null,null,null,null,null,null,null,null,null,null,null,null,null,null,null,null,null,null,null,null,null,null,null,null,null,null,null,null,null,null,null,null,null,null,null,null,null,null,null,null,null,null,null,null,null,null,0]
["2c",{"$f":"'1a'!B31","v":0},{"$f":"'1a'!C31","v":0},{"$f":"'1a'!D31","v":"lehrer29"},null,null,null,null,null,null,null,null,null,null,null,null,null,null,null,null,null,null,null,null,null,null,null,null,null,null,null,null,null,null,null,null,null,null,null,null,null,null,null,null,null,null,null,null,null,null,null,null,null,null,null,null,0]
["2c",{"$f":"'1a'!B32","v":0},{"$f":"'1a'!C32","v":0},{"$f":"'1a'!D32","v":"lehrer30"},null,null,null,null,null,null,null,null,null,null,null,null,null,null,null,null,null,null,null,null,null,null,null,null,null,null,null,null,null,null,null,null,null,null,null,null,null,null,null,null,null,null,null,null,null,null,null,null,null,null,null,null,0]
["2c",{"$f":"'1a'!B33","v":0},{"$f":"'1a'!C33","v":0},{"$f":"'1a'!D33","v":"lehrer31"},null,null,null,null,null,null,null,null,null,null,null,null,null,null,null,null,null,null,null,null,null,null,null,null,null,null,null,null,null,null,null,null,null,null,null,null,null,null,null,null,null,null,null,null,null,null,null,null,null,null,null,null,0]
["2c",{"$f":"'1a'!B34","v":0},{"$f":"'1a'!C34","v":0},{"$f":"'1a'!D34","v":"lehrer32"},null,null,null,null,null,null,null,null,null,null,null,null,null,null,null,null,null,null,null,null,null,null,null,null,null,null,null,null,null,null,null,null,null,null,null,null,null,null,null,null,null,null,null,null,null,null,null,null,null,null,null,null,0]
["2c",{"$f":"'1a'!B35","v":0},{"$f":"'1a'!C35","v":0},{"$f":"'1a'!D35","v":"lehrer33"},null,null,null,null,null,null,null,null,null,null,null,null,null,null,null,null,null,null,null,null,null,null,null,null,null,null,null,null,null,null,null,null,null,null,null,null,null,null,null,null,null,null,null,null,null,null,null,null,null,null,null,null,0]
["2c",{"$f":"'1a'!B36","v":0},{"$f":"'1a'!C36","v":0},{"$f":"'1a'!D36","v":"lehrer34"},null,null,null,null,null,null,null,null,null,null,null,null,null,null,null,null,null,null,null,null,null,null,null,null,null,null,null,null,null,null,null,null,null,null,null,null,null,null,null,null,null,null,null,null,null,null,null,null,null,null,null,null,0]
["2c",{"$f":"'1a'!B37","v":0},{"$f":"'1a'!C37","v":0},{"$f":"'1a'!D37","v":"lehrer35"},null,null,null,null,null,null,null,null,null,null,null,null,null,null,null,null,null,null,null,null,null,null,null,null,null,null,null,null,null,null,null,null,null,null,null,null,null,null,null,null,null,null,null,null,null,null,null,null,null,null,null,null,0]
["2c",{"$f":"'1a'!B38","v":0},{"$f":"'1a'!C38","v":0},{"$f":"'1a'!D38","v":"lehrer36"},null,null,null,null,null,null,null,null,null,null,null,null,null,null,null,null,null,null,null,null,null,null,null,null,null,null,null,null,null,null,null,null,null,null,null,null,null,null,null,null,null,null,null,null,null,null,null,null,null,null,null,null,0]
["2c",{"$f":"'1a'!B39","v":0},{"$f":"'1a'!C39","v":0},{"$f":"'1a'!D39","v":"lehrer37"},null,null,null,null,null,null,null,null,null,null,null,null,null,null,null,null,null,null,null,null,null,null,null,null,null,null,null,null,null,null,null,null,null,null,null,null,null,null,null,null,null,null,null,null,null,null,null,null,null,null,null,null,0]
["2c",{"$f":"'1a'!B40","v":0},{"$f":"'1a'!C40","v":0},{"$f":"'1a'!D40","v":"lehrer38"},null,null,null,null,null,null,null,null,null,null,null,null,null,null,null,null,null,null,null,null,null,null,null,null,null,null,null,null,null,null,null,null,null,null,null,null,null,null,null,null,null,null,null,null,null,null,null,null,null,null,null,null,0]
["2c",{"$f":"'1a'!B41","v":0},{"$f":"'1a'!C41","v":0},{"$f":"'1a'!D41","v":"lehrer39"},null,null,null,null,null,null,null,null,null,null,null,null,null,null,null,null,null,null,null,null,null,null,null,null,null,null,null,null,null,null,null,null,null,null,null,null,null,null,null,null,null,null,null,null,null,null,null,null,null,null,null,null,0]
["2c",{"$f":"'1a'!B42","v":0},{"$f":"'1a'!C42","v":0},{"$f":"'1a'!D42","v":"lehrer40"},null,null,null,null,null,null,null,null,null,null,null,null,null,null,null,null,null,null,null,null,null,null,null,null,null,null,null,null,null,null,null,null,null,null,null,null,null,null,null,null,null,null,null,null,null,null,null,null,null,null,null,null,0]
["2c",{"$f":"'1a'!B43","v":0},{"$f":"'1a'!C43","v":0},{"$f":"'1a'!D43","v":"lehrer41"},null,null,null,null,null,null,null,null,null,null,null,null,null,null,null,null,null,null,null,null,null,null,null,null,null,null,null,null,null,null,null,null,null,null,null,null,null,null,null,null,null,null,null,null,null,null,null,null,null,null,null,null,0]
["2c",{"$f":"'1a'!B44","v":0},{"$f":"'1a'!C44","v":0},{"$f":"'1a'!D44","v":"lehrer42"},null,null,null,null,null,null,null,null,null,null,null,null,null,null,null,null,null,null,null,null,null,null,null,null,null,null,null,null,null,null,null,null,null,null,null,null,null,null,null,null,null,null,null,null,null,null,null,null,null,null,null,null,0]
["2c",{"$f":"'1a'!B45","v":0},{"$f":"'1a'!C45","v":0},{"$f":"'1a'!D45","v":"lehrer43"},null,null,null,null,null,null,null,null,null,null,null,null,null,null,null,null,null,null,null,null,null,null,null,null,null,null,null,null,null,null,null,null,null,null,null,null,null,null,null,null,null,null,null,null,null,null,null,null,null,null,null,null,0]
["2c",{"$f":"'1a'!B46","v":0},{"$f":"'1a'!C46","v":0},{"$f":"'1a'!D46","v":"lehrer44"},null,null,null,null,null,null,null,null,null,null,null,null,null,null,null,null,null,null,null,null,null,null,null,null,null,null,null,null,null,null,null,null,null,null,null,null,null,null,null,null,null,null,null,null,null,null,null,null,null,null,null,null,0]
["2c",{"$f":"'1a'!B47","v":0},{"$f":"'1a'!C47","v":0},{"$f":"'1a'!D47","v":"lehrer45"},null,null,null,null,null,null,null,null,null,null,null,null,null,null,null,null,null,null,null,null,null,null,null,null,null,null,null,null,null,null,null,null,null,null,null,null,null,null,null,null,null,null,null,null,null,null,null,null,null,null,null,null,0]
["2c",{"$f":"'1a'!B48","v":0},{"$f":"'1a'!C48","v":0},{"$f":"'1a'!D48","v":"lehrer46"},null,null,null,null,null,null,null,null,null,null,null,null,null,null,null,null,null,null,null,null,null,null,null,null,null,null,null,null,null,null,null,null,null,null,null,null,null,null,null,null,null,null,null,null,null,null,null,null,null,null,null,null,0]
["2c",{"$f":"'1a'!B49","v":0},{"$f":"'1a'!C49","v":0},{"$f":"'1a'!D49","v":"lehrer47"},null,null,null,null,null,null,null,null,null,null,null,null,null,null,null,null,null,null,null,null,null,null,null,null,null,null,null,null,null,null,null,null,null,null,null,null,null,null,null,null,null,null,null,null,null,null,null,null,null,null,null,null,0]
["2c",{"$f":"'1a'!B50","v":0},{"$f":"'1a'!C50","v":0},{"$f":"'1a'!D50","v":"lehrer48"},null,null,null,null,null,null,null,null,null,null,null,null,null,null,null,null,null,null,null,null,null,null,null,null,null,null,null,null,null,null,null,null,null,null,null,null,null,null,null,null,null,null,null,null,null,null,null,null,null,null,null,null,0]

{"sheet":"2d","index":8,"n_rows":50,"n_cols":57,"rows_kept":50,"cut":false,"hidden":false,"merged":[]}
[null,null,null," Summe GSt pro Klasse",{"$f":"SUM(E3:E50)","v":0},{"$f":"SUM(F3:F50)","v":0},0,0,0,0,0,0,0,0,0,0,0,0,0,0,0,0,0,0,0,0,0,0,0,0,0,0,0,0,0,0,0,0,0,0,0,0,0,0,0,0,0,0,0,0,0,0,0,0,0,0,0]
[{"$f":"header","v":"Klasse"},"Soll","in LVF","Lehrer","M","M-T","M-Stütz","D","D-T","D-Stütz","E","E-T","E-Stütz","BE","Soz","BSP","BU","C","EH","GS","GW","GZ","ME","PH","P / C","Werken","Relisl","S-BO","S-BU","S-EH","S-GW","S-GZ","S-PC","S-BE","S-Werk","vÜ BO","vÜ Soz","unv. DSP","unv. FB","INF Sta","INF ECDL","unv. KET","GTS","GTS-L","BE","Soz","BSP","frei","frei","frei","frei","frei","frei","frei","frei","frei","Summe Lehrer pro Klasse"]
["2d",{"$f":"'1a'!B3","v":0},{"$f":"'1a'!C3","v":0},{"$f":"'1a'!D3","v":"lehrer01"},null,null,null,null,null,null,null,null,null,null,null,null,null,null,null,null,null,null,null,null,null,null,null,null,null,null,null,null,null,null,null,null,null,null,null,null,null,null,null,null,null,null,null,null,null,null,null,null,null,null,null,null,{"$f":"SUM(E3:BD3)","v":0}]
["2d",{"$f":"'1a'!B4","v":0},{"$f":"'1a'!C4","v":0},{"$f":"'1a'!D4","v":"lehrer02"},null,null,null,null,null,null,null,null,null,null,null,null,null,null,null,null,null,null,null,null,null,null,null,null,null,null,null,null,null,null,null,null,null,null,null,null,null,null,null,null,null,null,null,null,null,null,null,null,null,null,null,null,{"$f":"SUM(E4:BD4)","v":0}]
["2d",{"$f":"'1a'!B5","v":0},{"$f":"'1a'!C5","v":0},{"$f":"'1a'!D5","v":"lehrer03"},null,null,null,null,null,null,null,null,null,null,null,null,null,null,null,null,null,null,null,null,null,null,null,null,null,null,null,null,null,null,null,null,null,null,null,null,null,null,null,null,null,null,null,null,null,null,null,null,null,null,null,null,0]
["2d",{"$f":"'1a'!B6","v":0},{"$f":"'1a'!C6","v":0},{"$f":"'1a'!D6","v":"lehrer04"},null,null,null,null,null,null,null,null,null,null,null,null,null,null,null,null,null,null,null,null,null,null,null,null,null,null,null,null,null,null,null,null,null,null,null,null,null,null,null,null,null,null,null,null,null,null,null,null,null,null,null,null,0]
["2d",{"$f":"'1a'!B7","v":0},{"$f":"'1a'!C7","v":0},{"$f":"'1a'!D7","v":"lehrer05"},null,null,null,null,null,null,null,null,null,null,null,null,null,null,null,null,null,null,null,null,null,null,null,null,null,null,null,null,null,null,null,null,null,null,null,null,null,null,null,null,null,null,null,null,null,null,null,null,null,null,null,null,0]
["2d",{"$f":"'1a'!B8","v":0},{"$f":"'1a'!C8","v":0},{"$f":"'1a'!D8","v":"lehrer06"},null,null,null,null,null,null,null,null,null,null,null,null,null,null,null,null,null,null,null,null,null,null,null,null,null,null,null,null,null,null,null,null,null,null,null,null,null,null,null,null,null,null,null,null,null,null,null,null,null,null,null,null,0]
["2d",{"$f":"'1a'!B9","v":0},{"$f":"'1a'!C9","v":0},{"$f":"'1a'!D9","v":"lehrer07"},null,null,null,null,null,null,null,null,null,null,null,null,null,null,null,null,null,null,null,null,null,null,null,null,null,null,null,null,null,null,null,null,null,null,null,null,null,null,null,null,null,null,null,null,null,null,null,null,null,null,null,null,0]
["2d",{"$f":"'1a'!B10","v":0},{"$f":"'1a'!C10","v":0},{"$f":"'1a'!D10","v":"lehrer08"},null,null,null,null,null,null,null,null,null,null,null,null,null,null,null,null,null,null,null,null,null,null,null,null,null,null,null,null,null,null,null,null,null,null,null,null,null,null,null,null,null,null,null,null,null,null,null,null,null,null,null,null,0]
["2d",{"$f":"'1a'!B11","v":0},{"$f":"'1a'!C11","v":0},{"$f":"'1a'!D11","v":"lehrer09"},null,null,null,null,null,null,null,null,null,null,null,null,null,null,null,null,null,null,null,null,null,null,null,null,null,null,null,null,null,null,null,null,null,null,null,null,null,null,null,null,null,null,null,null,null,null,null,null,null,null,null,null,0]
["2d",{"$f":"'1a'!B12","v":0},{"$f":"'1a'!C12","v":0},{"$f":"'1a'!D12","v":"lehrer10"},null,null,null,null,null,null,null,null,null,null,null,null,null,null,null,null,null,null,null,null,null,null,null,null,null,null,null,null,null,null,null,null,null,null,null,null,null,null,null,null,null,null,null,null,null,null,null,null,null,null,null,null,0]
["2d",{"$f":"'1a'!B13","v":0},{"$f":"'1a'!C13","v":0},{"$f":"'1a'!D13","v":"lehrer11"},null,null,null,null,null,null,null,null,null,null,null,null,null,null,null,null,null,null,null,null,null,null,null,null,null,null,null,null,null,null,null,null,null,null,null,null,null,null,null,null,null,null,null,null,null,null,null,null,null,null,null,null,0]
["2d",{"$f":"'1a'!B14","v":0},{"$f":"'1a'!C14","v":0},{"$f":"'1a'!D14","v":"lehrer12"},null,null,null,null,null,null,null,null,null,null,null,null,null,null,null,null,null,null,null,null,null,null,null,null,null,null,null,null,null,null,null,null,null,null,null,null,null,null,null,null,null,null,null,null,null,null,null,null,null,null,null,null,0]
["2d",{"$f":"'1a'!B15","v":0},{"$f":"'1a'!C15","v":0},{"$f":"'1a'!D15","v":"lehrer13"},null,null,null,null,null,null,null,null,null,null,null,null,null,null,null,null,null,null,null,null,null,null,null,null,null,null,null,null,null,null,null,null,null,null,null,null,null,null,null,null,null,null,null,null,null,null,null,null,null,null,null,null,0]
["2d",{"$f":"'1a'!B16","v":0},{"$f":"'1a'!C16","v":0},{"$f":"'1a'!D16","v":"lehrer14"},null,null,null,null,null,null,null,null,null,null,null,null,null,null,null,null,null,null,null,null,null,null,null,null,null,null,null,null,null,null,null,null,null,null,null,null,null,null,null,null,null,null,null,null,null,null,null,null,null,null,null,null,0]
["2d",{"$f":"'1a'!B17","v":0},{"$f":"'1a'!C17","v":0},{"$f":"'1a'!D17","v":"lehrer15"},null,null,null,null,null,null,null,null,null,null,null,null,null,null,null,null,null,null,null,null,null,null,null,null,null,null,null,null,null,null,null,null,null,null,null,null,null,null,null,null,null,null,null,null,null,null,null,null,null,null,null,null,0]
["2d",{"$f":"'1a'!B18","v":0},{"$f":"'1a'!C18","v":0},{"$f":"'1a'!D18","v":"lehrer16"},null,null,null,null,null,null,null,null,null,null,null,null,null,null,null,null,null,null,null,null,null,null,null,null,null,null,null,null,null,null,null,null,null,null,null,null,null,null,null,null,null,null,null,null,null,null,null,null,null,null,null,null,0]
["2d",{"$f":"'1a'!B19","v":0},{"$f":"'1a'!C19","v":0},{"$f":"'1a'!D19","v":"lehrer17"},null,null,null,null,null,null,null,null,null,null,null,null,null,null,null,null,null,null,null,null,null,null,null,null,null,null,null,null,null,null,null,null,null,null,null,null,null,null,null,null,null,null,null,null,null,null,null,null,null,null,null,null,0]
["2d",{"$f":"'1a'!B20","v":0},{"$f":"'1a'!C20","v":0},{"$f":"'1a'!D20","v":"lehrer18"},null,null,null,null,null,null,null,null,null,null,null,null,null,null,null,null,null,null,null,null,null,null,null,null,null,null,null,null,null,null,null,null,null,null,null,null,null,null,null,null,null,null,null,null,null,null,null,null,null,null,null,null,0]
["2d",{"$f":"'1a'!B21","v":0},{"$f":"'1a'!C21","v":0},{"$f":"'1a'!D21","v":"lehrer19"},null,null,null,null,null,null,null,null,null,null,null,null,null,null,null,null,null,null,null,null,null,null,null,null,null,null,null,null,null,null,null,null,null,null,null,null,null,null,null,null,null,null,null,null,null,null,null,null,null,null,null,null,0]
["2d",{"$f":"'1a'!B22","v":0},{"$f":"'1a'!C22","v":0},{"$f":"'1a'!D22","v":"lehrer20"},null,null,null,null,null,null,null,null,null,null,null,null,null,null,null,null,null,null,null,null,null,null,null,null,null,null,null,null,null,null,null,null,null,null,null,null,null,null,null,null,null,null,null,null,null,null,null,null,null,null,null,null,0]
["2d",{"$f":"'1a'!B23","v":0},{"$f":"'1a'!C23","v":0},{"$f":"'1a'!D23","v":"lehrer21"},null,null,null,null,null,null,null,null,null,null,null,null,null,null,null,null,null,null,null,null,null,null,null,null,null,null,null,null,null,null,null,null,null,null,null,null,null,null,null,null,null,null,null,null,null,null,null,null,null,null,null,null,0]
["2d",{"$f":"'1a'!B24","v":0},{"$f":"'1a'!C24","v":0},{"$f":"'1a'!D24","v":"lehrer22"},null,null,null,null,null,null,null,null,null,null,null,null,null,null,null,null,null,null,null,null,null,null,null,null,null,null,null,null,null,null,null,null,null,null,null,null,null,null,null,null,null,null,null,null,null,null,null,null,null,null,null,null,0]
["2d",{"$f":"'1a'!B25","v":0},{"$f":"'1a'!C25","v":0},{"$f":"'1a'!D25","v":"lehrer23"},null,null,null,null,null,null,null,null,null,null,null,null,null,null,null,null,null,null,null,null,null,null,null,null,null,null,null,null,null,null,null,null,null,null,null,null,null,null,null,null,null,null,null,null,null,null,null,null,null,null,null,null,0]
["2d",{"$f":"'1a'!B26","v":0},{"$f":"'1a'!C26","v":0},{"$f":"'1a'!D26","v":"lehrer24"},null,null,null,null,null,null,null,null,null,null,null,null,null,null,null,null,null,null,null,null,null,null,null,null,null,null,null,null,null,null,null,null,null,null,null,null,null,null,null,null,null,null,null,null,null,null,null,null,null,null,null,null,0]
["2d",{"$f":"'1a'!B27","v":0},{"$f":"'1a'!C27","v":0},{"$f":"'1a'!D27","v":"lehrer25"},null,null,null,null,null,null,null,null,null,null,null,null,null,null,null,null,null,null,null,null,null,null,null,null,null,null,null,null,null,null,null,null,null,null,null,null,null,null,null,null,null,null,null,null,null,null,null,null,null,null,null,null,0]
["2d",{"$f":"'1a'!B28","v":0},{"$f":"'1a'!C28","v":0},{"$f":"'1a'!D28","v":"lehrer26"},null,null,null,null,null,null,null,null,null,null,null,null,null,null,null,null,null,null,null,null,null,null,null,null,null,null,null,null,null,null,null,null,null,null,null,null,null,null,null,null,null,null,null,null,null,null,null,null,null,null,null,null,0]
["2d",{"$f":"'1a'!B29","v":0},{"$f":"'1a'!C29","v":0},{"$f":"'1a'!D29","v":"lehrer27"},null,null,null,null,null,null,null,null,null,null,null,null,null,null,null,null,null,null,null,null,null,null,null,null,null,null,null,null,null,null,null,null,null,null,null,null,null,null,null,null,null,null,null,null,null,null,null,null,null,null,null,null,0]
["2d",{"$f":"'1a'!B30","v":0},{"$f":"'1a'!C30","v":0},{"$f":"'1a'!D30","v":"lehrer28"},null,null,null,null,null,null,null,null,null,null,null,null,null,null,null,null,null,null,null,null,null,null,null,null,null,null,null,null,null,null,null,null,null,null,null,null,null,null,null,null,null,null,null,null,null,null,null,null,null,null,null,null,0]
["2d",{"$f":"'1a'!B31","v":0},{"$f":"'1a'!C31","v":0},{"$f":"'1a'!D31","v":"lehrer29"},null,null,null,null,null,null,null,null,null,null,null,null,null,null,null,null,null,null,null,null,null,null,null,null,null,null,null,null,null,null,null,null,null,null,null,null,null,null,null,null,null,null,null,null,null,null,null,null,null,null,null,null,0]
["2d",{"$f":"'1a'!B32","v":0},{"$f":"'1a'!C32","v":0},{"$f":"'1a'!D32","v":"lehrer30"},null,null,null,null,null,null,null,null,null,null,null,null,null,null,null,null,null,null,null,null,null,null,null,null,null,null,null,null,null,null,null,null,null,null,null,null,null,null,null,null,null,null,null,null,null,null,null,null,null,null,null,null,0]
["2d",{"$f":"'1a'!B33","v":0},{"$f":"'1a'!C33","v":0},{"$f":"'1a'!D33","v":"lehrer31"},null,null,null,null,null,null,null,null,null,null,null,null,null,null,null,null,null,null,null,null,null,null,null,null,null,null,null,null,null,null,null,null,null,null,null,null,null,null,null,null,null,null,null,null,null,null,null,null,null,null,null,null,0]
["2d",{"$f":"'1a'!B34","v":0},{"$f":"'1a'!C34","v":0},{"$f":"'1a'!D34","v":"lehrer32"},null,null,null,null,null,null,null,null,null,null,null,null,null,null,null,null,null,null,null,null,null,null,null,null,null,null,null,null,null,null,null,null,null,null,null,null,null,null,null,null,null,null,null,null,null,null,null,null,null,null,null,null,0]
["2d",{"$f":"'1a'!B35","v":0},{"$f":"'1a'!C35","v":0},{"$f":"'1a'!D35","v":"lehrer33"},null,null,null,null,null,null,null,null,null,null,null,null,null,null,null,null,null,null,null,null,null,null,null,null,null,null,null,null,null,null,null,null,null,null,null,null,null,null,null,null,null,null,null,null,null,null,null,null,null,null,null,null,0]
["2d",{"$f":"'1a'!B36","v":0},{"$f":"'1a'!C36","v":0},{"$f":"'1a'!D36","v":"lehrer34"},null,null,null,null,null,null,null,null,null,null,null,null,null,null,null,null,null,null,null,null,null,null,null,null,null,null,null,null,null,null,null,null,null,null,null,null,null,null,null,null,null,null,null,null,null,null,null,null,null,null,null,null,0]
["2d",{"$f":"'1a'!B37","v":0},{"$f":"'1a'!C37","v":0},{"$f":"'1a'!D37","v":"lehrer35"},null,null,null,null,null,null,null,null,null,null,null,null,null,null,null,null,null,null,null,null,null,null,null,null,null,null,null,null,null,null,null,null,null,null,null,null,null,null,null,null,null,null,null,null,null,null,null,null,null,null,null,null,0]
["2d",{"$f":"'1a'!B38","v":0},{"$f":"'1a'!C38","v":0},{"$f":"'1a'!D38","v":"lehrer36"},null,null,null,null,null,null,null,null,null,null,null,null,null,null,null,null,null,null,null,null,null,null,null,null,null,null,null,null,null,null,null,null,null,null,null,null,null,null,null,null,null,null,null,null,null,null,null,null,null,null,null,null,0]
["2d",{"$f":"'1a'!B39","v":0},{"$f":"'1a'!C39","v":0},{"$f":"'1a'!D39","v":"lehrer37"},null,null,null,null,null,null,null,null,null,null,null,null,null,null,null,null,null,null,null,null,null,null,null,null,null,null,null,null,null,null,null,null,null,null,null,null,null,null,null,null,null,null,null,null,null,null,null,null,null,null,null,null,0]
["2d",{"$f":"'1a'!B40","v":0},{"$f":"'1a'!C40","v":0},{"$f":"'1a'!D40","v":"lehrer38"},null,null,null,null,null,null,null,null,null,null,null,null,null,null,null,null,null,null,null,null,null,null,null,null,null,null,null,null,null,null,null,null,null,null,null,null,null,null,null,null,null,null,null,null,null,null,null,null,null,null,null,null,0]
["2d",{"$f":"'1a'!B41","v":0},{"$f":"'1a'!C41","v":0},{"$f":"'1a'!D41","v":"lehrer39"},null,null,null,null,null,null,null,null,null,null,null,null,null,null,null,null,null,null,null,null,null,null,null,null,null,null,null,null,null,null,null,null,null,null,null,null,null,null,null,null,null,null,null,null,null,null,null,null,null,null,null,null,0]
["2d",{"$f":"'1a'!B42","v":0},{"$f":"'1a'!C42","v":0},{"$f":"'1a'!D42","v":"lehrer40"},null,null,null,null,null,null,null,null,null,null,null,null,null,null,null,null,null,null,null,null,null,null,null,null,null,null,null,null,null,null,null,null,null,null,null,null,null,null,null,null,null,null,null,null,null,null,null,null,null,null,null,null,0]
["2d",{"$f":"'1a'!B43","v":0},{"$f":"'1a'!C43","v":0},{"$f":"'1a'!D43","v":"lehrer41"},null,null,null,null,null,null,null,null,null,null,null,null,null,null,null,null,null,null,null,null,null,null,null,null,null,null,null,null,null,null,null,null,null,null,null,null,null,null,null,null,null,null,null,null,null,null,null,null,null,null,null,null,0]
["2d",{"$f":"'1a'!B44","v":0},{"$f":"'1a'!C44","v":0},{"$f":"'1a'!D44","v":"lehrer42"},null,null,null,null,null,null,null,null,null,null,null,null,null,null,null,null,null,null,null,null,null,null,null,null,null,null,null,null,null,null,null,null,null,null,null,null,null,null,null,null,null,null,null,null,null,null,null,null,null,null,null,null,0]
["2d",{"$f":"'1a'!B45","v":0},{"$f":"'1a'!C45","v":0},{"$f":"'1a'!D45","v":"lehrer43"},null,null,null,null,null,null,null,null,null,null,null,null,null,null,null,null,null,null,null,null,null,null,null,null,null,null,null,null,null,null,null,null,null,null,null,null,null,null,null,null,null,null,null,null,null,null,null,null,null,null,null,null,0]
["2d",{"$f":"'1a'!B46","v":0},{"$f":"'1a'!C46","v":0},{"$f":"'1a'!D46","v":"lehrer44"},null,null,null,null,null,null,null,null,null,null,null,null,null,null,null,null,null,null,null,null,null,null,null,null,null,null,null,null,null,null,null,null,null,null,null,null,null,null,null,null,null,null,null,null,null,null,null,null,null,null,null,null,0]
["2d",{"$f":"'1a'!B47","v":0},{"$f":"'1a'!C47","v":0},{"$f":"'1a'!D47","v":"lehrer45"},null,null,null,null,null,null,null,null,null,null,null,null,null,null,null,null,null,null,null,null,null,null,null,null,null,null,null,null,null,null,null,null,null,null,null,null,null,null,null,null,null,null,null,null,null,null,null,null,null,null,null,null,0]
["2d",{"$f":"'1a'!B48","v":0},{"$f":"'1a'!C48","v":0},{"$f":"'1a'!D48","v":"lehrer46"},null,null,null,null,null,null,null,null,null,null,null,null,null,null,null,null,null,null,null,null,null,null,null,null,null,null,null,null,null,null,null,null,null,null,null,null,null,null,null,null,null,null,null,null,null,null,null,null,null,null,null,null,0]
["2d",{"$f":"'1a'!B49","v":0},{"$f":"'1a'!C49","v":0},{"$f":"'1a'!D49","v":"lehrer47"},null,null,null,null,null,null,null,null,null,null,null,null,null,null,null,null,null,null,null,null,null,null,null,null,null,null,null,null,null,null,null,null,null,null,null,null,null,null,null,null,null,null,null,null,null,null,null,null,null,null,null,null,0]
["2d",{"$f":"'1a'!B50","v":0},{"$f":"'1a'!C50","v":0},{"$f":"'1a'!D50","v":"lehrer48"},null,null,null,null,null,null,null,null,null,null,null,null,null,null,null,null,null,null,null,null,null,null,null,null,null,null,null,null,null,null,null,null,null,null,null,null,null,null,null,null,null,null,null,null,null,null,null,null,null,null,null,null,0]

{"sheet":"3a","index":9,"n_rows":50,"n_cols":57,"rows_kept":50,"cut":false,"hidden":false,"merged":[]}
[null,null,null," Summe GSt pro Klasse",{"$f":"SUM(E3:E50)","v":0},{"$f":"SUM(F3:F50)","v":0},0,0,0,0,0,0,0,0,0,0,0,0,0,0,0,0,0,0,0,0,0,0,0,0,0,0,0,0,0,0,0,0,0,0,0,0,0,0,0,0,0,0,0,0,0,0,0,0,0,0,0]
[{"$f":"header","v":"Klasse"},"Soll","in LVF","Lehrer","M","M-T","M-Stütz","D","D-T","D-Stütz","E","E-T","E-Stütz","BE","Soz","BSP","BU","C","EH","GS","GW","GZ","ME","PH","P / C","Werken","Relisl","S-BO","S-BU","S-EH","S-GW","S-GZ","S-PC","S-BE","S-Werk","vÜ BO","vÜ Soz","unv. DSP","unv. FB","INF Sta","INF ECDL","unv. KET","GTS","GTS-L","BE","Soz","BSP","frei","frei","frei","frei","frei","frei","frei","frei","frei","Summe Lehrer pro Klasse"]
["3a",{"$f":"'1a'!B3","v":0},{"$f":"'1a'!C3","v":0},{"$f":"'1a'!D3","v":"lehrer01"},null,null,null,null,null,null,null,null,null,null,null,null,null,null,null,null,null,null,null,null,null,null,null,null,null,null,null,null,null,null,null,null,null,null,null,null,null,null,null,null,null,null,null,null,null,null,null,null,null,null,null,null,{"$f":"SUM(E3:BD3)","v":0}]
["3a",{"$f":"'1a'!B4","v":0},{"$f":"'1a'!C4","v":0},{"$f":"'1a'!D4","v":"lehrer02"},null,null,null,null,null,null,null,null,null,null,null,null,null,null,null,null,null,null,null,null,null,null,null,null,null,null,null,null,null,null,null,null,null,null,null,null,null,null,null,null,null,null,null,null,null,null,null,null,null,null,null,null,{"$f":"SUM(E4:BD4)","v":0}]
["3a",{"$f":"'1a'!B5","v":0},{"$f":"'1a'!C5","v":0},{"$f":"'1a'!D5","v":"lehrer03"},null,null,null,null,null,null,null,null,null,null,null,null,null,null,null,null,null,null,null,null,null,null,null,null,null,null,null,null,null,null,null,null,null,null,null,null,null,null,null,null,null,null,null,null,null,null,null,null,null,null,null,null,0]
["3a",{"$f":"'1a'!B6","v":0},{"$f":"'1a'!C6","v":0},{"$f":"'1a'!D6","v":"lehrer04"},null,null,null,null,null,null,null,null,null,null,null,null,null,null,null,null,null,null,null,null,null,null,null,null,null,null,null,null,null,null,null,null,null,null,null,null,null,null,null,null,null,null,null,null,null,null,null,null,null,null,null,null,0]
["3a",{"$f":"'1a'!B7","v":0},{"$f":"'1a'!C7","v":0},{"$f":"'1a'!D7","v":"lehrer05"},null,null,null,null,null,null,null,null,null,null,null,null,null,null,null,null,null,null,null,null,null,null,null,null,null,null,null,null,null,null,null,null,null,null,null,null,null,null,null,null,null,null,null,null,null,null,null,null,null,null,null,null,0]
["3a",{"$f":"'1a'!B8","v":0},{"$f":"'1a'!C8","v":0},{"$f":"'1a'!D8","v":"lehrer06"},null,null,null,null,null,null,null,null,null,null,null,null,null,null,null,null,null,null,null,null,null,null,null,null,null,null,null,null,null,null,null,null,null,null,null,null,null,null,null,null,null,null,null,null,null,null,null,null,null,null,null,null,0]
["3a",{"$f":"'1a'!B9","v":0},{"$f":"'1a'!C9","v":0},{"$f":"'1a'!D9","v":"lehrer07"},null,null,null,null,null,null,null,null,null,null,null,null,null,null,null,null,null,null,null,null,null,null,null,null,null,null,null,null,null,null,null,null,null,null,null,null,null,null,null,null,null,null,null,null,null,null,null,null,null,null,null,null,0]
["3a",{"$f":"'1a'!B10","v":0},{"$f":"'1a'!C10","v":0},{"$f":"'1a'!D10","v":"lehrer08"},null,null,null,null,null,null,null,null,null,null,null,null,null,null,null,null,null,null,null,null,null,null,null,null,null,null,null,null,null,null,null,null,null,null,null,null,null,null,null,null,null,null,null,null,null,null,null,null,null,null,null,null,0]
["3a",{"$f":"'1a'!B11","v":0},{"$f":"'1a'!C11","v":0},{"$f":"'1a'!D11","v":"lehrer09"},null,null,null,null,null,null,null,null,null,null,null,null,null,null,null,null,null,null,null,null,null,null,null,null,null,null,null,null,null,null,null,null,null,null,null,null,null,null,null,null,null,null,null,null,null,null,null,null,null,null,null,null,0]
["3a",{"$f":"'1a'!B12","v":0},{"$f":"'1a'!C12","v":0},{"$f":"'1a'!D12","v":"lehrer10"},null,null,null,null,null,null,null,null,null,null,null,null,null,null,null,null,null,null,null,null,null,null,null,null,null,null,null,null,null,null,null,null,null,null,null,null,null,null,null,null,null,null,null,null,null,null,null,null,null,null,null,null,0]
["3a",{"$f":"'1a'!B13","v":0},{"$f":"'1a'!C13","v":0},{"$f":"'1a'!D13","v":"lehrer11"},null,null,null,null,null,null,null,null,null,null,null,null,null,null,null,null,null,null,null,null,null,null,null,null,null,null,null,null,null,null,null,null,null,null,null,null,null,null,null,null,null,null,null,null,null,null,null,null,null,null,null,null,0]
["3a",{"$f":"'1a'!B14","v":0},{"$f":"'1a'!C14","v":0},{"$f":"'1a'!D14","v":"lehrer12"},null,null,null,null,null,null,null,null,null,null,null,null,null,null,null,null,null,null,null,null,null,null,null,null,null,null,null,null,null,null,null,null,null,null,null,null,null,null,null,null,null,null,null,null,null,null,null,null,null,null,null,null,0]
["3a",{"$f":"'1a'!B15","v":0},{"$f":"'1a'!C15","v":0},{"$f":"'1a'!D15","v":"lehrer13"},null,null,null,null,null,null,null,null,null,null,null,null,null,null,null,null,null,null,null,null,null,null,null,null,null,null,null,null,null,null,null,null,null,null,null,null,null,null,null,null,null,null,null,null,null,null,null,null,null,null,null,null,0]
["3a",{"$f":"'1a'!B16","v":0},{"$f":"'1a'!C16","v":0},{"$f":"'1a'!D16","v":"lehrer14"},null,null,null,null,null,null,null,null,null,null,null,null,null,null,null,null,null,null,null,null,null,null,null,null,null,null,null,null,null,null,null,null,null,null,null,null,null,null,null,null,null,null,null,null,null,null,null,null,null,null,null,null,0]
["3a",{"$f":"'1a'!B17","v":0},{"$f":"'1a'!C17","v":0},{"$f":"'1a'!D17","v":"lehrer15"},null,null,null,null,null,null,null,null,null,null,null,null,null,null,null,null,null,null,null,null,null,null,null,null,null,null,null,null,null,null,null,null,null,null,null,null,null,null,null,null,null,null,null,null,null,null,null,null,null,null,null,null,0]
["3a",{"$f":"'1a'!B18","v":0},{"$f":"'1a'!C18","v":0},{"$f":"'1a'!D18","v":"lehrer16"},null,null,null,null,null,null,null,null,null,null,null,null,null,null,null,null,null,null,null,null,null,null,null,null,null,null,null,null,null,null,null,null,null,null,null,null,null,null,null,null,null,null,null,null,null,null,null,null,null,null,null,null,0]
["3a",{"$f":"'1a'!B19","v":0},{"$f":"'1a'!C19","v":0},{"$f":"'1a'!D19","v":"lehrer17"},null,null,null,null,null,null,null,null,null,null,null,null,null,null,null,null,null,null,null,null,null,null,null,null,null,null,null,null,null,null,null,null,null,null,null,null,null,null,null,null,null,null,null,null,null,null,null,null,null,null,null,null,0]
["3a",{"$f":"'1a'!B20","v":0},{"$f":"'1a'!C20","v":0},{"$f":"'1a'!D20","v":"lehrer18"},null,null,null,null,null,null,null,null,null,null,null,null,null,null,null,null,null,null,null,null,null,null,null,null,null,null,null,null,null,null,null,null,null,null,null,null,null,null,null,null,null,null,null,null,null,null,null,null,null,null,null,null,0]
["3a",{"$f":"'1a'!B21","v":0},{"$f":"'1a'!C21","v":0},{"$f":"'1a'!D21","v":"lehrer19"},null,null,null,null,null,null,null,null,null,null,null,null,null,null,null,null,null,null,null,null,null,null,null,null,null,null,null,null,null,null,null,null,null,null,null,null,null,null,null,null,null,null,null,null,null,null,null,null,null,null,null,null,0]
["3a",{"$f":"'1a'!B22","v":0},{"$f":"'1a'!C22","v":0},{"$f":"'1a'!D22","v":"lehrer20"},null,null,null,null,null,null,null,null,null,null,null,null,null,null,null,null,null,null,null,null,null,null,null,null,null,null,null,null,null,null,null,null,null,null,null,null,null,null,null,null,null,null,null,null,null,null,null,null,null,null,null,null,0]
["3a",{"$f":"'1a'!B23","v":0},{"$f":"'1a'!C23","v":0},{"$f":"'1a'!D23","v":"lehrer21"},null,null,null,null,null,null,null,null,null,null,null,null,null,null,null,null,null,null,null,null,null,null,null,null,null,null,null,null,null,null,null,null,null,null,null,null,null,null,null,null,null,null,null,null,null,null,null,null,null,null,null,null,0]
["3a",{"$f":"'1a'!B24","v":0},{"$f":"'1a'!C24","v":0},{"$f":"'1a'!D24","v":"lehrer22"},null,null,null,null,null,null,null,null,null,null,null,null,null,null,null,null,null,null,null,null,null,null,null,null,null,null,null,null,null,null,null,null,null,null,null,null,null,null,null,null,null,null,null,null,null,null,null,null,null,null,null,null,0]
["3a",{"$f":"'1a'!B25","v":0},{"$f":"'1a'!C25","v":0},{"$f":"'1a'!D25","v":"lehrer23"},null,null,null,null,null,null,null,null,null,null,null,null,null,null,null,null,null,null,null,null,null,null,null,null,null,null,null,null,null,null,null,null,null,null,null,null,null,null,null,null,null,null,null,null,null,null,null,null,null,null,null,null,0]
["3a",{"$f":"'1a'!B26","v":0},{"$f":"'1a'!C26","v":0},{"$f":"'1a'!D26","v":"lehrer24"},null,null,null,null,null,null,null,null,null,null,null,null,null,null,null,null,null,null,null,null,null,null,null,null,null,null,null,null,null,null,null,null,null,null,null,null,null,null,null,null,null,null,null,null,null,null,null,null,null,null,null,null,0]
["3a",{"$f":"'1a'!B27","v":0},{"$f":"'1a'!C27","v":0},{"$f":"'1a'!D27","v":"lehrer25"},null,null,null,null,null,null,null,null,null,null,null,null,null,null,null,null,null,null,null,null,null,null,null,null,null,null,null,null,null,null,null,null,null,null,null,null,null,null,null,null,null,null,null,null,null,null,null,null,null,null,null,null,0]
["3a",{"$f":"'1a'!B28","v":0},{"$f":"'1a'!C28","v":0},{"$f":"'1a'!D28","v":"lehrer26"},null,null,null,null,null,null,null,null,null,null,null,null,null,null,null,null,null,null,null,null,null,null,null,null,null,null,null,null,null,null,null,null,null,null,null,null,null,null,null,null,null,null,null,null,null,null,null,null,null,null,null,null,0]
["3a",{"$f":"'1a'!B29","v":0},{"$f":"'1a'!C29","v":0},{"$f":"'1a'!D29","v":"lehrer27"},null,null,null,null,null,null,null,null,null,null,null,null,null,null,null,null,null,null,null,null,null,null,null,null,null,null,null,null,null,null,null,null,null,null,null,null,null,null,null,null,null,null,null,null,null,null,null,null,null,null,null,null,0]
["3a",{"$f":"'1a'!B30","v":0},{"$f":"'1a'!C30","v":0},{"$f":"'1a'!D30","v":"lehrer28"},null,null,null,null,null,null,null,null,null,null,null,null,null,null,null,null,null,null,null,null,null,null,null,null,null,null,null,null,null,null,null,null,null,null,null,null,null,null,null,null,null,null,null,null,null,null,null,null,null,null,null,null,0]
["3a",{"$f":"'1a'!B31","v":0},{"$f":"'1a'!C31","v":0},{"$f":"'1a'!D31","v":"lehrer29"},null,null,null,null,null,null,null,null,null,null,null,null,null,null,null,null,null,null,null,null,null,null,null,null,null,null,null,null,null,null,null,null,null,null,null,null,null,null,null,null,null,null,null,null,null,null,null,null,null,null,null,null,0]
["3a",{"$f":"'1a'!B32","v":0},{"$f":"'1a'!C32","v":0},{"$f":"'1a'!D32","v":"lehrer30"},null,null,null,null,null,null,null,null,null,null,null,null,null,null,null,null,null,null,null,null,null,null,null,null,null,null,null,null,null,null,null,null,null,null,null,null,null,null,null,null,null,null,null,null,null,null,null,null,null,null,null,null,0]
["3a",{"$f":"'1a'!B33","v":0},{"$f":"'1a'!C33","v":0},{"$f":"'1a'!D33","v":"lehrer31"},null,null,null,null,null,null,null,null,null,null,null,null,null,null,null,null,null,null,null,null,null,null,null,null,null,null,null,null,null,null,null,null,null,null,null,null,null,null,null,null,null,null,null,null,null,null,null,null,null,null,null,null,{"$f":"SUM(E33:BD33)","v":0}]
["3a",{"$f":"'1a'!B34","v":0},{"$f":"'1a'!C34","v":0},{"$f":"'1a'!D34","v":"lehrer32"},null,null,null,null,null,null,null,null,null,null,null,null,null,null,null,null,null,null,null,null,null,null,null,null,null,null,null,null,null,null,null,null,null,null,null,null,null,null,null,null,null,null,null,null,null,null,null,null,null,null,null,null,0]
["3a",{"$f":"'1a'!B35","v":0},{"$f":"'1a'!C35","v":0},{"$f":"'1a'!D35","v":"lehrer33"},null,null,null,null,null,null,null,null,null,null,null,null,null,null,null,null,null,null,null,null,null,null,null,null,null,null,null,null,null,null,null,null,null,null,null,null,null,null,null,null,null,null,null,null,null,null,null,null,null,null,null,null,0]
["3a",{"$f":"'1a'!B36","v":0},{"$f":"'1a'!C36","v":0},{"$f":"'1a'!D36","v":"lehrer34"},null,null,null,null,null,null,null,null,null,null,null,null,null,null,null,null,null,null,null,null,null,null,null,null,null,null,null,null,null,null,null,null,null,null,null,null,null,null,null,null,null,null,null,null,null,null,null,null,null,null,null,null,0]
["3a",{"$f":"'1a'!B37","v":0},{"$f":"'1a'!C37","v":0},{"$f":"'1a'!D37","v":"lehrer35"},null,null,null,null,null,null,null,null,null,null,null,null,null,null,null,null,null,null,null,null,null,null,null,null,null,null,null,null,null,null,null,null,null,null,null,null,null,null,null,null,null,null,null,null,null,null,null,null,null,null,null,null,0]
["3a",{"$f":"'1a'!B38","v":0},{"$f":"'1a'!C38","v":0},{"$f":"'1a'!D38","v":"lehrer36"},null,null,null,null,null,null,null,null,null,null,null,null,null,null,null,null,null,null,null,null,null,null,null,null,null,null,null,null,null,null,null,null,null,null,null,null,null,null,null,null,null,null,null,null,null,null,null,null,null,null,null,null,0]
["3a",{"$f":"'1a'!B39","v":0},{"$f":"'1a'!C39","v":0},{"$f":"'1a'!D39","v":"lehrer37"},null,null,null,null,null,null,null,null,null,null,null,null,null,null,null,null,null,null,null,null,null,null,null,null,null,null,null,null,null,null,null,null,null,null,null,null,null,null,null,null,null,null,null,null,null,null,null,null,null,null,null,null,0]
["3a",{"$f":"'1a'!B40","v":0},{"$f":"'1a'!C40","v":0},{"$f":"'1a'!D40","v":"lehrer38"},null,null,null,null,null,null,null,null,null,null,null,null,null,null,null,null,null,null,null,null,null,null,null,null,null,null,null,null,null,null,null,null,null,null,null,null,null,null,null,null,null,null,null,null,null,null,null,null,null,null,null,null,0]
["3a",{"$f":"'1a'!B41","v":0},{"$f":"'1a'!C41","v":0},{"$f":"'1a'!D41","v":"lehrer39"},null,null,null,null,null,null,null,null,null,null,null,null,null,null,null,null,null,null,null,null,null,null,null,null,null,null,null,null,null,null,null,null,null,null,null,null,null,null,null,null,null,null,null,null,null,null,null,null,null,null,null,null,0]
["3a",{"$f":"'1a'!B42","v":0},{"$f":"'1a'!C42","v":0},{"$f":"'1a'!D42","v":"lehrer40"},null,null,null,null,null,null,null,null,null,null,null,null,null,null,null,null,null,null,null,null,null,null,null,null,null,null,null,null,null,null,null,null,null,null,null,null,null,null,null,null,null,null,null,null,null,null,null,null,null,null,null,null,0]
["3a",{"$f":"'1a'!B43","v":0},{"$f":"'1a'!C43","v":0},{"$f":"'1a'!D43","v":"lehrer41"},null,null,null,null,null,null,null,null,null,null,null,null,null,null,null,null,null,null,null,null,null,null,null,null,null,null,null,null,null,null,null,null,null,null,null,null,null,null,null,null,null,null,null,null,null,null,null,null,null,null,null,null,0]
["3a",{"$f":"'1a'!B44","v":0},{"$f":"'1a'!C44","v":0},{"$f":"'1a'!D44","v":"lehrer42"},null,null,null,null,null,null,null,null,null,null,null,null,null,null,null,null,null,null,null,null,null,null,null,null,null,null,null,null,null,null,null,null,null,null,null,null,null,null,null,null,null,null,null,null,null,null,null,null,null,null,null,null,0]
["3a",{"$f":"'1a'!B45","v":0},{"$f":"'1a'!C45","v":0},{"$f":"'1a'!D45","v":"lehrer43"},null,null,null,null,null,null,null,null,null,null,null,null,null,null,null,null,null,null,null,null,null,null,null,null,null,null,null,null,null,null,null,null,null,null,null,null,null,null,null,null,null,null,null,null,null,null,null,null,null,null,null,null,0]
["3a",{"$f":"'1a'!B46","v":0},{"$f":"'1a'!C46","v":0},{"$f":"'1a'!D46","v":"lehrer44"},null,null,null,null,null,null,null,null,null,null,null,null,null,null,null,null,null,null,null,null,null,null,null,null,null,null,null,null,null,null,null,null,null,null,null,null,null,null,null,null,null,null,null,null,null,null,null,null,null,null,null,null,0]
["3a",{"$f":"'1a'!B47","v":0},{"$f":"'1a'!C47","v":0},{"$f":"'1a'!D47","v":"lehrer45"},null,null,null,null,null,null,null,null,null,null,null,null,null,null,null,null,null,null,null,null,null,null,null,null,null,null,null,null,null,null,null,null,null,null,null,null,null,null,null,null,null,null,null,null,null,null,null,null,null,null,null,null,0]
["3a",{"$f":"'1a'!B48","v":0},{"$f":"'1a'!C48","v":0},{"$f":"'1a'!D48","v":"lehrer46"},null,null,null,null,null,null,null,null,null,null,null,null,null,null,null,null,null,null,null,null,null,null,null,null,null,null,null,null,null,null,null,null,null,null,null,null,null,null,null,null,null,null,null,null,null,null,null,null,null,null,null,null,0]
["3a",{"$f":"'1a'!B49","v":0},{"$f":"'1a'!C49","v":0},{"$f":"'1a'!D49","v":"lehrer47"},null,null,null,null,null,null,null,null,null,null,null,null,null,null,null,null,null,null,null,null,null,null,null,null,null,null,null,null,null,null,null,null,null,null,null,null,null,null,null,null,null,null,null,null,null,null,null,null,null,null,null,null,0]
["3a",{"$f":"'1a'!B50","v":0},{"$f":"'1a'!C50","v":0},{"$f":"'1a'!D50","v":"lehrer48"},null,null,null,null,null,null,null,null,null,null,null,null,null,null,null,null,null,null,null,null,null,null,null,null,null,null,null,null,null,null,null,null,null,null,null,null,null,null,null,null,null,null,null,null,null,null,null,null,null,null,null,null,0]

{"sheet":"3b","index":10,"n_rows":50,"n_cols":57,"rows_kept":50,"cut":false,"hidden":false,"merged":[]}
[null,null,null," Summe GSt pro Klasse",{"$f":"SUM(E3:E50)","v":0},{"$f":"SUM(F3:F50)","v":0},0,0,0,0,0,0,0,0,0,0,0,0,0,0,0,0,0,0,0,0,0,0,0,0,0,0,0,0,0,0,0,0,0,0,0,0,0,0,0,0,0,0,0,0,0,0,0,0,0,0,0]
[{"$f":"header","v":"Klasse"},"Soll","in LVF","Lehrer","M","M-T","M-Stütz","D","D-T","D-Stütz","E","E-T","E-Stütz","BE","Soz","BSP","BU","C","EH","GS","GW","GZ","ME","PH","P / C","Werken","Relisl","S-BO","S-BU","S-EH","S-GW","S-GZ","S-PC","S-BE","S-Werk","vÜ BO","vÜ Soz","unv. DSP","unv. FB","INF Sta","INF ECDL","unv. KET","GTS","GTS-L","BE","Soz","BSP","frei","frei","frei","frei","frei","frei","frei","frei","frei","Summe Lehrer pro Klasse"]
["3b",{"$f":"'1a'!B3","v":0},{"$f":"'1a'!C3","v":0},{"$f":"'1a'!D3","v":"lehrer01"},null,null,null,null,null,null,null,null,null,null,null,null,null,null,null,null,null,null,null,null,null,null,null,null,null,null,null,null,null,null,null,null,null,null,null,null,null,null,null,null,null,null,null,null,null,null,null,null,null,null,null,null,{"$f":"SUM(E3:BD3)","v":0}]
["3b",{"$f":"'1a'!B4","v":0},{"$f":"'1a'!C4","v":0},{"$f":"'1a'!D4","v":"lehrer02"},null,null,null,null,null,null,null,null,null,null,null,null,null,null,null,null,null,null,null,null,null,null,null,null,null,null,null,null,null,null,null,null,null,null,null,null,null,null,null,null,null,null,null,null,null,null,null,null,null,null,null,null,{"$f":"SUM(E4:BD4)","v":0}]
["3b",{"$f":"'1a'!B5","v":0},{"$f":"'1a'!C5","v":0},{"$f":"'1a'!D5","v":"lehrer03"},null,null,null,null,null,null,null,null,null,null,null,null,null,null,null,null,null,null,null,null,null,null,null,null,null,null,null,null,null,null,null,null,null,null,null,null,null,null,null,null,null,null,null,null,null,null,null,null,null,null,null,null,0]
["3b",{"$f":"'1a'!B6","v":0},{"$f":"'1a'!C6","v":0},{"$f":"'1a'!D6","v":"lehrer04"},null,null,null,null,null,null,null,null,null,null,null,null,null,null,null,null,null,null,null,null,null,null,null,null,null,null,null,null,null,null,null,null,null,null,null,null,null,null,null,null,null,null,null,null,null,null,null,null,null,null,null,null,0]
["3b",{"$f":"'1a'!B7","v":0},{"$f":"'1a'!C7","v":0},{"$f":"'1a'!D7","v":"lehrer05"},null,null,null,null,null,null,null,null,null,null,null,null,null,null,null,null,null,null,null,null,null,null,null,null,null,null,null,null,null,null,null,null,null,null,null,null,null,null,null,null,null,null,null,null,null,null,null,null,null,null,null,null,0]
["3b",{"$f":"'1a'!B8","v":0},{"$f":"'1a'!C8","v":0},{"$f":"'1a'!D8","v":"lehrer06"},null,null,null,null,null,null,null,null,null,null,null,null,null,null,null,null,null,null,null,null,null,null,null,null,null,null,null,null,null,null,null,null,null,null,null,null,null,null,null,null,null,null,null,null,null,null,null,null,null,null,null,null,0]
["3b",{"$f":"'1a'!B9","v":0},{"$f":"'1a'!C9","v":0},{"$f":"'1a'!D9","v":"lehrer07"},null,null,null,null,null,null,null,null,null,null,null,null,null,null,null,null,null,null,null,null,null,null,null,null,null,null,null,null,null,null,null,null,null,null,null,null,null,null,null,null,null,null,null,null,null,null,null,null,null,null,null,null,0]
["3b",{"$f":"'1a'!B10","v":0},{"$f":"'1a'!C10","v":0},{"$f":"'1a'!D10","v":"lehrer08"},null,null,null,null,null,null,null,null,null,null,null,null,null,null,null,null,null,null,null,null,null,null,null,null,null,null,null,null,null,null,null,null,null,null,null,null,null,null,null,null,null,null,null,null,null,null,null,null,null,null,null,null,0]
["3b",{"$f":"'1a'!B11","v":0},{"$f":"'1a'!C11","v":0},{"$f":"'1a'!D11","v":"lehrer09"},null,null,null,null,null,null,null,null,null,null,null,null,null,null,null,null,null,null,null,null,null,null,null,null,null,null,null,null,null,null,null,null,null,null,null,null,null,null,null,null,null,null,null,null,null,null,null,null,null,null,null,null,0]
["3b",{"$f":"'1a'!B12","v":0},{"$f":"'1a'!C12","v":0},{"$f":"'1a'!D12","v":"lehrer10"},null,null,null,null,null,null,null,null,null,null,null,null,null,null,null,null,null,null,null,null,null,null,null,null,null,null,null,null,null,null,null,null,null,null,null,null,null,null,null,null,null,null,null,null,null,null,null,null,null,null,null,null,0]
["3b",{"$f":"'1a'!B13","v":0},{"$f":"'1a'!C13","v":0},{"$f":"'1a'!D13","v":"lehrer11"},null,null,null,null,null,null,null,null,null,null,null,null,null,null,null,null,null,null,null,null,null,null,null,null,null,null,null,null,null,null,null,null,null,null,null,null,null,null,null,null,null,null,null,null,null,null,null,null,null,null,null,null,0]
["3b",{"$f":"'1a'!B14","v":0},{"$f":"'1a'!C14","v":0},{"$f":"'1a'!D14","v":"lehrer12"},null,null,null,null,null,null,null,null,null,null,null,null,null,null,null,null,null,null,null,null,null,null,null,null,null,null,null,null,null,null,null,null,null,null,null,null,null,null,null,null,null,null,null,null,null,null,null,null,null,null,null,null,0]
["3b",{"$f":"'1a'!B15","v":0},{"$f":"'1a'!C15","v":0},{"$f":"'1a'!D15","v":"lehrer13"},null,null,null,null,null,null,null,null,null,null,null,null,null,null,null,null,null,null,null,null,null,null,null,null,null,null,null,null,null,null,null,null,null,null,null,null,null,null,null,null,null,null,null,null,null,null,null,null,null,null,null,null,0]
["3b",{"$f":"'1a'!B16","v":0},{"$f":"'1a'!C16","v":0},{"$f":"'1a'!D16","v":"lehrer14"},null,null,null,null,null,null,null,null,null,null,null,null,null,null,null,null,null,null,null,null,null,null,null,null,null,null,null,null,null,null,null,null,null,null,null,null,null,null,null,null,null,null,null,null,null,null,null,null,null,null,null,null,0]
["3b",{"$f":"'1a'!B17","v":0},{"$f":"'1a'!C17","v":0},{"$f":"'1a'!D17","v":"lehrer15"},null,null,null,null,null,null,null,null,null,null,null,null,null,null,null,null,null,null,null,null,null,null,null,null,null,null,null,null,null,null,null,null,null,null,null,null,null,null,null,null,null,null,null,null,null,null,null,null,null,null,null,null,0]
["3b",{"$f":"'1a'!B18","v":0},{"$f":"'1a'!C18","v":0},{"$f":"'1a'!D18","v":"lehrer16"},null,null,null,null,null,null,null,null,null,null,null,null,null,null,null,null,null,null,null,null,null,null,null,null,null,null,null,null,null,null,null,null,null,null,null,null,null,null,null,null,null,null,null,null,null,null,null,null,null,null,null,null,0]
["3b",{"$f":"'1a'!B19","v":0},{"$f":"'1a'!C19","v":0},{"$f":"'1a'!D19","v":"lehrer17"},null,null,null,null,null,null,null,null,null,null,null,null,null,null,null,null,null,null,null,null,null,null,null,null,null,null,null,null,null,null,null,null,null,null,null,null,null,null,null,null,null,null,null,null,null,null,null,null,null,null,null,null,0]
["3b",{"$f":"'1a'!B20","v":0},{"$f":"'1a'!C20","v":0},{"$f":"'1a'!D20","v":"lehrer18"},null,null,null,null,null,null,null,null,null,null,null,null,null,null,null,null,null,null,null,null,null,null,null,null,null,null,null,null,null,null,null,null,null,null,null,null,null,null,null,null,null,null,null,null,null,null,null,null,null,null,null,null,0]
["3b",{"$f":"'1a'!B21","v":0},{"$f":"'1a'!C21","v":0},{"$f":"'1a'!D21","v":"lehrer19"},null,null,null,null,null,null,null,null,null,null,null,null,null,null,null,null,null,null,null,null,null,null,null,null,null,null,null,null,null,null,null,null,null,null,null,null,null,null,null,null,null,null,null,null,null,null,null,null,null,null,null,null,0]
["3b",{"$f":"'1a'!B22","v":0},{"$f":"'1a'!C22","v":0},{"$f":"'1a'!D22","v":"lehrer20"},null,null,null,null,null,null,null,null,null,null,null,null,null,null,null,null,null,null,null,null,null,null,null,null,null,null,null,null,null,null,null,null,null,null,null,null,null,null,null,null,null,null,null,null,null,null,null,null,null,null,null,null,0]
["3b",{"$f":"'1a'!B23","v":0},{"$f":"'1a'!C23","v":0},{"$f":"'1a'!D23","v":"lehrer21"},null,null,null,null,null,null,null,null,null,null,null,null,null,null,null,null,null,null,null,null,null,null,null,null,null,null,null,null,null,null,null,null,null,null,null,null,null,null,null,null,null,null,null,null,null,null,null,null,null,null,null,null,0]
["3b",{"$f":"'1a'!B24","v":0},{"$f":"'1a'!C24","v":0},{"$f":"'1a'!D24","v":"lehrer22"},null,null,null,null,null,null,null,null,null,null,null,null,null,null,null,null,null,null,null,null,null,null,null,null,null,null,null,null,null,null,null,null,null,null,null,null,null,null,null,null,null,null,null,null,null,null,null,null,null,null,null,null,0]
["3b",{"$f":"'1a'!B25","v":0},{"$f":"'1a'!C25","v":0},{"$f":"'1a'!D25","v":"lehrer23"},null,null,null,null,null,null,null,null,null,null,null,null,null,null,null,null,null,null,null,null,null,null,null,null,null,null,null,null,null,null,null,null,null,null,null,null,null,null,null,null,null,null,null,null,null,null,null,null,null,null,null,null,0]
["3b",{"$f":"'1a'!B26","v":0},{"$f":"'1a'!C26","v":0},{"$f":"'1a'!D26","v":"lehrer24"},null,null,null,null,null,null,null,null,null,null,null,null,null,null,null,null,null,null,null,null,null,null,null,null,null,null,null,null,null,null,null,null,null,null,null,null,null,null,null,null,null,null,null,null,null,null,null,null,null,null,null,null,0]
["3b",{"$f":"'1a'!B27","v":0},{"$f":"'1a'!C27","v":0},{"$f":"'1a'!D27","v":"lehrer25"},null,null,null,null,null,null,null,null,null,null,null,null,null,null,null,null,null,null,null,null,null,null,null,null,null,null,null,null,null,null,null,null,null,null,null,null,null,null,null,null,null,null,null,null,null,null,null,null,null,null,null,null,0]
["3b",{"$f":"'1a'!B28","v":0},{"$f":"'1a'!C28","v":0},{"$f":"'1a'!D28","v":"lehrer26"},null,null,null,null,null,null,null,null,null,null,null,null,null,null,null,null,null,null,null,null,null,null,null,null,null,null,null,null,null,null,null,null,null,null,null,null,null,null,null,null,null,null,null,null,null,null,null,null,null,null,null,null,{"$f":"SUM(E28:AT28)","v":0}]
["3b",{"$f":"'1a'!B29","v":0},{"$f":"'1a'!C29","v":0},{"$f":"'1a'!D29","v":"lehrer27"},null,null,null,null,null,null,null,null,null,null,null,null,null,null,null,null,null,null,null,null,null,null,null,null,null,null,null,null,null,null,null,null,null,null,null,null,null,null,null,null,null,null,null,null,null,null,null,null,null,null,null,null,0]
["3b",{"$f":"'1a'!B30","v":0},{"$f":"'1a'!C30","v":0},{"$f":"'1a'!D30","v":"lehrer28"},null,null,null,null,null,null,null,null,null,null,null,null,null,null,null,null,null,null,null,null,null,null,null,null,null,null,null,null,null,null,null,null,null,null,null,null,null,null,null,null,null,null,null,null,null,null,null,null,null,null,null,null,0]
["3b",{"$f":"'1a'!B31","v":0},{"$f":"'1a'!C31","v":0},{"$f":"'1a'!D31","v":"lehrer29"},null,null,null,null,null,null,null,null,null,null,null,null,null,null,null,null,null,null,null,null,null,null,null,null,null,null,null,null,null,null,null,null,null,null,null,null,null,null,null,null,null,null,null,null,null,null,null,null,null,null,null,null,0]
["3b",{"$f":"'1a'!B32","v":0},{"$f":"'1a'!C32","v":0},{"$f":"'1a'!D32","v":"lehrer30"},null,null,null,null,null,null,null,null,null,null,null,null,null,null,null,null,null,null,null,null,null,null,null,null,null,null,null,null,null,null,null,null,null,null,null,null,null,null,null,null,null,null,null,null,null,null,null,null,null,null,null,null,0]
["3b",{"$f":"'1a'!B33","v":0},{"$f":"'1a'!C33","v":0},{"$f":"'1a'!D33","v":"lehrer31"},null,null,null,null,null,null,null,null,null,null,null,null,null,null,null,null,null,null,null,null,null,null,null,null,null,null,null,null,null,null,null,null,null,null,null,null,null,null,null,null,null,null,null,null,null,null,null,null,null,null,null,null,{"$f":"SUM(E33:BD33)","v":0}]
["3b",{"$f":"'1a'!B34","v":0},{"$f":"'1a'!C34","v":0},{"$f":"'1a'!D34","v":"lehrer32"},null,null,null,null,null,null,null,null,null,null,null,null,null,null,null,null,null,null,null,null,null,null,null,null,null,null,null,null,null,null,null,null,null,null,null,null,null,null,null,null,null,null,null,null,null,null,null,null,null,null,null,null,0]
["3b",{"$f":"'1a'!B35","v":0},{"$f":"'1a'!C35","v":0},{"$f":"'1a'!D35","v":"lehrer33"},null,null,null,null,null,null,null,null,null,null,null,null,null,null,null,null,null,null,null,null,null,null,null,null,null,null,null,null,null,null,null,null,null,null,null,null,null,null,null,null,null,null,null,null,null,null,null,null,null,null,null,null,0]
["3b",{"$f":"'1a'!B36","v":0},{"$f":"'1a'!C36","v":0},{"$f":"'1a'!D36","v":"lehrer34"},null,null,null,null,null,null,null,null,null,null,null,null,null,null,null,null,null,null,null,null,null,null,null,null,null,null,null,null,null,null,null,null,null,null,null,null,null,null,null,null,null,null,null,null,null,null,null,null,null,null,null,null,0]
["3b",{"$f":"'1a'!B37","v":0},{"$f":"'1a'!C37","v":0},{"$f":"'1a'!D37","v":"lehrer35"},null,null,null,null,null,null,null,null,null,null,null,null,null,null,null,null,null,null,null,null,null,null,null,null,null,null,null,null,null,null,null,null,null,null,null,null,null,null,null,null,null,null,null,null,null,null,null,null,null,null,null,null,0]
["3b",{"$f":"'1a'!B38","v":0},{"$f":"'1a'!C38","v":0},{"$f":"'1a'!D38","v":"lehrer36"},null,null,null,null,null,null,null,null,null,null,null,null,null,null,null,null,null,null,null,null,null,null,null,null,null,null,null,null,null,null,null,null,null,null,null,null,null,null,null,null,null,null,null,null,null,null,null,null,null,null,null,null,0]
["3b",{"$f":"'1a'!B39","v":0},{"$f":"'1a'!C39","v":0},{"$f":"'1a'!D39","v":"lehrer37"},null,null,null,null,null,null,null,null,null,null,null,null,null,null,null,null,null,null,null,null,null,null,null,null,null,null,null,null,null,null,null,null,null,null,null,null,null,null,null,null,null,null,null,null,null,null,null,null,null,null,null,null,0]
["3b",{"$f":"'1a'!B40","v":0},{"$f":"'1a'!C40","v":0},{"$f":"'1a'!D40","v":"lehrer38"},null,null,null,null,null,null,null,null,null,null,null,null,null,null,null,null,null,null,null,null,null,null,null,null,null,null,null,null,null,null,null,null,null,null,null,null,null,null,null,null,null,null,null,null,null,null,null,null,null,null,null,null,0]
["3b",{"$f":"'1a'!B41","v":0},{"$f":"'1a'!C41","v":0},{"$f":"'1a'!D41","v":"lehrer39"},null,null,null,null,null,null,null,null,null,null,null,null,null,null,null,null,null,null,null,null,null,null,null,null,null,null,null,null,null,null,null,null,null,null,null,null,null,null,null,null,null,null,null,null,null,null,null,null,null,null,null,null,0]
["3b",{"$f":"'1a'!B42","v":0},{"$f":"'1a'!C42","v":0},{"$f":"'1a'!D42","v":"lehrer40"},null,null,null,null,null,null,null,null,null,null,null,null,null,null,null,null,null,null,null,null,null,null,null,null,null,null,null,null,null,null,null,null,null,null,null,null,null,null,null,null,null,null,null,null,null,null,null,null,null,null,null,null,0]
["3b",{"$f":"'1a'!B43","v":0},{"$f":"'1a'!C43","v":0},{"$f":"'1a'!D43","v":"lehrer41"},null,null,null,null,null,null,null,null,null,null,null,null,null,null,null,null,null,null,null,null,null,null,null,null,null,null,null,null,null,null,null,null,null,null,null,null,null,null,null,null,null,null,null,null,null,null,null,null,null,null,null,null,0]
["3b",{"$f":"'1a'!B44","v":0},{"$f":"'1a'!C44","v":0},{"$f":"'1a'!D44","v":"lehrer42"},null,null,null,null,null,null,null,null,null,null,null,null,null,null,null,null,null,null,null,null,null,null,null,null,null,null,null,null,null,null,null,null,null,null,null,null,null,null,null,null,null,null,null,null,null,null,null,null,null,null,null,null,0]
["3b",{"$f":"'1a'!B45","v":0},{"$f":"'1a'!C45","v":0},{"$f":"'1a'!D45","v":"lehrer43"},null,null,null,null,null,null,null,null,null,null,null,null,null,null,null,null,null,null,null,null,null,null,null,null,null,null,null,null,null,null,null,null,null,null,null,null,null,null,null,null,null,null,null,null,null,null,null,null,null,null,null,null,0]
["3b",{"$f":"'1a'!B46","v":0},{"$f":"'1a'!C46","v":0},{"$f":"'1a'!D46","v":"lehrer44"},null,null,null,null,null,null,null,null,null,null,null,null,null,null,null,null,null,null,null,null,null,null,null,null,null,null,null,null,null,null,null,null,null,null,null,null,null,null,null,null,null,null,null,null,null,null,null,null,null,null,null,null,0]
["3b",{"$f":"'1a'!B47","v":0},{"$f":"'1a'!C47","v":0},{"$f":"'1a'!D47","v":"lehrer45"},null,null,null,null,null,null,null,null,null,null,null,null,null,null,null,null,null,null,null,null,null,null,null,null,null,null,null,null,null,null,null,null,null,null,null,null,null,null,null,null,null,null,null,null,null,null,null,null,null,null,null,null,0]
["3b",{"$f":"'1a'!B48","v":0},{"$f":"'1a'!C48","v":0},{"$f":"'1a'!D48","v":"lehrer46"},null,null,null,null,null,null,null,null,null,null,null,null,null,null,null,null,null,null,null,null,null,null,null,null,null,null,null,null,null,null,null,null,null,null,null,null,null,null,null,null,null,null,null,null,null,null,null,null,null,null,null,null,0]
["3b",{"$f":"'1a'!B49","v":0},{"$f":"'1a'!C49","v":0},{"$f":"'1a'!D49","v":"lehrer47"},null,null,null,null,null,null,null,null,null,null,null,null,null,null,null,null,null,null,null,null,null,null,null,null,null,null,null,null,null,null,null,null,null,null,null,null,null,null,null,null,null,null,null,null,null,null,null,null,null,null,null,null,0]
["3b",{"$f":"'1a'!B50","v":0},{"$f":"'1a'!C50","v":0},{"$f":"'1a'!D50","v":"lehrer48"},null,null,null,null,null,null,null,null,null,null,null,null,null,null,null,null,null,null,null,null,null,null,null,null,null,null,null,null,null,null,null,null,null,null,null,null,null,null,null,null,null,null,null,null,null,null,null,null,null,null,null,null,0]

{"sheet":"3c","index":11,"n_rows":50,"n_cols":57,"rows_kept":50,"cut":false,"hidden":false,"merged":[]}
[null,null,null," Summe GSt pro Klasse",{"$f":"SUM(E3:E50)","v":0},{"$f":"SUM(F3:F50)","v":0},0,0,0,0,0,0,0,0,0,0,0,0,0,0,0,0,0,0,0,0,0,0,0,0,0,0,0,0,0,0,0,0,0,0,0,0,0,0,0,0,0,0,0,0,0,0,0,0,0,0,0]
[{"$f":"header","v":"Klasse"},"Soll","in LVF","Lehrer","M","M-T","M-Stütz","D","D-T","D-Stütz","E","E-T","E-Stütz","BE","Soz","BSP","BU","C","EH","GS","GW","GZ","ME","PH","P / C","Werken","Relisl","S-BO","S-BU","S-EH","S-GW","S-GZ","S-PC","S-BE","S-Werk","vÜ BO","vÜ Soz","unv. DSP","unv. FB","INF Sta","INF ECDL","unv. KET","GTS","GTS-L","BE","Soz","BSP","frei","frei","frei","frei","frei","frei","frei","frei","frei","Summe Lehrer pro Klasse"]
["3c",{"$f":"'1a'!B3","v":0},{"$f":"'1a'!C3","v":0},{"$f":"'1a'!D3","v":"lehrer01"},null,null,null,null,null,null,null,null,null,null,null,null,null,null,null,null,null,null,null,null,null,null,null,null,null,null,null,null,null,null,null,null,null,null,null,null,null,null,null,null,null,null,null,null,null,null,null,null,null,null,null,null,{"$f":"SUM(E3:BD3)","v":0}]
["3c",{"$f":"'1a'!B4","v":0},{"$f":"'1a'!C4","v":0},{"$f":"'1a'!D4","v":"lehrer02"},null,null,null,null,null,null,null,null,null,null,null,null,null,null,null,null,null,null,null,null,null,null,null,null,null,null,null,null,null,null,null,null,null,null,null,null,null,null,null,null,null,null,null,null,null,null,null,null,null,null,null,null,{"$f":"SUM(E4:BD4)","v":0}]
["3c",{"$f":"'1a'!B5","v":0},{"$f":"'1a'!C5","v":0},{"$f":"'1a'!D5","v":"lehrer03"},null,null,null,null,null,null,null,null,null,null,null,null,null,null,null,null,null,null,null,null,null,null,null,null,null,null,null,null,null,null,null,null,null,null,null,null,null,null,null,null,null,null,null,null,null,null,null,null,null,null,null,null,0]
["3c",{"$f":"'1a'!B6","v":0},{"$f":"'1a'!C6","v":0},{"$f":"'1a'!D6","v":"lehrer04"},null,null,null,null,null,null,null,null,null,null,null,null,null,null,null,null,null,null,null,null,null,null,null,null,null,null,null,null,null,null,null,null,null,null,null,null,null,null,null,null,null,null,null,null,null,null,null,null,null,null,null,null,0]
["3c",{"$f":"'1a'!B7","v":0},{"$f":"'1a'!C7","v":0},{"$f":"'1a'!D7","v":"lehrer05"},null,null,null,null,null,null,null,null,null,null,null,null,null,null,null,null,null,null,null,null,null,null,null,null,null,null,null,null,null,null,null,null,null,null,null,null,null,null,null,null,null,null,null,null,null,null,null,null,null,null,null,null,0]
["3c",{"$f":"'1a'!B8","v":0},{"$f":"'1a'!C8","v":0},{"$f":"'1a'!D8","v":"lehrer06"},null,null,null,null,null,null,null,null,null,null,null,null,null,null,null,null,null,null,null,null,null,null,null,null,null,null,null,null,null,null,null,null,null,null,null,null,null,null,null,null,null,null,null,null,null,null,null,null,null,null,null,null,0]
["3c",{"$f":"'1a'!B9","v":0},{"$f":"'1a'!C9","v":0},{"$f":"'1a'!D9","v":"lehrer07"},null,null,null,null,null,null,null,null,null,null,null,null,null,null,null,null,null,null,null,null,null,null,null,null,null,null,null,null,null,null,null,null,null,null,null,null,null,null,null,null,null,null,null,null,null,null,null,null,null,null,null,null,0]
["3c",{"$f":"'1a'!B10","v":0},{"$f":"'1a'!C10","v":0},{"$f":"'1a'!D10","v":"lehrer08"},null,null,null,null,null,null,null,null,null,null,null,null,null,null,null,null,null,null,null,null,null,null,null,null,null,null,null,null,null,null,null,null,null,null,null,null,null,null,null,null,null,null,null,null,null,null,null,null,null,null,null,null,0]
["3c",{"$f":"'1a'!B11","v":0},{"$f":"'1a'!C11","v":0},{"$f":"'1a'!D11","v":"lehrer09"},null,null,null,null,null,null,null,null,null,null,null,null,null,null,null,null,null,null,null,null,null,null,null,null,null,null,null,null,null,null,null,null,null,null,null,null,null,null,null,null,null,null,null,null,null,null,null,null,null,null,null,null,0]
["3c",{"$f":"'1a'!B12","v":0},{"$f":"'1a'!C12","v":0},{"$f":"'1a'!D12","v":"lehrer10"},null,null,null,null,null,null,null,null,null,null,null,null,null,null,null,null,null,null,null,null,null,null,null,null,null,null,null,null,null,null,null,null,null,null,null,null,null,null,null,null,null,null,null,null,null,null,null,null,null,null,null,null,0]
["3c",{"$f":"'1a'!B13","v":0},{"$f":"'1a'!C13","v":0},{"$f":"'1a'!D13","v":"lehrer11"},null,null,null,null,null,null,null,null,null,null,null,null,null,null,null,null,null,null,null,null,null,null,null,null,null,null,null,null,null,null,null,null,null,null,null,null,null,null,null,null,null,null,null,null,null,null,null,null,null,null,null,null,0]
["3c",{"$f":"'1a'!B14","v":0},{"$f":"'1a'!C14","v":0},{"$f":"'1a'!D14","v":"lehrer12"},null,null,null,null,null,null,null,null,null,null,null,null,null,null,null,null,null,null,null,null,null,null,null,null,null,null,null,null,null,null,null,null,null,null,null,null,null,null,null,null,null,null,null,null,null,null,null,null,null,null,null,null,0]
["3c",{"$f":"'1a'!B15","v":0},{"$f":"'1a'!C15","v":0},{"$f":"'1a'!D15","v":"lehrer13"},null,null,null,null,null,null,null,null,null,null,null,null,null,null,null,null,null,null,null,null,null,null,null,null,null,null,null,null,null,null,null,null,null,null,null,null,null,null,null,null,null,null,null,null,null,null,null,null,null,null,null,null,0]
["3c",{"$f":"'1a'!B16","v":0},{"$f":"'1a'!C16","v":0},{"$f":"'1a'!D16","v":"lehrer14"},null,null,null,null,null,null,null,null,null,null,null,null,null,null,null,null,null,null,null,null,null,null,null,null,null,null,null,null,null,null,null,null,null,null,null,null,null,null,null,null,null,null,null,null,null,null,null,null,null,null,null,null,0]
["3c",{"$f":"'1a'!B17","v":0},{"$f":"'1a'!C17","v":0},{"$f":"'1a'!D17","v":"lehrer15"},null,null,null,null,null,null,null,null,null,null,null,null,null,null,null,null,null,null,null,null,null,null,null,null,null,null,null,null,null,null,null,null,null,null,null,null,null,null,null,null,null,null,null,null,null,null,null,null,null,null,null,null,0]
["3c",{"$f":"'1a'!B18","v":0},{"$f":"'1a'!C18","v":0},{"$f":"'1a'!D18","v":"lehrer16"},null,null,null,null,null,null,null,null,null,null,null,null,null,null,null,null,null,null,null,null,null,null,null,null,null,null,null,null,null,null,null,null,null,null,null,null,null,null,null,null,null,null,null,null,null,null,null,null,null,null,null,null,0]
["3c",{"$f":"'1a'!B19","v":0},{"$f":"'1a'!C19","v":0},{"$f":"'1a'!D19","v":"lehrer17"},null,null,null,null,null,null,null,null,null,null,null,null,null,null,null,null,null,null,null,null,null,null,null,null,null,null,null,null,null,null,null,null,null,null,null,null,null,null,null,null,null,null,null,null,null,null,null,null,null,null,null,null,0]
["3c",{"$f":"'1a'!B20","v":0},{"$f":"'1a'!C20","v":0},{"$f":"'1a'!D20","v":"lehrer18"},null,null,null,null,null,null,null,null,null,null,null,null,null,null,null,null,null,null,null,null,null,null,null,null,null,null,null,null,null,null,null,null,null,null,null,null,null,null,null,null,null,null,null,null,null,null,null,null,null,null,null,null,0]
["3c",{"$f":"'1a'!B21","v":0},{"$f":"'1a'!C21","v":0},{"$f":"'1a'!D21","v":"lehrer19"},null,null,null,null,null,null,null,null,null,null,null,null,null,null,null,null,null,null,null,null,null,null,null,null,null,null,null,null,null,null,null,null,null,null,null,null,null,null,null,null,null,null,null,null,null,null,null,null,null,null,null,null,0]
["3c",{"$f":"'1a'!B22","v":0},{"$f":"'1a'!C22","v":0},{"$f":"'1a'!D22","v":"lehrer20"},null,null,null,null,null,null,null,null,null,null,null,null,null,null,null,null,null,null,null,null,null,null,null,null,null,null,null,null,null,null,null,null,null,null,null,null,null,null,null,null,null,null,null,null,null,null,null,null,null,null,null,null,0]
["3c",{"$f":"'1a'!B23","v":0},{"$f":"'1a'!C23","v":0},{"$f":"'1a'!D23","v":"lehrer21"},null,null,null,null,null,null,null,null,null,null,null,null,null,null,null,null,null,null,null,null,null,null,null,null,null,null,null,null,null,null,null,null,null,null,null,null,null,null,null,null,null,null,null,null,null,null,null,null,null,null,null,null,0]
["3c",{"$f":"'1a'!B24","v":0},{"$f":"'1a'!C24","v":0},{"$f":"'1a'!D24","v":"lehrer22"},null,null,null,null,null,null,null,null,null,null,null,null,null,null,null,null,null,null,null,null,null,null,null,null,null,null,null,null,null,null,null,null,null,null,null,null,null,null,null,null,null,null,null,null,null,null,null,null,null,null,null,null,0]
["3c",{"$f":"'1a'!B25","v":0},{"$f":"'1a'!C25","v":0},{"$f":"'1a'!D25","v":"lehrer23"},null,null,null,null,null,null,null,null,null,null,null,null,null,null,null,null,null,null,null,null,null,null,null,null,null,null,null,null,null,null,null,null,null,null,null,null,null,null,null,null,null,null,null,null,null,null,null,null,null,null,null,null,0]
["3c",{"$f":"'1a'!B26","v":0},{"$f":"'1a'!C26","v":0},{"$f":"'1a'!D26","v":"lehrer24"},null,null,null,null,null,null,null,null,null,null,null,null,null,null,null,null,null,null,null,null,null,null,null,null,null,null,null,null,null,null,null,null,null,null,null,null,null,null,null,null,null,null,null,null,null,null,null,null,null,null,null,null,0]
["3c",{"$f":"'1a'!B27","v":0},{"$f":"'1a'!C27","v":0},{"$f":"'1a'!D27","v":"lehrer25"},null,null,null,null,null,null,null,null,null,null,null,null,null,null,null,null,null,null,null,null,null,null,null,null,null,null,null,null,null,null,null,null,null,null,null,null,null,null,null,null,null,null,null,null,null,null,null,null,null,null,null,null,0]
["3c",{"$f":"'1a'!B28","v":0},{"$f":"'1a'!C28","v":0},{"$f":"'1a'!D28","v":"lehrer26"},null,null,null,null,null,null,null,null,null,null,null,null,null,null,null,null,null,null,null,null,null,null,null,null,null,null,null,null,null,null,null,null,null,null,null,null,null,null,null,null,null,null,null,null,null,null,null,null,null,null,null,null,0]
["3c",{"$f":"'1a'!B29","v":0},{"$f":"'1a'!C29","v":0},{"$f":"'1a'!D29","v":"lehrer27"},null,null,null,null,null,null,null,null,null,null,null,null,null,null,null,null,null,null,null,null,null,null,null,null,null,null,null,null,null,null,null,null,null,null,null,null,null,null,null,null,null,null,null,null,null,null,null,null,null,null,null,null,0]
["3c",{"$f":"'1a'!B30","v":0},{"$f":"'1a'!C30","v":0},{"$f":"'1a'!D30","v":"lehrer28"},null,null,null,null,null,null,null,null,null,null,null,null,null,null,null,null,null,null,null,null,null,null,null,null,null,null,null,null,null,null,null,null,null,null,null,null,null,null,null,null,null,null,null,null,null,null,null,null,null,null,null,null,0]
["3c",{"$f":"'1a'!B31","v":0},{"$f":"'1a'!C31","v":0},{"$f":"'1a'!D31","v":"lehrer29"},null,null,null,null,null,null,null,null,null,null,null,null,null,null,null,null,null,null,null,null,null,null,null,null,null,null,null,null,null,null,null,null,null,null,null,null,null,null,null,null,null,null,null,null,null,null,null,null,null,null,null,null,0]
["3c",{"$f":"'1a'!B32","v":0},{"$f":"'1a'!C32","v":0},{"$f":"'1a'!D32","v":"lehrer30"},null,null,null,null,null,null,null,null,null,null,null,null,null,null,null,null,null,null,null,null,null,null,null,null,null,null,null,null,null,null,null,null,null,null,null,null,null,null,null,null,null,null,null,null,null,null,null,null,null,null,null,null,0]
["3c",{"$f":"'1a'!B33","v":0},{"$f":"'1a'!C33","v":0},{"$f":"'1a'!D33","v":"lehrer31"},null,null,null,null,null,null,null,null,null,null,null,null,null,null,null,null,null,null,null,null,null,null,null,null,null,null,null,null,null,null,null,null,null,null,null,null,null,null,null,null,null,null,null,null,null,null,null,null,null,null,null,null,{"$f":"SUM(E33:BD33)","v":0}]
["3c",{"$f":"'1a'!B34","v":0},{"$f":"'1a'!C34","v":0},{"$f":"'1a'!D34","v":"lehrer32"},null,null,null,null,null,null,null,null,null,null,null,null,null,null,null,null,null,null,null,null,null,null,null,null,null,null,null,null,null,null,null,null,null,null,null,null,null,null,null,null,null,null,null,null,null,null,null,null,null,null,null,null,0]
["3c",{"$f":"'1a'!B35","v":0},{"$f":"'1a'!C35","v":0},{"$f":"'1a'!D35","v":"lehrer33"},null,null,null,null,null,null,null,null,null,null,null,null,null,null,null,null,null,null,null,null,null,null,null,null,null,null,null,null,null,null,null,null,null,null,null,null,null,null,null,null,null,null,null,null,null,null,null,null,null,null,null,null,0]
["3c",{"$f":"'1a'!B36","v":0},{"$f":"'1a'!C36","v":0},{"$f":"'1a'!D36","v":"lehrer34"},null,null,null,null,null,null,null,null,null,null,null,null,null,null,null,null,null,null,null,null,null,null,null,null,null,null,null,null,null,null,null,null,null,null,null,null,null,null,null,null,null,null,null,null,null,null,null,null,null,null,null,null,0]
["3c",{"$f":"'1a'!B37","v":0},{"$f":"'1a'!C37","v":0},{"$f":"'1a'!D37","v":"lehrer35"},null,null,null,null,null,null,null,null,null,null,null,null,null,null,null,null,null,null,null,null,null,null,null,null,null,null,null,null,null,null,null,null,null,null,null,null,null,null,null,null,null,null,null,null,null,null,null,null,null,null,null,null,0]
["3c",{"$f":"'1a'!B38","v":0},{"$f":"'1a'!C38","v":0},{"$f":"'1a'!D38","v":"lehrer36"},null,null,null,null,null,null,null,null,null,null,null,null,null,null,null,null,null,null,null,null,null,null,null,null,null,null,null,null,null,null,null,null,null,null,null,null,null,null,null,null,null,null,null,null,null,null,null,null,null,null,null,null,0]
["3c",{"$f":"'1a'!B39","v":0},{"$f":"'1a'!C39","v":0},{"$f":"'1a'!D39","v":"lehrer37"},null,null,null,null,null,null,null,null,null,null,null,null,null,null,null,null,null,null,null,null,null,null,null,null,null,null,null,null,null,null,null,null,null,null,null,null,null,null,null,null,null,null,null,null,null,null,null,null,null,null,null,null,0]
["3c",{"$f":"'1a'!B40","v":0},{"$f":"'1a'!C40","v":0},{"$f":"'1a'!D40","v":"lehrer38"},null,null,null,null,null,null,null,null,null,null,null,null,null,null,null,null,null,null,null,null,null,null,null,null,null,null,null,null,null,null,null,null,null,null,null,null,null,null,null,null,null,null,null,null,null,null,null,null,null,null,null,null,0]
["3c",{"$f":"'1a'!B41","v":0},{"$f":"'1a'!C41","v":0},{"$f":"'1a'!D41","v":"lehrer39"},null,null,null,null,null,null,null,null,null,null,null,null,null,null,null,null,null,null,null,null,null,null,null,null,null,null,null,null,null,null,null,null,null,null,null,null,null,null,null,null,null,null,null,null,null,null,null,null,null,null,null,null,0]
["3c",{"$f":"'1a'!B42","v":0},{"$f":"'1a'!C42","v":0},{"$f":"'1a'!D42","v":"lehrer40"},null,null,null,null,null,null,null,null,null,null,null,null,null,null,null,null,null,null,null,null,null,null,null,null,null,null,null,null,null,null,null,null,null,null,null,null,null,null,null,null,null,null,null,null,null,null,null,null,null,null,null,null,0]
["3c",{"$f":"'1a'!B43","v":0},{"$f":"'1a'!C43","v":0},{"$f":"'1a'!D43","v":"lehrer41"},null,null,null,null,null,null,null,null,null,null,null,null,null,null,null,null,null,null,null,null,null,null,null,null,null,null,null,null,null,null,null,null,null,null,null,null,null,null,null,null,null,null,null,null,null,null,null,null,null,null,null,null,0]
["3c",{"$f":"'1a'!B44","v":0},{"$f":"'1a'!C44","v":0},{"$f":"'1a'!D44","v":"lehrer42"},null,null,null,null,null,null,null,null,null,null,null,null,null,null,null,null,null,null,null,null,null,null,null,null,null,null,null,null,null,null,null,null,null,null,null,null,null,null,null,null,null,null,null,null,null,null,null,null,null,null,null,null,0]
["3c",{"$f":"'1a'!B45","v":0},{"$f":"'1a'!C45","v":0},{"$f":"'1a'!D45","v":"lehrer43"},null,null,null,null,null,null,null,null,null,null,null,null,null,null,null,null,null,null,null,null,null,null,null,null,null,null,null,null,null,null,null,null,null,null,null,null,null,null,null,null,null,null,null,null,null,null,null,null,null,null,null,null,0]
["3c",{"$f":"'1a'!B46","v":0},{"$f":"'1a'!C46","v":0},{"$f":"'1a'!D46","v":"lehrer44"},null,null,null,null,null,null,null,null,null,null,null,null,null,null,null,null,null,null,null,null,null,null,null,null,null,null,null,null,null,null,null,null,null,null,null,null,null,null,null,null,null,null,null,null,null,null,null,null,null,null,null,null,0]
["3c",{"$f":"'1a'!B47","v":0},{"$f":"'1a'!C47","v":0},{"$f":"'1a'!D47","v":"lehrer45"},null,null,null,null,null,null,null,null,null,null,null,null,null,null,null,null,null,null,null,null,null,null,null,null,null,null,null,null,null,null,null,null,null,null,null,null,null,null,null,null,null,null,null,null,null,null,null,null,null,null,null,null,0]
["3c",{"$f":"'1a'!B48","v":0},{"$f":"'1a'!C48","v":0},{"$f":"'1a'!D48","v":"lehrer46"},null,null,null,null,null,null,null,null,null,null,null,null,null,null,null,null,null,null,null,null,null,null,null,null,null,null,null,null,null,null,null,null,null,null,null,null,null,null,null,null,null,null,null,null,null,null,null,null,null,null,null,null,0]
["3c",{"$f":"'1a'!B49","v":0},{"$f":"'1a'!C49","v":0},{"$f":"'1a'!D49","v":"lehrer47"},null,null,null,null,null,null,null,null,null,null,null,null,null,null,null,null,null,null,null,null,null,null,null,null,null,null,null,null,null,null,null,null,null,null,null,null,null,null,null,null,null,null,null,null,null,null,null,null,null,null,null,null,0]
["3c",{"$f":"'1a'!B50","v":0},{"$f":"'1a'!C50","v":0},{"$f":"'1a'!D50","v":"lehrer48"},null,null,null,null,null,null,null,null,null,null,null,null,null,null,null,null,null,null,null,null,null,null,null,null,null,null,null,null,null,null,null,null,null,null,null,null,null,null,null,null,null,null,null,null,null,null,null,null,null,null,null,null,0]

{"sheet":"3d","index":12,"n_rows":50,"n_cols":57,"rows_kept":50,"cut":false,"hidden":false,"merged":[]}
[null,null,null," Summe GSt pro Klasse",{"$f":"SUM(E3:E50)","v":0},{"$f":"SUM(F3:F50)","v":0},0,0,0,0,0,0,0,0,0,0,0,0,0,0,0,0,0,0,0,0,0,0,0,0,0,0,0,0,0,0,0,0,0,0,0,0,0,0,0,0,0,0,0,0,0,0,0,0,0,0,0]
[{"$f":"header","v":"Klasse"},"Soll","in LVF","Lehrer","M","M-T","M-Stütz","D","D-T","D-Stütz","E","E-T","E-Stütz","BE","Soz","BSP","BU","C","EH","GS","GW","GZ","ME","PH","P / C","Werken","Relisl","S-BO","S-BU","S-EH","S-GW","S-GZ","S-PC","S-BE","S-Werk","vÜ BO","vÜ Soz","unv. DSP","unv. FB","INF Sta","INF ECDL","unv. KET","GTS","GTS-L","BE","Soz","BSP","frei","frei","frei","frei","frei","frei","frei","frei","frei","Summe Lehrer pro Klasse"]
["3d",{"$f":"'1a'!B3","v":0},{"$f":"'1a'!C3","v":0},{"$f":"'1a'!D3","v":"lehrer01"},null,null,null,null,null,null,null,null,null,null,null,null,null,null,null,null,null,null,null,null,null,null,null,null,null,null,null,null,null,null,null,null,null,null,null,null,null,null,null,null,null,null,null,null,null,null,null,null,null,null,null,null,{"$f":"SUM(E3:BD3)","v":0}]
["3d",{"$f":"'1a'!B4","v":0},{"$f":"'1a'!C4","v":0},{"$f":"'1a'!D4","v":"lehrer02"},null,null,null,null,null,null,null,null,null,null,null,null,null,null,null,null,null,null,null,null,null,null,null,null,null,null,null,null,null,null,null,null,null,null,null,null,null,null,null,null,null,null,null,null,null,null,null,null,null,null,null,null,{"$f":"SUM(E4:BD4)","v":0}]
["3d",{"$f":"'1a'!B5","v":0},{"$f":"'1a'!C5","v":0},{"$f":"'1a'!D5","v":"lehrer03"},null,null,null,null,null,null,null,null,null,null,null,null,null,null,null,null,null,null,null,null,null,null,null,null,null,null,null,null,null,null,null,null,null,null,null,null,null,null,null,null,null,null,null,null,null,null,null,null,null,null,null,null,0]
["3d",{"$f":"'1a'!B6","v":0},{"$f":"'1a'!C6","v":0},{"$f":"'1a'!D6","v":"lehrer04"},null,null,null,null,null,null,null,null,null,null,null,null,null,null,null,null,null,null,null,null,null,null,null,null,null,null,null,null,null,null,null,null,null,null,null,null,null,null,null,null,null,null,null,null,null,null,null,null,null,null,null,null,0]
["3d",{"$f":"'1a'!B7","v":0},{"$f":"'1a'!C7","v":0},{"$f":"'1a'!D7","v":"lehrer05"},null,null,null,null,null,null,null,null,null,null,null,null,null,null,null,null,null,null,null,null,null,null,null,null,null,null,null,null,null,null,null,null,null,null,null,null,null,null,null,null,null,null,null,null,null,null,null,null,null,null,null,null,0]
["3d",{"$f":"'1a'!B8","v":0},{"$f":"'1a'!C8","v":0},{"$f":"'1a'!D8","v":"lehrer06"},null,null,null,null,null,null,null,null,null,null,null,null,null,null,null,null,null,null,null,null,null,null,null,null,null,null,null,null,null,null,null,null,null,null,null,null,null,null,null,null,null,null,null,null,null,null,null,null,null,null,null,null,0]
["3d",{"$f":"'1a'!B9","v":0},{"$f":"'1a'!C9","v":0},{"$f":"'1a'!D9","v":"lehrer07"},null,null,null,null,null,null,null,null,null,null,null,null,null,null,null,null,null,null,null,null,null,null,null,null,null,null,null,null,null,null,null,null,null,null,null,null,null,null,null,null,null,null,null,null,null,null,null,null,null,null,null,null,0]
["3d",{"$f":"'1a'!B10","v":0},{"$f":"'1a'!C10","v":0},{"$f":"'1a'!D10","v":"lehrer08"},null,null,null,null,null,null,null,null,null,null,null,null,null,null,null,null,null,null,null,null,null,null,null,null,null,null,null,null,null,null,null,null,null,null,null,null,null,null,null,null,null,null,null,null,null,null,null,null,null,null,null,null,0]
["3d",{"$f":"'1a'!B11","v":0},{"$f":"'1a'!C11","v":0},{"$f":"'1a'!D11","v":"lehrer09"},null,null,null,null,null,null,null,null,null,null,null,null,null,null,null,null,null,null,null,null,null,null,null,null,null,null,null,null,null,null,null,null,null,null,null,null,null,null,null,null,null,null,null,null,null,null,null,null,null,null,null,null,0]
["3d",{"$f":"'1a'!B12","v":0},{"$f":"'1a'!C12","v":0},{"$f":"'1a'!D12","v":"lehrer10"},null,null,null,null,null,null,null,null,null,null,null,null,null,null,null,null,null,null,null,null,null,null,null,null,null,null,null,null,null,null,null,null,null,null,null,null,null,null,null,null,null,null,null,null,null,null,null,null,null,null,null,null,0]
["3d",{"$f":"'1a'!B13","v":0},{"$f":"'1a'!C13","v":0},{"$f":"'1a'!D13","v":"lehrer11"},null,null,null,null,null,null,null,null,null,null,null,null,null,null,null,null,null,null,null,null,null,null,null,null,null,null,null,null,null,null,null,null,null,null,null,null,null,null,null,null,null,null,null,null,null,null,null,null,null,null,null,null,0]
["3d",{"$f":"'1a'!B14","v":0},{"$f":"'1a'!C14","v":0},{"$f":"'1a'!D14","v":"lehrer12"},null,null,null,null,null,null,null,null,null,null,null,null,null,null,null,null,null,null,null,null,null,null,null,null,null,null,null,null,null,null,null,null,null,null,null,null,null,null,null,null,null,null,null,null,null,null,null,null,null,null,null,null,0]
["3d",{"$f":"'1a'!B15","v":0},{"$f":"'1a'!C15","v":0},{"$f":"'1a'!D15","v":"lehrer13"},null,null,null,null,null,null,null,null,null,null,null,null,null,null,null,null,null,null,null,null,null,null,null,null,null,null,null,null,null,null,null,null,null,null,null,null,null,null,null,null,null,null,null,null,null,null,null,null,null,null,null,null,0]
["3d",{"$f":"'1a'!B16","v":0},{"$f":"'1a'!C16","v":0},{"$f":"'1a'!D16","v":"lehrer14"},null,null,null,null,null,null,null,null,null,null,null,null,null,null,null,null,null,null,null,null,null,null,null,null,null,null,null,null,null,null,null,null,null,null,null,null,null,null,null,null,null,null,null,null,null,null,null,null,null,null,null,null,0]
["3d",{"$f":"'1a'!B17","v":0},{"$f":"'1a'!C17","v":0},{"$f":"'1a'!D17","v":"lehrer15"},null,null,null,null,null,null,null,null,null,null,null,null,null,null,null,null,null,null,null,null,null,null,null,null,null,null,null,null,null,null,null,null,null,null,null,null,null,null,null,null,null,null,null,null,null,null,null,null,null,null,null,null,0]
["3d",{"$f":"'1a'!B18","v":0},{"$f":"'1a'!C18","v":0},{"$f":"'1a'!D18","v":"lehrer16"},null,null,null,null,null,null,null,null,null,null,null,null,null,null,null,null,null,null,null,null,null,null,null,null,null,null,null,null,null,null,null,null,null,null,null,null,null,null,null,null,null,null,null,null,null,null,null,null,null,null,null,null,0]
["3d",{"$f":"'1a'!B19","v":0},{"$f":"'1a'!C19","v":0},{"$f":"'1a'!D19","v":"lehrer17"},null,null,null,null,null,null,null,null,null,null,null,null,null,null,null,null,null,null,null,null,null,null,null,null,null,null,null,null,null,null,null,null,null,null,null,null,null,null,null,null,null,null,null,null,null,null,null,null,null,null,null,null,0]
["3d",{"$f":"'1a'!B20","v":0},{"$f":"'1a'!C20","v":0},{"$f":"'1a'!D20","v":"lehrer18"},null,null,null,null,null,null,null,null,null,null,null,null,null,null,null,null,null,null,null,null,null,null,null,null,null,null,null,null,null,null,null,null,null,null,null,null,null,null,null,null,null,null,null,null,null,null,null,null,null,null,null,null,0]
["3d",{"$f":"'1a'!B21","v":0},{"$f":"'1a'!C21","v":0},{"$f":"'1a'!D21","v":"lehrer19"},null,null,null,null,null,null,null,null,null,null,null,null,null,null,null,null,null,null,null,null,null,null,null,null,null,null,null,null,null,null,null,null,null,null,null,null,null,null,null,null,null,null,null,null,null,null,null,null,null,null,null,null,0]
["3d",{"$f":"'1a'!B22","v":0},{"$f":"'1a'!C22","v":0},{"$f":"'1a'!D22","v":"lehrer20"},null,null,null,null,null,null,null,null,null,null,null,null,null,null,null,null,null,null,null,null,null,null,null,null,null,null,null,null,null,null,null,null,null,null,null,null,null,null,null,null,null,null,null,null,null,null,null,null,null,null,null,null,0]
["3d",{"$f":"'1a'!B23","v":0},{"$f":"'1a'!C23","v":0},{"$f":"'1a'!D23","v":"lehrer21"},null,null,null,null,null,null,null,null,null,null,null,null,null,null,null,null,null,null,null,null,null,null,null,null,null,null,null,null,null,null,null,null,null,null,null,null,null,null,null,null,null,null,null,null,null,null,null,null,null,null,null,null,0]
["3d",{"$f":"'1a'!B24","v":0},{"$f":"'1a'!C24","v":0},{"$f":"'1a'!D24","v":"lehrer22"},null,null,null,null,null,null,null,null,null,null,null,null,null,null,null,null,null,null,null,null,null,null,null,null,null,null,null,null,null,null,null,null,null,null,null,null,null,null,null,null,null,null,null,null,null,null,null,null,null,null,null,null,0]
["3d",{"$f":"'1a'!B25","v":0},{"$f":"'1a'!C25","v":0},{"$f":"'1a'!D25","v":"lehrer23"},null,null,null,null,null,null,null,null,null,null,null,null,null,null,null,null,null,null,null,null,null,null,null,null,null,null,null,null,null,null,null,null,null,null,null,null,null,null,null,null,null,null,null,null,null,null,null,null,null,null,null,null,0]
["3d",{"$f":"'1a'!B26","v":0},{"$f":"'1a'!C26","v":0},{"$f":"'1a'!D26","v":"lehrer24"},null,null,null,null,null,null,null,null,null,null,null,null,null,null,null,null,null,null,null,null,null,null,null,null,null,null,null,null,null,null,null,null,null,null,null,null,null,null,null,null,null,null,null,null,null,null,null,null,null,null,null,null,0]
["3d",{"$f":"'1a'!B27","v":0},{"$f":"'1a'!C27","v":0},{"$f":"'1a'!D27","v":"lehrer25"},null,null,null,null,null,null,null,null,null,null,null,null,null,null,null,null,null,null,null,null,null,null,null,null,null,null,null,null,null,null,null,null,null,null,null,null,null,null,null,null,null,null,null,null,null,null,null,null,null,null,null,null,0]
["3d",{"$f":"'1a'!B28","v":0},{"$f":"'1a'!C28","v":0},{"$f":"'1a'!D28","v":"lehrer26"},null,null,null,null,null,null,null,null,null,null,null,null,null,null,null,null,null,null,null,null,null,null,null,null,null,null,null,null,null,null,null,null,null,null,null,null,null,null,null,null,null,null,null,null,null,null,null,null,null,null,null,null,0]
["3d",{"$f":"'1a'!B29","v":0},{"$f":"'1a'!C29","v":0},{"$f":"'1a'!D29","v":"lehrer27"},null,null,null,null,null,null,null,null,null,null,null,null,null,null,null,null,null,null,null,null,null,null,null,null,null,null,null,null,null,null,null,null,null,null,null,null,null,null,null,null,null,null,null,null,null,null,null,null,null,null,null,null,0]
["3d",{"$f":"'1a'!B30","v":0},{"$f":"'1a'!C30","v":0},{"$f":"'1a'!D30","v":"lehrer28"},null,null,null,null,null,null,null,null,null,null,null,null,null,null,null,null,null,null,null,null,null,null,null,null,null,null,null,null,null,null,null,null,null,null,null,null,null,null,null,null,null,null,null,null,null,null,null,null,null,null,null,null,0]
["3d",{"$f":"'1a'!B31","v":0},{"$f":"'1a'!C31","v":0},{"$f":"'1a'!D31","v":"lehrer29"},null,null,null,null,null,null,null,null,null,null,null,null,null,null,null,null,null,null,null,null,null,null,null,null,null,null,null,null,null,null,null,null,null,null,null,null,null,null,null,null,null,null,null,null,null,null,null,null,null,null,null,null,0]
["3d",{"$f":"'1a'!B32","v":0},{"$f":"'1a'!C32","v":0},{"$f":"'1a'!D32","v":"lehrer30"},null,null,null,null,null,null,null,null,null,null,null,null,null,null,null,null,null,null,null,null,null,null,null,null,null,null,null,null,null,null,null,null,null,null,null,null,null,null,null,null,null,null,null,null,null,null,null,null,null,null,null,null,0]
["3d",{"$f":"'1a'!B33","v":0},{"$f":"'1a'!C33","v":0},{"$f":"'1a'!D33","v":"lehrer31"},null,null,null,null,null,null,null,null,null,null,null,null,null,null,null,null,null,null,null,null,null,null,null,null,null,null,null,null,null,null,null,null,null,null,null,null,null,null,null,null,null,null,null,null,null,null,null,null,null,null,null,null,{"$f":"SUM(E33:BD33)","v":0}]
["3d",{"$f":"'1a'!B34","v":0},{"$f":"'1a'!C34","v":0},{"$f":"'1a'!D34","v":"lehrer32"},null,null,null,null,null,null,null,null,null,null,null,null,null,null,null,null,null,null,null,null,null,null,null,null,null,null,null,null,null,null,null,null,null,null,null,null,null,null,null,null,null,null,null,null,null,null,null,null,null,null,null,null,0]
["3d",{"$f":"'1a'!B35","v":0},{"$f":"'1a'!C35","v":0},{"$f":"'1a'!D35","v":"lehrer33"},null,null,null,null,null,null,null,null,null,null,null,null,null,null,null,null,null,null,null,null,null,null,null,null,null,null,null,null,null,null,null,null,null,null,null,null,null,null,null,null,null,null,null,null,null,null,null,null,null,null,null,null,0]
["3d",{"$f":"'1a'!B36","v":0},{"$f":"'1a'!C36","v":0},{"$f":"'1a'!D36","v":"lehrer34"},null,null,null,null,null,null,null,null,null,null,null,null,null,null,null,null,null,null,null,null,null,null,null,null,null,null,null,null,null,null,null,null,null,null,null,null,null,null,null,null,null,null,null,null,null,null,null,null,null,null,null,null,0]
["3d",{"$f":"'1a'!B37","v":0},{"$f":"'1a'!C37","v":0},{"$f":"'1a'!D37","v":"lehrer35"},null,null,null,null,null,null,null,null,null,null,null,null,null,null,null,null,null,null,null,null,null,null,null,null,null,null,null,null,null,null,null,null,null,null,null,null,null,null,null,null,null,null,null,null,null,null,null,null,null,null,null,null,0]
["3d",{"$f":"'1a'!B38","v":0},{"$f":"'1a'!C38","v":0},{"$f":"'1a'!D38","v":"lehrer36"},null,null,null,null,null,null,null,null,null,null,null,null,null,null,null,null,null,null,null,null,null,null,null,null,null,null,null,null,null,null,null,null,null,null,null,null,null,null,null,null,null,null,null,null,null,null,null,null,null,null,null,null,0]
["3d",{"$f":"'1a'!B39","v":0},{"$f":"'1a'!C39","v":0},{"$f":"'1a'!D39","v":"lehrer37"},null,null,null,null,null,null,null,null,null,null,null,null,null,null,null,null,null,null,null,null,null,null,null,null,null,null,null,null,null,null,null,null,null,null,null,null,null,null,null,null,null,null,null,null,null,null,null,null,null,null,null,null,0]
["3d",{"$f":"'1a'!B40","v":0},{"$f":"'1a'!C40","v":0},{"$f":"'1a'!D40","v":"lehrer38"},null,null,null,null,null,null,null,null,null,null,null,null,null,null,null,null,null,null,null,null,null,null,null,null,null,null,null,null,null,null,null,null,null,null,null,null,null,null,null,null,null,null,null,null,null,null,null,null,null,null,null,null,0]
["3d",{"$f":"'1a'!B41","v":0},{"$f":"'1a'!C41","v":0},{"$f":"'1a'!D41","v":"lehrer39"},null,null,null,null,null,null,null,null,null,null,null,null,null,null,null,null,null,null,null,null,null,null,null,null,null,null,null,null,null,null,null,null,null,null,null,null,null,null,null,null,null,null,null,null,null,null,null,null,null,null,null,null,0]
["3d",{"$f":"'1a'!B42","v":0},{"$f":"'1a'!C42","v":0},{"$f":"'1a'!D42","v":"lehrer40"},null,null,null,null,null,null,null,null,null,null,null,null,null,null,null,null,null,null,null,null,null,null,null,null,null,null,null,null,null,null,null,null,null,null,null,null,null,null,null,null,null,null,null,null,null,null,null,null,null,null,null,null,0]
["3d",{"$f":"'1a'!B43","v":0},{"$f":"'1a'!C43","v":0},{"$f":"'1a'!D43","v":"lehrer41"},null,null,null,null,null,null,null,null,null,null,null,null,null,null,null,null,null,null,null,null,null,null,null,null,null,null,null,null,null,null,null,null,null,null,null,null,null,null,null,null,null,null,null,null,null,null,null,null,null,null,null,null,0]
["3d",{"$f":"'1a'!B44","v":0},{"$f":"'1a'!C44","v":0},{"$f":"'1a'!D44","v":"lehrer42"},null,null,null,null,null,null,null,null,null,null,null,null,null,null,null,null,null,null,null,null,null,null,null,null,null,null,null,null,null,null,null,null,null,null,null,null,null,null,null,null,null,null,null,null,null,null,null,null,null,null,null,null,0]
["3d",{"$f":"'1a'!B45","v":0},{"$f":"'1a'!C45","v":0},{"$f":"'1a'!D45","v":"lehrer43"},null,null,null,null,null,null,null,null,null,null,null,null,null,null,null,null,null,null,null,null,null,null,null,null,null,null,null,null,null,null,null,null,null,null,null,null,null,null,null,null,null,null,null,null,null,null,null,null,null,null,null,null,0]
["3d",{"$f":"'1a'!B46","v":0},{"$f":"'1a'!C46","v":0},{"$f":"'1a'!D46","v":"lehrer44"},null,null,null,null,null,null,null,null,null,null,null,null,null,null,null,null,null,null,null,null,null,null,null,null,null,null,null,null,null,null,null,null,null,null,null,null,null,null,null,null,null,null,null,null,null,null,null,null,null,null,null,null,0]
["3d",{"$f":"'1a'!B47","v":0},{"$f":"'1a'!C47","v":0},{"$f":"'1a'!D47","v":"lehrer45"},null,null,null,null,null,null,null,null,null,null,null,null,null,null,null,null,null,null,null,null,null,null,null,null,null,null,null,null,null,null,null,null,null,null,null,null,null,null,null,null,null,null,null,null,null,null,null,null,null,null,null,null,0]
["3d",{"$f":"'1a'!B48","v":0},{"$f":"'1a'!C48","v":0},{"$f":"'1a'!D48","v":"lehrer46"},null,null,null,null,null,null,null,null,null,null,null,null,null,null,null,null,null,null,null,null,null,null,null,null,null,null,null,null,null,null,null,null,null,null,null,null,null,null,null,null,null,null,null,null,null,null,null,null,null,null,null,null,0]
["3d",{"$f":"'1a'!B49","v":0},{"$f":"'1a'!C49","v":0},{"$f":"'1a'!D49","v":"lehrer47"},null,null,null,null,null,null,null,null,null,null,null,null,null,null,null,null,null,null,null,null,null,null,null,null,null,null,null,null,null,null,null,null,null,null,null,null,null,null,null,null,null,null,null,null,null,null,null,null,null,null,null,null,0]
["3d",{"$f":"'1a'!B50","v":0},{"$f":"'1a'!C50","v":0},{"$f":"'1a'!D50","v":"lehrer48"},null,null,null,null,null,null,null,null,null,null,null,null,null,null,null,null,null,null,null,null,null,null,null,null,null,null,null,null,null,null,null,null,null,null,null,null,null,null,null,null,null,null,null,null,null,null,null,null,null,null,null,null,0]

{"sheet":"4a","index":13,"n_rows":50,"n_cols":57,"rows_kept":50,"cut":false,"hidden":false,"merged":[]}
[null,null,null," Summe GSt pro Klasse",{"$f":"SUM(E3:E50)","v":0},{"$f":"SUM(F3:F50)","v":0},0,0,0,0,0,0,0,0,0,0,0,0,0,0,0,0,0,0,0,0,0,0,0,0,0,0,0,0,0,0,0,0,0,0,0,0,0,0,0,0,0,0,0,0,0,0,0,0,0,0,0]
[{"$f":"header","v":"Klasse"},"Soll","in LVF","Lehrer","M","M-T","M-Stütz","D","D-T","D-Stütz","E","E-T","E-Stütz","BE","Soz","BSP","BU","C","EH","GS","GW","GZ","ME","PH","P / C","Werken","Relisl","S-BO","S-BU","S-EH","S-GW","S-GZ","S-PC","S-BE","S-Werk","vÜ BO","vÜ Soz","unv. DSP","unv. FB","INF Sta","INF ECDL","unv. KET","GTS","GTS-L","BE","Soz","BSP","frei","frei","frei","frei","frei","frei","frei","frei","frei","Summe Lehrer pro Klasse"]
["4a",{"$f":"'1a'!B3","v":0},{"$f":"'1a'!C3","v":0},{"$f":"'1a'!D3","v":"lehrer01"},null,null,null,null,null,null,null,null,null,null,null,null,null,null,null,null,null,null,null,null,null,null,null,null,null,null,null,null,null,null,null,null,null,null,null,null,null,null,null,null,null,null,null,null,null,null,null,null,null,null,null,null,{"$f":"SUM(E3:BD3)","v":0}]
["4a",{"$f":"'1a'!B4","v":0},{"$f":"'1a'!C4","v":0},{"$f":"'1a'!D4","v":"lehrer02"},null,null,null,null,null,null,null,null,null,null,null,null,null,null,null,null,null,null,null,null,null,null,null,null,null,null,null,null,null,null,null,null,null,null,null,null,null,null,null,null,null,null,null,null,null,null,null,null,null,null,null,null,{"$f":"SUM(E4:BD4)","v":0}]
["4a",{"$f":"'1a'!B5","v":0},{"$f":"'1a'!C5","v":0},{"$f":"'1a'!D5","v":"lehrer03"},null,null,null,null,null,null,null,null,null,null,null,null,null,null,null,null,null,null,null,null,null,null,null,null,null,null,null,null,null,null,null,null,null,null,null,null,null,null,null,null,null,null,null,null,null,null,null,null,null,null,null,null,0]
["4a",{"$f":"'1a'!B6","v":0},{"$f":"'1a'!C6","v":0},{"$f":"'1a'!D6","v":"lehrer04"},null,null,null,null,null,null,null,null,null,null,null,null,null,null,null,null,null,null,null,null,null,null,null,null,null,null,null,null,null,null,null,null,null,null,null,null,null,null,null,null,null,null,null,null,null,null,null,null,null,null,null,null,0]
["4a",{"$f":"'1a'!B7","v":0},{"$f":"'1a'!C7","v":0},{"$f":"'1a'!D7","v":"lehrer05"},null,null,null,null,null,null,null,null,null,null,null,null,null,null,null,null,null,null,null,null,null,null,null,null,null,null,null,null,null,null,null,null,null,null,null,null,null,null,null,null,null,null,null,null,null,null,null,null,null,null,null,null,0]
["4a",{"$f":"'1a'!B8","v":0},{"$f":"'1a'!C8","v":0},{"$f":"'1a'!D8","v":"lehrer06"},null,null,null,null,null,null,null,null,null,null,null,null,null,null,null,null,null,null,null,null,null,null,null,null,null,null,null,null,null,null,null,null,null,null,null,null,null,null,null,null,null,null,null,null,null,null,null,null,null,null,null,null,0]
["4a",{"$f":"'1a'!B9","v":0},{"$f":"'1a'!C9","v":0},{"$f":"'1a'!D9","v":"lehrer07"},null,null,null,null,null,null,null,null,null,null,null,null,null,null,null,null,null,null,null,null,null,null,null,null,null,null,null,null,null,null,null,null,null,null,null,null,null,null,null,null,null,null,null,null,null,null,null,null,null,null,null,null,0]
["4a",{"$f":"'1a'!B10","v":0},{"$f":"'1a'!C10","v":0},{"$f":"'1a'!D10","v":"lehrer08"},null,null,null,null,null,null,null,null,null,null,null,null,null,null,null,null,null,null,null,null,null,null,null,null,null,null,null,null,null,null,null,null,null,null,null,null,null,null,null,null,null,null,null,null,null,null,null,null,null,null,null,null,0]
["4a",{"$f":"'1a'!B11","v":0},{"$f":"'1a'!C11","v":0},{"$f":"'1a'!D11","v":"lehrer09"},null,null,null,null,null,null,null,null,null,null,null,null,null,null,null,null,null,null,null,null,null,null,null,null,null,null,null,null,null,null,null,null,null,null,null,null,null,null,null,null,null,null,null,null,null,null,null,null,null,null,null,null,0]
["4a",{"$f":"'1a'!B12","v":0},{"$f":"'1a'!C12","v":0},{"$f":"'1a'!D12","v":"lehrer10"},null,null,null,null,null,null,null,null,null,null,null,null,null,null,null,null,null,null,null,null,null,null,null,null,null,null,null,null,null,null,null,null,null,null,null,null,null,null,null,null,null,null,null,null,null,null,null,null,null,null,null,null,0]
["4a",{"$f":"'1a'!B13","v":0},{"$f":"'1a'!C13","v":0},{"$f":"'1a'!D13","v":"lehrer11"},null,null,null,null,null,null,null,null,null,null,null,null,null,null,null,null,null,null,null,null,null,null,null,null,null,null,null,null,null,null,null,null,null,null,null,null,null,null,null,null,null,null,null,null,null,null,null,null,null,null,null,null,0]
["4a",{"$f":"'1a'!B14","v":0},{"$f":"'1a'!C14","v":0},{"$f":"'1a'!D14","v":"lehrer12"},null,null,null,null,null,null,null,null,null,null,null,null,null,null,null,null,null,null,null,null,null,null,null,null,null,null,null,null,null,null,null,null,null,null,null,null,null,null,null,null,null,null,null,null,null,null,null,null,null,null,null,null,0]
["4a",{"$f":"'1a'!B15","v":0},{"$f":"'1a'!C15","v":0},{"$f":"'1a'!D15","v":"lehrer13"},null,null,null,null,null,null,null,null,null,null,null,null,null,null,null,null,null,null,null,null,null,null,null,null,null,null,null,null,null,null,null,null,null,null,null,null,null,null,null,null,null,null,null,null,null,null,null,null,null,null,null,null,0]
["4a",{"$f":"'1a'!B16","v":0},{"$f":"'1a'!C16","v":0},{"$f":"'1a'!D16","v":"lehrer14"},null,null,null,null,null,null,null,null,null,null,null,null,null,null,null,null,null,null,null,null,null,null,null,null,null,null,null,null,null,null,null,null,null,null,null,null,null,null,null,null,null,null,null,null,null,null,null,null,null,null,null,null,0]
["4a",{"$f":"'1a'!B17","v":0},{"$f":"'1a'!C17","v":0},{"$f":"'1a'!D17","v":"lehrer15"},null,null,null,null,null,null,null,null,null,null,null,null,null,null,null,null,null,null,null,null,null,null,null,null,null,null,null,null,null,null,null,null,null,null,null,null,null,null,null,null,null,null,null,null,null,null,null,null,null,null,null,null,0]
["4a",{"$f":"'1a'!B18","v":0},{"$f":"'1a'!C18","v":0},{"$f":"'1a'!D18","v":"lehrer16"},null,null,null,null,null,null,null,null,null,null,null,null,null,null,null,null,null,null,null,null,null,null,null,null,null,null,null,null,null,null,null,null,null,null,null,null,null,null,null,null,null,null,null,null,null,null,null,null,null,null,null,null,0]
["4a",{"$f":"'1a'!B19","v":0},{"$f":"'1a'!C19","v":0},{"$f":"'1a'!D19","v":"lehrer17"},null,null,null,null,null,null,null,null,null,null,null,null,null,null,null,null,null,null,null,null,null,null,null,null,null,null,null,null,null,null,null,null,null,null,null,null,null,null,null,null,null,null,null,null,null,null,null,null,null,null,null,null,0]
["4a",{"$f":"'1a'!B20","v":0},{"$f":"'1a'!C20","v":0},{"$f":"'1a'!D20","v":"lehrer18"},null,null,null,null,null,null,null,null,null,null,null,null,null,null,null,null,null,null,null,null,null,null,null,null,null,null,null,null,null,null,null,null,null,null,null,null,null,null,null,null,null,null,null,null,null,null,null,null,null,null,null,null,0]
["4a",{"$f":"'1a'!B21","v":0},{"$f":"'1a'!C21","v":0},{"$f":"'1a'!D21","v":"lehrer19"},null,null,null,null,null,null,null,null,null,null,null,null,null,null,null,null,null,null,null,null,null,null,null,null,null,null,null,null,null,null,null,null,null,null,null,null,null,null,null,null,null,null,null,null,null,null,null,null,null,null,null,null,0]
["4a",{"$f":"'1a'!B22","v":0},{"$f":"'1a'!C22","v":0},{"$f":"'1a'!D22","v":"lehrer20"},null,null,null,null,null,null,null,null,null,null,null,null,null,null,null,null,null,null,null,null,null,null,null,null,null,null,null,null,null,null,null,null,null,null,null,null,null,null,null,null,null,null,null,null,null,null,null,null,null,null,null,null,0]
["4a",{"$f":"'1a'!B23","v":0},{"$f":"'1a'!C23","v":0},{"$f":"'1a'!D23","v":"lehrer21"},null,null,null,null,null,null,null,null,null,null,null,null,null,null,null,null,null,null,null,null,null,null,null,null,null,null,null,null,null,null,null,null,null,null,null,null,null,null,null,null,null,null,null,null,null,null,null,null,null,null,null,null,0]
["4a",{"$f":"'1a'!B24","v":0},{"$f":"'1a'!C24","v":0},{"$f":"'1a'!D24","v":"lehrer22"},null,null,null,null,null,null,null,null,null,null,null,null,null,null,null,null,null,null,null,null,null,null,null,null,null,null,null,null,null,null,null,null,null,null,null,null,null,null,null,null,null,null,null,null,null,null,null,null,null,null,null,null,0]
["4a",{"$f":"'1a'!B25","v":0},{"$f":"'1a'!C25","v":0},{"$f":"'1a'!D25","v":"lehrer23"},null,null,null,null,null,null,null,null,null,null,null,null,null,null,null,null,null,null,null,null,null,null,null,null,null,null,null,null,null,null,null,null,null,null,null,null,null,null,null,null,null,null,null,null,null,null,null,null,null,null,null,null,0]
["4a",{"$f":"'1a'!B26","v":0},{"$f":"'1a'!C26","v":0},{"$f":"'1a'!D26","v":"lehrer24"},null,null,null,null,null,null,null,null,null,null,null,null,null,null,null,null,null,null,null,null,null,null,null,null,null,null,null,null,null,null,null,null,null,null,null,null,null,null,null,null,null,null,null,null,null,null,null,null,null,null,null,null,0]
["4a",{"$f":"'1a'!B27","v":0},{"$f":"'1a'!C27","v":0},{"$f":"'1a'!D27","v":"lehrer25"},null,null,null,null,null,null,null,null,null,null,null,null,null,null,null,null,null,null,null,null,null,null,null,null,null,null,null,null,null,null,null,null,null,null,null,null,null,null,null,null,null,null,null,null,null,null,null,null,null,null,null,null,0]
["4a",{"$f":"'1a'!B28","v":0},{"$f":"'1a'!C28","v":0},{"$f":"'1a'!D28","v":"lehrer26"},null,null,null,null,null,null,null,null,null,null,null,null,null,null,null,null,null,null,null,null,null,null,null,null,null,null,null,null,null,null,null,null,null,null,null,null,null,null,null,null,null,null,null,null,null,null,null,null,null,null,null,null,0]
["4a",{"$f":"'1a'!B29","v":0},{"$f":"'1a'!C29","v":0},{"$f":"'1a'!D29","v":"lehrer27"},null,null,null,null,null,null,null,null,null,null,null,null,null,null,null,null,null,null,null,null,null,null,null,null,null,null,null,null,null,null,null,null,null,null,null,null,null,null,null,null,null,null,null,null,null,null,null,null,null,null,null,null,0]
["4a",{"$f":"'1a'!B30","v":0},{"$f":"'1a'!C30","v":0},{"$f":"'1a'!D30","v":"lehrer28"},null,null,null,null,null,null,null,null,null,null,null,null,null,null,null,null,null,null,null,null,null,null,null,null,null,null,null,null,null,null,null,null,null,null,null,null,null,null,null,null,null,null,null,null,null,null,null,null,null,null,null,null,0]
["4a",{"$f":"'1a'!B31","v":0},{"$f":"'1a'!C31","v":0},{"$f":"'1a'!D31","v":"lehrer29"},null,null,null,null,null,null,null,null,null,null,null,null,null,null,null,null,null,null,null,null,null,null,null,null,null,null,null,null,null,null,null,null,null,null,null,null,null,null,null,null,null,null,null,null,null,null,null,null,null,null,null,null,0]
["4a",{"$f":"'1a'!B32","v":0},{"$f":"'1a'!C32","v":0},{"$f":"'1a'!D32","v":"lehrer30"},null,null,null,null,null,null,null,null,null,null,null,null,null,null,null,null,null,null,null,null,null,null,null,null,null,null,null,null,null,null,null,null,null,null,null,null,null,null,null,null,null,null,null,null,null,null,null,null,null,null,null,null,0]
["4a",{"$f":"'1a'!B33","v":0},{"$f":"'1a'!C33","v":0},{"$f":"'1a'!D33","v":"lehrer31"},null,null,null,null,null,null,null,null,null,null,null,null,null,null,null,null,null,null,null,null,null,null,null,null,null,null,null,null,null,null,null,null,null,null,null,null,null,null,null,null,null,null,null,null,null,null,null,null,null,null,null,null,{"$f":"SUM(E33:BD33)","v":0}]
["4a",{"$f":"'1a'!B34","v":0},{"$f":"'1a'!C34","v":0},{"$f":"'1a'!D34","v":"lehrer32"},null,null,null,null,null,null,null,null,null,null,null,null,null,null,null,null,null,null,null,null,null,null,null,null,null,null,null,null,null,null,null,null,null,null,null,null,null,null,null,null,null,null,null,null,null,null,null,null,null,null,null,null,0]
["4a",{"$f":"'1a'!B35","v":0},{"$f":"'1a'!C35","v":0},{"$f":"'1a'!D35","v":"lehrer33"},null,null,null,null,null,null,null,null,null,null,null,null,null,null,null,null,null,null,null,null,null,null,null,null,null,null,null,null,null,null,null,null,null,null,null,null,null,null,null,null,null,null,null,null,null,null,null,null,null,null,null,null,0]
["4a",{"$f":"'1a'!B36","v":0},{"$f":"'1a'!C36","v":0},{"$f":"'1a'!D36","v":"lehrer34"},null,null,null,null,null,null,null,null,null,null,null,null,null,null,null,null,null,null,null,null,null,null,null,null,null,null,null,null,null,null,null,null,null,null,null,null,null,null,null,null,null,null,null,null,null,null,null,null,null,null,null,null,0]
["4a",{"$f":"'1a'!B37","v":0},{"$f":"'1a'!C37","v":0},{"$f":"'1a'!D37","v":"lehrer35"},null,null,null,null,null,null,null,null,null,null,null,null,null,null,null,null,null,null,null,null,null,null,null,null,null,null,null,null,null,null,null,null,null,null,null,null,null,null,null,null,null,null,null,null,null,null,null,null,null,null,null,null,0]
["4a",{"$f":"'1a'!B38","v":0},{"$f":"'1a'!C38","v":0},{"$f":"'1a'!D38","v":"lehrer36"},null,null,null,null,null,null,null,null,null,null,null,null,null,null,null,null,null,null,null,null,null,null,null,null,null,null,null,null,null,null,null,null,null,null,null,null,null,null,null,null,null,null,null,null,null,null,null,null,null,null,null,null,0]
["4a",{"$f":"'1a'!B39","v":0},{"$f":"'1a'!C39","v":0},{"$f":"'1a'!D39","v":"lehrer37"},null,null,null,null,null,null,null,null,null,null,null,null,null,null,null,null,null,null,null,null,null,null,null,null,null,null,null,null,null,null,null,null,null,null,null,null,null,null,null,null,null,null,null,null,null,null,null,null,null,null,null,null,0]
["4a",{"$f":"'1a'!B40","v":0},{"$f":"'1a'!C40","v":0},{"$f":"'1a'!D40","v":"lehrer38"},null,null,null,null,null,null,null,null,null,null,null,null,null,null,null,null,null,null,null,null,null,null,null,null,null,null,null,null,null,null,null,null,null,null,null,null,null,null,null,null,null,null,null,null,null,null,null,null,null,null,null,null,0]
["4a",{"$f":"'1a'!B41","v":0},{"$f":"'1a'!C41","v":0},{"$f":"'1a'!D41","v":"lehrer39"},null,null,null,null,null,null,null,null,null,null,null,null,null,null,null,null,null,null,null,null,null,null,null,null,null,null,null,null,null,null,null,null,null,null,null,null,null,null,null,null,null,null,null,null,null,null,null,null,null,null,null,null,0]
["4a",{"$f":"'1a'!B42","v":0},{"$f":"'1a'!C42","v":0},{"$f":"'1a'!D42","v":"lehrer40"},null,null,null,null,null,null,null,null,null,null,null,null,null,null,null,null,null,null,null,null,null,null,null,null,null,null,null,null,null,null,null,null,null,null,null,null,null,null,null,null,null,null,null,null,null,null,null,null,null,null,null,null,0]
["4a",{"$f":"'1a'!B43","v":0},{"$f":"'1a'!C43","v":0},{"$f":"'1a'!D43","v":"lehrer41"},null,null,null,null,null,null,null,null,null,null,null,null,null,null,null,null,null,null,null,null,null,null,null,null,null,null,null,null,null,null,null,null,null,null,null,null,null,null,null,null,null,null,null,null,null,null,null,null,null,null,null,null,0]
["4a",{"$f":"'1a'!B44","v":0},{"$f":"'1a'!C44","v":0},{"$f":"'1a'!D44","v":"lehrer42"},null,null,null,null,null,null,null,null,null,null,null,null,null,null,null,null,null,null,null,null,null,null,null,null,null,null,null,null,null,null,null,null,null,null,null,null,null,null,null,null,null,null,null,null,null,null,null,null,null,null,null,null,0]
["4a",{"$f":"'1a'!B45","v":0},{"$f":"'1a'!C45","v":0},{"$f":"'1a'!D45","v":"lehrer43"},null,null,null,null,null,null,null,null,null,null,null,null,null,null,null,null,null,null,null,null,null,null,null,null,null,null,null,null,null,null,null,null,null,null,null,null,null,null,null,null,null,null,null,null,null,null,null,null,null,null,null,null,0]
["4a",{"$f":"'1a'!B46","v":0},{"$f":"'1a'!C46","v":0},{"$f":"'1a'!D46","v":"lehrer44"},null,null,null,null,null,null,null,null,null,null,null,null,null,null,null,null,null,null,null,null,null,null,null,null,null,null,null,null,null,null,null,null,null,null,null,null,null,null,null,null,null,null,null,null,null,null,null,null,null,null,null,null,0]
["4a",{"$f":"'1a'!B47","v":0},{"$f":"'1a'!C47","v":0},{"$f":"'1a'!D47","v":"lehrer45"},null,null,null,null,null,null,null,null,null,null,null,null,null,null,null,null,null,null,null,null,null,null,null,null,null,null,null,null,null,null,null,null,null,null,null,null,null,null,null,null,null,null,null,null,null,null,null,null,null,null,null,null,0]
["4a",{"$f":"'1a'!B48","v":0},{"$f":"'1a'!C48","v":0},{"$f":"'1a'!D48","v":"lehrer46"},null,null,null,null,null,null,null,null,null,null,null,null,null,null,null,null,null,null,null,null,null,null,null,null,null,null,null,null,null,null,null,null,null,null,null,null,null,null,null,null,null,null,null,null,null,null,null,null,null,null,null,null,0]
["4a",{"$f":"'1a'!B49","v":0},{"$f":"'1a'!C49","v":0},{"$f":"'1a'!D49","v":"lehrer47"},null,null,null,null,null,null,null,null,null,null,null,null,null,null,null,null,null,null,null,null,null,null,null,null,null,null,null,null,null,null,null,null,null,null,null,null,null,null,null,null,null,null,null,null,null,null,null,null,null,null,null,null,0]
["4a",{"$f":"'1a'!B50","v":0},{"$f":"'1a'!C50","v":0},{"$f":"'1a'!D50","v":"lehrer48"},null,null,null,null,null,null,null,null,null,null,null,null,null,null,null,null,null,null,null,null,null,null,null,null,null,null,null,null,null,null,null,null,null,null,null,null,null,null,null,null,null,null,null,null,null,null,null,null,null,null,null,null,0]

{"sheet":"4b","index":14,"n_rows":50,"n_cols":57,"rows_kept":50,"cut":false,"hidden":false,"merged":[]}
[null,null,null," Summe GSt pro Klasse",{"$f":"SUM(E3:E50)","v":0},{"$f":"SUM(F3:F50)","v":0},0,0,0,0,0,0,0,0,0,0,0,0,0,0,0,0,0,0,0,0,0,0,0,0,0,0,0,0,0,0,0,0,0,0,0,0,0,0,0,0,0,0,0,0,0,0,0,0,0,0,0]
[{"$f":"header","v":"Klasse"},"Soll","in LVF","Lehrer","M","M-T","M-Stütz","D","D-T","D-Stütz","E","E-T","E-Stütz","BE","Soz","BSP","BU","C","EH","GS","GW","GZ","ME","PH","P / C","Werken","Relisl","S-BO","S-BU","S-EH","S-GW","S-GZ","S-PC","S-BE","S-Werk","vÜ BO","vÜ Soz","unv. DSP","unv. FB","INF Sta","INF ECDL","unv. KET","GTS","GTS-L","BE","Soz","BSP","frei","frei","frei","frei","frei","frei","frei","frei","frei","Summe Lehrer pro Klasse"]
["4b",{"$f":"'1a'!B3","v":0},{"$f":"'1a'!C3","v":0},{"$f":"'1a'!D3","v":"lehrer01"},null,null,null,null,null,null,null,null,null,null,null,null,null,null,null,null,null,null,null,null,null,null,null,null,null,null,null,null,null,null,null,null,null,null,null,null,null,null,null,null,null,null,null,null,null,null,null,null,null,null,null,null,{"$f":"SUM(E3:BD3)","v":0}]
["4b",{"$f":"'1a'!B4","v":0},{"$f":"'1a'!C4","v":0},{"$f":"'1a'!D4","v":"lehrer02"},null,null,null,null,null,null,null,null,null,null,null,null,null,null,null,null,null,null,null,null,null,null,null,null,null,null,null,null,null,null,null,null,null,null,null,null,null,null,null,null,null,null,null,null,null,null,null,null,null,null,null,null,0]
["4b",{"$f":"'1a'!B5","v":0},{"$f":"'1a'!C5","v":0},{"$f":"'1a'!D5","v":"lehrer03"},null,null,null,null,null,null,null,null,null,null,null,null,null,null,null,null,null,null,null,null,null,null,null,null,null,null,null,null,null,null,null,null,null,null,null,null,null,null,null,null,null,null,null,null,null,null,null,null,null,null,null,null,0]
["4b",{"$f":"'1a'!B6","v":0},{"$f":"'1a'!C6","v":0},{"$f":"'1a'!D6","v":"lehrer04"},null,null,null,null,null,null,null,null,null,null,null,null,null,null,null,null,null,null,null,null,null,null,null,null,null,null,null,null,null,null,null,null,null,null,null,null,null,null,null,null,null,null,null,null,null,null,null,null,null,null,null,null,0]
["4b",{"$f":"'1a'!B7","v":0},{"$f":"'1a'!C7","v":0},{"$f":"'1a'!D7","v":"lehrer05"},null,null,null,null,null,null,null,null,null,null,null,null,null,null,null,null,null,null,null,null,null,null,null,null,null,null,null,null,null,null,null,null,null,null,null,null,null,null,null,null,null,null,null,null,null,null,null,null,null,null,null,null,0]
["4b",{"$f":"'1a'!B8","v":0},{"$f":"'1a'!C8","v":0},{"$f":"'1a'!D8","v":"lehrer06"},null,null,null,null,null,null,null,null,null,null,null,null,null,null,null,null,null,null,null,null,null,null,null,null,null,null,null,null,null,null,null,null,null,null,null,null,null,null,null,null,null,null,null,null,null,null,null,null,null,null,null,null,0]
["4b",{"$f":"'1a'!B9","v":0},{"$f":"'1a'!C9","v":0},{"$f":"'1a'!D9","v":"lehrer07"},null,null,null,null,null,null,null,null,null,null,null,null,null,null,null,null,null,null,null,null,null,null,null,null,null,null,null,null,null,null,null,null,null,null,null,null,null,null,null,null,null,null,null,null,null,null,null,null,null,null,null,null,0]
["4b",{"$f":"'1a'!B10","v":0},{"$f":"'1a'!C10","v":0},{"$f":"'1a'!D10","v":"lehrer08"},null,null,null,null,null,null,null,null,null,null,null,null,null,null,null,null,null,null,null,null,null,null,null,null,null,null,null,null,null,null,null,null,null,null,null,null,null,null,null,null,null,null,null,null,null,null,null,null,null,null,null,null,0]
["4b",{"$f":"'1a'!B11","v":0},{"$f":"'1a'!C11","v":0},{"$f":"'1a'!D11","v":"lehrer09"},null,null,null,null,null,null,null,null,null,null,null,null,null,null,null,null,null,null,null,null,null,null,null,null,null,null,null,null,null,null,null,null,null,null,null,null,null,null,null,null,null,null,null,null,null,null,null,null,null,null,null,null,0]
["4b",{"$f":"'1a'!B12","v":0},{"$f":"'1a'!C12","v":0},{"$f":"'1a'!D12","v":"lehrer10"},null,null,null,null,null,null,null,null,null,null,null,null,null,null,null,null,null,null,null,null,null,null,null,null,null,null,null,null,null,null,null,null,null,null,null,null,null,null,null,null,null,null,null,null,null,null,null,null,null,null,null,null,0]
["4b",{"$f":"'1a'!B13","v":0},{"$f":"'1a'!C13","v":0},{"$f":"'1a'!D13","v":"lehrer11"},null,null,null,null,null,null,null,null,null,null,null,null,null,null,null,null,null,null,null,null,null,null,null,null,null,null,null,null,null,null,null,null,null,null,null,null,null,null,null,null,null,null,null,null,null,null,null,null,null,null,null,null,0]
["4b",{"$f":"'1a'!B14","v":0},{"$f":"'1a'!C14","v":0},{"$f":"'1a'!D14","v":"lehrer12"},null,null,null,null,null,null,null,null,null,null,null,null,null,null,null,null,null,null,null,null,null,null,null,null,null,null,null,null,null,null,null,null,null,null,null,null,null,null,null,null,null,null,null,null,null,null,null,null,null,null,null,null,0]
["4b",{"$f":"'1a'!B15","v":0},{"$f":"'1a'!C15","v":0},{"$f":"'1a'!D15","v":"lehrer13"},null,null,null,null,null,null,null,null,null,null,null,null,null,null,null,null,null,null,null,null,null,null,null,null,null,null,null,null,null,null,null,null,null,null,null,null,null,null,null,null,null,null,null,null,null,null,null,null,null,null,null,null,0]
["4b",{"$f":"'1a'!B16","v":0},{"$f":"'1a'!C16","v":0},{"$f":"'1a'!D16","v":"lehrer14"},null,null,null,null,null,null,null,null,null,null,null,null,null,null,null,null,null,null,null,null,null,null,null,null,null,null,null,null,null,null,null,null,null,null,null,null,null,null,null,null,null,null,null,null,null,null,null,null,null,null,null,null,0]
["4b",{"$f":"'1a'!B17","v":0},{"$f":"'1a'!C17","v":0},{"$f":"'1a'!D17","v":"lehrer15"},null,null,null,null,null,null,null,null,null,null,null,null,null,null,null,null,null,null,null,null,null,null,null,null,null,null,null,null,null,null,null,null,null,null,null,null,null,null,null,null,null,null,null,null,null,null,null,null,null,null,null,null,0]
["4b",{"$f":"'1a'!B18","v":0},{"$f":"'1a'!C18","v":0},{"$f":"'1a'!D18","v":"lehrer16"},null,null,null,null,null,null,null,null,null,null,null,null,null,null,null,null,null,null,null,null,null,null,null,null,null,null,null,null,null,null,null,null,null,null,null,null,null,null,null,null,null,null,null,null,null,null,null,null,null,null,null,null,0]
["4b",{"$f":"'1a'!B19","v":0},{"$f":"'1a'!C19","v":0},{"$f":"'1a'!D19","v":"lehrer17"},null,null,null,null,null,null,null,null,null,null,null,null,null,null,null,null,null,null,null,null,null,null,null,null,null,null,null,null,null,null,null,null,null,null,null,null,null,null,null,null,null,null,null,null,null,null,null,null,null,null,null,null,0]
["4b",{"$f":"'1a'!B20","v":0},{"$f":"'1a'!C20","v":0},{"$f":"'1a'!D20","v":"lehrer18"},null,null,null,null,null,null,null,null,null,null,null,null,null,null,null,null,null,null,null,null,null,null,null,null,null,null,null,null,null,null,null,null,null,null,null,null,null,null,null,null,null,null,null,null,null,null,null,null,null,null,null,null,0]
["4b",{"$f":"'1a'!B21","v":0},{"$f":"'1a'!C21","v":0},{"$f":"'1a'!D21","v":"lehrer19"},null,null,null,null,null,null,null,null,null,null,null,null,null,null,null,null,null,null,null,null,null,null,null,null,null,null,null,null,null,null,null,null,null,null,null,null,null,null,null,null,null,null,null,null,null,null,null,null,null,null,null,null,0]
["4b",{"$f":"'1a'!B22","v":0},{"$f":"'1a'!C22","v":0},{"$f":"'1a'!D22","v":"lehrer20"},null,null,null,null,null,null,null,null,null,null,null,null,null,null,null,null,null,null,null,null,null,null,null,null,null,null,null,null,null,null,null,null,null,null,null,null,null,null,null,null,null,null,null,null,null,null,null,null,null,null,null,null,0]
["4b",{"$f":"'1a'!B23","v":0},{"$f":"'1a'!C23","v":0},{"$f":"'1a'!D23","v":"lehrer21"},null,null,null,null,null,null,null,null,null,null,null,null,null,null,null,null,null,null,null,null,null,null,null,null,null,null,null,null,null,null,null,null,null,null,null,null,null,null,null,null,null,null,null,null,null,null,null,null,null,null,null,null,0]
["4b",{"$f":"'1a'!B24","v":0},{"$f":"'1a'!C24","v":0},{"$f":"'1a'!D24","v":"lehrer22"},null,null,null,null,null,null,null,null,null,null,null,null,null,null,null,null,null,null,null,null,null,null,null,null,null,null,null,null,null,null,null,null,null,null,null,null,null,null,null,null,null,null,null,null,null,null,null,null,null,null,null,null,0]
["4b",{"$f":"'1a'!B25","v":0},{"$f":"'1a'!C25","v":0},{"$f":"'1a'!D25","v":"lehrer23"},null,null,null,null,null,null,null,null,null,null,null,null,null,null,null,null,null,null,null,null,null,null,null,null,null,null,null,null,null,null,null,null,null,null,null,null,null,null,null,null,null,null,null,null,null,null,null,null,null,null,null,null,0]
["4b",{"$f":"'1a'!B26","v":0},{"$f":"'1a'!C26","v":0},{"$f":"'1a'!D26","v":"lehrer24"},null,null,null,null,null,null,null,null,null,null,null,null,null,null,null,null,null,null,null,null,null,null,null,null,null,null,null,null,null,null,null,null,null,null,null,null,null,null,null,null,null,null,null,null,null,null,null,null,null,null,null,null,0]
["4b",{"$f":"'1a'!B27","v":0},{"$f":"'1a'!C27","v":0},{"$f":"'1a'!D27","v":"lehrer25"},null,null,null,null,null,null,null,null,null,null,null,null,null,null,null,null,null,null,null,null,null,null,null,null,null,null,null,null,null,null,null,null,null,null,null,null,null,null,null,null,null,null,null,null,null,null,null,null,null,null,null,null,0]
["4b",{"$f":"'1a'!B28","v":0},{"$f":"'1a'!C28","v":0},{"$f":"'1a'!D28","v":"lehrer26"},null,null,null,null,null,null,null,null,null,null,null,null,null,null,null,null,null,null,null,null,null,null,null,null,null,null,null,null,null,null,null,null,null,null,null,null,null,null,null,null,null,null,null,null,null,null,null,null,null,null,null,null,0]
["4b",{"$f":"'1a'!B29","v":0},{"$f":"'1a'!C29","v":0},{"$f":"'1a'!D29","v":"lehrer27"},null,null,null,null,null,null,null,null,null,null,null,null,null,null,null,null,null,null,null,null,null,null,null,null,null,null,null,null,null,null,null,null,null,null,null,null,null,null,null,null,null,null,null,null,null,null,null,null,null,null,null,null,0]
["4b",{"$f":"'1a'!B30","v":0},{"$f":"'1a'!C30","v":0},{"$f":"'1a'!D30","v":"lehrer28"},null,null,null,null,null,null,null,null,null,null,null,null,null,null,null,null,null,null,null,null,null,null,null,null,null,null,null,null,null,null,null,null,null,null,null,null,null,null,null,null,null,null,null,null,null,null,null,null,null,null,null,null,0]
["4b",{"$f":"'1a'!B31","v":0},{"$f":"'1a'!C31","v":0},{"$f":"'1a'!D31","v":"lehrer29"},null,null,null,null,null,null,null,null,null,null,null,null,null,null,null,null,null,null,null,null,null,null,null,null,null,null,null,null,null,null,null,null,null,null,null,null,null,null,null,null,null,null,null,null,null,null,null,null,null,null,null,null,0]
["4b",{"$f":"'1a'!B32","v":0},{"$f":"'1a'!C32","v":0},{"$f":"'1a'!D32","v":"lehrer30"},null,null,null,null,null,null,null,null,null,null,null,null,null,null,null,null,null,null,null,null,null,null,null,null,null,null,null,null,null,null,null,null,null,null,null,null,null,null,null,null,null,null,null,null,null,null,null,null,null,null,null,null,0]
["4b",{"$f":"'1a'!B33","v":0},{"$f":"'1a'!C33","v":0},{"$f":"'1a'!D33","v":"lehrer31"},null,null,null,null,null,null,null,null,null,null,null,null,null,null,null,null,null,null,null,null,null,null,null,null,null,null,null,null,null,null,null,null,null,null,null,null,null,null,null,null,null,null,null,null,null,null,null,null,null,null,null,null,{"$f":"SUM(E33:BD33)","v":0}]
["4b",{"$f":"'1a'!B34","v":0},{"$f":"'1a'!C34","v":0},{"$f":"'1a'!D34","v":"lehrer32"},null,null,null,null,null,null,null,null,null,null,null,null,null,null,null,null,null,null,null,null,null,null,null,null,null,null,null,null,null,null,null,null,null,null,null,null,null,null,null,null,null,null,null,null,null,null,null,null,null,null,null,null,0]
["4b",{"$f":"'1a'!B35","v":0},{"$f":"'1a'!C35","v":0},{"$f":"'1a'!D35","v":"lehrer33"},null,null,null,null,null,null,null,null,null,null,null,null,null,null,null,null,null,null,null,null,null,null,null,null,null,null,null,null,null,null,null,null,null,null,null,null,null,null,null,null,null,null,null,null,null,null,null,null,null,null,null,null,0]
["4b",{"$f":"'1a'!B36","v":0},{"$f":"'1a'!C36","v":0},{"$f":"'1a'!D36","v":"lehrer34"},null,null,null,null,null,null,null,null,null,null,null,null,null,null,null,null,null,null,null,null,null,null,null,null,null,null,null,null,null,null,null,null,null,null,null,null,null,null,null,null,null,null,null,null,null,null,null,null,null,null,null,null,0]
["4b",{"$f":"'1a'!B37","v":0},{"$f":"'1a'!C37","v":0},{"$f":"'1a'!D37","v":"lehrer35"},null,null,null,null,null,null,null,null,null,null,null,null,null,null,null,null,null,null,null,null,null,null,null,null,null,null,null,null,null,null,null,null,null,null,null,null,null,null,null,null,null,null,null,null,null,null,null,null,null,null,null,null,0]
["4b",{"$f":"'1a'!B38","v":0},{"$f":"'1a'!C38","v":0},{"$f":"'1a'!D38","v":"lehrer36"},null,null,null,null,null,null,null,null,null,null,null,null,null,null,null,null,null,null,null,null,null,null,null,null,null,null,null,null,null,null,null,null,null,null,null,null,null,null,null,null,null,null,null,null,null,null,null,null,null,null,null,null,0]
["4b",{"$f":"'1a'!B39","v":0},{"$f":"'1a'!C39","v":0},{"$f":"'1a'!D39","v":"lehrer37"},null,null,null,null,null,null,null,null,null,null,null,null,null,null,null,null,null,null,null,null,null,null,null,null,null,null,null,null,null,null,null,null,null,null,null,null,null,null,null,null,null,null,null,null,null,null,null,null,null,null,null,null,0]
["4b",{"$f":"'1a'!B40","v":0},{"$f":"'1a'!C40","v":0},{"$f":"'1a'!D40","v":"lehrer38"},null,null,null,null,null,null,null,null,null,null,null,null,null,null,null,null,null,null,null,null,null,null,null,null,null,null,null,null,null,null,null,null,null,null,null,null,null,null,null,null,null,null,null,null,null,null,null,null,null,null,null,null,0]
["4b",{"$f":"'1a'!B41","v":0},{"$f":"'1a'!C41","v":0},{"$f":"'1a'!D41","v":"lehrer39"},null,null,null,null,null,null,null,null,null,null,null,null,null,null,null,null,null,null,null,null,null,null,null,null,null,null,null,null,null,null,null,null,null,null,null,null,null,null,null,null,null,null,null,null,null,null,null,null,null,null,null,null,0]
["4b",{"$f":"'1a'!B42","v":0},{"$f":"'1a'!C42","v":0},{"$f":"'1a'!D42","v":"lehrer40"},null,null,null,null,null,null,null,null,null,null,null,null,null,null,null,null,null,null,null,null,null,null,null,null,null,null,null,null,null,null,null,null,null,null,null,null,null,null,null,null,null,null,null,null,null,null,null,null,null,null,null,null,0]
["4b",{"$f":"'1a'!B43","v":0},{"$f":"'1a'!C43","v":0},{"$f":"'1a'!D43","v":"lehrer41"},null,null,null,null,null,null,null,null,null,null,null,null,null,null,null,null,null,null,null,null,null,null,null,null,null,null,null,null,null,null,null,null,null,null,null,null,null,null,null,null,null,null,null,null,null,null,null,null,null,null,null,null,0]
["4b",{"$f":"'1a'!B44","v":0},{"$f":"'1a'!C44","v":0},{"$f":"'1a'!D44","v":"lehrer42"},null,null,null,null,null,null,null,null,null,null,null,null,null,null,null,null,null,null,null,null,null,null,null,null,null,null,null,null,null,null,null,null,null,null,null,null,null,null,null,null,null,null,null,null,null,null,null,null,null,null,null,null,0]
["4b",{"$f":"'1a'!B45","v":0},{"$f":"'1a'!C45","v":0},{"$f":"'1a'!D45","v":"lehrer43"},null,null,null,null,null,null,null,null,null,null,null,null,null,null,null,null,null,null,null,null,null,null,null,null,null,null,null,null,null,null,null,null,null,null,null,null,null,null,null,null,null,null,null,null,null,null,null,null,null,null,null,null,0]
["4b",{"$f":"'1a'!B46","v":0},{"$f":"'1a'!C46","v":0},{"$f":"'1a'!D46","v":"lehrer44"},null,null,null,null,null,null,null,null,null,null,null,null,null,null,null,null,null,null,null,null,null,null,null,null,null,null,null,null,null,null,null,null,null,null,null,null,null,null,null,null,null,null,null,null,null,null,null,null,null,null,null,null,0]
["4b",{"$f":"'1a'!B47","v":0},{"$f":"'1a'!C47","v":0},{"$f":"'1a'!D47","v":"lehrer45"},null,null,null,null,null,null,null,null,null,null,null,null,null,null,null,null,null,null,null,null,null,null,null,null,null,null,null,null,null,null,null,null,null,null,null,null,null,null,null,null,null,null,null,null,null,null,null,null,null,null,null,null,0]
["4b",{"$f":"'1a'!B48","v":0},{"$f":"'1a'!C48","v":0},{"$f":"'1a'!D48","v":"lehrer46"},null,null,null,null,null,null,null,null,null,null,null,null,null,null,null,null,null,null,null,null,null,null,null,null,null,null,null,null,null,null,null,null,null,null,null,null,null,null,null,null,null,null,null,null,null,null,null,null,null,null,null,null,0]
["4b",{"$f":"'1a'!B49","v":0},{"$f":"'1a'!C49","v":0},{"$f":"'1a'!D49","v":"lehrer47"},null,null,null,null,null,null,null,null,null,null,null,null,null,null,null,null,null,null,null,null,null,null,null,null,null,null,null,null,null,null,null,null,null,null,null,null,null,null,null,null,null,null,null,null,null,null,null,null,null,null,null,null,0]
["4b",{"$f":"'1a'!B50","v":0},{"$f":"'1a'!C50","v":0},{"$f":"'1a'!D50","v":"lehrer48"},null,null,null,null,null,null,null,null,null,null,null,null,null,null,null,null,null,null,null,null,null,null,null,null,null,null,null,null,null,null,null,null,null,null,null,null,null,null,null,null,null,null,null,null,null,null,null,null,null,null,null,null,0]

{"sheet":"4c","index":15,"n_rows":50,"n_cols":57,"rows_kept":50,"cut":false,"hidden":false,"merged":[]}
[null,null,null," Summe GSt pro Klasse",{"$f":"SUM(E3:E50)","v":0},{"$f":"SUM(F3:F50)","v":0},0,0,0,0,0,0,0,0,0,0,0,0,0,0,0,0,0,0,0,0,0,0,0,0,0,0,0,0,0,0,0,0,0,0,0,0,0,0,0,0,0,0,0,0,0,0,0,0,0,0,0]
[{"$f":"header","v":"Klasse"},"Soll","in LVF","Lehrer","M","M-T","M-Stütz","D","D-T","D-Stütz","E","E-T","E-Stütz","BE","Soz","BSP","BU","C","EH","GS","GW","GZ","ME","PH","P / C","Werken","Relisl","S-BO","S-BU","S-EH","S-GW","S-GZ","S-PC","S-BE","S-Werk","vÜ BO","vÜ Soz","unv. DSP","unv. FB","INF Sta","INF ECDL","unv. KET","GTS","GTS-L","BE","Soz","BSP","frei","frei","frei","frei","frei","frei","frei","frei","frei","Summe Lehrer pro Klasse"]
["4c",{"$f":"'1a'!B3","v":0},{"$f":"'1a'!C3","v":0},{"$f":"'1a'!D3","v":"lehrer01"},null,null,null,null,null,null,null,null,null,null,null,null,null,null,null,null,null,null,null,null,null,null,null,null,null,null,null,null,null,null,null,null,null,null,null,null,null,null,null,null,null,null,null,null,null,null,null,null,null,null,null,null,{"$f":"SUM(E3:BD3)","v":0}]
["4c",{"$f":"'1a'!B4","v":0},{"$f":"'1a'!C4","v":0},{"$f":"'1a'!D4","v":"lehrer02"},null,null,null,null,null,null,null,null,null,null,null,null,null,null,null,null,null,null,null,null,null,null,null,null,null,null,null,null,null,null,null,null,null,null,null,null,null,null,null,null,null,null,null,null,null,null,null,null,null,null,null,null,0]
["4c",{"$f":"'1a'!B5","v":0},{"$f":"'1a'!C5","v":0},{"$f":"'1a'!D5","v":"lehrer03"},null,null,null,null,null,null,null,null,null,null,null,null,null,null,null,null,null,null,null,null,null,null,null,null,null,null,null,null,null,null,null,null,null,null,null,null,null,null,null,null,null,null,null,null,null,null,null,null,null,null,null,null,0]
["4c",{"$f":"'1a'!B6","v":0},{"$f":"'1a'!C6","v":0},{"$f":"'1a'!D6","v":"lehrer04"},null,null,null,null,null,null,null,null,null,null,null,null,null,null,null,null,null,null,null,null,null,null,null,null,null,null,null,null,null,null,null,null,null,null,null,null,null,null,null,null,null,null,null,null,null,null,null,null,null,null,null,null,0]
["4c",{"$f":"'1a'!B7","v":0},{"$f":"'1a'!C7","v":0},{"$f":"'1a'!D7","v":"lehrer05"},null,null,null,null,null,null,null,null,null,null,null,null,null,null,null,null,null,null,null,null,null,null,null,null,null,null,null,null,null,null,null,null,null,null,null,null,null,null,null,null,null,null,null,null,null,null,null,null,null,null,null,null,0]
["4c",{"$f":"'1a'!B8","v":0},{"$f":"'1a'!C8","v":0},{"$f":"'1a'!D8","v":"lehrer06"},null,null,null,null,null,null,null,null,null,null,null,null,null,null,null,null,null,null,null,null,null,null,null,null,null,null,null,null,null,null,null,null,null,null,null,null,null,null,null,null,null,null,null,null,null,null,null,null,null,null,null,null,0]
["4c",{"$f":"'1a'!B9","v":0},{"$f":"'1a'!C9","v":0},{"$f":"'1a'!D9","v":"lehrer07"},null,null,null,null,null,null,null,null,null,null,null,null,null,null,null,null,null,null,null,null,null,null,null,null,null,null,null,null,null,null,null,null,null,null,null,null,null,null,null,null,null,null,null,null,null,null,null,null,null,null,null,null,0]
["4c",{"$f":"'1a'!B10","v":0},{"$f":"'1a'!C10","v":0},{"$f":"'1a'!D10","v":"lehrer08"},null,null,null,null,null,null,null,null,null,null,null,null,null,null,null,null,null,null,null,null,null,null,null,null,null,null,null,null,null,null,null,null,null,null,null,null,null,null,null,null,null,null,null,null,null,null,null,null,null,null,null,null,0]
["4c",{"$f":"'1a'!B11","v":0},{"$f":"'1a'!C11","v":0},{"$f":"'1a'!D11","v":"lehrer09"},null,null,null,null,null,null,null,null,null,null,null,null,null,null,null,null,null,null,null,null,null,null,null,null,null,null,null,null,null,null,null,null,null,null,null,null,null,null,null,null,null,null,null,null,null,null,null,null,null,null,null,null,0]
["4c",{"$f":"'1a'!B12","v":0},{"$f":"'1a'!C12","v":0},{"$f":"'1a'!D12","v":"lehrer10"},null,null,null,null,null,null,null,null,null,null,null,null,null,null,null,null,null,null,null,null,null,null,null,null,null,null,null,null,null,null,null,null,null,null,null,null,null,null,null,null,null,null,null,null,null,null,null,null,null,null,null,null,0]
["4c",{"$f":"'1a'!B13","v":0},{"$f":"'1a'!C13","v":0},{"$f":"'1a'!D13","v":"lehrer11"},null,null,null,null,null,null,null,null,null,null,null,null,null,null,null,null,null,null,null,null,null,null,null,null,null,null,null,null,null,null,null,null,null,null,null,null,null,null,null,null,null,null,null,null,null,null,null,null,null,null,null,null,0]
["4c",{"$f":"'1a'!B14","v":0},{"$f":"'1a'!C14","v":0},{"$f":"'1a'!D14","v":"lehrer12"},null,null,null,null,null,null,null,null,null,null,null,null,null,null,null,null,null,null,null,null,null,null,null,null,null,null,null,null,null,null,null,null,null,null,null,null,null,null,null,null,null,null,null,null,null,null,null,null,null,null,null,null,0]
["4c",{"$f":"'1a'!B15","v":0},{"$f":"'1a'!C15","v":0},{"$f":"'1a'!D15","v":"lehrer13"},null,null,null,null,null,null,null,null,null,null,null,null,null,null,null,null,null,null,null,null,null,null,null,null,null,null,null,null,null,null,null,null,null,null,null,null,null,null,null,null,null,null,null,null,null,null,null,null,null,null,null,null,0]
["4c",{"$f":"'1a'!B16","v":0},{"$f":"'1a'!C16","v":0},{"$f":"'1a'!D16","v":"lehrer14"},null,null,null,null,null,null,null,null,null,null,null,null,null,null,null,null,null,null,null,null,null,null,null,null,null,null,null,null,null,null,null,null,null,null,null,null,null,null,null,null,null,null,null,null,null,null,null,null,null,null,null,null,0]
["4c",{"$f":"'1a'!B17","v":0},{"$f":"'1a'!C17","v":0},{"$f":"'1a'!D17","v":"lehrer15"},null,null,null,null,null,null,null,null,null,null,null,null,null,null,null,null,null,null,null,null,null,null,null,null,null,null,null,null,null,null,null,null,null,null,null,null,null,null,null,null,null,null,null,null,null,null,null,null,null,null,null,null,0]
["4c",{"$f":"'1a'!B18","v":0},{"$f":"'1a'!C18","v":0},{"$f":"'1a'!D18","v":"lehrer16"},null,null,null,null,null,null,null,null,null,null,null,null,null,null,null,null,null,null,null,null,null,null,null,null,null,null,null,null,null,null,null,null,null,null,null,null,null,null,null,null,null,null,null,null,null,null,null,null,null,null,null,null,0]
["4c",{"$f":"'1a'!B19","v":0},{"$f":"'1a'!C19","v":0},{"$f":"'1a'!D19","v":"lehrer17"},null,null,null,null,null,null,null,null,null,null,null,null,null,null,null,null,null,null,null,null,null,null,null,null,null,null,null,null,null,null,null,null,null,null,null,null,null,null,null,null,null,null,null,null,null,null,null,null,null,null,null,null,0]
["4c",{"$f":"'1a'!B20","v":0},{"$f":"'1a'!C20","v":0},{"$f":"'1a'!D20","v":"lehrer18"},null,null,null,null,null,null,null,null,null,null,null,null,null,null,null,null,null,null,null,null,null,null,null,null,null,null,null,null,null,null,null,null,null,null,null,null,null,null,null,null,null,null,null,null,null,null,null,null,null,null,null,null,0]
["4c",{"$f":"'1a'!B21","v":0},{"$f":"'1a'!C21","v":0},{"$f":"'1a'!D21","v":"lehrer19"},null,null,null,null,null,null,null,null,null,null,null,null,null,null,null,null,null,null,null,null,null,null,null,null,null,null,null,null,null,null,null,null,null,null,null,null,null,null,null,null,null,null,null,null,null,null,null,null,null,null,null,null,0]
["4c",{"$f":"'1a'!B22","v":0},{"$f":"'1a'!C22","v":0},{"$f":"'1a'!D22","v":"lehrer20"},null,null,null,null,null,null,null,null,null,null,null,null,null,null,null,null,null,null,null,null,null,null,null,null,null,null,null,null,null,null,null,null,null,null,null,null,null,null,null,null,null,null,null,null,null,null,null,null,null,null,null,null,0]
["4c",{"$f":"'1a'!B23","v":0},{"$f":"'1a'!C23","v":0},{"$f":"'1a'!D23","v":"lehrer21"},null,null,null,null,null,null,null,null,null,null,null,null,null,null,null,null,null,null,null,null,null,null,null,null,null,null,null,null,null,null,null,null,null,null,null,null,null,null,null,null,null,null,null,null,null,null,null,null,null,null,null,null,0]
["4c",{"$f":"'1a'!B24","v":0},{"$f":"'1a'!C24","v":0},{"$f":"'1a'!D24","v":"lehrer22"},null,null,null,null,null,null,null,null,null,null,null,null,null,null,null,null,null,null,null,null,null,null,null,null,null,null,null,null,null,null,null,null,null,null,null,null,null,null,null,null,null,null,null,null,null,null,null,null,null,null,null,null,0]
["4c",{"$f":"'1a'!B25","v":0},{"$f":"'1a'!C25","v":0},{"$f":"'1a'!D25","v":"lehrer23"},null,null,null,null,null,null,null,null,null,null,null,null,null,null,null,null,null,null,null,null,null,null,null,null,null,null,null,null,null,null,null,null,null,null,null,null,null,null,null,null,null,null,null,null,null,null,null,null,null,null,null,null,0]
["4c",{"$f":"'1a'!B26","v":0},{"$f":"'1a'!C26","v":0},{"$f":"'1a'!D26","v":"lehrer24"},null,null,null,null,null,null,null,null,null,null,null,null,null,null,null,null,null,null,null,null,null,null,null,null,null,null,null,null,null,null,null,null,null,null,null,null,null,null,null,null,null,null,null,null,null,null,null,null,null,null,null,null,0]
["4c",{"$f":"'1a'!B27","v":0},{"$f":"'1a'!C27","v":0},{"$f":"'1a'!D27","v":"lehrer25"},null,null,null,null,null,null,null,null,null,null,null,null,null,null,null,null,null,null,null,null,null,null,null,null,null,null,null,null,null,null,null,null,null,null,null,null,null,null,null,null,null,null,null,null,null,null,null,null,null,null,null,null,0]
["4c",{"$f":"'1a'!B28","v":0},{"$f":"'1a'!C28","v":0},{"$f":"'1a'!D28","v":"lehrer26"},null,null,null,null,null,null,null,null,null,null,null,null,null,null,null,null,null,null,null,null,null,null,null,null,null,null,null,null,null,null,null,null,null,null,null,null,null,null,null,null,null,null,null,null,null,null,null,null,null,null,null,null,0]
["4c",{"$f":"'1a'!B29","v":0},{"$f":"'1a'!C29","v":0},{"$f":"'1a'!D29","v":"lehrer27"},null,null,null,null,null,null,null,null,null,null,null,null,null,null,null,null,null,null,null,null,null,null,null,null,null,null,null,null,null,null,null,null,null,null,null,null,null,null,null,null,null,null,null,null,null,null,null,null,null,null,null,null,0]
["4c",{"$f":"'1a'!B30","v":0},{"$f":"'1a'!C30","v":0},{"$f":"'1a'!D30","v":"lehrer28"},null,null,null,null,null,null,null,null,null,null,null,null,null,null,null,null,null,null,null,null,null,null,null,null,null,null,null,null,null,null,null,null,null,null,null,null,null,null,null,null,null,null,null,null,null,null,null,null,null,null,null,null,0]
["4c",{"$f":"'1a'!B31","v":0},{"$f":"'1a'!C31","v":0},{"$f":"'1a'!D31","v":"lehrer29"},null,null,null,null,null,null,null,null,null,null,null,null,null,null,null,null,null,null,null,null,null,null,null,null,null,null,null,null,null,null,null,null,null,null,null,null,null,null,null,null,null,null,null,null,null,null,null,null,null,null,null,null,0]
["4c",{"$f":"'1a'!B32","v":0},{"$f":"'1a'!C32","v":0},{"$f":"'1a'!D32","v":"lehrer30"},null,null,null,null,null,null,null,null,null,null,null,null,null,null,null,null,null,null,null,null,null,null,null,null,null,null,null,null,null,null,null,null,null,null,null,null,null,null,null,null,null,null,null,null,null,null,null,null,null,null,null,null,0]
["4c",{"$f":"'1a'!B33","v":0},{"$f":"'1a'!C33","v":0},{"$f":"'1a'!D33","v":"lehrer31"},null,null,null,null,null,null,null,null,null,null,null,null,null,null,null,null,null,null,null,null,null,null,null,null,null,null,null,null,null,null,null,null,null,null,null,null,null,null,null,null,null,null,null,null,null,null,null,null,null,null,null,null,0]
["4c",{"$f":"'1a'!B34","v":0},{"$f":"'1a'!C34","v":0},{"$f":"'1a'!D34","v":"lehrer32"},null,null,null,null,null,null,null,null,null,null,null,null,null,null,null,null,null,null,null,null,null,null,null,null,null,null,null,null,null,null,null,null,null,null,null,null,null,null,null,null,null,null,null,null,null,null,null,null,null,null,null,null,0]
["4c",{"$f":"'1a'!B35","v":0},{"$f":"'1a'!C35","v":0},{"$f":"'1a'!D35","v":"lehrer33"},null,null,null,null,null,null,null,null,null,null,null,null,null,null,null,null,null,null,null,null,null,null,null,null,null,null,null,null,null,null,null,null,null,null,null,null,null,null,null,null,null,null,null,null,null,null,null,null,null,null,null,null,0]
["4c",{"$f":"'1a'!B36","v":0},{"$f":"'1a'!C36","v":0},{"$f":"'1a'!D36","v":"lehrer34"},null,null,null,null,null,null,null,null,null,null,null,null,null,null,null,null,null,null,null,null,null,null,null,null,null,null,null,null,null,null,null,null,null,null,null,null,null,null,null,null,null,null,null,null,null,null,null,null,null,null,null,null,0]
["4c",{"$f":"'1a'!B37","v":0},{"$f":"'1a'!C37","v":0},{"$f":"'1a'!D37","v":"lehrer35"},null,null,null,null,null,null,null,null,null,null,null,null,null,null,null,null,null,null,null,null,null,null,null,null,null,null,null,null,null,null,null,null,null,null,null,null,null,null,null,null,null,null,null,null,null,null,null,null,null,null,null,null,0]
["4c",{"$f":"'1a'!B38","v":0},{"$f":"'1a'!C38","v":0},{"$f":"'1a'!D38","v":"lehrer36"},null,null,null,null,null,null,null,null,null,null,null,null,null,null,null,null,null,null,null,null,null,null,null,null,null,null,null,null,null,null,null,null,null,null,null,null,null,null,null,null,null,null,null,null,null,null,null,null,null,null,null,null,0]
["4c",{"$f":"'1a'!B39","v":0},{"$f":"'1a'!C39","v":0},{"$f":"'1a'!D39","v":"lehrer37"},null,null,null,null,null,null,null,null,null,null,null,null,null,null,null,null,null,null,null,null,null,null,null,null,null,null,null,null,null,null,null,null,null,null,null,null,null,null,null,null,null,null,null,null,null,null,null,null,null,null,null,null,0]
["4c",{"$f":"'1a'!B40","v":0},{"$f":"'1a'!C40","v":0},{"$f":"'1a'!D40","v":"lehrer38"},null,null,null,null,null,null,null,null,null,null,null,null,null,null,null,null,null,null,null,null,null,null,null,null,null,null,null,null,null,null,null,null,null,null,null,null,null,null,null,null,null,null,null,null,null,null,null,null,null,null,null,null,0]
["4c",{"$f":"'1a'!B41","v":0},{"$f":"'1a'!C41","v":0},{"$f":"'1a'!D41","v":"lehrer39"},null,null,null,null,null,null,null,null,null,null,null,null,null,null,null,null,null,null,null,null,null,null,null,null,null,null,null,null,null,null,null,null,null,null,null,null,null,null,null,null,null,null,null,null,null,null,null,null,null,null,null,null,0]
["4c",{"$f":"'1a'!B42","v":0},{"$f":"'1a'!C42","v":0},{"$f":"'1a'!D42","v":"lehrer40"},null,null,null,null,null,null,null,null,null,null,null,null,null,null,null,null,null,null,null,null,null,null,null,null,null,null,null,null,null,null,null,null,null,null,null,null,null,null,null,null,null,null,null,null,null,null,null,null,null,null,null,null,0]
["4c",{"$f":"'1a'!B43","v":0},{"$f":"'1a'!C43","v":0},{"$f":"'1a'!D43","v":"lehrer41"},null,null,null,null,null,null,null,null,null,null,null,null,null,null,null,null,null,null,null,null,null,null,null,null,null,null,null,null,null,null,null,null,null,null,null,null,null,null,null,null,null,null,null,null,null,null,null,null,null,null,null,null,0]
["4c",{"$f":"'1a'!B44","v":0},{"$f":"'1a'!C44","v":0},{"$f":"'1a'!D44","v":"lehrer42"},null,null,null,null,null,null,null,null,null,null,null,null,null,null,null,null,null,null,null,null,null,null,null,null,null,null,null,null,null,null,null,null,null,null,null,null,null,null,null,null,null,null,null,null,null,null,null,null,null,null,null,null,0]
["4c",{"$f":"'1a'!B45","v":0},{"$f":"'1a'!C45","v":0},{"$f":"'1a'!D45","v":"lehrer43"},null,null,null,null,null,null,null,null,null,null,null,null,null,null,null,null,null,null,null,null,null,null,null,null,null,null,null,null,null,null,null,null,null,null,null,null,null,null,null,null,null,null,null,null,null,null,null,null,null,null,null,null,0]
["4c",{"$f":"'1a'!B46","v":0},{"$f":"'1a'!C46","v":0},{"$f":"'1a'!D46","v":"lehrer44"},null,null,null,null,null,null,null,null,null,null,null,null,null,null,null,null,null,null,null,null,null,null,null,null,null,null,null,null,null,null,null,null,null,null,null,null,null,null,null,null,null,null,null,null,null,null,null,null,null,null,null,null,0]
["4c",{"$f":"'1a'!B47","v":0},{"$f":"'1a'!C47","v":0},{"$f":"'1a'!D47","v":"lehrer45"},null,null,null,null,null,null,null,null,null,null,null,null,null,null,null,null,null,null,null,null,null,null,null,null,null,null,null,null,null,null,null,null,null,null,null,null,null,null,null,null,null,null,null,null,null,null,null,null,null,null,null,null,0]
["4c",{"$f":"'1a'!B48","v":0},{"$f":"'1a'!C48","v":0},{"$f":"'1a'!D48","v":"lehrer46"},null,null,null,null,null,null,null,null,null,null,null,null,null,null,null,null,null,null,null,null,null,null,null,null,null,null,null,null,null,null,null,null,null,null,null,null,null,null,null,null,null,null,null,null,null,null,null,null,null,null,null,null,0]
["4c",{"$f":"'1a'!B49","v":0},{"$f":"'1a'!C49","v":0},{"$f":"'1a'!D49","v":"lehrer47"},null,null,null,null,null,null,null,null,null,null,null,null,null,null,null,null,null,null,null,null,null,null,null,null,null,null,null,null,null,null,null,null,null,null,null,null,null,null,null,null,null,null,null,null,null,null,null,null,null,null,null,null,0]
["4c",{"$f":"'1a'!B50","v":0},{"$f":"'1a'!C50","v":0},{"$f":"'1a'!D50","v":"lehrer48"},null,null,null,null,null,null,null,null,null,null,null,null,null,null,null,null,null,null,null,null,null,null,null,null,null,null,null,null,null,null,null,null,null,null,null,null,null,null,null,null,null,null,null,null,null,null,null,null,null,null,null,null,0]

{"sheet":"4d","index":16,"n_rows":50,"n_cols":57,"rows_kept":50,"cut":false,"hidden":false,"merged":[]}
[null,null,null," Summe GSt pro Klasse",{"$f":"SUM(E3:E50)","v":0},{"$f":"SUM(F3:F50)","v":0},0,0,0,0,0,0,0,0,0,0,0,0,0,0,0,0,0,0,0,0,0,0,0,0,0,0,0,0,0,0,0,0,0,0,0,0,0,0,0,0,0,0,0,0,0,0,0,0,0,0,0]
[{"$f":"header","v":"Klasse"},"Soll","in LVF","Lehrer","M","M-T","M-Stütz","D","D-T","D-Stütz","E","E-T","E-Stütz","BE","Soz","BSP","BU","C","EH","GS","GW","GZ","ME","PH","P / C","Werken","Relisl","S-BO","S-BU","S-EH","S-GW","S-GZ","S-PC","S-BE","S-Werk","vÜ BO","vÜ Soz","unv. DSP","unv. FB","INF Sta","INF ECDL","unv. KET","GTS","GTS-L","BE","Soz","BSP","frei","frei","frei","frei","frei","frei","frei","frei","frei","Summe Lehrer pro Klasse"]
["4d",{"$f":"'1a'!B3","v":0},{"$f":"'1a'!C3","v":0},{"$f":"'1a'!D3","v":"lehrer01"},null,null,null,null,null,null,null,null,null,null,null,null,null,null,null,null,null,null,null,null,null,null,null,null,null,null,null,null,null,null,null,null,null,null,null,null,null,null,null,null,null,null,null,null,null,null,null,null,null,null,null,null,{"$f":"SUM(E3:BD3)","v":0}]
["4d",{"$f":"'1a'!B4","v":0},{"$f":"'1a'!C4","v":0},{"$f":"'1a'!D4","v":"lehrer02"},null,null,null,null,null,null,null,null,null,null,null,null,null,null,null,null,null,null,null,null,null,null,null,null,null,null,null,null,null,null,null,null,null,null,null,null,null,null,null,null,null,null,null,null,null,null,null,null,null,null,null,null,0]
["4d",{"$f":"'1a'!B5","v":0},{"$f":"'1a'!C5","v":0},{"$f":"'1a'!D5","v":"lehrer03"},null,null,null,null,null,null,null,null,null,null,null,null,null,null,null,null,null,null,null,null,null,null,null,null,null,null,null,null,null,null,null,null,null,null,null,null,null,null,null,null,null,null,null,null,null,null,null,null,null,null,null,null,0]
["4d",{"$f":"'1a'!B6","v":0},{"$f":"'1a'!C6","v":0},{"$f":"'1a'!D6","v":"lehrer04"},null,null,null,null,null,null,null,null,null,null,null,null,null,null,null,null,null,null,null,null,null,null,null,null,null,null,null,null,null,null,null,null,null,null,null,null,null,null,null,null,null,null,null,null,null,null,null,null,null,null,null,null,0]
["4d",{"$f":"'1a'!B7","v":0},{"$f":"'1a'!C7","v":0},{"$f":"'1a'!D7","v":"lehrer05"},null,null,null,null,null,null,null,null,null,null,null,null,null,null,null,null,null,null,null,null,null,null,null,null,null,null,null,null,null,null,null,null,null,null,null,null,null,null,null,null,null,null,null,null,null,null,null,null,null,null,null,null,0]
["4d",{"$f":"'1a'!B8","v":0},{"$f":"'1a'!C8","v":0},{"$f":"'1a'!D8","v":"lehrer06"},null,null,null,null,null,null,null,null,null,null,null,null,null,null,null,null,null,null,null,null,null,null,null,null,null,null,null,null,null,null,null,null,null,null,null,null,null,null,null,null,null,null,null,null,null,null,null,null,null,null,null,null,0]
["4d",{"$f":"'1a'!B9","v":0},{"$f":"'1a'!C9","v":0},{"$f":"'1a'!D9","v":"lehrer07"},null,null,null,null,null,null,null,null,null,null,null,null,null,null,null,null,null,null,null,null,null,null,null,null,null,null,null,null,null,null,null,null,null,null,null,null,null,null,null,null,null,null,null,null,null,null,null,null,null,null,null,null,0]
["4d",{"$f":"'1a'!B10","v":0},{"$f":"'1a'!C10","v":0},{"$f":"'1a'!D10","v":"lehrer08"},null,null,null,null,null,null,null,null,null,null,null,null,null,null,null,null,null,null,null,null,null,null,null,null,null,null,null,null,null,null,null,null,null,null,null,null,null,null,null,null,null,null,null,null,null,null,null,null,null,null,null,null,0]
["4d",{"$f":"'1a'!B11","v":0},{"$f":"'1a'!C11","v":0},{"$f":"'1a'!D11","v":"lehrer09"},null,null,null,null,null,null,null,null,null,null,null,null,null,null,null,null,null,null,null,null,null,null,null,null,null,null,null,null,null,null,null,null,null,null,null,null,null,null,null,null,null,null,null,null,null,null,null,null,null,null,null,null,0]
["4d",{"$f":"'1a'!B12","v":0},{"$f":"'1a'!C12","v":0},{"$f":"'1a'!D12","v":"lehrer10"},null,null,null,null,null,null,null,null,null,null,null,null,null,null,null,null,null,null,null,null,null,null,null,null,null,null,null,null,null,null,null,null,null,null,null,null,null,null,null,null,null,null,null,null,null,null,null,null,null,null,null,null,0]
["4d",{"$f":"'1a'!B13","v":0},{"$f":"'1a'!C13","v":0},{"$f":"'1a'!D13","v":"lehrer11"},null,null,null,null,null,null,null,null,null,null,null,null,null,null,null,null,null,null,null,null,null,null,null,null,null,null,null,null,null,null,null,null,null,null,null,null,null,null,null,null,null,null,null,null,null,null,null,null,null,null,null,null,0]
["4d",{"$f":"'1a'!B14","v":0},{"$f":"'1a'!C14","v":0},{"$f":"'1a'!D14","v":"lehrer12"},null,null,null,null,null,null,null,null,null,null,null,null,null,null,null,null,null,null,null,null,null,null,null,null,null,null,null,null,null,null,null,null,null,null,null,null,null,null,null,null,null,null,null,null,null,null,null,null,null,null,null,null,0]
["4d",{"$f":"'1a'!B15","v":0},{"$f":"'1a'!C15","v":0},{"$f":"'1a'!D15","v":"lehrer13"},null,null,null,null,null,null,null,null,null,null,null,null,null,null,null,null,null,null,null,null,null,null,null,null,null,null,null,null,null,null,null,null,null,null,null,null,null,null,null,null,null,null,null,null,null,null,null,null,null,null,null,null,0]
["4d",{"$f":"'1a'!B16","v":0},{"$f":"'1a'!C16","v":0},{"$f":"'1a'!D16","v":"lehrer14"},null,null,null,null,null,null,null,null,null,null,null,null,null,null,null,null,null,null,null,null,null,null,null,null,null,null,null,null,null,null,null,null,null,null,null,null,null,null,null,null,null,null,null,null,null,null,null,null,null,null,null,null,0]
["4d",{"$f":"'1a'!B17","v":0},{"$f":"'1a'!C17","v":0},{"$f":"'1a'!D17","v":"lehrer15"},null,null,null,null,null,null,null,null,null,null,null,null,null,null,null,null,null,null,null,null,null,null,null,null,null,null,null,null,null,null,null,null,null,null,null,null,null,null,null,null,null,null,null,null,null,null,null,null,null,null,null,null,0]
["4d",{"$f":"'1a'!B18","v":0},{"$f":"'1a'!C18","v":0},{"$f":"'1a'!D18","v":"lehrer16"},null,null,null,null,null,null,null,null,null,null,null,null,null,null,null,null,null,null,null,null,null,null,null,null,null,null,null,null,null,null,null,null,null,null,null,null,null,null,null,null,null,null,null,null,null,null,null,null,null,null,null,null,0]
["4d",{"$f":"'1a'!B19","v":0},{"$f":"'1a'!C19","v":0},{"$f":"'1a'!D19","v":"lehrer17"},null,null,null,null,null,null,null,null,null,null,null,null,null,null,null,null,null,null,null,null,null,null,null,null,null,null,null,null,null,null,null,null,null,null,null,null,null,null,null,null,null,null,null,null,null,null,null,null,null,null,null,null,0]
["4d",{"$f":"'1a'!B20","v":0},{"$f":"'1a'!C20","v":0},{"$f":"'1a'!D20","v":"lehrer18"},null,null,null,null,null,null,null,null,null,null,null,null,null,null,null,null,null,null,null,null,null,null,null,null,null,null,null,null,null,null,null,null,null,null,null,null,null,null,null,null,null,null,null,null,null,null,null,null,null,null,null,null,0]
["4d",{"$f":"'1a'!B21","v":0},{"$f":"'1a'!C21","v":0},{"$f":"'1a'!D21","v":"lehrer19"},null,null,null,null,null,null,null,null,null,null,null,null,null,null,null,null,null,null,null,null,null,null,null,null,null,null,null,null,null,null,null,null,null,null,null,null,null,null,null,null,null,null,null,null,null,null,null,null,null,null,null,null,0]
["4d",{"$f":"'1a'!B22","v":0},{"$f":"'1a'!C22","v":0},{"$f":"'1a'!D22","v":"lehrer20"},null,null,null,null,null,null,null,null,null,null,null,null,null,null,null,null,null,null,null,null,null,null,null,null,null,null,null,null,null,null,null,null,null,null,null,null,null,null,null,null,null,null,null,null,null,null,null,null,null,null,null,null,0]
["4d",{"$f":"'1a'!B23","v":0},{"$f":"'1a'!C23","v":0},{"$f":"'1a'!D23","v":"lehrer21"},null,null,null,null,null,null,null,null,null,null,null,null,null,null,null,null,null,null,null,null,null,null,null,null,null,null,null,null,null,null,null,null,null,null,null,null,null,null,null,null,null,null,null,null,null,null,null,null,null,null,null,null,0]
["4d",{"$f":"'1a'!B24","v":0},{"$f":"'1a'!C24","v":0},{"$f":"'1a'!D24","v":"lehrer22"},null,null,null,null,null,null,null,null,null,null,null,null,null,null,null,null,null,null,null,null,null,null,null,null,null,null,null,null,null,null,null,null,null,null,null,null,null,null,null,null,null,null,null,null,null,null,null,null,null,null,null,null,0]
["4d",{"$f":"'1a'!B25","v":0},{"$f":"'1a'!C25","v":0},{"$f":"'1a'!D25","v":"lehrer23"},null,null,null,null,null,null,null,null,null,null,null,null,null,null,null,null,null,null,null,null,null,null,null,null,null,null,null,null,null,null,null,null,null,null,null,null,null,null,null,null,null,null,null,null,null,null,null,null,null,null,null,null,0]
["4d",{"$f":"'1a'!B26","v":0},{"$f":"'1a'!C26","v":0},{"$f":"'1a'!D26","v":"lehrer24"},null,null,null,null,null,null,null,null,null,null,null,null,null,null,null,null,null,null,null,null,null,null,null,null,null,null,null,null,null,null,null,null,null,null,null,null,null,null,null,null,null,null,null,null,null,null,null,null,null,null,null,null,0]
["4d",{"$f":"'1a'!B27","v":0},{"$f":"'1a'!C27","v":0},{"$f":"'1a'!D27","v":"lehrer25"},null,null,null,null,null,null,null,null,null,null,null,null,null,null,null,null,null,null,null,null,null,null,null,null,null,null,null,null,null,null,null,null,null,null,null,null,null,null,null,null,null,null,null,null,null,null,null,null,null,null,null,null,0]
["4d",{"$f":"'1a'!B28","v":0},{"$f":"'1a'!C28","v":0},{"$f":"'1a'!D28","v":"lehrer26"},null,null,null,null,null,null,null,null,null,null,null,null,null,null,null,null,null,null,null,null,null,null,null,null,null,null,null,null,null,null,null,null,null,null,null,null,null,null,null,null,null,null,null,null,null,null,null,null,null,null,null,null,0]
["4d",{"$f":"'1a'!B29","v":0},{"$f":"'1a'!C29","v":0},{"$f":"'1a'!D29","v":"lehrer27"},null,null,null,null,null,null,null,null,null,null,null,null,null,null,null,null,null,null,null,null,null,null,null,null,null,null,null,null,null,null,null,null,null,null,null,null,null,null,null,null,null,null,null,null,null,null,null,null,null,null,null,null,0]
["4d",{"$f":"'1a'!B30","v":0},{"$f":"'1a'!C30","v":0},{"$f":"'1a'!D30","v":"lehrer28"},null,null,null,null,null,null,null,null,null,null,null,null,null,null,null,null,null,null,null,null,null,null,null,null,null,null,null,null,null,null,null,null,null,null,null,null,null,null,null,null,null,null,null,null,null,null,null,null,null,null,null,null,0]
["4d",{"$f":"'1a'!B31","v":0},{"$f":"'1a'!C31","v":0},{"$f":"'1a'!D31","v":"lehrer29"},null,null,null,null,null,null,null,null,null,null,null,null,null,null,null,null,null,null,null,null,null,null,null,null,null,null,null,null,null,null,null,null,null,null,null,null,null,null,null,null,null,null,null,null,null,null,null,null,null,null,null,null,0]
["4d",{"$f":"'1a'!B32","v":0},{"$f":"'1a'!C32","v":0},{"$f":"'1a'!D32","v":"lehrer30"},null,null,null,null,null,null,null,null,null,null,null,null,null,null,null,null,null,null,null,null,null,null,null,null,null,null,null,null,null,null,null,null,null,null,null,null,null,null,null,null,null,null,null,null,null,null,null,null,null,null,null,null,0]
["4d",{"$f":"'1a'!B33","v":0},{"$f":"'1a'!C33","v":0},{"$f":"'1a'!D33","v":"lehrer31"},null,null,null,null,null,null,null,null,null,null,null,null,null,null,null,null,null,null,null,null,null,null,null,null,null,null,null,null,null,null,null,null,null,null,null,null,null,null,null,null,null,null,null,null,null,null,null,null,null,null,null,null,0]
["4d",{"$f":"'1a'!B34","v":0},{"$f":"'1a'!C34","v":0},{"$f":"'1a'!D34","v":"lehrer32"},null,null,null,null,null,null,null,null,null,null,null,null,null,null,null,null,null,null,null,null,null,null,null,null,null,null,null,null,null,null,null,null,null,null,null,null,null,null,null,null,null,null,null,null,null,null,null,null,null,null,null,null,0]
["4d",{"$f":"'1a'!B35","v":0},{"$f":"'1a'!C35","v":0},{"$f":"'1a'!D35","v":"lehrer33"},null,null,null,null,null,null,null,null,null,null,null,null,null,null,null,null,null,null,null,null,null,null,null,null,null,null,null,null,null,null,null,null,null,null,null,null,null,null,null,null,null,null,null,null,null,null,null,null,null,null,null,null,0]
["4d",{"$f":"'1a'!B36","v":0},{"$f":"'1a'!C36","v":0},{"$f":"'1a'!D36","v":"lehrer34"},null,null,null,null,null,null,null,null,null,null,null,null,null,null,null,null,null,null,null,null,null,null,null,null,null,null,null,null,null,null,null,null,null,null,null,null,null,null,null,null,null,null,null,null,null,null,null,null,null,null,null,null,0]
["4d",{"$f":"'1a'!B37","v":0},{"$f":"'1a'!C37","v":0},{"$f":"'1a'!D37","v":"lehrer35"},null,null,null,null,null,null,null,null,null,null,null,null,null,null,null,null,null,null,null,null,null,null,null,null,null,null,null,null,null,null,null,null,null,null,null,null,null,null,null,null,null,null,null,null,null,null,null,null,null,null,null,null,0]
["4d",{"$f":"'1a'!B38","v":0},{"$f":"'1a'!C38","v":0},{"$f":"'1a'!D38","v":"lehrer36"},null,null,null,null,null,null,null,null,null,null,null,null,null,null,null,null,null,null,null,null,null,null,null,null,null,null,null,null,null,null,null,null,null,null,null,null,null,null,null,null,null,null,null,null,null,null,null,null,null,null,null,null,0]
["4d",{"$f":"'1a'!B39","v":0},{"$f":"'1a'!C39","v":0},{"$f":"'1a'!D39","v":"lehrer37"},null,null,null,null,null,null,null,null,null,null,null,null,null,null,null,null,null,null,null,null,null,null,null,null,null,null,null,null,null,null,null,null,null,null,null,null,null,null,null,null,null,null,null,null,null,null,null,null,null,null,null,null,0]
["4d",{"$f":"'1a'!B40","v":0},{"$f":"'1a'!C40","v":0},{"$f":"'1a'!D40","v":"lehrer38"},null,null,null,null,null,null,null,null,null,null,null,null,null,null,null,null,null,null,null,null,null,null,null,null,null,null,null,null,null,null,null,null,null,null,null,null,null,null,null,null,null,null,null,null,null,null,null,null,null,null,null,null,0]
["4d",{"$f":"'1a'!B41","v":0},{"$f":"'1a'!C41","v":0},{"$f":"'1a'!D41","v":"lehrer39"},null,null,null,null,null,null,null,null,null,null,null,null,null,null,null,null,null,null,null,null,null,null,null,null,null,null,null,null,null,null,null,null,null,null,null,null,null,null,null,null,null,null,null,null,null,null,null,null,null,null,null,null,0]
["4d",{"$f":"'1a'!B42","v":0},{"$f":"'1a'!C42","v":0},{"$f":"'1a'!D42","v":"lehrer40"},null,null,null,null,null,null,null,null,null,null,null,null,null,null,null,null,null,null,null,null,null,null,null,null,null,null,null,null,null,null,null,null,null,null,null,null,null,null,null,null,null,null,null,null,null,null,null,null,null,null,null,null,0]
["4d",{"$f":"'1a'!B43","v":0},{"$f":"'1a'!C43","v":0},{"$f":"'1a'!D43","v":"lehrer41"},null,null,null,null,null,null,null,null,null,null,null,null,null,null,null,null,null,null,null,null,null,null,null,null,null,null,null,null,null,null,null,null,null,null,null,null,null,null,null,null,null,null,null,null,null,null,null,null,null,null,null,null,0]
["4d",{"$f":"'1a'!B44","v":0},{"$f":"'1a'!C44","v":0},{"$f":"'1a'!D44","v":"lehrer42"},null,null,null,null,null,null,null,null,null,null,null,null,null,null,null,null,null,null,null,null,null,null,null,null,null,null,null,null,null,null,null,null,null,null,null,null,null,null,null,null,null,null,null,null,null,null,null,null,null,null,null,null,0]
["4d",{"$f":"'1a'!B45","v":0},{"$f":"'1a'!C45","v":0},{"$f":"'1a'!D45","v":"lehrer43"},null,null,null,null,null,null,null,null,null,null,null,null,null,null,null,null,null,null,null,null,null,null,null,null,null,null,null,null,null,null,null,null,null,null,null,null,null,null,null,null,null,null,null,null,null,null,null,null,null,null,null,null,0]
["4d",{"$f":"'1a'!B46","v":0},{"$f":"'1a'!C46","v":0},{"$f":"'1a'!D46","v":"lehrer44"},null,null,null,null,null,null,null,null,null,null,null,null,null,null,null,null,null,null,null,null,null,null,null,null,null,null,null,null,null,null,null,null,null,null,null,null,null,null,null,null,null,null,null,null,null,null,null,null,null,null,null,null,0]
["4d",{"$f":"'1a'!B47","v":0},{"$f":"'1a'!C47","v":0},{"$f":"'1a'!D47","v":"lehrer45"},null,null,null,null,null,null,null,null,null,null,null,null,null,null,null,null,null,null,null,null,null,null,null,null,null,null,null,null,null,null,null,null,null,null,null,null,null,null,null,null,null,null,null,null,null,null,null,null,null,null,null,null,0]
["4d",{"$f":"'1a'!B48","v":0},{"$f":"'1a'!C48","v":0},{"$f":"'1a'!D48","v":"lehrer46"},null,null,null,null,null,null,null,null,null,null,null,null,null,null,null,null,null,null,null,null,null,null,null,null,null,null,null,null,null,null,null,null,null,null,null,null,null,null,null,null,null,null,null,null,null,null,null,null,null,null,null,null,0]
["4d",{"$f":"'1a'!B49","v":0},{"$f":"'1a'!C49","v":0},{"$f":"'1a'!D49","v":"lehrer47"},null,null,null,null,null,null,null,null,null,null,null,null,null,null,null,null,null,null,null,null,null,null,null,null,null,null,null,null,null,null,null,null,null,null,null,null,null,null,null,null,null,null,null,null,null,null,null,null,null,null,null,null,0]
["4d",{"$f":"'1a'!B50","v":0},{"$f":"'1a'!C50","v":0},{"$f":"'1a'!D50","v":"lehrer48"},null,null,null,null,null,null,null,null,null,null,null,null,null,null,null,null,null,null,null,null,null,null,null,null,null,null,null,null,null,null,null,null,null,null,null,null,null,null,null,null,null,null,null,null,null,null,null,null,null,null,null,null,0]

{"sheet":"Kopplung","index":17,"n_rows":50,"n_cols":57,"rows_kept":50,"cut":false,"hidden":false,"merged":[]}
[null,null,null," Summe GSt pro Klasse",{"$f":"SUM(E3:E50)","v":0},{"$f":"SUM(F3:F50)","v":0},0,0,0,0,0,0,0,0,0,0,0,0,0,0,0,0,0,0,0,0,0,0,0,0,0,0,0,0,0,0,0,0,0,0,0,0,0,0,0,0,0,0,0,0,0,0,0,0,0,0,0]
[{"$f":"header","v":"Klasse"},"Soll","in LVF","Lehrer","Relgion Islan","Religion evan","GTS 1","GTS2","Kopp5","Kopp6","Kopp7","Kopp8","Kopp9","Kopp10","Kopp11","Kopp12","Kopp13","Kopp14","Kopp15","Kopp16","Kopp17","Kopp18","Kopp19","Kopp20","Kopp21","Kopp22","Kopp23","Kopp24","Kopp25","Kopp26","Kopp27","Kopp28","Kopp29","Kopp30","Kopp31","Kopp32","Kopp33","Kopp34","Kopp35","Kopp36","Kopp37","Kopp38","Kopp39","Kopp40","Kopp41","Kopp42","Kopp43","Kopp44","Kopp45","Kopp46","Kopp47","Kopp48","Kopp49","Kopp50","Kopp51","Kopp52","Summe Lehrer pro Klasse"]
["Gruppe",{"$f":"'1a'!B3","v":0},{"$f":"'1a'!C3","v":0},{"$f":"'1a'!D3","v":"lehrer01"},null,null,null,null,null,null,null,null,null,null,null,null,null,null,null,null,null,null,null,null,null,null,null,null,null,null,null,null,null,null,null,null,null,null,null,null,null,null,null,null,null,null,null,null,null,null,null,null,null,null,null,null,{"$f":"SUM(E3:BD3)","v":0}]
["Gruppe",{"$f":"'1a'!B4","v":0},{"$f":"'1a'!C4","v":0},{"$f":"'1a'!D4","v":"lehrer02"},null,null,null,null,null,null,null,null,null,null,null,null,null,null,null,null,null,null,null,null,null,null,null,null,null,null,null,null,null,null,null,null,null,null,null,null,null,null,null,null,null,null,null,null,null,null,null,null,null,null,null,null,0]
["Gruppe",{"$f":"'1a'!B5","v":0},{"$f":"'1a'!C5","v":0},{"$f":"'1a'!D5","v":"lehrer03"},null,null,null,null,null,null,null,null,null,null,null,null,null,null,null,null,null,null,null,null,null,null,null,null,null,null,null,null,null,null,null,null,null,null,null,null,null,null,null,null,null,null,null,null,null,null,null,null,null,null,null,null,0]
["Gruppe",{"$f":"'1a'!B6","v":0},{"$f":"'1a'!C6","v":0},{"$f":"'1a'!D6","v":"lehrer04"},null,null,null,null,null,null,null,null,null,null,null,null,null,null,null,null,null,null,null,null,null,null,null,null,null,null,null,null,null,null,null,null,null,null,null,null,null,null,null,null,null,null,null,null,null,null,null,null,null,null,null,null,0]
["Gruppe",{"$f":"'1a'!B7","v":0},{"$f":"'1a'!C7","v":0},{"$f":"'1a'!D7","v":"lehrer05"},null,null,null,null,null,null,null,null,null,null,null,null,null,null,null,null,null,null,null,null,null,null,null,null,null,null,null,null,null,null,null,null,null,null,null,null,null,null,null,null,null,null,null,null,null,null,null,null,null,null,null,null,0]
["Gruppe",{"$f":"'1a'!B8","v":0},{"$f":"'1a'!C8","v":0},{"$f":"'1a'!D8","v":"lehrer06"},null,null,null,null,null,null,null,null,null,null,null,null,null,null,null,null,null,null,null,null,null,null,null,null,null,null,null,null,null,null,null,null,null,null,null,null,null,null,null,null,null,null,null,null,null,null,null,null,null,null,null,null,0]
["Gruppe",{"$f":"'1a'!B9","v":0},{"$f":"'1a'!C9","v":0},{"$f":"'1a'!D9","v":"lehrer07"},null,null,null,null,null,null,null,null,null,null,null,null,null,null,null,null,null,null,null,null,null,null,null,null,null,null,null,null,null,null,null,null,null,null,null,null,null,null,null,null,null,null,null,null,null,null,null,null,null,null,null,null,0]
["Gruppe",{"$f":"'1a'!B10","v":0},{"$f":"'1a'!C10","v":0},{"$f":"'1a'!D10","v":"lehrer08"},null,null,null,null,null,null,null,null,null,null,null,null,null,null,null,null,null,null,null,null,null,null,null,null,null,null,null,null,null,null,null,null,null,null,null,null,null,null,null,null,null,null,null,null,null,null,null,null,null,null,null,null,0]
["Gruppe",{"$f":"'1a'!B11","v":0},{"$f":"'1a'!C11","v":0},{"$f":"'1a'!D11","v":"lehrer09"},null,null,null,null,null,null,null,null,null,null,null,null,null,null,null,null,null,null,null,null,null,null,null,null,null,null,null,null,null,null,null,null,null,null,null,null,null,null,null,null,null,null,null,null,null,null,null,null,null,null,null,null,0]
["Gruppe",{"$f":"'1a'!B12","v":0},{"$f":"'1a'!C12","v":0},{"$f":"'1a'!D12","v":"lehrer10"},null,null,null,null,null,null,null,null,null,null,null,null,null,null,null,null,null,null,null,null,null,null,null,null,null,null,null,null,null,null,null,null,null,null,null,null,null,null,null,null,null,null,null,null,null,null,null,null,null,null,null,null,0]
["Gruppe",{"$f":"'1a'!B13","v":0},{"$f":"'1a'!C13","v":0},{"$f":"'1a'!D13","v":"lehrer11"},null,null,null,null,null,null,null,null,null,null,null,null,null,null,null,null,null,null,null,null,null,null,null,null,null,null,null,null,null,null,null,null,null,null,null,null,null,null,null,null,null,null,null,null,null,null,null,null,null,null,null,null,0]
["Gruppe",{"$f":"'1a'!B14","v":0},{"$f":"'1a'!C14","v":0},{"$f":"'1a'!D14","v":"lehrer12"},null,null,null,null,null,null,null,null,null,null,null,null,null,null,null,null,null,null,null,null,null,null,null,null,null,null,null,null,null,null,null,null,null,null,null,null,null,null,null,null,null,null,null,null,null,null,null,null,null,null,null,null,0]
["Gruppe",{"$f":"'1a'!B15","v":0},{"$f":"'1a'!C15","v":0},{"$f":"'1a'!D15","v":"lehrer13"},null,null,null,null,null,null,null,null,null,null,null,null,null,null,null,null,null,null,null,null,null,null,null,null,null,null,null,null,null,null,null,null,null,null,null,null,null,null,null,null,null,null,null,null,null,null,null,null,null,null,null,null,0]
["Gruppe",{"$f":"'1a'!B16","v":0},{"$f":"'1a'!C16","v":0},{"$f":"'1a'!D16","v":"lehrer14"},null,null,null,null,null,null,null,null,null,null,null,null,null,null,null,null,null,null,null,null,null,null,null,null,null,null,null,null,null,null,null,null,null,null,null,null,null,null,null,null,null,null,null,null,null,null,null,null,null,null,null,null,0]
["Gruppe",{"$f":"'1a'!B17","v":0},{"$f":"'1a'!C17","v":0},{"$f":"'1a'!D17","v":"lehrer15"},null,null,null,null,null,null,null,null,null,null,null,null,null,null,null,null,null,null,null,null,null,null,null,null,null,null,null,null,null,null,null,null,null,null,null,null,null,null,null,null,null,null,null,null,null,null,null,null,null,null,null,null,0]
["Gruppe",{"$f":"'1a'!B18","v":0},{"$f":"'1a'!C18","v":0},{"$f":"'1a'!D18","v":"lehrer16"},null,null,null,null,null,null,null,null,null,null,null,null,null,null,null,null,null,null,null,null,null,null,null,null,null,null,null,null,null,null,null,null,null,null,null,null,null,null,null,null,null,null,null,null,null,null,null,null,null,null,null,null,0]
["Gruppe",{"$f":"'1a'!B19","v":0},{"$f":"'1a'!C19","v":0},{"$f":"'1a'!D19","v":"lehrer17"},null,null,null,null,null,null,null,null,null,null,null,null,null,null,null,null,null,null,null,null,null,null,null,null,null,null,null,null,null,null,null,null,null,null,null,null,null,null,null,null,null,null,null,null,null,null,null,null,null,null,null,null,0]
["Gruppe",{"$f":"'1a'!B20","v":0},{"$f":"'1a'!C20","v":0},{"$f":"'1a'!D20","v":"lehrer18"},null,null,null,null,null,null,null,null,null,null,null,null,null,null,null,null,null,null,null,null,null,null,null,null,null,null,null,null,null,null,null,null,null,null,null,null,null,null,null,null,null,null,null,null,null,null,null,null,null,null,null,null,0]
["Gruppe",{"$f":"'1a'!B21","v":0},{"$f":"'1a'!C21","v":0},{"$f":"'1a'!D21","v":"lehrer19"},null,null,null,null,null,null,null,null,null,null,null,null,null,null,null,null,null,null,null,null,null,null,null,null,null,null,null,null,null,null,null,null,null,null,null,null,null,null,null,null,null,null,null,null,null,null,null,null,null,null,null,null,0]
["Gruppe",{"$f":"'1a'!B22","v":0},{"$f":"'1a'!C22","v":0},{"$f":"'1a'!D22","v":"lehrer20"},null,null,null,null,null,null,null,null,null,null,null,null,null,null,null,null,null,null,null,null,null,null,null,null,null,null,null,null,null,null,null,null,null,null,null,null,null,null,null,null,null,null,null,null,null,null,null,null,null,null,null,null,0]
["Gruppe",{"$f":"'1a'!B23","v":0},{"$f":"'1a'!C23","v":0},{"$f":"'1a'!D23","v":"lehrer21"},null,null,null,null,null,null,null,null,null,null,null,null,null,null,null,null,null,null,null,null,null,null,null,null,null,null,null,null,null,null,null,null,null,null,null,null,null,null,null,null,null,null,null,null,null,null,null,null,null,null,null,null,0]
["Gruppe",{"$f":"'1a'!B24","v":0},{"$f":"'1a'!C24","v":0},{"$f":"'1a'!D24","v":"lehrer22"},null,null,null,null,null,null,null,null,null,null,null,null,null,null,null,null,null,null,null,null,null,null,null,null,null,null,null,null,null,null,null,null,null,null,null,null,null,null,null,null,null,null,null,null,null,null,null,null,null,null,null,null,0]
["Gruppe",{"$f":"'1a'!B25","v":0},{"$f":"'1a'!C25","v":0},{"$f":"'1a'!D25","v":"lehrer23"},null,null,null,null,null,null,null,null,null,null,null,null,null,null,null,null,null,null,null,null,null,null,null,null,null,null,null,null,null,null,null,null,null,null,null,null,null,null,null,null,null,null,null,null,null,null,null,null,null,null,null,null,0]
["Gruppe",{"$f":"'1a'!B26","v":0},{"$f":"'1a'!C26","v":0},{"$f":"'1a'!D26","v":"lehrer24"},null,null,null,null,null,null,null,null,null,null,null,null,null,null,null,null,null,null,null,null,null,null,null,null,null,null,null,null,null,null,null,null,null,null,null,null,null,null,null,null,null,null,null,null,null,null,null,null,null,null,null,null,0]
["Gruppe",{"$f":"'1a'!B27","v":0},{"$f":"'1a'!C27","v":0},{"$f":"'1a'!D27","v":"lehrer25"},null,null,null,null,null,null,null,null,null,null,null,null,null,null,null,null,null,null,null,null,null,null,null,null,null,null,null,null,null,null,null,null,null,null,null,null,null,null,null,null,null,null,null,null,null,null,null,null,null,null,null,null,0]
["Gruppe",{"$f":"'1a'!B28","v":0},{"$f":"'1a'!C28","v":0},{"$f":"'1a'!D28","v":"lehrer26"},null,null,null,null,null,null,null,null,null,null,null,null,null,null,null,null,null,null,null,null,null,null,null,null,null,null,null,null,null,null,null,null,null,null,null,null,null,null,null,null,null,null,null,null,null,null,null,null,null,null,null,null,0]
["Gruppe",{"$f":"'1a'!B29","v":0},{"$f":"'1a'!C29","v":0},{"$f":"'1a'!D29","v":"lehrer27"},null,null,null,null,null,null,null,null,null,null,null,null,null,null,null,null,null,null,null,null,null,null,null,null,null,null,null,null,null,null,null,null,null,null,null,null,null,null,null,null,null,null,null,null,null,null,null,null,null,null,null,null,0]
["Gruppe",{"$f":"'1a'!B30","v":0},{"$f":"'1a'!C30","v":0},{"$f":"'1a'!D30","v":"lehrer28"},null,null,null,null,null,null,null,null,null,null,null,null,null,null,null,null,null,null,null,null,null,null,null,null,null,null,null,null,null,null,null,null,null,null,null,null,null,null,null,null,null,null,null,null,null,null,null,null,null,null,null,null,0]
["Gruppe",{"$f":"'1a'!B31","v":0},{"$f":"'1a'!C31","v":0},{"$f":"'1a'!D31","v":"lehrer29"},null,null,null,null,null,null,null,null,null,null,null,null,null,null,null,null,null,null,null,null,null,null,null,null,null,null,null,null,null,null,null,null,null,null,null,null,null,null,null,null,null,null,null,null,null,null,null,null,null,null,null,null,0]
["Gruppe",{"$f":"'1a'!B32","v":0},{"$f":"'1a'!C32","v":0},{"$f":"'1a'!D32","v":"lehrer30"},null,null,null,null,null,null,null,null,null,null,null,null,null,null,null,null,null,null,null,null,null,null,null,null,null,null,null,null,null,null,null,null,null,null,null,null,null,null,null,null,null,null,null,null,null,null,null,null,null,null,null,null,0]
["Gruppe",{"$f":"'1a'!B33","v":0},{"$f":"'1a'!C33","v":0},{"$f":"'1a'!D33","v":"lehrer31"},null,null,null,null,null,null,null,null,null,null,null,null,null,null,null,null,null,null,null,null,null,null,null,null,null,null,null,null,null,null,null,null,null,null,null,null,null,null,null,null,null,null,null,null,null,null,null,null,null,null,null,null,{"$f":"SUM(E33:BD33)","v":0}]
["Gruppe",{"$f":"'1a'!B34","v":0},{"$f":"'1a'!C34","v":0},{"$f":"'1a'!D34","v":"lehrer32"},null,null,null,null,null,null,null,null,null,null,null,null,null,null,null,null,null,null,null,null,null,null,null,null,null,null,null,null,null,null,null,null,null,null,null,null,null,null,null,null,null,null,null,null,null,null,null,null,null,null,null,null,0]
["Gruppe",{"$f":"'1a'!B35","v":0},{"$f":"'1a'!C35","v":0},{"$f":"'1a'!D35","v":"lehrer33"},null,null,null,null,null,null,null,null,null,null,null,null,null,null,null,null,null,null,null,null,null,null,null,null,null,null,null,null,null,null,null,null,null,null,null,null,null,null,null,null,null,null,null,null,null,null,null,null,null,null,null,null,0]
["Gruppe",{"$f":"'1a'!B36","v":0},{"$f":"'1a'!C36","v":0},{"$f":"'1a'!D36","v":"lehrer34"},null,null,null,null,null,null,null,null,null,null,null,null,null,null,null,null,null,null,null,null,null,null,null,null,null,null,null,null,null,null,null,null,null,null,null,null,null,null,null,null,null,null,null,null,null,null,null,null,null,null,null,null,0]
["Gruppe",{"$f":"'1a'!B37","v":0},{"$f":"'1a'!C37","v":0},{"$f":"'1a'!D37","v":"lehrer35"},null,null,null,null,null,null,null,null,null,null,null,null,null,null,null,null,null,null,null,null,null,null,null,null,null,null,null,null,null,null,null,null,null,null,null,null,null,null,null,null,null,null,null,null,null,null,null,null,null,null,null,null,0]
["Gruppe",{"$f":"'1a'!B38","v":0},{"$f":"'1a'!C38","v":0},{"$f":"'1a'!D38","v":"lehrer36"},null,null,null,null,null,null,null,null,null,null,null,null,null,null,null,null,null,null,null,null,null,null,null,null,null,null,null,null,null,null,null,null,null,null,null,null,null,null,null,null,null,null,null,null,null,null,null,null,null,null,null,null,0]
["Gruppe",{"$f":"'1a'!B39","v":0},{"$f":"'1a'!C39","v":0},{"$f":"'1a'!D39","v":"lehrer37"},null,null,null,null,null,null,null,null,null,null,null,null,null,null,null,null,null,null,null,null,null,null,null,null,null,null,null,null,null,null,null,null,null,null,null,null,null,null,null,null,null,null,null,null,null,null,null,null,null,null,null,null,0]
["Gruppe",{"$f":"'1a'!B40","v":0},{"$f":"'1a'!C40","v":0},{"$f":"'1a'!D40","v":"lehrer38"},null,null,null,null,null,null,null,null,null,null,null,null,null,null,null,null,null,null,null,null,null,null,null,null,null,null,null,null,null,null,null,null,null,null,null,null,null,null,null,null,null,null,null,null,null,null,null,null,null,null,null,null,0]
["Gruppe",{"$f":"'1a'!B41","v":0},{"$f":"'1a'!C41","v":0},{"$f":"'1a'!D41","v":"lehrer39"},null,null,null,null,null,null,null,null,null,null,null,null,null,null,null,null,null,null,null,null,null,null,null,null,null,null,null,null,null,null,null,null,null,null,null,null,null,null,null,null,null,null,null,null,null,null,null,null,null,null,null,null,0]
["Gruppe",{"$f":"'1a'!B42","v":0},{"$f":"'1a'!C42","v":0},{"$f":"'1a'!D42","v":"lehrer40"},null,null,null,null,null,null,null,null,null,null,null,null,null,null,null,null,null,null,null,null,null,null,null,null,null,null,null,null,null,null,null,null,null,null,null,null,null,null,null,null,null,null,null,null,null,null,null,null,null,null,null,null,0]
["Gruppe",{"$f":"'1a'!B43","v":0},{"$f":"'1a'!C43","v":0},{"$f":"'1a'!D43","v":"lehrer41"},null,null,null,null,null,null,null,null,null,null,null,null,null,null,null,null,null,null,null,null,null,null,null,null,null,null,null,null,null,null,null,null,null,null,null,null,null,null,null,null,null,null,null,null,null,null,null,null,null,null,null,null,0]
["Gruppe",{"$f":"'1a'!B44","v":0},{"$f":"'1a'!C44","v":0},{"$f":"'1a'!D44","v":"lehrer42"},null,null,null,null,null,null,null,null,null,null,null,null,null,null,null,null,null,null,null,null,null,null,null,null,null,null,null,null,null,null,null,null,null,null,null,null,null,null,null,null,null,null,null,null,null,null,null,null,null,null,null,null,0]
["Gruppe",{"$f":"'1a'!B45","v":0},{"$f":"'1a'!C45","v":0},{"$f":"'1a'!D45","v":"lehrer43"},null,null,null,null,null,null,null,null,null,null,null,null,null,null,null,null,null,null,null,null,null,null,null,null,null,null,null,null,null,null,null,null,null,null,null,null,null,null,null,null,null,null,null,null,null,null,null,null,null,null,null,null,0]
["Gruppe",{"$f":"'1a'!B46","v":0},{"$f":"'1a'!C46","v":0},{"$f":"'1a'!D46","v":"lehrer44"},null,null,null,null,null,null,null,null,null,null,null,null,null,null,null,null,null,null,null,null,null,null,null,null,null,null,null,null,null,null,null,null,null,null,null,null,null,null,null,null,null,null,null,null,null,null,null,null,null,null,null,null,0]
["Gruppe",{"$f":"'1a'!B47","v":0},{"$f":"'1a'!C47","v":0},{"$f":"'1a'!D47","v":"lehrer45"},null,null,null,null,null,null,null,null,null,null,null,null,null,null,null,null,null,null,null,null,null,null,null,null,null,null,null,null,null,null,null,null,null,null,null,null,null,null,null,null,null,null,null,null,null,null,null,null,null,null,null,null,0]
["Gruppe",{"$f":"'1a'!B48","v":0},{"$f":"'1a'!C48","v":0},{"$f":"'1a'!D48","v":"lehrer46"},null,null,null,null,null,null,null,null,null,null,null,null,null,null,null,null,null,null,null,null,null,null,null,null,null,null,null,null,null,null,null,null,null,null,null,null,null,null,null,null,null,null,null,null,null,null,null,null,null,null,null,null,0]
["Gruppe",{"$f":"'1a'!B49","v":0},{"$f":"'1a'!C49","v":0},{"$f":"'1a'!D49","v":"lehrer47"},null,null,null,null,null,null,null,null,null,null,null,null,null,null,null,null,null,null,null,null,null,null,null,null,null,null,null,null,null,null,null,null,null,null,null,null,null,null,null,null,null,null,null,null,null,null,null,null,null,null,null,null,0]
["Gruppe",{"$f":"'1a'!B50","v":0},{"$f":"'1a'!C50","v":0},{"$f":"'1a'!D50","v":"lehrer48"},null,null,null,null,null,null,null,null,null,null,null,null,null,null,null,null,null,null,null,null,null,null,null,null,null,null,null,null,null,null,null,null,null,null,null,null,null,null,null,null,null,null,null,null,null,null,null,null,null,null,null,null,0]

{"sheet":"Zusammenfassung","index":18,"n_rows":817,"n_cols":57,"rows_kept":817,"cut":false,"hidden":true,"merged":[]}
[{"$f":"header","v":"Klasse"},"Soll","in LVF","Lehrer","M","M-T","M-Stütz","D","D-T","D-Stütz","E","E-T","E-Stütz","BE","Soz","BSP","BU","C","EH","GS","GW","GZ","ME","PH","P / C","Werken","Relisl","S-BO","S-BU","S-EH","S-GW","S-GZ","S-PC","S-BE","S-Werk","vÜ BO","vÜ Soz","unv. DSP","unv. FB","INF Sta","INF ECDL","unv. KET","GTS","GTS-L","BE","Soz","BSP","frei","frei","frei","frei","frei","frei","frei","frei","frei","Summe Lehrer pro Klasse"]
[{"$f":"'1a'!A3","v":"1a"},{"$f":"'1a'!B3","v":0},{"$f":"'1a'!C3","v":0},{"$f":"'1a'!D3","v":"lehrer01"},{"$f":"'1a'!E3","v":0},{"$f":"'1a'!F3","v":0},{"$f":"'1a'!G3","v":0},{"$f":"'1a'!H3","v":0},{"$f":"'1a'!I3","v":0},{"$f":"'1a'!J3","v":0},{"$f":"'1a'!K3","v":0},{"$f":"'1a'!L3","v":0},{"$f":"'1a'!M3","v":0},{"$f":"'1a'!N3","v":0},{"$f":"'1a'!O3","v":0},{"$f":"'1a'!P3","v":0},{"$f":"'1a'!Q3","v":0},{"$f":"'1a'!R3","v":0},{"$f":"'1a'!S3","v":0},{"$f":"'1a'!T3","v":0},{"$f":"'1a'!U3","v":0},{"$f":"'1a'!V3","v":0},{"$f":"'1a'!W3","v":0},{"$f":"'1a'!X3","v":0},{"$f":"'1a'!Y3","v":0},{"$f":"'1a'!Z3","v":0},{"$f":"'1a'!AA3","v":0},{"$f":"'1a'!AB3","v":0},{"$f":"'1a'!AC3","v":0},{"$f":"'1a'!AD3","v":0},{"$f":"'1a'!AE3","v":0},{"$f":"'1a'!AF3","v":0},{"$f":"'1a'!AG3","v":0},{"$f":"'1a'!AH3","v":0},{"$f":"'1a'!AI3","v":0},{"$f":"'1a'!AJ3","v":0},{"$f":"'1a'!AK3","v":0},{"$f":"'1a'!AL3","v":0},{"$f":"'1a'!AM3","v":0},{"$f":"'1a'!AN3","v":0},{"$f":"'1a'!AO3","v":0},{"$f":"'1a'!AP3","v":0},{"$f":"'1a'!AQ3","v":0},{"$f":"'1a'!AR3","v":0},{"$f":"'1a'!AS3","v":0},{"$f":"'1a'!AT3","v":0},{"$f":"'1a'!AU3","v":0},{"$f":"'1a'!AV3","v":0},{"$f":"'1a'!AW3","v":0},{"$f":"'1a'!AX3","v":0},{"$f":"'1a'!AY3","v":0},{"$f":"'1a'!AZ3","v":0},{"$f":"'1a'!BA3","v":0},{"$f":"'1a'!BB3","v":0},{"$f":"'1a'!BC3","v":0},{"$f":"'1a'!BD3","v":0},{"$f":"'1a'!BE3","v":0}]
[{"$f":"'1a'!A4","v":"1a"},{"$f":"'1a'!B4","v":0},{"$f":"'1a'!C4","v":0},{"$f":"'1a'!D4","v":"lehrer02"},{"$f":"'1a'!E4","v":0},{"$f":"'1a'!F4","v":0},{"$f":"'1a'!G4","v":0},{"$f":"'1a'!H4","v":0},{"$f":"'1a'!I4","v":0},{"$f":"'1a'!J4","v":0},{"$f":"'1a'!K4","v":0},{"$f":"'1a'!L4","v":0},{"$f":"'1a'!M4","v":0},{"$f":"'1a'!N4","v":0},{"$f":"'1a'!O4","v":0},{"$f":"'1a'!P4","v":0},{"$f":"'1a'!Q4","v":0},{"$f":"'1a'!R4","v":0},{"$f":"'1a'!S4","v":0},{"$f":"'1a'!T4","v":0},{"$f":"'1a'!U4","v":0},{"$f":"'1a'!V4","v":0},{"$f":"'1a'!W4","v":0},{"$f":"'1a'!X4","v":0},{"$f":"'1a'!Y4","v":0},{"$f":"'1a'!Z4","v":0},{"$f":"'1a'!AA4","v":0},{"$f":"'1a'!AB4","v":0},{"$f":"'1a'!AC4","v":0},{"$f":"'1a'!AD4","v":0},{"$f":"'1a'!AE4","v":0},{"$f":"'1a'!AF4","v":0},{"$f":"'1a'!AG4","v":0},{"$f":"'1a'!AH4","v":0},{"$f":"'1a'!AI4","v":0},{"$f":"'1a'!AJ4","v":0},{"$f":"'1a'!AK4","v":0},{"$f":"'1a'!AL4","v":0},{"$f":"'1a'!AM4","v":0},{"$f":"'1a'!AN4","v":0},{"$f":"'1a'!AO4","v":0},{"$f":"'1a'!AP4","v":0},{"$f":"'1a'!AQ4","v":0},{"$f":"'1a'!AR4","v":0},{"$f":"'1a'!AS4","v":0},{"$f":"'1a'!AT4","v":0},{"$f":"'1a'!AU4","v":0},{"$f":"'1a'!AV4","v":0},{"$f":"'1a'!AW4","v":0},{"$f":"'1a'!AX4","v":0},{"$f":"'1a'!AY4","v":0},{"$f":"'1a'!AZ4","v":0},{"$f":"'1a'!BA4","v":0},{"$f":"'1a'!BB4","v":0},{"$f":"'1a'!BC4","v":0},{"$f":"'1a'!BD4","v":0},{"$f":"'1a'!BE4","v":0}]
[{"$f":"'1a'!A5","v":"1a"},{"$f":"'1a'!B5","v":0},{"$f":"'1a'!C5","v":0},{"$f":"'1a'!D5","v":"lehrer03"},{"$f":"'1a'!E5","v":0},{"$f":"'1a'!F5","v":0},{"$f":"'1a'!G5","v":0},{"$f":"'1a'!H5","v":0},{"$f":"'1a'!I5","v":0},{"$f":"'1a'!J5","v":0},{"$f":"'1a'!K5","v":0},{"$f":"'1a'!L5","v":0},{"$f":"'1a'!M5","v":0},{"$f":"'1a'!N5","v":0},{"$f":"'1a'!O5","v":0},{"$f":"'1a'!P5","v":0},{"$f":"'1a'!Q5","v":0},{"$f":"'1a'!R5","v":0},{"$f":"'1a'!S5","v":0},{"$f":"'1a'!T5","v":0},{"$f":"'1a'!U5","v":0},{"$f":"'1a'!V5","v":0},{"$f":"'1a'!W5","v":0},{"$f":"'1a'!X5","v":0},{"$f":"'1a'!Y5","v":0},{"$f":"'1a'!Z5","v":0},{"$f":"'1a'!AA5","v":0},{"$f":"'1a'!AB5","v":0},{"$f":"'1a'!AC5","v":0},{"$f":"'1a'!AD5","v":0},{"$f":"'1a'!AE5","v":0},{"$f":"'1a'!AF5","v":0},{"$f":"'1a'!AG5","v":0},{"$f":"'1a'!AH5","v":0},{"$f":"'1a'!AI5","v":0},{"$f":"'1a'!AJ5","v":0},{"$f":"'1a'!AK5","v":0},{"$f":"'1a'!AL5","v":0},{"$f":"'1a'!AM5","v":0},{"$f":"'1a'!AN5","v":0},{"$f":"'1a'!AO5","v":0},{"$f":"'1a'!AP5","v":0},{"$f":"'1a'!AQ5","v":0},{"$f":"'1a'!AR5","v":0},{"$f":"'1a'!AS5","v":0},{"$f":"'1a'!AT5","v":0},{"$f":"'1a'!AU5","v":0},{"$f":"'1a'!AV5","v":0},{"$f":"'1a'!AW5","v":0},{"$f":"'1a'!AX5","v":0},{"$f":"'1a'!AY5","v":0},{"$f":"'1a'!AZ5","v":0},{"$f":"'1a'!BA5","v":0},{"$f":"'1a'!BB5","v":0},{"$f":"'1a'!BC5","v":0},{"$f":"'1a'!BD5","v":0},{"$f":"'1a'!BE5","v":0}]
[{"$f":"'1a'!A6","v":"1a"},{"$f":"'1a'!B6","v":0},{"$f":"'1a'!C6","v":0},{"$f":"'1a'!D6","v":"lehrer04"},{"$f":"'1a'!E6","v":0},{"$f":"'1a'!F6","v":0},{"$f":"'1a'!G6","v":0},{"$f":"'1a'!H6","v":0},{"$f":"'1a'!I6","v":0},{"$f":"'1a'!J6","v":0},{"$f":"'1a'!K6","v":0},{"$f":"'1a'!L6","v":0},{"$f":"'1a'!M6","v":0},{"$f":"'1a'!N6","v":0},{"$f":"'1a'!O6","v":0},{"$f":"'1a'!P6","v":0},{"$f":"'1a'!Q6","v":0},{"$f":"'1a'!R6","v":0},{"$f":"'1a'!S6","v":0},{"$f":"'1a'!T6","v":0},{"$f":"'1a'!U6","v":0},{"$f":"'1a'!V6","v":0},{"$f":"'1a'!W6","v":0},{"$f":"'1a'!X6","v":0},{"$f":"'1a'!Y6","v":0},{"$f":"'1a'!Z6","v":0},{"$f":"'1a'!AA6","v":0},{"$f":"'1a'!AB6","v":0},{"$f":"'1a'!AC6","v":0},{"$f":"'1a'!AD6","v":0},{"$f":"'1a'!AE6","v":0},{"$f":"'1a'!AF6","v":0},{"$f":"'1a'!AG6","v":0},{"$f":"'1a'!AH6","v":0},{"$f":"'1a'!AI6","v":0},{"$f":"'1a'!AJ6","v":0},{"$f":"'1a'!AK6","v":0},{"$f":"'1a'!AL6","v":0},{"$f":"'1a'!AM6","v":0},{"$f":"'1a'!AN6","v":0},{"$f":"'1a'!AO6","v":0},{"$f":"'1a'!AP6","v":0},{"$f":"'1a'!AQ6","v":0},{"$f":"'1a'!AR6","v":0},{"$f":"'1a'!AS6","v":0},{"$f":"'1a'!AT6","v":0},{"$f":"'1a'!AU6","v":0},{"$f":"'1a'!AV6","v":0},{"$f":"'1a'!AW6","v":0},{"$f":"'1a'!AX6","v":0},{"$f":"'1a'!AY6","v":0},{"$f":"'1a'!AZ6","v":0},{"$f":"'1a'!BA6","v":0},{"$f":"'1a'!BB6","v":0},{"$f":"'1a'!BC6","v":0},{"$f":"'1a'!BD6","v":0},{"$f":"'1a'!BE6","v":0}]
[{"$f":"'1a'!A7","v":"1a"},{"$f":"'1a'!B7","v":0},{"$f":"'1a'!C7","v":0},{"$f":"'1a'!D7","v":"lehrer05"},{"$f":"'1a'!E7","v":0},{"$f":"'1a'!F7","v":0},{"$f":"'1a'!G7","v":0},{"$f":"'1a'!H7","v":0},{"$f":"'1a'!I7","v":0},{"$f":"'1a'!J7","v":0},{"$f":"'1a'!K7","v":0},{"$f":"'1a'!L7","v":0},{"$f":"'1a'!M7","v":0},{"$f":"'1a'!N7","v":0},{"$f":"'1a'!O7","v":0},{"$f":"'1a'!P7","v":0},{"$f":"'1a'!Q7","v":0},{"$f":"'1a'!R7","v":0},{"$f":"'1a'!S7","v":0},{"$f":"'1a'!T7","v":0},{"$f":"'1a'!U7","v":0},{"$f":"'1a'!V7","v":0},{"$f":"'1a'!W7","v":0},{"$f":"'1a'!X7","v":0},{"$f":"'1a'!Y7","v":0},{"$f":"'1a'!Z7","v":0},{"$f":"'1a'!AA7","v":0},{"$f":"'1a'!AB7","v":0},{"$f":"'1a'!AC7","v":0},{"$f":"'1a'!AD7","v":0},{"$f":"'1a'!AE7","v":0},{"$f":"'1a'!AF7","v":0},{"$f":"'1a'!AG7","v":0},{"$f":"'1a'!AH7","v":0},{"$f":"'1a'!AI7","v":0},{"$f":"'1a'!AJ7","v":0},{"$f":"'1a'!AK7","v":0},{"$f":"'1a'!AL7","v":0},{"$f":"'1a'!AM7","v":0},{"$f":"'1a'!AN7","v":0},{"$f":"'1a'!AO7","v":0},{"$f":"'1a'!AP7","v":0},{"$f":"'1a'!AQ7","v":0},{"$f":"'1a'!AR7","v":0},{"$f":"'1a'!AS7","v":0},{"$f":"'1a'!AT7","v":0},{"$f":"'1a'!AU7","v":0},{"$f":"'1a'!AV7","v":0},{"$f":"'1a'!AW7","v":0},{"$f":"'1a'!AX7","v":0},{"$f":"'1a'!AY7","v":0},{"$f":"'1a'!AZ7","v":0},{"$f":"'1a'!BA7","v":0},{"$f":"'1a'!BB7","v":0},{"$f":"'1a'!BC7","v":0},{"$f":"'1a'!BD7","v":0},{"$f":"'1a'!BE7","v":0}]
[{"$f":"'1a'!A8","v":"1a"},{"$f":"'1a'!B8","v":0},{"$f":"'1a'!C8","v":0},{"$f":"'1a'!D8","v":"lehrer06"},{"$f":"'1a'!E8","v":0},{"$f":"'1a'!F8","v":0},{"$f":"'1a'!G8","v":0},{"$f":"'1a'!H8","v":0},{"$f":"'1a'!I8","v":0},{"$f":"'1a'!J8","v":0},{"$f":"'1a'!K8","v":0},{"$f":"'1a'!L8","v":0},{"$f":"'1a'!M8","v":0},{"$f":"'1a'!N8","v":0},{"$f":"'1a'!O8","v":0},{"$f":"'1a'!P8","v":0},{"$f":"'1a'!Q8","v":0},{"$f":"'1a'!R8","v":0},{"$f":"'1a'!S8","v":0},{"$f":"'1a'!T8","v":0},{"$f":"'1a'!U8","v":0},{"$f":"'1a'!V8","v":0},{"$f":"'1a'!W8","v":0},{"$f":"'1a'!X8","v":0},{"$f":"'1a'!Y8","v":0},{"$f":"'1a'!Z8","v":0},{"$f":"'1a'!AA8","v":0},{"$f":"'1a'!AB8","v":0},{"$f":"'1a'!AC8","v":0},{"$f":"'1a'!AD8","v":0},{"$f":"'1a'!AE8","v":0},{"$f":"'1a'!AF8","v":0},{"$f":"'1a'!AG8","v":0},{"$f":"'1a'!AH8","v":0},{"$f":"'1a'!AI8","v":0},{"$f":"'1a'!AJ8","v":0},{"$f":"'1a'!AK8","v":0},{"$f":"'1a'!AL8","v":0},{"$f":"'1a'!AM8","v":0},{"$f":"'1a'!AN8","v":0},{"$f":"'1a'!AO8","v":0},{"$f":"'1a'!AP8","v":0},{"$f":"'1a'!AQ8","v":0},{"$f":"'1a'!AR8","v":0},{"$f":"'1a'!AS8","v":0},{"$f":"'1a'!AT8","v":0},{"$f":"'1a'!AU8","v":0},{"$f":"'1a'!AV8","v":0},{"$f":"'1a'!AW8","v":0},{"$f":"'1a'!AX8","v":0},{"$f":"'1a'!AY8","v":0},{"$f":"'1a'!AZ8","v":0},{"$f":"'1a'!BA8","v":0},{"$f":"'1a'!BB8","v":0},{"$f":"'1a'!BC8","v":0},{"$f":"'1a'!BD8","v":0},{"$f":"'1a'!BE8","v":0}]
[{"$f":"'1a'!A9","v":"1a"},{"$f":"'1a'!B9","v":0},{"$f":"'1a'!C9","v":0},{"$f":"'1a'!D9","v":"lehrer07"},{"$f":"'1a'!E9","v":0},{"$f":"'1a'!F9","v":0},{"$f":"'1a'!G9","v":0},{"$f":"'1a'!H9","v":0},{"$f":"'1a'!I9","v":0},{"$f":"'1a'!J9","v":0},{"$f":"'1a'!K9","v":0},{"$f":"'1a'!L9","v":0},{"$f":"'1a'!M9","v":0},{"$f":"'1a'!N9","v":0},{"$f":"'1a'!O9","v":0},{"$f":"'1a'!P9","v":0},{"$f":"'1a'!Q9","v":0},{"$f":"'1a'!R9","v":0},{"$f":"'1a'!S9","v":0},{"$f":"'1a'!T9","v":0},{"$f":"'1a'!U9","v":0},{"$f":"'1a'!V9","v":0},{"$f":"'1a'!W9","v":0},{"$f":"'1a'!X9","v":0},{"$f":"'1a'!Y9","v":0},{"$f":"'1a'!Z9","v":0},{"$f":"'1a'!AA9","v":0},{"$f":"'1a'!AB9","v":0},{"$f":"'1a'!AC9","v":0},{"$f":"'1a'!AD9","v":0},{"$f":"'1a'!AE9","v":0},{"$f":"'1a'!AF9","v":0},{"$f":"'1a'!AG9","v":0},{"$f":"'1a'!AH9","v":0},{"$f":"'1a'!AI9","v":0},{"$f":"'1a'!AJ9","v":0},{"$f":"'1a'!AK9","v":0},{"$f":"'1a'!AL9","v":0},{"$f":"'1a'!AM9","v":0},{"$f":"'1a'!AN9","v":0},{"$f":"'1a'!AO9","v":0},{"$f":"'1a'!AP9","v":0},{"$f":"'1a'!AQ9","v":0},{"$f":"'1a'!AR9","v":0},{"$f":"'1a'!AS9","v":0},{"$f":"'1a'!AT9","v":0},{"$f":"'1a'!AU9","v":0},{"$f":"'1a'!AV9","v":0},{"$f":"'1a'!AW9","v":0},{"$f":"'1a'!AX9","v":0},{"$f":"'1a'!AY9","v":0},{"$f":"'1a'!AZ9","v":0},{"$f":"'1a'!BA9","v":0},{"$f":"'1a'!BB9","v":0},{"$f":"'1a'!BC9","v":0},{"$f":"'1a'!BD9","v":0},{"$f":"'1a'!BE9","v":0}]
[{"$f":"'1a'!A10","v":"1a"},{"$f":"'1a'!B10","v":0},{"$f":"'1a'!C10","v":0},{"$f":"'1a'!D10","v":"lehrer08"},{"$f":"'1a'!E10","v":0},{"$f":"'1a'!F10","v":0},{"$f":"'1a'!G10","v":0},{"$f":"'1a'!H10","v":0},{"$f":"'1a'!I10","v":0},{"$f":"'1a'!J10","v":0},{"$f":"'1a'!K10","v":0},{"$f":"'1a'!L10","v":0},{"$f":"'1a'!M10","v":0},{"$f":"'1a'!N10","v":0},{"$f":"'1a'!O10","v":0},{"$f":"'1a'!P10","v":0},{"$f":"'1a'!Q10","v":0},{"$f":"'1a'!R10","v":0},{"$f":"'1a'!S10","v":0},{"$f":"'1a'!T10","v":0},{"$f":"'1a'!U10","v":0},{"$f":"'1a'!V10","v":0},{"$f":"'1a'!W10","v":0},{"$f":"'1a'!X10","v":0},{"$f":"'1a'!Y10","v":0},{"$f":"'1a'!Z10","v":0},{"$f":"'1a'!AA10","v":0},{"$f":"'1a'!AB10","v":0},{"$f":"'1a'!AC10","v":0},{"$f":"'1a'!AD10","v":0},{"$f":"'1a'!AE10","v":0},{"$f":"'1a'!AF10","v":0},{"$f":"'1a'!AG10","v":0},{"$f":"'1a'!AH10","v":0},{"$f":"'1a'!AI10","v":0},{"$f":"'1a'!AJ10","v":0},{"$f":"'1a'!AK10","v":0},{"$f":"'1a'!AL10","v":0},{"$f":"'1a'!AM10","v":0},{"$f":"'1a'!AN10","v":0},{"$f":"'1a'!AO10","v":0},{"$f":"'1a'!AP10","v":0},{"$f":"'1a'!AQ10","v":0},{"$f":"'1a'!AR10","v":0},{"$f":"'1a'!AS10","v":0},{"$f":"'1a'!AT10","v":0},{"$f":"'1a'!AU10","v":0},{"$f":"'1a'!AV10","v":0},{"$f":"'1a'!AW10","v":0},{"$f":"'1a'!AX10","v":0},{"$f":"'1a'!AY10","v":0},{"$f":"'1a'!AZ10","v":0},{"$f":"'1a'!BA10","v":0},{"$f":"'1a'!BB10","v":0},{"$f":"'1a'!BC10","v":0},{"$f":"'1a'!BD10","v":0},{"$f":"'1a'!BE10","v":0}]
[{"$f":"'1a'!A11","v":"1a"},{"$f":"'1a'!B11","v":0},{"$f":"'1a'!C11","v":0},{"$f":"'1a'!D11","v":"lehrer09"},{"$f":"'1a'!E11","v":0},{"$f":"'1a'!F11","v":0},{"$f":"'1a'!G11","v":0},{"$f":"'1a'!H11","v":0},{"$f":"'1a'!I11","v":0},{"$f":"'1a'!J11","v":0},{"$f":"'1a'!K11","v":0},{"$f":"'1a'!L11","v":0},{"$f":"'1a'!M11","v":0},{"$f":"'1a'!N11","v":0},{"$f":"'1a'!O11","v":0},{"$f":"'1a'!P11","v":0},{"$f":"'1a'!Q11","v":0},{"$f":"'1a'!R11","v":0},{"$f":"'1a'!S11","v":0},{"$f":"'1a'!T11","v":0},{"$f":"'1a'!U11","v":0},{"$f":"'1a'!V11","v":0},{"$f":"'1a'!W11","v":0},{"$f":"'1a'!X11","v":0},{"$f":"'1a'!Y11","v":0},{"$f":"'1a'!Z11","v":0},{"$f":"'1a'!AA11","v":0},{"$f":"'1a'!AB11","v":0},{"$f":"'1a'!AC11","v":0},{"$f":"'1a'!AD11","v":0},{"$f":"'1a'!AE11","v":0},{"$f":"'1a'!AF11","v":0},{"$f":"'1a'!AG11","v":0},{"$f":"'1a'!AH11","v":0},{"$f":"'1a'!AI11","v":0},{"$f":"'1a'!AJ11","v":0},{"$f":"'1a'!AK11","v":0},{"$f":"'1a'!AL11","v":0},{"$f":"'1a'!AM11","v":0},{"$f":"'1a'!AN11","v":0},{"$f":"'1a'!AO11","v":0},{"$f":"'1a'!AP11","v":0},{"$f":"'1a'!AQ11","v":0},{"$f":"'1a'!AR11","v":0},{"$f":"'1a'!AS11","v":0},{"$f":"'1a'!AT11","v":0},{"$f":"'1a'!AU11","v":0},{"$f":"'1a'!AV11","v":0},{"$f":"'1a'!AW11","v":0},{"$f":"'1a'!AX11","v":0},{"$f":"'1a'!AY11","v":0},{"$f":"'1a'!AZ11","v":0},{"$f":"'1a'!BA11","v":0},{"$f":"'1a'!BB11","v":0},{"$f":"'1a'!BC11","v":0},{"$f":"'1a'!BD11","v":0},{"$f":"'1a'!BE11","v":0}]
[{"$f":"'1a'!A12","v":"1a"},{"$f":"'1a'!B12","v":0},{"$f":"'1a'!C12","v":0},{"$f":"'1a'!D12","v":"lehrer10"},{"$f":"'1a'!E12","v":0},{"$f":"'1a'!F12","v":0},{"$f":"'1a'!G12","v":0},{"$f":"'1a'!H12","v":0},{"$f":"'1a'!I12","v":0},{"$f":"'1a'!J12","v":0},{"$f":"'1a'!K12","v":0},{"$f":"'1a'!L12","v":0},{"$f":"'1a'!M12","v":0},{"$f":"'1a'!N12","v":0},{"$f":"'1a'!O12","v":0},{"$f":"'1a'!P12","v":0},{"$f":"'1a'!Q12","v":0},{"$f":"'1a'!R12","v":0},{"$f":"'1a'!S12","v":0},{"$f":"'1a'!T12","v":0},{"$f":"'1a'!U12","v":0},{"$f":"'1a'!V12","v":0},{"$f":"'1a'!W12","v":0},{"$f":"'1a'!X12","v":0},{"$f":"'1a'!Y12","v":0},{"$f":"'1a'!Z12","v":0},{"$f":"'1a'!AA12","v":0},{"$f":"'1a'!AB12","v":0},{"$f":"'1a'!AC12","v":0},{"$f":"'1a'!AD12","v":0},{"$f":"'1a'!AE12","v":0},{"$f":"'1a'!AF12","v":0},{"$f":"'1a'!AG12","v":0},{"$f":"'1a'!AH12","v":0},{"$f":"'1a'!AI12","v":0},{"$f":"'1a'!AJ12","v":0},{"$f":"'1a'!AK12","v":0},{"$f":"'1a'!AL12","v":0},{"$f":"'1a'!AM12","v":0},{"$f":"'1a'!AN12","v":0},{"$f":"'1a'!AO12","v":0},{"$f":"'1a'!AP12","v":0},{"$f":"'1a'!AQ12","v":0},{"$f":"'1a'!AR12","v":0},{"$f":"'1a'!AS12","v":0},{"$f":"'1a'!AT12","v":0},{"$f":"'1a'!AU12","v":0},{"$f":"'1a'!AV12","v":0},{"$f":"'1a'!AW12","v":0},{"$f":"'1a'!AX12","v":0},{"$f":"'1a'!AY12","v":0},{"$f":"'1a'!AZ12","v":0},{"$f":"'1a'!BA12","v":0},{"$f":"'1a'!BB12","v":0},{"$f":"'1a'!BC12","v":0},{"$f":"'1a'!BD12","v":0},{"$f":"'1a'!BE12","v":0}]
[{"$f":"'1a'!A13","v":"1a"},{"$f":"'1a'!B13","v":0},{"$f":"'1a'!C13","v":0},{"$f":"'1a'!D13","v":"lehrer11"},{"$f":"'1a'!E13","v":0},{"$f":"'1a'!F13","v":0},{"$f":"'1a'!G13","v":0},{"$f":"'1a'!H13","v":0},{"$f":"'1a'!I13","v":0},{"$f":"'1a'!J13","v":0},{"$f":"'1a'!K13","v":0},{"$f":"'1a'!L13","v":0},{"$f":"'1a'!M13","v":0},{"$f":"'1a'!N13","v":0},{"$f":"'1a'!O13","v":0},{"$f":"'1a'!P13","v":0},{"$f":"'1a'!Q13","v":0},{"$f":"'1a'!R13","v":0},{"$f":"'1a'!S13","v":0},{"$f":"'1a'!T13","v":0},{"$f":"'1a'!U13","v":0},{"$f":"'1a'!V13","v":0},{"$f":"'1a'!W13","v":0},{"$f":"'1a'!X13","v":0},{"$f":"'1a'!Y13","v":0},{"$f":"'1a'!Z13","v":0},{"$f":"'1a'!AA13","v":0},{"$f":"'1a'!AB13","v":0},{"$f":"'1a'!AC13","v":0},{"$f":"'1a'!AD13","v":0},{"$f":"'1a'!AE13","v":0},{"$f":"'1a'!AF13","v":0},{"$f":"'1a'!AG13","v":0},{"$f":"'1a'!AH13","v":0},{"$f":"'1a'!AI13","v":0},{"$f":"'1a'!AJ13","v":0},{"$f":"'1a'!AK13","v":0},{"$f":"'1a'!AL13","v":0},{"$f":"'1a'!AM13","v":0},{"$f":"'1a'!AN13","v":0},{"$f":"'1a'!AO13","v":0},{"$f":"'1a'!AP13","v":0},{"$f":"'1a'!AQ13","v":0},{"$f":"'1a'!AR13","v":0},{"$f":"'1a'!AS13","v":0},{"$f":"'1a'!AT13","v":0},{"$f":"'1a'!AU13","v":0},{"$f":"'1a'!AV13","v":0},{"$f":"'1a'!AW13","v":0},{"$f":"'1a'!AX13","v":0},{"$f":"'1a'!AY13","v":0},{"$f":"'1a'!AZ13","v":0},{"$f":"'1a'!BA13","v":0},{"$f":"'1a'!BB13","v":0},{"$f":"'1a'!BC13","v":0},{"$f":"'1a'!BD13","v":0},{"$f":"'1a'!BE13","v":0}]
[{"$f":"'1a'!A14","v":"1a"},{"$f":"'1a'!B14","v":0},{"$f":"'1a'!C14","v":0},{"$f":"'1a'!D14","v":"lehrer12"},{"$f":"'1a'!E14","v":0},{"$f":"'1a'!F14","v":0},{"$f":"'1a'!G14","v":0},{"$f":"'1a'!H14","v":0},{"$f":"'1a'!I14","v":0},{"$f":"'1a'!J14","v":0},{"$f":"'1a'!K14","v":0},{"$f":"'1a'!L14","v":0},{"$f":"'1a'!M14","v":0},{"$f":"'1a'!N14","v":0},{"$f":"'1a'!O14","v":0},{"$f":"'1a'!P14","v":0},{"$f":"'1a'!Q14","v":0},{"$f":"'1a'!R14","v":0},{"$f":"'1a'!S14","v":0},{"$f":"'1a'!T14","v":0},{"$f":"'1a'!U14","v":0},{"$f":"'1a'!V14","v":0},{"$f":"'1a'!W14","v":0},{"$f":"'1a'!X14","v":0},{"$f":"'1a'!Y14","v":0},{"$f":"'1a'!Z14","v":0},{"$f":"'1a'!AA14","v":0},{"$f":"'1a'!AB14","v":0},{"$f":"'1a'!AC14","v":0},{"$f":"'1a'!AD14","v":0},{"$f":"'1a'!AE14","v":0},{"$f":"'1a'!AF14","v":0},{"$f":"'1a'!AG14","v":0},{"$f":"'1a'!AH14","v":0},{"$f":"'1a'!AI14","v":0},{"$f":"'1a'!AJ14","v":0},{"$f":"'1a'!AK14","v":0},{"$f":"'1a'!AL14","v":0},{"$f":"'1a'!AM14","v":0},{"$f":"'1a'!AN14","v":0},{"$f":"'1a'!AO14","v":0},{"$f":"'1a'!AP14","v":0},{"$f":"'1a'!AQ14","v":0},{"$f":"'1a'!AR14","v":0},{"$f":"'1a'!AS14","v":0},{"$f":"'1a'!AT14","v":0},{"$f":"'1a'!AU14","v":0},{"$f":"'1a'!AV14","v":0},{"$f":"'1a'!AW14","v":0},{"$f":"'1a'!AX14","v":0},{"$f":"'1a'!AY14","v":0},{"$f":"'1a'!AZ14","v":0},{"$f":"'1a'!BA14","v":0},{"$f":"'1a'!BB14","v":0},{"$f":"'1a'!BC14","v":0},{"$f":"'1a'!BD14","v":0},{"$f":"'1a'!BE14","v":0}]
[{"$f":"'1a'!A15","v":"1a"},{"$f":"'1a'!B15","v":0},{"$f":"'1a'!C15","v":0},{"$f":"'1a'!D15","v":"lehrer13"},{"$f":"'1a'!E15","v":0},{"$f":"'1a'!F15","v":0},{"$f":"'1a'!G15","v":0},{"$f":"'1a'!H15","v":0},{"$f":"'1a'!I15","v":0},{"$f":"'1a'!J15","v":0},{"$f":"'1a'!K15","v":0},{"$f":"'1a'!L15","v":0},{"$f":"'1a'!M15","v":0},{"$f":"'1a'!N15","v":0},{"$f":"'1a'!O15","v":0},{"$f":"'1a'!P15","v":0},{"$f":"'1a'!Q15","v":0},{"$f":"'1a'!R15","v":0},{"$f":"'1a'!S15","v":0},{"$f":"'1a'!T15","v":0},{"$f":"'1a'!U15","v":0},{"$f":"'1a'!V15","v":0},{"$f":"'1a'!W15","v":0},{"$f":"'1a'!X15","v":0},{"$f":"'1a'!Y15","v":0},{"$f":"'1a'!Z15","v":0},{"$f":"'1a'!AA15","v":0},{"$f":"'1a'!AB15","v":0},{"$f":"'1a'!AC15","v":0},{"$f":"'1a'!AD15","v":0},{"$f":"'1a'!AE15","v":0},{"$f":"'1a'!AF15","v":0},{"$f":"'1a'!AG15","v":0},{"$f":"'1a'!AH15","v":0},{"$f":"'1a'!AI15","v":0},{"$f":"'1a'!AJ15","v":0},{"$f":"'1a'!AK15","v":0},{"$f":"'1a'!AL15","v":0},{"$f":"'1a'!AM15","v":0},{"$f":"'1a'!AN15","v":0},{"$f":"'1a'!AO15","v":0},{"$f":"'1a'!AP15","v":0},{"$f":"'1a'!AQ15","v":0},{"$f":"'1a'!AR15","v":0},{"$f":"'1a'!AS15","v":0},{"$f":"'1a'!AT15","v":0},{"$f":"'1a'!AU15","v":0},{"$f":"'1a'!AV15","v":0},{"$f":"'1a'!AW15","v":0},{"$f":"'1a'!AX15","v":0},{"$f":"'1a'!AY15","v":0},{"$f":"'1a'!AZ15","v":0},{"$f":"'1a'!BA15","v":0},{"$f":"'1a'!BB15","v":0},{"$f":"'1a'!BC15","v":0},{"$f":"'1a'!BD15","v":0},{"$f":"'1a'!BE15","v":0}]
[{"$f":"'1a'!A16","v":"1a"},{"$f":"'1a'!B16","v":0},{"$f":"'1a'!C16","v":0},{"$f":"'1a'!D16","v":"lehrer14"},{"$f":"'1a'!E16","v":0},{"$f":"'1a'!F16","v":0},{"$f":"'1a'!G16","v":0},{"$f":"'1a'!H16","v":0},{"$f":"'1a'!I16","v":0},{"$f":"'1a'!J16","v":0},{"$f":"'1a'!K16","v":0},{"$f":"'1a'!L16","v":0},{"$f":"'1a'!M16","v":0},{"$f":"'1a'!N16","v":0},{"$f":"'1a'!O16","v":0},{"$f":"'1a'!P16","v":0},{"$f":"'1a'!Q16","v":0},{"$f":"'1a'!R16","v":0},{"$f":"'1a'!S16","v":0},{"$f":"'1a'!T16","v":0},{"$f":"'1a'!U16","v":0},{"$f":"'1a'!V16","v":0},{"$f":"'1a'!W16","v":0},{"$f":"'1a'!X16","v":0},{"$f":"'1a'!Y16","v":0},{"$f":"'1a'!Z16","v":0},{"$f":"'1a'!AA16","v":0},{"$f":"'1a'!AB16","v":0},{"$f":"'1a'!AC16","v":0},{"$f":"'1a'!AD16","v":0},{"$f":"'1a'!AE16","v":0},{"$f":"'1a'!AF16","v":0},{"$f":"'1a'!AG16","v":0},{"$f":"'1a'!AH16","v":0},{"$f":"'1a'!AI16","v":0},{"$f":"'1a'!AJ16","v":0},{"$f":"'1a'!AK16","v":0},{"$f":"'1a'!AL16","v":0},{"$f":"'1a'!AM16","v":0},{"$f":"'1a'!AN16","v":0},{"$f":"'1a'!AO16","v":0},{"$f":"'1a'!AP16","v":0},{"$f":"'1a'!AQ16","v":0},{"$f":"'1a'!AR16","v":0},{"$f":"'1a'!AS16","v":0},{"$f":"'1a'!AT16","v":0},{"$f":"'1a'!AU16","v":0},{"$f":"'1a'!AV16","v":0},{"$f":"'1a'!AW16","v":0},{"$f":"'1a'!AX16","v":0},{"$f":"'1a'!AY16","v":0},{"$f":"'1a'!AZ16","v":0},{"$f":"'1a'!BA16","v":0},{"$f":"'1a'!BB16","v":0},{"$f":"'1a'!BC16","v":0},{"$f":"'1a'!BD16","v":0},{"$f":"'1a'!BE16","v":0}]
[{"$f":"'1a'!A17","v":"1a"},{"$f":"'1a'!B17","v":0},{"$f":"'1a'!C17","v":0},{"$f":"'1a'!D17","v":"lehrer15"},{"$f":"'1a'!E17","v":0},{"$f":"'1a'!F17","v":0},{"$f":"'1a'!G17","v":0},{"$f":"'1a'!H17","v":0},{"$f":"'1a'!I17","v":0},{"$f":"'1a'!J17","v":0},{"$f":"'1a'!K17","v":0},{"$f":"'1a'!L17","v":0},{"$f":"'1a'!M17","v":0},{"$f":"'1a'!N17","v":0},{"$f":"'1a'!O17","v":0},{"$f":"'1a'!P17","v":0},{"$f":"'1a'!Q17","v":0},{"$f":"'1a'!R17","v":0},{"$f":"'1a'!S17","v":0},{"$f":"'1a'!T17","v":0},{"$f":"'1a'!U17","v":0},{"$f":"'1a'!V17","v":0},{"$f":"'1a'!W17","v":0},{"$f":"'1a'!X17","v":0},{"$f":"'1a'!Y17","v":0},{"$f":"'1a'!Z17","v":0},{"$f":"'1a'!AA17","v":0},{"$f":"'1a'!AB17","v":0},{"$f":"'1a'!AC17","v":0},{"$f":"'1a'!AD17","v":0},{"$f":"'1a'!AE17","v":0},{"$f":"'1a'!AF17","v":0},{"$f":"'1a'!AG17","v":0},{"$f":"'1a'!AH17","v":0},{"$f":"'1a'!AI17","v":0},{"$f":"'1a'!AJ17","v":0},{"$f":"'1a'!AK17","v":0},{"$f":"'1a'!AL17","v":0},{"$f":"'1a'!AM17","v":0},{"$f":"'1a'!AN17","v":0},{"$f":"'1a'!AO17","v":0},{"$f":"'1a'!AP17","v":0},{"$f":"'1a'!AQ17","v":0},{"$f":"'1a'!AR17","v":0},{"$f":"'1a'!AS17","v":0},{"$f":"'1a'!AT17","v":0},{"$f":"'1a'!AU17","v":0},{"$f":"'1a'!AV17","v":0},{"$f":"'1a'!AW17","v":0},{"$f":"'1a'!AX17","v":0},{"$f":"'1a'!AY17","v":0},{"$f":"'1a'!AZ17","v":0},{"$f":"'1a'!BA17","v":0},{"$f":"'1a'!BB17","v":0},{"$f":"'1a'!BC17","v":0},{"$f":"'1a'!BD17","v":0},{"$f":"'1a'!BE17","v":0}]
[{"$f":"'1a'!A18","v":"1a"},{"$f":"'1a'!B18","v":0},{"$f":"'1a'!C18","v":0},{"$f":"'1a'!D18","v":"lehrer16"},{"$f":"'1a'!E18","v":0},{"$f":"'1a'!F18","v":0},{"$f":"'1a'!G18","v":0},{"$f":"'1a'!H18","v":0},{"$f":"'1a'!I18","v":0},{"$f":"'1a'!J18","v":0},{"$f":"'1a'!K18","v":0},{"$f":"'1a'!L18","v":0},{"$f":"'1a'!M18","v":0},{"$f":"'1a'!N18","v":0},{"$f":"'1a'!O18","v":0},{"$f":"'1a'!P18","v":0},{"$f":"'1a'!Q18","v":0},{"$f":"'1a'!R18","v":0},{"$f":"'1a'!S18","v":0},{"$f":"'1a'!T18","v":0},{"$f":"'1a'!U18","v":0},{"$f":"'1a'!V18","v":0},{"$f":"'1a'!W18","v":0},{"$f":"'1a'!X18","v":0},{"$f":"'1a'!Y18","v":0},{"$f":"'1a'!Z18","v":0},{"$f":"'1a'!AA18","v":0},{"$f":"'1a'!AB18","v":0},{"$f":"'1a'!AC18","v":0},{"$f":"'1a'!AD18","v":0},{"$f":"'1a'!AE18","v":0},{"$f":"'1a'!AF18","v":0},{"$f":"'1a'!AG18","v":0},{"$f":"'1a'!AH18","v":0},{"$f":"'1a'!AI18","v":0},{"$f":"'1a'!AJ18","v":0},{"$f":"'1a'!AK18","v":0},{"$f":"'1a'!AL18","v":0},{"$f":"'1a'!AM18","v":0},{"$f":"'1a'!AN18","v":0},{"$f":"'1a'!AO18","v":0},{"$f":"'1a'!AP18","v":0},{"$f":"'1a'!AQ18","v":0},{"$f":"'1a'!AR18","v":0},{"$f":"'1a'!AS18","v":0},{"$f":"'1a'!AT18","v":0},{"$f":"'1a'!AU18","v":0},{"$f":"'1a'!AV18","v":0},{"$f":"'1a'!AW18","v":0},{"$f":"'1a'!AX18","v":0},{"$f":"'1a'!AY18","v":0},{"$f":"'1a'!AZ18","v":0},{"$f":"'1a'!BA18","v":0},{"$f":"'1a'!BB18","v":0},{"$f":"'1a'!BC18","v":0},{"$f":"'1a'!BD18","v":0},{"$f":"'1a'!BE18","v":0}]
[{"$f":"'1a'!A19","v":"1a"},{"$f":"'1a'!B19","v":0},{"$f":"'1a'!C19","v":0},{"$f":"'1a'!D19","v":"lehrer17"},{"$f":"'1a'!E19","v":0},{"$f":"'1a'!F19","v":0},{"$f":"'1a'!G19","v":0},{"$f":"'1a'!H19","v":0},{"$f":"'1a'!I19","v":0},{"$f":"'1a'!J19","v":0},{"$f":"'1a'!K19","v":0},{"$f":"'1a'!L19","v":0},{"$f":"'1a'!M19","v":0},{"$f":"'1a'!N19","v":0},{"$f":"'1a'!O19","v":0},{"$f":"'1a'!P19","v":0},{"$f":"'1a'!Q19","v":0},{"$f":"'1a'!R19","v":0},{"$f":"'1a'!S19","v":0},{"$f":"'1a'!T19","v":0},{"$f":"'1a'!U19","v":0},{"$f":"'1a'!V19","v":0},{"$f":"'1a'!W19","v":0},{"$f":"'1a'!X19","v":0},{"$f":"'1a'!Y19","v":0},{"$f":"'1a'!Z19","v":0},{"$f":"'1a'!AA19","v":0},{"$f":"'1a'!AB19","v":0},{"$f":"'1a'!AC19","v":0},{"$f":"'1a'!AD19","v":0},{"$f":"'1a'!AE19","v":0},{"$f":"'1a'!AF19","v":0},{"$f":"'1a'!AG19","v":0},{"$f":"'1a'!AH19","v":0},{"$f":"'1a'!AI19","v":0},{"$f":"'1a'!AJ19","v":0},{"$f":"'1a'!AK19","v":0},{"$f":"'1a'!AL19","v":0},{"$f":"'1a'!AM19","v":0},{"$f":"'1a'!AN19","v":0},{"$f":"'1a'!AO19","v":0},{"$f":"'1a'!AP19","v":0},{"$f":"'1a'!AQ19","v":0},{"$f":"'1a'!AR19","v":0},{"$f":"'1a'!AS19","v":0},{"$f":"'1a'!AT19","v":0},{"$f":"'1a'!AU19","v":0},{"$f":"'1a'!AV19","v":0},{"$f":"'1a'!AW19","v":0},{"$f":"'1a'!AX19","v":0},{"$f":"'1a'!AY19","v":0},{"$f":"'1a'!AZ19","v":0},{"$f":"'1a'!BA19","v":0},{"$f":"'1a'!BB19","v":0},{"$f":"'1a'!BC19","v":0},{"$f":"'1a'!BD19","v":0},{"$f":"'1a'!BE19","v":0}]
[{"$f":"'1a'!A20","v":"1a"},{"$f":"'1a'!B20","v":0},{"$f":"'1a'!C20","v":0},{"$f":"'1a'!D20","v":"lehrer18"},{"$f":"'1a'!E20","v":0},{"$f":"'1a'!F20","v":0},{"$f":"'1a'!G20","v":0},{"$f":"'1a'!H20","v":0},{"$f":"'1a'!I20","v":0},{"$f":"'1a'!J20","v":0},{"$f":"'1a'!K20","v":0},{"$f":"'1a'!L20","v":0},{"$f":"'1a'!M20","v":0},{"$f":"'1a'!N20","v":0},{"$f":"'1a'!O20","v":0},{"$f":"'1a'!P20","v":0},{"$f":"'1a'!Q20","v":0},{"$f":"'1a'!R20","v":0},{"$f":"'1a'!S20","v":0},{"$f":"'1a'!T20","v":0},{"$f":"'1a'!U20","v":0},{"$f":"'1a'!V20","v":0},{"$f":"'1a'!W20","v":0},{"$f":"'1a'!X20","v":0},{"$f":"'1a'!Y20","v":0},{"$f":"'1a'!Z20","v":0},{"$f":"'1a'!AA20","v":0},{"$f":"'1a'!AB20","v":0},{"$f":"'1a'!AC20","v":0},{"$f":"'1a'!AD20","v":0},{"$f":"'1a'!AE20","v":0},{"$f":"'1a'!AF20","v":0},{"$f":"'1a'!AG20","v":0},{"$f":"'1a'!AH20","v":0},{"$f":"'1a'!AI20","v":0},{"$f":"'1a'!AJ20","v":0},{"$f":"'1a'!AK20","v":0},{"$f":"'1a'!AL20","v":0},{"$f":"'1a'!AM20","v":0},{"$f":"'1a'!AN20","v":0},{"$f":"'1a'!AO20","v":0},{"$f":"'1a'!AP20","v":0},{"$f":"'1a'!AQ20","v":0},{"$f":"'1a'!AR20","v":0},{"$f":"'1a'!AS20","v":0},{"$f":"'1a'!AT20","v":0},{"$f":"'1a'!AU20","v":0},{"$f":"'1a'!AV20","v":0},{"$f":"'1a'!AW20","v":0},{"$f":"'1a'!AX20","v":0},{"$f":"'1a'!AY20","v":0},{"$f":"'1a'!AZ20","v":0},{"$f":"'1a'!BA20","v":0},{"$f":"'1a'!BB20","v":0},{"$f":"'1a'!BC20","v":0},{"$f":"'1a'!BD20","v":0},{"$f":"'1a'!BE20","v":0}]
[{"$f":"'1a'!A21","v":"1a"},{"$f":"'1a'!B21","v":0},{"$f":"'1a'!C21","v":0},{"$f":"'1a'!D21","v":"lehrer19"},{"$f":"'1a'!E21","v":0},{"$f":"'1a'!F21","v":0},{"$f":"'1a'!G21","v":0},{"$f":"'1a'!H21","v":0},{"$f":"'1a'!I21","v":0},{"$f":"'1a'!J21","v":0},{"$f":"'1a'!K21","v":0},{"$f":"'1a'!L21","v":0},{"$f":"'1a'!M21","v":0},{"$f":"'1a'!N21","v":0},{"$f":"'1a'!O21","v":0},{"$f":"'1a'!P21","v":0},{"$f":"'1a'!Q21","v":0},{"$f":"'1a'!R21","v":0},{"$f":"'1a'!S21","v":0},{"$f":"'1a'!T21","v":0},{"$f":"'1a'!U21","v":0},{"$f":"'1a'!V21","v":0},{"$f":"'1a'!W21","v":0},{"$f":"'1a'!X21","v":0},{"$f":"'1a'!Y21","v":0},{"$f":"'1a'!Z21","v":0},{"$f":"'1a'!AA21","v":0},{"$f":"'1a'!AB21","v":0},{"$f":"'1a'!AC21","v":0},{"$f":"'1a'!AD21","v":0},{"$f":"'1a'!AE21","v":0},{"$f":"'1a'!AF21","v":0},{"$f":"'1a'!AG21","v":0},{"$f":"'1a'!AH21","v":0},{"$f":"'1a'!AI21","v":0},{"$f":"'1a'!AJ21","v":0},{"$f":"'1a'!AK21","v":0},{"$f":"'1a'!AL21","v":0},{"$f":"'1a'!AM21","v":0},{"$f":"'1a'!AN21","v":0},{"$f":"'1a'!AO21","v":0},{"$f":"'1a'!AP21","v":0},{"$f":"'1a'!AQ21","v":0},{"$f":"'1a'!AR21","v":0},{"$f":"'1a'!AS21","v":0},{"$f":"'1a'!AT21","v":0},{"$f":"'1a'!AU21","v":0},{"$f":"'1a'!AV21","v":0},{"$f":"'1a'!AW21","v":0},{"$f":"'1a'!AX21","v":0},{"$f":"'1a'!AY21","v":0},{"$f":"'1a'!AZ21","v":0},{"$f":"'1a'!BA21","v":0},{"$f":"'1a'!BB21","v":0},{"$f":"'1a'!BC21","v":0},{"$f":"'1a'!BD21","v":0},{"$f":"'1a'!BE21","v":0}]
[{"$f":"'1a'!A22","v":"1a"},{"$f":"'1a'!B22","v":0},{"$f":"'1a'!C22","v":0},{"$f":"'1a'!D22","v":"lehrer20"},{"$f":"'1a'!E22","v":0},{"$f":"'1a'!F22","v":0},{"$f":"'1a'!G22","v":0},{"$f":"'1a'!H22","v":0},{"$f":"'1a'!I22","v":0},{"$f":"'1a'!J22","v":0},{"$f":"'1a'!K22","v":0},{"$f":"'1a'!L22","v":0},{"$f":"'1a'!M22","v":0},{"$f":"'1a'!N22","v":0},{"$f":"'1a'!O22","v":0},{"$f":"'1a'!P22","v":0},{"$f":"'1a'!Q22","v":0},{"$f":"'1a'!R22","v":0},{"$f":"'1a'!S22","v":0},{"$f":"'1a'!T22","v":0},{"$f":"'1a'!U22","v":0},{"$f":"'1a'!V22","v":0},{"$f":"'1a'!W22","v":0},{"$f":"'1a'!X22","v":0},{"$f":"'1a'!Y22","v":0},{"$f":"'1a'!Z22","v":0},{"$f":"'1a'!AA22","v":0},{"$f":"'1a'!AB22","v":0},{"$f":"'1a'!AC22","v":0},{"$f":"'1a'!AD22","v":0},{"$f":"'1a'!AE22","v":0},{"$f":"'1a'!AF22","v":0},{"$f":"'1a'!AG22","v":0},{"$f":"'1a'!AH22","v":0},{"$f":"'1a'!AI22","v":0},{"$f":"'1a'!AJ22","v":0},{"$f":"'1a'!AK22","v":0},{"$f":"'1a'!AL22","v":0},{"$f":"'1a'!AM22","v":0},{"$f":"'1a'!AN22","v":0},{"$f":"'1a'!AO22","v":0},{"$f":"'1a'!AP22","v":0},{"$f":"'1a'!AQ22","v":0},{"$f":"'1a'!AR22","v":0},{"$f":"'1a'!AS22","v":0},{"$f":"'1a'!AT22","v":0},{"$f":"'1a'!AU22","v":0},{"$f":"'1a'!AV22","v":0},{"$f":"'1a'!AW22","v":0},{"$f":"'1a'!AX22","v":0},{"$f":"'1a'!AY22","v":0},{"$f":"'1a'!AZ22","v":0},{"$f":"'1a'!BA22","v":0},{"$f":"'1a'!BB22","v":0},{"$f":"'1a'!BC22","v":0},{"$f":"'1a'!BD22","v":0},{"$f":"'1a'!BE22","v":0}]
[{"$f":"'1a'!A23","v":"1a"},{"$f":"'1a'!B23","v":0},{"$f":"'1a'!C23","v":0},{"$f":"'1a'!D23","v":"lehrer21"},{"$f":"'1a'!E23","v":0},{"$f":"'1a'!F23","v":0},{"$f":"'1a'!G23","v":0},{"$f":"'1a'!H23","v":0},{"$f":"'1a'!I23","v":0},{"$f":"'1a'!J23","v":0},{"$f":"'1a'!K23","v":0},{"$f":"'1a'!L23","v":0},{"$f":"'1a'!M23","v":0},{"$f":"'1a'!N23","v":0},{"$f":"'1a'!O23","v":0},{"$f":"'1a'!P23","v":0},{"$f":"'1a'!Q23","v":0},{"$f":"'1a'!R23","v":0},{"$f":"'1a'!S23","v":0},{"$f":"'1a'!T23","v":0},{"$f":"'1a'!U23","v":0},{"$f":"'1a'!V23","v":0},{"$f":"'1a'!W23","v":0},{"$f":"'1a'!X23","v":0},{"$f":"'1a'!Y23","v":0},{"$f":"'1a'!Z23","v":0},{"$f":"'1a'!AA23","v":0},{"$f":"'1a'!AB23","v":0},{"$f":"'1a'!AC23","v":0},{"$f":"'1a'!AD23","v":0},{"$f":"'1a'!AE23","v":0},{"$f":"'1a'!AF23","v":0},{"$f":"'1a'!AG23","v":0},{"$f":"'1a'!AH23","v":0},{"$f":"'1a'!AI23","v":0},{"$f":"'1a'!AJ23","v":0},{"$f":"'1a'!AK23","v":0},{"$f":"'1a'!AL23","v":0},{"$f":"'1a'!AM23","v":0},{"$f":"'1a'!AN23","v":0},{"$f":"'1a'!AO23","v":0},{"$f":"'1a'!AP23","v":0},{"$f":"'1a'!AQ23","v":0},{"$f":"'1a'!AR23","v":0},{"$f":"'1a'!AS23","v":0},{"$f":"'1a'!AT23","v":0},{"$f":"'1a'!AU23","v":0},{"$f":"'1a'!AV23","v":0},{"$f":"'1a'!AW23","v":0},{"$f":"'1a'!AX23","v":0},{"$f":"'1a'!AY23","v":0},{"$f":"'1a'!AZ23","v":0},{"$f":"'1a'!BA23","v":0},{"$f":"'1a'!BB23","v":0},{"$f":"'1a'!BC23","v":0},{"$f":"'1a'!BD23","v":0},{"$f":"'1a'!BE23","v":0}]
[{"$f":"'1a'!A24","v":"1a"},{"$f":"'1a'!B24","v":0},{"$f":"'1a'!C24","v":0},{"$f":"'1a'!D24","v":"lehrer22"},{"$f":"'1a'!E24","v":0},{"$f":"'1a'!F24","v":0},{"$f":"'1a'!G24","v":0},{"$f":"'1a'!H24","v":0},{"$f":"'1a'!I24","v":0},{"$f":"'1a'!J24","v":0},{"$f":"'1a'!K24","v":0},{"$f":"'1a'!L24","v":0},{"$f":"'1a'!M24","v":0},{"$f":"'1a'!N24","v":0},{"$f":"'1a'!O24","v":0},{"$f":"'1a'!P24","v":0},{"$f":"'1a'!Q24","v":0},{"$f":"'1a'!R24","v":0},{"$f":"'1a'!S24","v":0},{"$f":"'1a'!T24","v":0},{"$f":"'1a'!U24","v":0},{"$f":"'1a'!V24","v":0},{"$f":"'1a'!W24","v":0},{"$f":"'1a'!X24","v":0},{"$f":"'1a'!Y24","v":0},{"$f":"'1a'!Z24","v":0},{"$f":"'1a'!AA24","v":0},{"$f":"'1a'!AB24","v":0},{"$f":"'1a'!AC24","v":0},{"$f":"'1a'!AD24","v":0},{"$f":"'1a'!AE24","v":0},{"$f":"'1a'!AF24","v":0},{"$f":"'1a'!AG24","v":0},{"$f":"'1a'!AH24","v":0},{"$f":"'1a'!AI24","v":0},{"$f":"'1a'!AJ24","v":0},{"$f":"'1a'!AK24","v":0},{"$f":"'1a'!AL24","v":0},{"$f":"'1a'!AM24","v":0},{"$f":"'1a'!AN24","v":0},{"$f":"'1a'!AO24","v":0},{"$f":"'1a'!AP24","v":0},{"$f":"'1a'!AQ24","v":0},{"$f":"'1a'!AR24","v":0},{"$f":"'1a'!AS24","v":0},{"$f":"'1a'!AT24","v":0},{"$f":"'1a'!AU24","v":0},{"$f":"'1a'!AV24","v":0},{"$f":"'1a'!AW24","v":0},{"$f":"'1a'!AX24","v":0},{"$f":"'1a'!AY24","v":0},{"$f":"'1a'!AZ24","v":0},{"$f":"'1a'!BA24","v":0},{"$f":"'1a'!BB24","v":0},{"$f":"'1a'!BC24","v":0},{"$f":"'1a'!BD24","v":0},{"$f":"'1a'!BE24","v":0}]
[{"$f":"'1a'!A25","v":"1a"},{"$f":"'1a'!B25","v":0},{"$f":"'1a'!C25","v":0},{"$f":"'1a'!D25","v":"lehrer23"},{"$f":"'1a'!E25","v":0},{"$f":"'1a'!F25","v":0},{"$f":"'1a'!G25","v":0},{"$f":"'1a'!H25","v":0},{"$f":"'1a'!I25","v":0},{"$f":"'1a'!J25","v":0},{"$f":"'1a'!K25","v":0},{"$f":"'1a'!L25","v":0},{"$f":"'1a'!M25","v":0},{"$f":"'1a'!N25","v":0},{"$f":"'1a'!O25","v":0},{"$f":"'1a'!P25","v":0},{"$f":"'1a'!Q25","v":0},{"$f":"'1a'!R25","v":0},{"$f":"'1a'!S25","v":0},{"$f":"'1a'!T25","v":0},{"$f":"'1a'!U25","v":0},{"$f":"'1a'!V25","v":0},{"$f":"'1a'!W25","v":0},{"$f":"'1a'!X25","v":0},{"$f":"'1a'!Y25","v":0},{"$f":"'1a'!Z25","v":0},{"$f":"'1a'!AA25","v":0},{"$f":"'1a'!AB25","v":0},{"$f":"'1a'!AC25","v":0},{"$f":"'1a'!AD25","v":0},{"$f":"'1a'!AE25","v":0},{"$f":"'1a'!AF25","v":0},{"$f":"'1a'!AG25","v":0},{"$f":"'1a'!AH25","v":0},{"$f":"'1a'!AI25","v":0},{"$f":"'1a'!AJ25","v":0},{"$f":"'1a'!AK25","v":0},{"$f":"'1a'!AL25","v":0},{"$f":"'1a'!AM25","v":0},{"$f":"'1a'!AN25","v":0},{"$f":"'1a'!AO25","v":0},{"$f":"'1a'!AP25","v":0},{"$f":"'1a'!AQ25","v":0},{"$f":"'1a'!AR25","v":0},{"$f":"'1a'!AS25","v":0},{"$f":"'1a'!AT25","v":0},{"$f":"'1a'!AU25","v":0},{"$f":"'1a'!AV25","v":0},{"$f":"'1a'!AW25","v":0},{"$f":"'1a'!AX25","v":0},{"$f":"'1a'!AY25","v":0},{"$f":"'1a'!AZ25","v":0},{"$f":"'1a'!BA25","v":0},{"$f":"'1a'!BB25","v":0},{"$f":"'1a'!BC25","v":0},{"$f":"'1a'!BD25","v":0},{"$f":"'1a'!BE25","v":0}]
[{"$f":"'1a'!A26","v":"1a"},{"$f":"'1a'!B26","v":0},{"$f":"'1a'!C26","v":0},{"$f":"'1a'!D26","v":"lehrer24"},{"$f":"'1a'!E26","v":0},{"$f":"'1a'!F26","v":0},{"$f":"'1a'!G26","v":0},{"$f":"'1a'!H26","v":0},{"$f":"'1a'!I26","v":0},{"$f":"'1a'!J26","v":0},{"$f":"'1a'!K26","v":0},{"$f":"'1a'!L26","v":0},{"$f":"'1a'!M26","v":0},{"$f":"'1a'!N26","v":0},{"$f":"'1a'!O26","v":0},{"$f":"'1a'!P26","v":0},{"$f":"'1a'!Q26","v":0},{"$f":"'1a'!R26","v":0},{"$f":"'1a'!S26","v":0},{"$f":"'1a'!T26","v":0},{"$f":"'1a'!U26","v":0},{"$f":"'1a'!V26","v":0},{"$f":"'1a'!W26","v":0},{"$f":"'1a'!X26","v":0},{"$f":"'1a'!Y26","v":0},{"$f":"'1a'!Z26","v":0},{"$f":"'1a'!AA26","v":0},{"$f":"'1a'!AB26","v":0},{"$f":"'1a'!AC26","v":0},{"$f":"'1a'!AD26","v":0},{"$f":"'1a'!AE26","v":0},{"$f":"'1a'!AF26","v":0},{"$f":"'1a'!AG26","v":0},{"$f":"'1a'!AH26","v":0},{"$f":"'1a'!AI26","v":0},{"$f":"'1a'!AJ26","v":0},{"$f":"'1a'!AK26","v":0},{"$f":"'1a'!AL26","v":0},{"$f":"'1a'!AM26","v":0},{"$f":"'1a'!AN26","v":0},{"$f":"'1a'!AO26","v":0},{"$f":"'1a'!AP26","v":0},{"$f":"'1a'!AQ26","v":0},{"$f":"'1a'!AR26","v":0},{"$f":"'1a'!AS26","v":0},{"$f":"'1a'!AT26","v":0},{"$f":"'1a'!AU26","v":0},{"$f":"'1a'!AV26","v":0},{"$f":"'1a'!AW26","v":0},{"$f":"'1a'!AX26","v":0},{"$f":"'1a'!AY26","v":0},{"$f":"'1a'!AZ26","v":0},{"$f":"'1a'!BA26","v":0},{"$f":"'1a'!BB26","v":0},{"$f":"'1a'!BC26","v":0},{"$f":"'1a'!BD26","v":0},{"$f":"'1a'!BE26","v":0}]
[{"$f":"'1a'!A27","v":"1a"},{"$f":"'1a'!B27","v":0},{"$f":"'1a'!C27","v":0},{"$f":"'1a'!D27","v":"lehrer25"},{"$f":"'1a'!E27","v":0},{"$f":"'1a'!F27","v":0},{"$f":"'1a'!G27","v":0},{"$f":"'1a'!H27","v":0},{"$f":"'1a'!I27","v":0},{"$f":"'1a'!J27","v":0},{"$f":"'1a'!K27","v":0},{"$f":"'1a'!L27","v":0},{"$f":"'1a'!M27","v":0},{"$f":"'1a'!N27","v":0},{"$f":"'1a'!O27","v":0},{"$f":"'1a'!P27","v":0},{"$f":"'1a'!Q27","v":0},{"$f":"'1a'!R27","v":0},{"$f":"'1a'!S27","v":0},{"$f":"'1a'!T27","v":0},{"$f":"'1a'!U27","v":0},{"$f":"'1a'!V27","v":0},{"$f":"'1a'!W27","v":0},{"$f":"'1a'!X27","v":0},{"$f":"'1a'!Y27","v":0},{"$f":"'1a'!Z27","v":0},{"$f":"'1a'!AA27","v":0},{"$f":"'1a'!AB27","v":0},{"$f":"'1a'!AC27","v":0},{"$f":"'1a'!AD27","v":0},{"$f":"'1a'!AE27","v":0},{"$f":"'1a'!AF27","v":0},{"$f":"'1a'!AG27","v":0},{"$f":"'1a'!AH27","v":0},{"$f":"'1a'!AI27","v":0},{"$f":"'1a'!AJ27","v":0},{"$f":"'1a'!AK27","v":0},{"$f":"'1a'!AL27","v":0},{"$f":"'1a'!AM27","v":0},{"$f":"'1a'!AN27","v":0},{"$f":"'1a'!AO27","v":0},{"$f":"'1a'!AP27","v":0},{"$f":"'1a'!AQ27","v":0},{"$f":"'1a'!AR27","v":0},{"$f":"'1a'!AS27","v":0},{"$f":"'1a'!AT27","v":0},{"$f":"'1a'!AU27","v":0},{"$f":"'1a'!AV27","v":0},{"$f":"'1a'!AW27","v":0},{"$f":"'1a'!AX27","v":0},{"$f":"'1a'!AY27","v":0},{"$f":"'1a'!AZ27","v":0},{"$f":"'1a'!BA27","v":0},{"$f":"'1a'!BB27","v":0},{"$f":"'1a'!BC27","v":0},{"$f":"'1a'!BD27","v":0},{"$f":"'1a'!BE27","v":0}]
[{"$f":"'1a'!A28","v":"1a"},{"$f":"'1a'!B28","v":0},{"$f":"'1a'!C28","v":0},{"$f":"'1a'!D28","v":"lehrer26"},{"$f":"'1a'!E28","v":0},{"$f":"'1a'!F28","v":0},{"$f":"'1a'!G28","v":0},{"$f":"'1a'!H28","v":0},{"$f":"'1a'!I28","v":0},{"$f":"'1a'!J28","v":0},{"$f":"'1a'!K28","v":0},{"$f":"'1a'!L28","v":0},{"$f":"'1a'!M28","v":0},{"$f":"'1a'!N28","v":0},{"$f":"'1a'!O28","v":0},{"$f":"'1a'!P28","v":0},{"$f":"'1a'!Q28","v":0},{"$f":"'1a'!R28","v":0},{"$f":"'1a'!S28","v":0},{"$f":"'1a'!T28","v":0},{"$f":"'1a'!U28","v":0},{"$f":"'1a'!V28","v":0},{"$f":"'1a'!W28","v":0},{"$f":"'1a'!X28","v":0},{"$f":"'1a'!Y28","v":0},{"$f":"'1a'!Z28","v":0},{"$f":"'1a'!AA28","v":0},{"$f":"'1a'!AB28","v":0},{"$f":"'1a'!AC28","v":0},{"$f":"'1a'!AD28","v":0},{"$f":"'1a'!AE28","v":0},{"$f":"'1a'!AF28","v":0},{"$f":"'1a'!AG28","v":0},{"$f":"'1a'!AH28","v":0},{"$f":"'1a'!AI28","v":0},{"$f":"'1a'!AJ28","v":0},{"$f":"'1a'!AK28","v":0},{"$f":"'1a'!AL28","v":0},{"$f":"'1a'!AM28","v":0},{"$f":"'1a'!AN28","v":0},{"$f":"'1a'!AO28","v":0},{"$f":"'1a'!AP28","v":0},{"$f":"'1a'!AQ28","v":0},{"$f":"'1a'!AR28","v":0},{"$f":"'1a'!AS28","v":0},{"$f":"'1a'!AT28","v":0},{"$f":"'1a'!AU28","v":0},{"$f":"'1a'!AV28","v":0},{"$f":"'1a'!AW28","v":0},{"$f":"'1a'!AX28","v":0},{"$f":"'1a'!AY28","v":0},{"$f":"'1a'!AZ28","v":0},{"$f":"'1a'!BA28","v":0},{"$f":"'1a'!BB28","v":0},{"$f":"'1a'!BC28","v":0},{"$f":"'1a'!BD28","v":0},{"$f":"'1a'!BE28","v":0}]
[{"$f":"'1a'!A29","v":"1a"},{"$f":"'1a'!B29","v":0},{"$f":"'1a'!C29","v":0},{"$f":"'1a'!D29","v":"lehrer27"},{"$f":"'1a'!E29","v":0},{"$f":"'1a'!F29","v":0},{"$f":"'1a'!G29","v":0},{"$f":"'1a'!H29","v":0},{"$f":"'1a'!I29","v":0},{"$f":"'1a'!J29","v":0},{"$f":"'1a'!K29","v":0},{"$f":"'1a'!L29","v":0},{"$f":"'1a'!M29","v":0},{"$f":"'1a'!N29","v":0},{"$f":"'1a'!O29","v":0},{"$f":"'1a'!P29","v":0},{"$f":"'1a'!Q29","v":0},{"$f":"'1a'!R29","v":0},{"$f":"'1a'!S29","v":0},{"$f":"'1a'!T29","v":0},{"$f":"'1a'!U29","v":0},{"$f":"'1a'!V29","v":0},{"$f":"'1a'!W29","v":0},{"$f":"'1a'!X29","v":0},{"$f":"'1a'!Y29","v":0},{"$f":"'1a'!Z29","v":0},{"$f":"'1a'!AA29","v":0},{"$f":"'1a'!AB29","v":0},{"$f":"'1a'!AC29","v":0},{"$f":"'1a'!AD29","v":0},{"$f":"'1a'!AE29","v":0},{"$f":"'1a'!AF29","v":0},{"$f":"'1a'!AG29","v":0},{"$f":"'1a'!AH29","v":0},{"$f":"'1a'!AI29","v":0},{"$f":"'1a'!AJ29","v":0},{"$f":"'1a'!AK29","v":0},{"$f":"'1a'!AL29","v":0},{"$f":"'1a'!AM29","v":0},{"$f":"'1a'!AN29","v":0},{"$f":"'1a'!AO29","v":0},{"$f":"'1a'!AP29","v":0},{"$f":"'1a'!AQ29","v":0},{"$f":"'1a'!AR29","v":0},{"$f":"'1a'!AS29","v":0},{"$f":"'1a'!AT29","v":0},{"$f":"'1a'!AU29","v":0},{"$f":"'1a'!AV29","v":0},{"$f":"'1a'!AW29","v":0},{"$f":"'1a'!AX29","v":0},{"$f":"'1a'!AY29","v":0},{"$f":"'1a'!AZ29","v":0},{"$f":"'1a'!BA29","v":0},{"$f":"'1a'!BB29","v":0},{"$f":"'1a'!BC29","v":0},{"$f":"'1a'!BD29","v":0},{"$f":"'1a'!BE29","v":0}]
[{"$f":"'1a'!A30","v":"1a"},{"$f":"'1a'!B30","v":0},{"$f":"'1a'!C30","v":0},{"$f":"'1a'!D30","v":"lehrer28"},{"$f":"'1a'!E30","v":0},{"$f":"'1a'!F30","v":0},{"$f":"'1a'!G30","v":0},{"$f":"'1a'!H30","v":0},{"$f":"'1a'!I30","v":0},{"$f":"'1a'!J30","v":0},{"$f":"'1a'!K30","v":0},{"$f":"'1a'!L30","v":0},{"$f":"'1a'!M30","v":0},{"$f":"'1a'!N30","v":0},{"$f":"'1a'!O30","v":0},{"$f":"'1a'!P30","v":0},{"$f":"'1a'!Q30","v":0},{"$f":"'1a'!R30","v":0},{"$f":"'1a'!S30","v":0},{"$f":"'1a'!T30","v":0},{"$f":"'1a'!U30","v":0},{"$f":"'1a'!V30","v":0},{"$f":"'1a'!W30","v":0},{"$f":"'1a'!X30","v":0},{"$f":"'1a'!Y30","v":0},{"$f":"'1a'!Z30","v":0},{"$f":"'1a'!AA30","v":0},{"$f":"'1a'!AB30","v":0},{"$f":"'1a'!AC30","v":0},{"$f":"'1a'!AD30","v":0},{"$f":"'1a'!AE30","v":0},{"$f":"'1a'!AF30","v":0},{"$f":"'1a'!AG30","v":0},{"$f":"'1a'!AH30","v":0},{"$f":"'1a'!AI30","v":0},{"$f":"'1a'!AJ30","v":0},{"$f":"'1a'!AK30","v":0},{"$f":"'1a'!AL30","v":0},{"$f":"'1a'!AM30","v":0},{"$f":"'1a'!AN30","v":0},{"$f":"'1a'!AO30","v":0},{"$f":"'1a'!AP30","v":0},{"$f":"'1a'!AQ30","v":0},{"$f":"'1a'!AR30","v":0},{"$f":"'1a'!AS30","v":0},{"$f":"'1a'!AT30","v":0},{"$f":"'1a'!AU30","v":0},{"$f":"'1a'!AV30","v":0},{"$f":"'1a'!AW30","v":0},{"$f":"'1a'!AX30","v":0},{"$f":"'1a'!AY30","v":0},{"$f":"'1a'!AZ30","v":0},{"$f":"'1a'!BA30","v":0},{"$f":"'1a'!BB30","v":0},{"$f":"'1a'!BC30","v":0},{"$f":"'1a'!BD30","v":0},{"$f":"'1a'!BE30","v":0}]
[{"$f":"'1a'!A31","v":"1a"},{"$f":"'1a'!B31","v":0},{"$f":"'1a'!C31","v":0},{"$f":"'1a'!D31","v":"lehrer29"},{"$f":"'1a'!E31","v":0},{"$f":"'1a'!F31","v":0},{"$f":"'1a'!G31","v":0},{"$f":"'1a'!H31","v":0},{"$f":"'1a'!I31","v":0},{"$f":"'1a'!J31","v":0},{"$f":"'1a'!K31","v":0},{"$f":"'1a'!L31","v":0},{"$f":"'1a'!M31","v":0},{"$f":"'1a'!N31","v":0},{"$f":"'1a'!O31","v":0},{"$f":"'1a'!P31","v":0},{"$f":"'1a'!Q31","v":0},{"$f":"'1a'!R31","v":0},{"$f":"'1a'!S31","v":0},{"$f":"'1a'!T31","v":0},{"$f":"'1a'!U31","v":0},{"$f":"'1a'!V31","v":0},{"$f":"'1a'!W31","v":0},{"$f":"'1a'!X31","v":0},{"$f":"'1a'!Y31","v":0},{"$f":"'1a'!Z31","v":0},{"$f":"'1a'!AA31","v":0},{"$f":"'1a'!AB31","v":0},{"$f":"'1a'!AC31","v":0},{"$f":"'1a'!AD31","v":0},{"$f":"'1a'!AE31","v":0},{"$f":"'1a'!AF31","v":0},{"$f":"'1a'!AG31","v":0},{"$f":"'1a'!AH31","v":0},{"$f":"'1a'!AI31","v":0},{"$f":"'1a'!AJ31","v":0},{"$f":"'1a'!AK31","v":0},{"$f":"'1a'!AL31","v":0},{"$f":"'1a'!AM31","v":0},{"$f":"'1a'!AN31","v":0},{"$f":"'1a'!AO31","v":0},{"$f":"'1a'!AP31","v":0},{"$f":"'1a'!AQ31","v":0},{"$f":"'1a'!AR31","v":0},{"$f":"'1a'!AS31","v":0},{"$f":"'1a'!AT31","v":0},{"$f":"'1a'!AU31","v":0},{"$f":"'1a'!AV31","v":0},{"$f":"'1a'!AW31","v":0},{"$f":"'1a'!AX31","v":0},{"$f":"'1a'!AY31","v":0},{"$f":"'1a'!AZ31","v":0},{"$f":"'1a'!BA31","v":0},{"$f":"'1a'!BB31","v":0},{"$f":"'1a'!BC31","v":0},{"$f":"'1a'!BD31","v":0},{"$f":"'1a'!BE31","v":0}]
[{"$f":"'1a'!A32","v":"1a"},{"$f":"'1a'!B32","v":0},{"$f":"'1a'!C32","v":0},{"$f":"'1a'!D32","v":"lehrer30"},{"$f":"'1a'!E32","v":0},{"$f":"'1a'!F32","v":0},{"$f":"'1a'!G32","v":0},{"$f":"'1a'!H32","v":0},{"$f":"'1a'!I32","v":0},{"$f":"'1a'!J32","v":0},{"$f":"'1a'!K32","v":0},{"$f":"'1a'!L32","v":0},{"$f":"'1a'!M32","v":0},{"$f":"'1a'!N32","v":0},{"$f":"'1a'!O32","v":0},{"$f":"'1a'!P32","v":0},{"$f":"'1a'!Q32","v":0},{"$f":"'1a'!R32","v":0},{"$f":"'1a'!S32","v":0},{"$f":"'1a'!T32","v":0},{"$f":"'1a'!U32","v":0},{"$f":"'1a'!V32","v":0},{"$f":"'1a'!W32","v":0},{"$f":"'1a'!X32","v":0},{"$f":"'1a'!Y32","v":0},{"$f":"'1a'!Z32","v":0},{"$f":"'1a'!AA32","v":0},{"$f":"'1a'!AB32","v":0},{"$f":"'1a'!AC32","v":0},{"$f":"'1a'!AD32","v":0},{"$f":"'1a'!AE32","v":0},{"$f":"'1a'!AF32","v":0},{"$f":"'1a'!AG32","v":0},{"$f":"'1a'!AH32","v":0},{"$f":"'1a'!AI32","v":0},{"$f":"'1a'!AJ32","v":0},{"$f":"'1a'!AK32","v":0},{"$f":"'1a'!AL32","v":0},{"$f":"'1a'!AM32","v":0},{"$f":"'1a'!AN32","v":0},{"$f":"'1a'!AO32","v":0},{"$f":"'1a'!AP32","v":0},{"$f":"'1a'!AQ32","v":0},{"$f":"'1a'!AR32","v":0},{"$f":"'1a'!AS32","v":0},{"$f":"'1a'!AT32","v":0},{"$f":"'1a'!AU32","v":0},{"$f":"'1a'!AV32","v":0},{"$f":"'1a'!AW32","v":0},{"$f":"'1a'!AX32","v":0},{"$f":"'1a'!AY32","v":0},{"$f":"'1a'!AZ32","v":0},{"$f":"'1a'!BA32","v":0},{"$f":"'1a'!BB32","v":0},{"$f":"'1a'!BC32","v":0},{"$f":"'1a'!BD32","v":0},{"$f":"'1a'!BE32","v":0}]
[{"$f":"'1a'!A33","v":"1a"},{"$f":"'1a'!B33","v":0},{"$f":"'1a'!C33","v":0},{"$f":"'1a'!D33","v":"lehrer31"},{"$f":"'1a'!E33","v":0},{"$f":"'1a'!F33","v":0},{"$f":"'1a'!G33","v":0},{"$f":"'1a'!H33","v":0},{"$f":"'1a'!I33","v":0},{"$f":"'1a'!J33","v":0},{"$f":"'1a'!K33","v":0},{"$f":"'1a'!L33","v":0},{"$f":"'1a'!M33","v":0},{"$f":"'1a'!N33","v":0},{"$f":"'1a'!O33","v":0},{"$f":"'1a'!P33","v":0},{"$f":"'1a'!Q33","v":0},{"$f":"'1a'!R33","v":0},{"$f":"'1a'!S33","v":0},{"$f":"'1a'!T33","v":0},{"$f":"'1a'!U33","v":0},{"$f":"'1a'!V33","v":0},{"$f":"'1a'!W33","v":0},{"$f":"'1a'!X33","v":0},{"$f":"'1a'!Y33","v":0},{"$f":"'1a'!Z33","v":0},{"$f":"'1a'!AA33","v":0},{"$f":"'1a'!AB33","v":0},{"$f":"'1a'!AC33","v":0},{"$f":"'1a'!AD33","v":0},{"$f":"'1a'!AE33","v":0},{"$f":"'1a'!AF33","v":0},{"$f":"'1a'!AG33","v":0},{"$f":"'1a'!AH33","v":0},{"$f":"'1a'!AI33","v":0},{"$f":"'1a'!AJ33","v":0},{"$f":"'1a'!AK33","v":0},{"$f":"'1a'!AL33","v":0},{"$f":"'1a'!AM33","v":0},{"$f":"'1a'!AN33","v":0},{"$f":"'1a'!AO33","v":0},{"$f":"'1a'!AP33","v":0},{"$f":"'1a'!AQ33","v":0},{"$f":"'1a'!AR33","v":0},{"$f":"'1a'!AS33","v":0},{"$f":"'1a'!AT33","v":0},{"$f":"'1a'!AU33","v":0},{"$f":"'1a'!AV33","v":0},{"$f":"'1a'!AW33","v":0},{"$f":"'1a'!AX33","v":0},{"$f":"'1a'!AY33","v":0},{"$f":"'1a'!AZ33","v":0},{"$f":"'1a'!BA33","v":0},{"$f":"'1a'!BB33","v":0},{"$f":"'1a'!BC33","v":0},{"$f":"'1a'!BD33","v":0},{"$f":"'1a'!BE33","v":0}]
[{"$f":"'1a'!A34","v":"1a"},{"$f":"'1a'!B34","v":0},{"$f":"'1a'!C34","v":0},{"$f":"'1a'!D34","v":"lehrer32"},{"$f":"'1a'!E34","v":0},{"$f":"'1a'!F34","v":0},{"$f":"'1a'!G34","v":0},{"$f":"'1a'!H34","v":0},{"$f":"'1a'!I34","v":0},{"$f":"'1a'!J34","v":0},{"$f":"'1a'!K34","v":0},{"$f":"'1a'!L34","v":0},{"$f":"'1a'!M34","v":0},{"$f":"'1a'!N34","v":0},{"$f":"'1a'!O34","v":0},{"$f":"'1a'!P34","v":0},{"$f":"'1a'!Q34","v":0},{"$f":"'1a'!R34","v":0},{"$f":"'1a'!S34","v":0},{"$f":"'1a'!T34","v":0},{"$f":"'1a'!U34","v":0},{"$f":"'1a'!V34","v":0},{"$f":"'1a'!W34","v":0},{"$f":"'1a'!X34","v":0},{"$f":"'1a'!Y34","v":0},{"$f":"'1a'!Z34","v":0},{"$f":"'1a'!AA34","v":0},{"$f":"'1a'!AB34","v":0},{"$f":"'1a'!AC34","v":0},{"$f":"'1a'!AD34","v":0},{"$f":"'1a'!AE34","v":0},{"$f":"'1a'!AF34","v":0},{"$f":"'1a'!AG34","v":0},{"$f":"'1a'!AH34","v":0},{"$f":"'1a'!AI34","v":0},{"$f":"'1a'!AJ34","v":0},{"$f":"'1a'!AK34","v":0},{"$f":"'1a'!AL34","v":0},{"$f":"'1a'!AM34","v":0},{"$f":"'1a'!AN34","v":0},{"$f":"'1a'!AO34","v":0},{"$f":"'1a'!AP34","v":0},{"$f":"'1a'!AQ34","v":0},{"$f":"'1a'!AR34","v":0},{"$f":"'1a'!AS34","v":0},{"$f":"'1a'!AT34","v":0},{"$f":"'1a'!AU34","v":0},{"$f":"'1a'!AV34","v":0},{"$f":"'1a'!AW34","v":0},{"$f":"'1a'!AX34","v":0},{"$f":"'1a'!AY34","v":0},{"$f":"'1a'!AZ34","v":0},{"$f":"'1a'!BA34","v":0},{"$f":"'1a'!BB34","v":0},{"$f":"'1a'!BC34","v":0},{"$f":"'1a'!BD34","v":0},{"$f":"'1a'!BE34","v":0}]
[{"$f":"'1a'!A35","v":"1a"},{"$f":"'1a'!B35","v":0},{"$f":"'1a'!C35","v":0},{"$f":"'1a'!D35","v":"lehrer33"},{"$f":"'1a'!E35","v":0},{"$f":"'1a'!F35","v":0},{"$f":"'1a'!G35","v":0},{"$f":"'1a'!H35","v":0},{"$f":"'1a'!I35","v":0},{"$f":"'1a'!J35","v":0},{"$f":"'1a'!K35","v":0},{"$f":"'1a'!L35","v":0},{"$f":"'1a'!M35","v":0},{"$f":"'1a'!N35","v":0},{"$f":"'1a'!O35","v":0},{"$f":"'1a'!P35","v":0},{"$f":"'1a'!Q35","v":0},{"$f":"'1a'!R35","v":0},{"$f":"'1a'!S35","v":0},{"$f":"'1a'!T35","v":0},{"$f":"'1a'!U35","v":0},{"$f":"'1a'!V35","v":0},{"$f":"'1a'!W35","v":0},{"$f":"'1a'!X35","v":0},{"$f":"'1a'!Y35","v":0},{"$f":"'1a'!Z35","v":0},{"$f":"'1a'!AA35","v":0},{"$f":"'1a'!AB35","v":0},{"$f":"'1a'!AC35","v":0},{"$f":"'1a'!AD35","v":0},{"$f":"'1a'!AE35","v":0},{"$f":"'1a'!AF35","v":0},{"$f":"'1a'!AG35","v":0},{"$f":"'1a'!AH35","v":0},{"$f":"'1a'!AI35","v":0},{"$f":"'1a'!AJ35","v":0},{"$f":"'1a'!AK35","v":0},{"$f":"'1a'!AL35","v":0},{"$f":"'1a'!AM35","v":0},{"$f":"'1a'!AN35","v":0},{"$f":"'1a'!AO35","v":0},{"$f":"'1a'!AP35","v":0},{"$f":"'1a'!AQ35","v":0},{"$f":"'1a'!AR35","v":0},{"$f":"'1a'!AS35","v":0},{"$f":"'1a'!AT35","v":0},{"$f":"'1a'!AU35","v":0},{"$f":"'1a'!AV35","v":0},{"$f":"'1a'!AW35","v":0},{"$f":"'1a'!AX35","v":0},{"$f":"'1a'!AY35","v":0},{"$f":"'1a'!AZ35","v":0},{"$f":"'1a'!BA35","v":0},{"$f":"'1a'!BB35","v":0},{"$f":"'1a'!BC35","v":0},{"$f":"'1a'!BD35","v":0},{"$f":"'1a'!BE35","v":0}]
[{"$f":"'1a'!A36","v":"1a"},{"$f":"'1a'!B36","v":0},{"$f":"'1a'!C36","v":0},{"$f":"'1a'!D36","v":"lehrer34"},{"$f":"'1a'!E36","v":0},{"$f":"'1a'!F36","v":0},{"$f":"'1a'!G36","v":0},{"$f":"'1a'!H36","v":0},{"$f":"'1a'!I36","v":0},{"$f":"'1a'!J36","v":0},{"$f":"'1a'!K36","v":0},{"$f":"'1a'!L36","v":0},{"$f":"'1a'!M36","v":0},{"$f":"'1a'!N36","v":0},{"$f":"'1a'!O36","v":0},{"$f":"'1a'!P36","v":0},{"$f":"'1a'!Q36","v":0},{"$f":"'1a'!R36","v":0},{"$f":"'1a'!S36","v":0},{"$f":"'1a'!T36","v":0},{"$f":"'1a'!U36","v":0},{"$f":"'1a'!V36","v":0},{"$f":"'1a'!W36","v":0},{"$f":"'1a'!X36","v":0},{"$f":"'1a'!Y36","v":0},{"$f":"'1a'!Z36","v":0},{"$f":"'1a'!AA36","v":0},{"$f":"'1a'!AB36","v":0},{"$f":"'1a'!AC36","v":0},{"$f":"'1a'!AD36","v":0},{"$f":"'1a'!AE36","v":0},{"$f":"'1a'!AF36","v":0},{"$f":"'1a'!AG36","v":0},{"$f":"'1a'!AH36","v":0},{"$f":"'1a'!AI36","v":0},{"$f":"'1a'!AJ36","v":0},{"$f":"'1a'!AK36","v":0},{"$f":"'1a'!AL36","v":0},{"$f":"'1a'!AM36","v":0},{"$f":"'1a'!AN36","v":0},{"$f":"'1a'!AO36","v":0},{"$f":"'1a'!AP36","v":0},{"$f":"'1a'!AQ36","v":0},{"$f":"'1a'!AR36","v":0},{"$f":"'1a'!AS36","v":0},{"$f":"'1a'!AT36","v":0},{"$f":"'1a'!AU36","v":0},{"$f":"'1a'!AV36","v":0},{"$f":"'1a'!AW36","v":0},{"$f":"'1a'!AX36","v":0},{"$f":"'1a'!AY36","v":0},{"$f":"'1a'!AZ36","v":0},{"$f":"'1a'!BA36","v":0},{"$f":"'1a'!BB36","v":0},{"$f":"'1a'!BC36","v":0},{"$f":"'1a'!BD36","v":0},{"$f":"'1a'!BE36","v":0}]
[{"$f":"'1a'!A37","v":"1a"},{"$f":"'1a'!B37","v":0},{"$f":"'1a'!C37","v":0},{"$f":"'1a'!D37","v":"lehrer35"},{"$f":"'1a'!E37","v":0},{"$f":"'1a'!F37","v":0},{"$f":"'1a'!G37","v":0},{"$f":"'1a'!H37","v":0},{"$f":"'1a'!I37","v":0},{"$f":"'1a'!J37","v":0},{"$f":"'1a'!K37","v":0},{"$f":"'1a'!L37","v":0},{"$f":"'1a'!M37","v":0},{"$f":"'1a'!N37","v":0},{"$f":"'1a'!O37","v":0},{"$f":"'1a'!P37","v":0},{"$f":"'1a'!Q37","v":0},{"$f":"'1a'!R37","v":0},{"$f":"'1a'!S37","v":0},{"$f":"'1a'!T37","v":0},{"$f":"'1a'!U37","v":0},{"$f":"'1a'!V37","v":0},{"$f":"'1a'!W37","v":0},{"$f":"'1a'!X37","v":0},{"$f":"'1a'!Y37","v":0},{"$f":"'1a'!Z37","v":0},{"$f":"'1a'!AA37","v":0},{"$f":"'1a'!AB37","v":0},{"$f":"'1a'!AC37","v":0},{"$f":"'1a'!AD37","v":0},{"$f":"'1a'!AE37","v":0},{"$f":"'1a'!AF37","v":0},{"$f":"'1a'!AG37","v":0},{"$f":"'1a'!AH37","v":0},{"$f":"'1a'!AI37","v":0},{"$f":"'1a'!AJ37","v":0},{"$f":"'1a'!AK37","v":0},{"$f":"'1a'!AL37","v":0},{"$f":"'1a'!AM37","v":0},{"$f":"'1a'!AN37","v":0},{"$f":"'1a'!AO37","v":0},{"$f":"'1a'!AP37","v":0},{"$f":"'1a'!AQ37","v":0},{"$f":"'1a'!AR37","v":0},{"$f":"'1a'!AS37","v":0},{"$f":"'1a'!AT37","v":0},{"$f":"'1a'!AU37","v":0},{"$f":"'1a'!AV37","v":0},{"$f":"'1a'!AW37","v":0},{"$f":"'1a'!AX37","v":0},{"$f":"'1a'!AY37","v":0},{"$f":"'1a'!AZ37","v":0},{"$f":"'1a'!BA37","v":0},{"$f":"'1a'!BB37","v":0},{"$f":"'1a'!BC37","v":0},{"$f":"'1a'!BD37","v":0},{"$f":"'1a'!BE37","v":0}]
[{"$f":"'1a'!A38","v":"1a"},{"$f":"'1a'!B38","v":0},{"$f":"'1a'!C38","v":0},{"$f":"'1a'!D38","v":"lehrer36"},{"$f":"'1a'!E38","v":0},{"$f":"'1a'!F38","v":0},{"$f":"'1a'!G38","v":0},{"$f":"'1a'!H38","v":0},{"$f":"'1a'!I38","v":0},{"$f":"'1a'!J38","v":0},{"$f":"'1a'!K38","v":0},{"$f":"'1a'!L38","v":0},{"$f":"'1a'!M38","v":0},{"$f":"'1a'!N38","v":0},{"$f":"'1a'!O38","v":0},{"$f":"'1a'!P38","v":0},{"$f":"'1a'!Q38","v":0},{"$f":"'1a'!R38","v":0},{"$f":"'1a'!S38","v":0},{"$f":"'1a'!T38","v":0},{"$f":"'1a'!U38","v":0},{"$f":"'1a'!V38","v":0},{"$f":"'1a'!W38","v":0},{"$f":"'1a'!X38","v":0},{"$f":"'1a'!Y38","v":0},{"$f":"'1a'!Z38","v":0},{"$f":"'1a'!AA38","v":0},{"$f":"'1a'!AB38","v":0},{"$f":"'1a'!AC38","v":0},{"$f":"'1a'!AD38","v":0},{"$f":"'1a'!AE38","v":0},{"$f":"'1a'!AF38","v":0},{"$f":"'1a'!AG38","v":0},{"$f":"'1a'!AH38","v":0},{"$f":"'1a'!AI38","v":0},{"$f":"'1a'!AJ38","v":0},{"$f":"'1a'!AK38","v":0},{"$f":"'1a'!AL38","v":0},{"$f":"'1a'!AM38","v":0},{"$f":"'1a'!AN38","v":0},{"$f":"'1a'!AO38","v":0},{"$f":"'1a'!AP38","v":0},{"$f":"'1a'!AQ38","v":0},{"$f":"'1a'!AR38","v":0},{"$f":"'1a'!AS38","v":0},{"$f":"'1a'!AT38","v":0},{"$f":"'1a'!AU38","v":0},{"$f":"'1a'!AV38","v":0},{"$f":"'1a'!AW38","v":0},{"$f":"'1a'!AX38","v":0},{"$f":"'1a'!AY38","v":0},{"$f":"'1a'!AZ38","v":0},{"$f":"'1a'!BA38","v":0},{"$f":"'1a'!BB38","v":0},{"$f":"'1a'!BC38","v":0},{"$f":"'1a'!BD38","v":0},{"$f":"'1a'!BE38","v":0}]
[{"$f":"'1a'!A39","v":"1a"},{"$f":"'1a'!B39","v":0},{"$f":"'1a'!C39","v":0},{"$f":"'1a'!D39","v":"lehrer37"},{"$f":"'1a'!E39","v":0},{"$f":"'1a'!F39","v":0},{"$f":"'1a'!G39","v":0},{"$f":"'1a'!H39","v":0},{"$f":"'1a'!I39","v":0},{"$f":"'1a'!J39","v":0},{"$f":"'1a'!K39","v":0},{"$f":"'1a'!L39","v":0},{"$f":"'1a'!M39","v":0},{"$f":"'1a'!N39","v":0},{"$f":"'1a'!O39","v":0},{"$f":"'1a'!P39","v":0},{"$f":"'1a'!Q39","v":0},{"$f":"'1a'!R39","v":0},{"$f":"'1a'!S39","v":0},{"$f":"'1a'!T39","v":0},{"$f":"'1a'!U39","v":0},{"$f":"'1a'!V39","v":0},{"$f":"'1a'!W39","v":0},{"$f":"'1a'!X39","v":0},{"$f":"'1a'!Y39","v":0},{"$f":"'1a'!Z39","v":0},{"$f":"'1a'!AA39","v":0},{"$f":"'1a'!AB39","v":0},{"$f":"'1a'!AC39","v":0},{"$f":"'1a'!AD39","v":0},{"$f":"'1a'!AE39","v":0},{"$f":"'1a'!AF39","v":0},{"$f":"'1a'!AG39","v":0},{"$f":"'1a'!AH39","v":0},{"$f":"'1a'!AI39","v":0},{"$f":"'1a'!AJ39","v":0},{"$f":"'1a'!AK39","v":0},{"$f":"'1a'!AL39","v":0},{"$f":"'1a'!AM39","v":0},{"$f":"'1a'!AN39","v":0},{"$f":"'1a'!AO39","v":0},{"$f":"'1a'!AP39","v":0},{"$f":"'1a'!AQ39","v":0},{"$f":"'1a'!AR39","v":0},{"$f":"'1a'!AS39","v":0},{"$f":"'1a'!AT39","v":0},{"$f":"'1a'!AU39","v":0},{"$f":"'1a'!AV39","v":0},{"$f":"'1a'!AW39","v":0},{"$f":"'1a'!AX39","v":0},{"$f":"'1a'!AY39","v":0},{"$f":"'1a'!AZ39","v":0},{"$f":"'1a'!BA39","v":0},{"$f":"'1a'!BB39","v":0},{"$f":"'1a'!BC39","v":0},{"$f":"'1a'!BD39","v":0},{"$f":"'1a'!BE39","v":0}]
[{"$f":"'1a'!A40","v":"1a"},{"$f":"'1a'!B40","v":0},{"$f":"'1a'!C40","v":0},{"$f":"'1a'!D40","v":"lehrer38"},{"$f":"'1a'!E40","v":0},{"$f":"'1a'!F40","v":0},{"$f":"'1a'!G40","v":0},{"$f":"'1a'!H40","v":0},{"$f":"'1a'!I40","v":0},{"$f":"'1a'!J40","v":0},{"$f":"'1a'!K40","v":0},{"$f":"'1a'!L40","v":0},{"$f":"'1a'!M40","v":0},{"$f":"'1a'!N40","v":0},{"$f":"'1a'!O40","v":0},{"$f":"'1a'!P40","v":0},{"$f":"'1a'!Q40","v":0},{"$f":"'1a'!R40","v":0},{"$f":"'1a'!S40","v":0},{"$f":"'1a'!T40","v":0},{"$f":"'1a'!U40","v":0},{"$f":"'1a'!V40","v":0},{"$f":"'1a'!W40","v":0},{"$f":"'1a'!X40","v":0},{"$f":"'1a'!Y40","v":0},{"$f":"'1a'!Z40","v":0},{"$f":"'1a'!AA40","v":0},{"$f":"'1a'!AB40","v":0},{"$f":"'1a'!AC40","v":0},{"$f":"'1a'!AD40","v":0},{"$f":"'1a'!AE40","v":0},{"$f":"'1a'!AF40","v":0},{"$f":"'1a'!AG40","v":0},{"$f":"'1a'!AH40","v":0},{"$f":"'1a'!AI40","v":0},{"$f":"'1a'!AJ40","v":0},{"$f":"'1a'!AK40","v":0},{"$f":"'1a'!AL40","v":0},{"$f":"'1a'!AM40","v":0},{"$f":"'1a'!AN40","v":0},{"$f":"'1a'!AO40","v":0},{"$f":"'1a'!AP40","v":0},{"$f":"'1a'!AQ40","v":0},{"$f":"'1a'!AR40","v":0},{"$f":"'1a'!AS40","v":0},{"$f":"'1a'!AT40","v":0},{"$f":"'1a'!AU40","v":0},{"$f":"'1a'!AV40","v":0},{"$f":"'1a'!AW40","v":0},{"$f":"'1a'!AX40","v":0},{"$f":"'1a'!AY40","v":0},{"$f":"'1a'!AZ40","v":0},{"$f":"'1a'!BA40","v":0},{"$f":"'1a'!BB40","v":0},{"$f":"'1a'!BC40","v":0},{"$f":"'1a'!BD40","v":0},{"$f":"'1a'!BE40","v":0}]
[{"$f":"'1a'!A41","v":"1a"},{"$f":"'1a'!B41","v":0},{"$f":"'1a'!C41","v":0},{"$f":"'1a'!D41","v":"lehrer39"},{"$f":"'1a'!E41","v":0},{"$f":"'1a'!F41","v":0},{"$f":"'1a'!G41","v":0},{"$f":"'1a'!H41","v":0},{"$f":"'1a'!I41","v":0},{"$f":"'1a'!J41","v":0},{"$f":"'1a'!K41","v":0},{"$f":"'1a'!L41","v":0},{"$f":"'1a'!M41","v":0},{"$f":"'1a'!N41","v":0},{"$f":"'1a'!O41","v":0},{"$f":"'1a'!P41","v":0},{"$f":"'1a'!Q41","v":0},{"$f":"'1a'!R41","v":0},{"$f":"'1a'!S41","v":0},{"$f":"'1a'!T41","v":0},{"$f":"'1a'!U41","v":0},{"$f":"'1a'!V41","v":0},{"$f":"'1a'!W41","v":0},{"$f":"'1a'!X41","v":0},{"$f":"'1a'!Y41","v":0},{"$f":"'1a'!Z41","v":0},{"$f":"'1a'!AA41","v":0},{"$f":"'1a'!AB41","v":0},{"$f":"'1a'!AC41","v":0},{"$f":"'1a'!AD41","v":0},{"$f":"'1a'!AE41","v":0},{"$f":"'1a'!AF41","v":0},{"$f":"'1a'!AG41","v":0},{"$f":"'1a'!AH41","v":0},{"$f":"'1a'!AI41","v":0},{"$f":"'1a'!AJ41","v":0},{"$f":"'1a'!AK41","v":0},{"$f":"'1a'!AL41","v":0},{"$f":"'1a'!AM41","v":0},{"$f":"'1a'!AN41","v":0},{"$f":"'1a'!AO41","v":0},{"$f":"'1a'!AP41","v":0},{"$f":"'1a'!AQ41","v":0},{"$f":"'1a'!AR41","v":0},{"$f":"'1a'!AS41","v":0},{"$f":"'1a'!AT41","v":0},{"$f":"'1a'!AU41","v":0},{"$f":"'1a'!AV41","v":0},{"$f":"'1a'!AW41","v":0},{"$f":"'1a'!AX41","v":0},{"$f":"'1a'!AY41","v":0},{"$f":"'1a'!AZ41","v":0},{"$f":"'1a'!BA41","v":0},{"$f":"'1a'!BB41","v":0},{"$f":"'1a'!BC41","v":0},{"$f":"'1a'!BD41","v":0},{"$f":"'1a'!BE41","v":0}]
[{"$f":"'1a'!A42","v":"1a"},{"$f":"'1a'!B42","v":0},{"$f":"'1a'!C42","v":0},{"$f":"'1a'!D42","v":"lehrer40"},{"$f":"'1a'!E42","v":0},{"$f":"'1a'!F42","v":0},{"$f":"'1a'!G42","v":0},{"$f":"'1a'!H42","v":0},{"$f":"'1a'!I42","v":0},{"$f":"'1a'!J42","v":0},{"$f":"'1a'!K42","v":0},{"$f":"'1a'!L42","v":0},{"$f":"'1a'!M42","v":0},{"$f":"'1a'!N42","v":0},{"$f":"'1a'!O42","v":0},{"$f":"'1a'!P42","v":0},{"$f":"'1a'!Q42","v":0},{"$f":"'1a'!R42","v":0},{"$f":"'1a'!S42","v":0},{"$f":"'1a'!T42","v":0},{"$f":"'1a'!U42","v":0},{"$f":"'1a'!V42","v":0},{"$f":"'1a'!W42","v":0},{"$f":"'1a'!X42","v":0},{"$f":"'1a'!Y42","v":0},{"$f":"'1a'!Z42","v":0},{"$f":"'1a'!AA42","v":0},{"$f":"'1a'!AB42","v":0},{"$f":"'1a'!AC42","v":0},{"$f":"'1a'!AD42","v":0},{"$f":"'1a'!AE42","v":0},{"$f":"'1a'!AF42","v":0},{"$f":"'1a'!AG42","v":0},{"$f":"'1a'!AH42","v":0},{"$f":"'1a'!AI42","v":0},{"$f":"'1a'!AJ42","v":0},{"$f":"'1a'!AK42","v":0},{"$f":"'1a'!AL42","v":0},{"$f":"'1a'!AM42","v":0},{"$f":"'1a'!AN42","v":0},{"$f":"'1a'!AO42","v":0},{"$f":"'1a'!AP42","v":0},{"$f":"'1a'!AQ42","v":0},{"$f":"'1a'!AR42","v":0},{"$f":"'1a'!AS42","v":0},{"$f":"'1a'!AT42","v":0},{"$f":"'1a'!AU42","v":0},{"$f":"'1a'!AV42","v":0},{"$f":"'1a'!AW42","v":0},{"$f":"'1a'!AX42","v":0},{"$f":"'1a'!AY42","v":0},{"$f":"'1a'!AZ42","v":0},{"$f":"'1a'!BA42","v":0},{"$f":"'1a'!BB42","v":0},{"$f":"'1a'!BC42","v":0},{"$f":"'1a'!BD42","v":0},{"$f":"'1a'!BE42","v":0}]
[{"$f":"'1a'!A43","v":"1a"},{"$f":"'1a'!B43","v":0},{"$f":"'1a'!C43","v":0},{"$f":"'1a'!D43","v":"lehrer41"},{"$f":"'1a'!E43","v":0},{"$f":"'1a'!F43","v":0},{"$f":"'1a'!G43","v":0},{"$f":"'1a'!H43","v":0},{"$f":"'1a'!I43","v":0},{"$f":"'1a'!J43","v":0},{"$f":"'1a'!K43","v":0},{"$f":"'1a'!L43","v":0},{"$f":"'1a'!M43","v":0},{"$f":"'1a'!N43","v":0},{"$f":"'1a'!O43","v":0},{"$f":"'1a'!P43","v":0},{"$f":"'1a'!Q43","v":0},{"$f":"'1a'!R43","v":0},{"$f":"'1a'!S43","v":0},{"$f":"'1a'!T43","v":0},{"$f":"'1a'!U43","v":0},{"$f":"'1a'!V43","v":0},{"$f":"'1a'!W43","v":0},{"$f":"'1a'!X43","v":0},{"$f":"'1a'!Y43","v":0},{"$f":"'1a'!Z43","v":0},{"$f":"'1a'!AA43","v":0},{"$f":"'1a'!AB43","v":0},{"$f":"'1a'!AC43","v":0},{"$f":"'1a'!AD43","v":0},{"$f":"'1a'!AE43","v":0},{"$f":"'1a'!AF43","v":0},{"$f":"'1a'!AG43","v":0},{"$f":"'1a'!AH43","v":0},{"$f":"'1a'!AI43","v":0},{"$f":"'1a'!AJ43","v":0},{"$f":"'1a'!AK43","v":0},{"$f":"'1a'!AL43","v":0},{"$f":"'1a'!AM43","v":0},{"$f":"'1a'!AN43","v":0},{"$f":"'1a'!AO43","v":0},{"$f":"'1a'!AP43","v":0},{"$f":"'1a'!AQ43","v":0},{"$f":"'1a'!AR43","v":0},{"$f":"'1a'!AS43","v":0},{"$f":"'1a'!AT43","v":0},{"$f":"'1a'!AU43","v":0},{"$f":"'1a'!AV43","v":0},{"$f":"'1a'!AW43","v":0},{"$f":"'1a'!AX43","v":0},{"$f":"'1a'!AY43","v":0},{"$f":"'1a'!AZ43","v":0},{"$f":"'1a'!BA43","v":0},{"$f":"'1a'!BB43","v":0},{"$f":"'1a'!BC43","v":0},{"$f":"'1a'!BD43","v":0},{"$f":"'1a'!BE43","v":0}]
[{"$f":"'1a'!A44","v":"1a"},{"$f":"'1a'!B44","v":0},{"$f":"'1a'!C44","v":0},{"$f":"'1a'!D44","v":"lehrer42"},{"$f":"'1a'!E44","v":0},{"$f":"'1a'!F44","v":0},{"$f":"'1a'!G44","v":0},{"$f":"'1a'!H44","v":0},{"$f":"'1a'!I44","v":0},{"$f":"'1a'!J44","v":0},{"$f":"'1a'!K44","v":0},{"$f":"'1a'!L44","v":0},{"$f":"'1a'!M44","v":0},{"$f":"'1a'!N44","v":0},{"$f":"'1a'!O44","v":0},{"$f":"'1a'!P44","v":0},{"$f":"'1a'!Q44","v":0},{"$f":"'1a'!R44","v":0},{"$f":"'1a'!S44","v":0},{"$f":"'1a'!T44","v":0},{"$f":"'1a'!U44","v":0},{"$f":"'1a'!V44","v":0},{"$f":"'1a'!W44","v":0},{"$f":"'1a'!X44","v":0},{"$f":"'1a'!Y44","v":0},{"$f":"'1a'!Z44","v":0},{"$f":"'1a'!AA44","v":0},{"$f":"'1a'!AB44","v":0},{"$f":"'1a'!AC44","v":0},{"$f":"'1a'!AD44","v":0},{"$f":"'1a'!AE44","v":0},{"$f":"'1a'!AF44","v":0},{"$f":"'1a'!AG44","v":0},{"$f":"'1a'!AH44","v":0},{"$f":"'1a'!AI44","v":0},{"$f":"'1a'!AJ44","v":0},{"$f":"'1a'!AK44","v":0},{"$f":"'1a'!AL44","v":0},{"$f":"'1a'!AM44","v":0},{"$f":"'1a'!AN44","v":0},{"$f":"'1a'!AO44","v":0},{"$f":"'1a'!AP44","v":0},{"$f":"'1a'!AQ44","v":0},{"$f":"'1a'!AR44","v":0},{"$f":"'1a'!AS44","v":0},{"$f":"'1a'!AT44","v":0},{"$f":"'1a'!AU44","v":0},{"$f":"'1a'!AV44","v":0},{"$f":"'1a'!AW44","v":0},{"$f":"'1a'!AX44","v":0},{"$f":"'1a'!AY44","v":0},{"$f":"'1a'!AZ44","v":0},{"$f":"'1a'!BA44","v":0},{"$f":"'1a'!BB44","v":0},{"$f":"'1a'!BC44","v":0},{"$f":"'1a'!BD44","v":0},{"$f":"'1a'!BE44","v":0}]
[{"$f":"'1a'!A45","v":"1a"},{"$f":"'1a'!B45","v":0},{"$f":"'1a'!C45","v":0},{"$f":"'1a'!D45","v":"lehrer43"},{"$f":"'1a'!E45","v":0},{"$f":"'1a'!F45","v":0},{"$f":"'1a'!G45","v":0},{"$f":"'1a'!H45","v":0},{"$f":"'1a'!I45","v":0},{"$f":"'1a'!J45","v":0},{"$f":"'1a'!K45","v":0},{"$f":"'1a'!L45","v":0},{"$f":"'1a'!M45","v":0},{"$f":"'1a'!N45","v":0},{"$f":"'1a'!O45","v":0},{"$f":"'1a'!P45","v":0},{"$f":"'1a'!Q45","v":0},{"$f":"'1a'!R45","v":0},{"$f":"'1a'!S45","v":0},{"$f":"'1a'!T45","v":0},{"$f":"'1a'!U45","v":0},{"$f":"'1a'!V45","v":0},{"$f":"'1a'!W45","v":0},{"$f":"'1a'!X45","v":0},{"$f":"'1a'!Y45","v":0},{"$f":"'1a'!Z45","v":0},{"$f":"'1a'!AA45","v":0},{"$f":"'1a'!AB45","v":0},{"$f":"'1a'!AC45","v":0},{"$f":"'1a'!AD45","v":0},{"$f":"'1a'!AE45","v":0},{"$f":"'1a'!AF45","v":0},{"$f":"'1a'!AG45","v":0},{"$f":"'1a'!AH45","v":0},{"$f":"'1a'!AI45","v":0},{"$f":"'1a'!AJ45","v":0},{"$f":"'1a'!AK45","v":0},{"$f":"'1a'!AL45","v":0},{"$f":"'1a'!AM45","v":0},{"$f":"'1a'!AN45","v":0},{"$f":"'1a'!AO45","v":0},{"$f":"'1a'!AP45","v":0},{"$f":"'1a'!AQ45","v":0},{"$f":"'1a'!AR45","v":0},{"$f":"'1a'!AS45","v":0},{"$f":"'1a'!AT45","v":0},{"$f":"'1a'!AU45","v":0},{"$f":"'1a'!AV45","v":0},{"$f":"'1a'!AW45","v":0},{"$f":"'1a'!AX45","v":0},{"$f":"'1a'!AY45","v":0},{"$f":"'1a'!AZ45","v":0},{"$f":"'1a'!BA45","v":0},{"$f":"'1a'!BB45","v":0},{"$f":"'1a'!BC45","v":0},{"$f":"'1a'!BD45","v":0},{"$f":"'1a'!BE45","v":0}]
[{"$f":"'1a'!A46","v":"1a"},{"$f":"'1a'!B46","v":0},{"$f":"'1a'!C46","v":0},{"$f":"'1a'!D46","v":"lehrer44"},{"$f":"'1a'!E46","v":0},{"$f":"'1a'!F46","v":0},{"$f":"'1a'!G46","v":0},{"$f":"'1a'!H46","v":0},{"$f":"'1a'!I46","v":0},{"$f":"'1a'!J46","v":0},{"$f":"'1a'!K46","v":0},{"$f":"'1a'!L46","v":0},{"$f":"'1a'!M46","v":0},{"$f":"'1a'!N46","v":0},{"$f":"'1a'!O46","v":0},{"$f":"'1a'!P46","v":0},{"$f":"'1a'!Q46","v":0},{"$f":"'1a'!R46","v":0},{"$f":"'1a'!S46","v":0},{"$f":"'1a'!T46","v":0},{"$f":"'1a'!U46","v":0},{"$f":"'1a'!V46","v":0},{"$f":"'1a'!W46","v":0},{"$f":"'1a'!X46","v":0},{"$f":"'1a'!Y46","v":0},{"$f":"'1a'!Z46","v":0},{"$f":"'1a'!AA46","v":0},{"$f":"'1a'!AB46","v":0},{"$f":"'1a'!AC46","v":0},{"$f":"'1a'!AD46","v":0},{"$f":"'1a'!AE46","v":0},{"$f":"'1a'!AF46","v":0},{"$f":"'1a'!AG46","v":0},{"$f":"'1a'!AH46","v":0},{"$f":"'1a'!AI46","v":0},{"$f":"'1a'!AJ46","v":0},{"$f":"'1a'!AK46","v":0},{"$f":"'1a'!AL46","v":0},{"$f":"'1a'!AM46","v":0},{"$f":"'1a'!AN46","v":0},{"$f":"'1a'!AO46","v":0},{"$f":"'1a'!AP46","v":0},{"$f":"'1a'!AQ46","v":0},{"$f":"'1a'!AR46","v":0},{"$f":"'1a'!AS46","v":0},{"$f":"'1a'!AT46","v":0},{"$f":"'1a'!AU46","v":0},{"$f":"'1a'!AV46","v":0},{"$f":"'1a'!AW46","v":0},{"$f":"'1a'!AX46","v":0},{"$f":"'1a'!AY46","v":0},{"$f":"'1a'!AZ46","v":0},{"$f":"'1a'!BA46","v":0},{"$f":"'1a'!BB46","v":0},{"$f":"'1a'!BC46","v":0},{"$f":"'1a'!BD46","v":0},{"$f":"'1a'!BE46","v":0}]
[{"$f":"'1a'!A47","v":"1a"},{"$f":"'1a'!B47","v":0},{"$f":"'1a'!C47","v":0},{"$f":"'1a'!D47","v":"lehrer45"},{"$f":"'1a'!E47","v":0},{"$f":"'1a'!F47","v":0},{"$f":"'1a'!G47","v":0},{"$f":"'1a'!H47","v":0},{"$f":"'1a'!I47","v":0},{"$f":"'1a'!J47","v":0},{"$f":"'1a'!K47","v":0},{"$f":"'1a'!L47","v":0},{"$f":"'1a'!M47","v":0},{"$f":"'1a'!N47","v":0},{"$f":"'1a'!O47","v":0},{"$f":"'1a'!P47","v":0},{"$f":"'1a'!Q47","v":0},{"$f":"'1a'!R47","v":0},{"$f":"'1a'!S47","v":0},{"$f":"'1a'!T47","v":0},{"$f":"'1a'!U47","v":0},{"$f":"'1a'!V47","v":0},{"$f":"'1a'!W47","v":0},{"$f":"'1a'!X47","v":0},{"$f":"'1a'!Y47","v":0},{"$f":"'1a'!Z47","v":0},{"$f":"'1a'!AA47","v":0},{"$f":"'1a'!AB47","v":0},{"$f":"'1a'!AC47","v":0},{"$f":"'1a'!AD47","v":0},{"$f":"'1a'!AE47","v":0},{"$f":"'1a'!AF47","v":0},{"$f":"'1a'!AG47","v":0},{"$f":"'1a'!AH47","v":0},{"$f":"'1a'!AI47","v":0},{"$f":"'1a'!AJ47","v":0},{"$f":"'1a'!AK47","v":0},{"$f":"'1a'!AL47","v":0},{"$f":"'1a'!AM47","v":0},{"$f":"'1a'!AN47","v":0},{"$f":"'1a'!AO47","v":0},{"$f":"'1a'!AP47","v":0},{"$f":"'1a'!AQ47","v":0},{"$f":"'1a'!AR47","v":0},{"$f":"'1a'!AS47","v":0},{"$f":"'1a'!AT47","v":0},{"$f":"'1a'!AU47","v":0},{"$f":"'1a'!AV47","v":0},{"$f":"'1a'!AW47","v":0},{"$f":"'1a'!AX47","v":0},{"$f":"'1a'!AY47","v":0},{"$f":"'1a'!AZ47","v":0},{"$f":"'1a'!BA47","v":0},{"$f":"'1a'!BB47","v":0},{"$f":"'1a'!BC47","v":0},{"$f":"'1a'!BD47","v":0},{"$f":"'1a'!BE47","v":0}]
[{"$f":"'1a'!A48","v":"1a"},{"$f":"'1a'!B48","v":0},{"$f":"'1a'!C48","v":0},{"$f":"'1a'!D48","v":"lehrer46"},{"$f":"'1a'!E48","v":0},{"$f":"'1a'!F48","v":0},{"$f":"'1a'!G48","v":0},{"$f":"'1a'!H48","v":0},{"$f":"'1a'!I48","v":0},{"$f":"'1a'!J48","v":0},{"$f":"'1a'!K48","v":0},{"$f":"'1a'!L48","v":0},{"$f":"'1a'!M48","v":0},{"$f":"'1a'!N48","v":0},{"$f":"'1a'!O48","v":0},{"$f":"'1a'!P48","v":0},{"$f":"'1a'!Q48","v":0},{"$f":"'1a'!R48","v":0},{"$f":"'1a'!S48","v":0},{"$f":"'1a'!T48","v":0},{"$f":"'1a'!U48","v":0},{"$f":"'1a'!V48","v":0},{"$f":"'1a'!W48","v":0},{"$f":"'1a'!X48","v":0},{"$f":"'1a'!Y48","v":0},{"$f":"'1a'!Z48","v":0},{"$f":"'1a'!AA48","v":0},{"$f":"'1a'!AB48","v":0},{"$f":"'1a'!AC48","v":0},{"$f":"'1a'!AD48","v":0},{"$f":"'1a'!AE48","v":0},{"$f":"'1a'!AF48","v":0},{"$f":"'1a'!AG48","v":0},{"$f":"'1a'!AH48","v":0},{"$f":"'1a'!AI48","v":0},{"$f":"'1a'!AJ48","v":0},{"$f":"'1a'!AK48","v":0},{"$f":"'1a'!AL48","v":0},{"$f":"'1a'!AM48","v":0},{"$f":"'1a'!AN48","v":0},{"$f":"'1a'!AO48","v":0},{"$f":"'1a'!AP48","v":0},{"$f":"'1a'!AQ48","v":0},{"$f":"'1a'!AR48","v":0},{"$f":"'1a'!AS48","v":0},{"$f":"'1a'!AT48","v":0},{"$f":"'1a'!AU48","v":0},{"$f":"'1a'!AV48","v":0},{"$f":"'1a'!AW48","v":0},{"$f":"'1a'!AX48","v":0},{"$f":"'1a'!AY48","v":0},{"$f":"'1a'!AZ48","v":0},{"$f":"'1a'!BA48","v":0},{"$f":"'1a'!BB48","v":0},{"$f":"'1a'!BC48","v":0},{"$f":"'1a'!BD48","v":0},{"$f":"'1a'!BE48","v":0}]
[{"$f":"'1a'!A49","v":"1a"},{"$f":"'1a'!B49","v":0},{"$f":"'1a'!C49","v":0},{"$f":"'1a'!D49","v":"lehrer47"},{"$f":"'1a'!E49","v":0},{"$f":"'1a'!F49","v":0},{"$f":"'1a'!G49","v":0},{"$f":"'1a'!H49","v":0},{"$f":"'1a'!I49","v":0},{"$f":"'1a'!J49","v":0},{"$f":"'1a'!K49","v":0},{"$f":"'1a'!L49","v":0},{"$f":"'1a'!M49","v":0},{"$f":"'1a'!N49","v":0},{"$f":"'1a'!O49","v":0},{"$f":"'1a'!P49","v":0},{"$f":"'1a'!Q49","v":0},{"$f":"'1a'!R49","v":0},{"$f":"'1a'!S49","v":0},{"$f":"'1a'!T49","v":0},{"$f":"'1a'!U49","v":0},{"$f":"'1a'!V49","v":0},{"$f":"'1a'!W49","v":0},{"$f":"'1a'!X49","v":0},{"$f":"'1a'!Y49","v":0},{"$f":"'1a'!Z49","v":0},{"$f":"'1a'!AA49","v":0},{"$f":"'1a'!AB49","v":0},{"$f":"'1a'!AC49","v":0},{"$f":"'1a'!AD49","v":0},{"$f":"'1a'!AE49","v":0},{"$f":"'1a'!AF49","v":0},{"$f":"'1a'!AG49","v":0},{"$f":"'1a'!AH49","v":0},{"$f":"'1a'!AI49","v":0},{"$f":"'1a'!AJ49","v":0},{"$f":"'1a'!AK49","v":0},{"$f":"'1a'!AL49","v":0},{"$f":"'1a'!AM49","v":0},{"$f":"'1a'!AN49","v":0},{"$f":"'1a'!AO49","v":0},{"$f":"'1a'!AP49","v":0},{"$f":"'1a'!AQ49","v":0},{"$f":"'1a'!AR49","v":0},{"$f":"'1a'!AS49","v":0},{"$f":"'1a'!AT49","v":0},{"$f":"'1a'!AU49","v":0},{"$f":"'1a'!AV49","v":0},{"$f":"'1a'!AW49","v":0},{"$f":"'1a'!AX49","v":0},{"$f":"'1a'!AY49","v":0},{"$f":"'1a'!AZ49","v":0},{"$f":"'1a'!BA49","v":0},{"$f":"'1a'!BB49","v":0},{"$f":"'1a'!BC49","v":0},{"$f":"'1a'!BD49","v":0},{"$f":"'1a'!BE49","v":0}]
[{"$f":"'1a'!A50","v":"1a"},{"$f":"'1a'!B50","v":0},{"$f":"'1a'!C50","v":0},{"$f":"'1a'!D50","v":"lehrer48"},{"$f":"'1a'!E50","v":0},{"$f":"'1a'!F50","v":0},{"$f":"'1a'!G50","v":0},{"$f":"'1a'!H50","v":0},{"$f":"'1a'!I50","v":0},{"$f":"'1a'!J50","v":0},{"$f":"'1a'!K50","v":0},{"$f":"'1a'!L50","v":0},{"$f":"'1a'!M50","v":0},{"$f":"'1a'!N50","v":0},{"$f":"'1a'!O50","v":0},{"$f":"'1a'!P50","v":0},{"$f":"'1a'!Q50","v":0},{"$f":"'1a'!R50","v":0},{"$f":"'1a'!S50","v":0},{"$f":"'1a'!T50","v":0},{"$f":"'1a'!U50","v":0},{"$f":"'1a'!V50","v":0},{"$f":"'1a'!W50","v":0},{"$f":"'1a'!X50","v":0},{"$f":"'1a'!Y50","v":0},{"$f":"'1a'!Z50","v":0},{"$f":"'1a'!AA50","v":0},{"$f":"'1a'!AB50","v":0},{"$f":"'1a'!AC50","v":0},{"$f":"'1a'!AD50","v":0},{"$f":"'1a'!AE50","v":0},{"$f":"'1a'!AF50","v":0},{"$f":"'1a'!AG50","v":0},{"$f":"'1a'!AH50","v":0},{"$f":"'1a'!AI50","v":0},{"$f":"'1a'!AJ50","v":0},{"$f":"'1a'!AK50","v":0},{"$f":"'1a'!AL50","v":0},{"$f":"'1a'!AM50","v":0},{"$f":"'1a'!AN50","v":0},{"$f":"'1a'!AO50","v":0},{"$f":"'1a'!AP50","v":0},{"$f":"'1a'!AQ50","v":0},{"$f":"'1a'!AR50","v":0},{"$f":"'1a'!AS50","v":0},{"$f":"'1a'!AT50","v":0},{"$f":"'1a'!AU50","v":0},{"$f":"'1a'!AV50","v":0},{"$f":"'1a'!AW50","v":0},{"$f":"'1a'!AX50","v":0},{"$f":"'1a'!AY50","v":0},{"$f":"'1a'!AZ50","v":0},{"$f":"'1a'!BA50","v":0},{"$f":"'1a'!BB50","v":0},{"$f":"'1a'!BC50","v":0},{"$f":"'1a'!BD50","v":0},{"$f":"'1a'!BE50","v":0}]
[{"$f":"'1b'!A3","v":"1b"},{"$f":"'1b'!B3","v":0},{"$f":"'1b'!C3","v":0},{"$f":"'1b'!D3","v":"lehrer01"},{"$f":"'1a'!E51","v":0},{"$f":"'1a'!F51","v":0},{"$f":"'1a'!G51","v":0},{"$f":"'1a'!H51","v":0},{"$f":"'1a'!I51","v":0},{"$f":"'1a'!J51","v":0},{"$f":"'1a'!K51","v":0},{"$f":"'1a'!L51","v":0},{"$f":"'1a'!M51","v":0},{"$f":"'1a'!N51","v":0},{"$f":"'1a'!O51","v":0},{"$f":"'1a'!P51","v":0},{"$f":"'1a'!Q51","v":0},{"$f":"'1a'!R51","v":0},{"$f":"'1a'!S51","v":0},{"$f":"'1a'!T51","v":0},{"$f":"'1a'!U51","v":0},{"$f":"'1a'!V51","v":0},{"$f":"'1a'!W51","v":0},{"$f":"'1a'!X51","v":0},{"$f":"'1a'!Y51","v":0},{"$f":"'1a'!Z51","v":0},{"$f":"'1a'!AA51","v":0},{"$f":"'1a'!AB51","v":0},{"$f":"'1a'!AC51","v":0},{"$f":"'1a'!AD51","v":0},{"$f":"'1a'!AE51","v":0},{"$f":"'1a'!AF51","v":0},{"$f":"'1a'!AG51","v":0},{"$f":"'1a'!AH51","v":0},{"$f":"'1a'!AI51","v":0},{"$f":"'1a'!AJ51","v":0},{"$f":"'1a'!AK51","v":0},{"$f":"'1a'!AL51","v":0},{"$f":"'1a'!AM51","v":0},{"$f":"'1a'!AN51","v":0},{"$f":"'1a'!AO51","v":0},{"$f":"'1a'!AP51","v":0},{"$f":"'1a'!AQ51","v":0},{"$f":"'1a'!AR51","v":0},{"$f":"'1a'!AS51","v":0},{"$f":"'1a'!AT51","v":0},{"$f":"'1a'!AU51","v":0},{"$f":"'1a'!AV51","v":0},{"$f":"'1a'!AW51","v":0},{"$f":"'1a'!AX51","v":0},{"$f":"'1a'!AY51","v":0},{"$f":"'1a'!AZ51","v":0},{"$f":"'1a'!BA51","v":0},{"$f":"'1a'!BB51","v":0},{"$f":"'1a'!BC51","v":0},{"$f":"'1a'!BD51","v":0},{"$f":"'1b'!BE3","v":0}]
[{"$f":"'1b'!A4","v":"1b"},{"$f":"'1b'!B4","v":0},{"$f":"'1b'!C4","v":0},{"$f":"'1b'!D4","v":"lehrer02"},{"$f":"'1b'!E4","v":0},{"$f":"'1b'!F4","v":0},{"$f":"'1b'!G4","v":0},{"$f":"'1b'!H4","v":0},{"$f":"'1b'!I4","v":0},{"$f":"'1b'!J4","v":0},{"$f":"'1b'!K4","v":0},{"$f":"'1b'!L4","v":0},{"$f":"'1b'!M4","v":0},{"$f":"'1b'!N4","v":0},{"$f":"'1b'!O4","v":0},{"$f":"'1b'!P4","v":0},{"$f":"'1b'!Q4","v":0},{"$f":"'1b'!R4","v":0},{"$f":"'1b'!S4","v":0},{"$f":"'1b'!T4","v":0},{"$f":"'1b'!U4","v":0},{"$f":"'1b'!V4","v":0},{"$f":"'1b'!W4","v":0},{"$f":"'1b'!X4","v":0},{"$f":"'1b'!Y4","v":0},{"$f":"'1b'!Z4","v":0},{"$f":"'1b'!AA4","v":0},{"$f":"'1b'!AB4","v":0},{"$f":"'1b'!AC4","v":0},{"$f":"'1b'!AD4","v":0},{"$f":"'1b'!AE4","v":0},{"$f":"'1b'!AF4","v":0},{"$f":"'1b'!AG4","v":0},{"$f":"'1b'!AH4","v":0},{"$f":"'1b'!AI4","v":0},{"$f":"'1b'!AJ4","v":0},{"$f":"'1b'!AK4","v":0},{"$f":"'1b'!AL4","v":0},{"$f":"'1b'!AM4","v":0},{"$f":"'1b'!AN4","v":0},{"$f":"'1b'!AO4","v":0},{"$f":"'1b'!AP4","v":0},{"$f":"'1b'!AQ4","v":0},{"$f":"'1b'!AR4","v":0},{"$f":"'1b'!AS4","v":0},{"$f":"'1b'!AT4","v":0},{"$f":"'1b'!AU4","v":0},{"$f":"'1b'!AV4","v":0},{"$f":"'1b'!AW4","v":0},{"$f":"'1b'!AX4","v":0},{"$f":"'1b'!AY4","v":0},{"$f":"'1b'!AZ4","v":0},{"$f":"'1b'!BA4","v":0},{"$f":"'1b'!BB4","v":0},{"$f":"'1b'!BC4","v":0},{"$f":"'1b'!BD4","v":0},{"$f":"'1b'!BE4","v":0}]
[{"$f":"'1b'!A5","v":"1b"},{"$f":"'1b'!B5","v":0},{"$f":"'1b'!C5","v":0},{"$f":"'1b'!D5","v":"lehrer03"},{"$f":"'1b'!E5","v":0},{"$f":"'1b'!F5","v":0},{"$f":"'1b'!G5","v":0},{"$f":"'1b'!H5","v":0},{"$f":"'1b'!I5","v":0},{"$f":"'1b'!J5","v":0},{"$f":"'1b'!K5","v":0},{"$f":"'1b'!L5","v":0},{"$f":"'1b'!M5","v":0},{"$f":"'1b'!N5","v":0},{"$f":"'1b'!O5","v":0},{"$f":"'1b'!P5","v":0},{"$f":"'1b'!Q5","v":0},{"$f":"'1b'!R5","v":0},{"$f":"'1b'!S5","v":0},{"$f":"'1b'!T5","v":0},{"$f":"'1b'!U5","v":0},{"$f":"'1b'!V5","v":0},{"$f":"'1b'!W5","v":0},{"$f":"'1b'!X5","v":0},{"$f":"'1b'!Y5","v":0},{"$f":"'1b'!Z5","v":0},{"$f":"'1b'!AA5","v":0},{"$f":"'1b'!AB5","v":0},{"$f":"'1b'!AC5","v":0},{"$f":"'1b'!AD5","v":0},{"$f":"'1b'!AE5","v":0},{"$f":"'1b'!AF5","v":0},{"$f":"'1b'!AG5","v":0},{"$f":"'1b'!AH5","v":0},{"$f":"'1b'!AI5","v":0},{"$f":"'1b'!AJ5","v":0},{"$f":"'1b'!AK5","v":0},{"$f":"'1b'!AL5","v":0},{"$f":"'1b'!AM5","v":0},{"$f":"'1b'!AN5","v":0},{"$f":"'1b'!AO5","v":0},{"$f":"'1b'!AP5","v":0},{"$f":"'1b'!AQ5","v":0},{"$f":"'1b'!AR5","v":0},{"$f":"'1b'!AS5","v":0},{"$f":"'1b'!AT5","v":0},{"$f":"'1b'!AU5","v":0},{"$f":"'1b'!AV5","v":0},{"$f":"'1b'!AW5","v":0},{"$f":"'1b'!AX5","v":0},{"$f":"'1b'!AY5","v":0},{"$f":"'1b'!AZ5","v":0},{"$f":"'1b'!BA5","v":0},{"$f":"'1b'!BB5","v":0},{"$f":"'1b'!BC5","v":0},{"$f":"'1b'!BD5","v":0},{"$f":"'1b'!BE5","v":0}]
[{"$f":"'1b'!A6","v":"1b"},{"$f":"'1b'!B6","v":0},{"$f":"'1b'!C6","v":0},{"$f":"'1b'!D6","v":"lehrer04"},{"$f":"'1b'!E6","v":0},{"$f":"'1b'!F6","v":0},{"$f":"'1b'!G6","v":0},{"$f":"'1b'!H6","v":0},{"$f":"'1b'!I6","v":0},{"$f":"'1b'!J6","v":0},{"$f":"'1b'!K6","v":0},{"$f":"'1b'!L6","v":0},{"$f":"'1b'!M6","v":0},{"$f":"'1b'!N6","v":0},{"$f":"'1b'!O6","v":0},{"$f":"'1b'!P6","v":0},{"$f":"'1b'!Q6","v":0},{"$f":"'1b'!R6","v":0},{"$f":"'1b'!S6","v":0},{"$f":"'1b'!T6","v":0},{"$f":"'1b'!U6","v":0},{"$f":"'1b'!V6","v":0},{"$f":"'1b'!W6","v":0},{"$f":"'1b'!X6","v":0},{"$f":"'1b'!Y6","v":0},{"$f":"'1b'!Z6","v":0},{"$f":"'1b'!AA6","v":0},{"$f":"'1b'!AB6","v":0},{"$f":"'1b'!AC6","v":0},{"$f":"'1b'!AD6","v":0},{"$f":"'1b'!AE6","v":0},{"$f":"'1b'!AF6","v":0},{"$f":"'1b'!AG6","v":0},{"$f":"'1b'!AH6","v":0},{"$f":"'1b'!AI6","v":0},{"$f":"'1b'!AJ6","v":0},{"$f":"'1b'!AK6","v":0},{"$f":"'1b'!AL6","v":0},{"$f":"'1b'!AM6","v":0},{"$f":"'1b'!AN6","v":0},{"$f":"'1b'!AO6","v":0},{"$f":"'1b'!AP6","v":0},{"$f":"'1b'!AQ6","v":0},{"$f":"'1b'!AR6","v":0},{"$f":"'1b'!AS6","v":0},{"$f":"'1b'!AT6","v":0},{"$f":"'1b'!AU6","v":0},{"$f":"'1b'!AV6","v":0},{"$f":"'1b'!AW6","v":0},{"$f":"'1b'!AX6","v":0},{"$f":"'1b'!AY6","v":0},{"$f":"'1b'!AZ6","v":0},{"$f":"'1b'!BA6","v":0},{"$f":"'1b'!BB6","v":0},{"$f":"'1b'!BC6","v":0},{"$f":"'1b'!BD6","v":0},{"$f":"'1b'!BE6","v":0}]
[{"$f":"'1b'!A7","v":"1b"},{"$f":"'1b'!B7","v":0},{"$f":"'1b'!C7","v":0},{"$f":"'1b'!D7","v":"lehrer05"},{"$f":"'1b'!E7","v":0},{"$f":"'1b'!F7","v":0},{"$f":"'1b'!G7","v":0},{"$f":"'1b'!H7","v":0},{"$f":"'1b'!I7","v":0},{"$f":"'1b'!J7","v":0},{"$f":"'1b'!K7","v":0},{"$f":"'1b'!L7","v":0},{"$f":"'1b'!M7","v":0},{"$f":"'1b'!N7","v":0},{"$f":"'1b'!O7","v":0},{"$f":"'1b'!P7","v":0},{"$f":"'1b'!Q7","v":0},{"$f":"'1b'!R7","v":0},{"$f":"'1b'!S7","v":0},{"$f":"'1b'!T7","v":0},{"$f":"'1b'!U7","v":0},{"$f":"'1b'!V7","v":0},{"$f":"'1b'!W7","v":0},{"$f":"'1b'!X7","v":0},{"$f":"'1b'!Y7","v":0},{"$f":"'1b'!Z7","v":0},{"$f":"'1b'!AA7","v":0},{"$f":"'1b'!AB7","v":0},{"$f":"'1b'!AC7","v":0},{"$f":"'1b'!AD7","v":0},{"$f":"'1b'!AE7","v":0},{"$f":"'1b'!AF7","v":0},{"$f":"'1b'!AG7","v":0},{"$f":"'1b'!AH7","v":0},{"$f":"'1b'!AI7","v":0},{"$f":"'1b'!AJ7","v":0},{"$f":"'1b'!AK7","v":0},{"$f":"'1b'!AL7","v":0},{"$f":"'1b'!AM7","v":0},{"$f":"'1b'!AN7","v":0},{"$f":"'1b'!AO7","v":0},{"$f":"'1b'!AP7","v":0},{"$f":"'1b'!AQ7","v":0},{"$f":"'1b'!AR7","v":0},{"$f":"'1b'!AS7","v":0},{"$f":"'1b'!AT7","v":0},{"$f":"'1b'!AU7","v":0},{"$f":"'1b'!AV7","v":0},{"$f":"'1b'!AW7","v":0},{"$f":"'1b'!AX7","v":0},{"$f":"'1b'!AY7","v":0},{"$f":"'1b'!AZ7","v":0},{"$f":"'1b'!BA7","v":0},{"$f":"'1b'!BB7","v":0},{"$f":"'1b'!BC7","v":0},{"$f":"'1b'!BD7","v":0},{"$f":"'1b'!BE7","v":0}]
[{"$f":"'1b'!A8","v":"1b"},{"$f":"'1b'!B8","v":0},{"$f":"'1b'!C8","v":0},{"$f":"'1b'!D8","v":"lehrer06"},{"$f":"'1b'!E8","v":0},{"$f":"'1b'!F8","v":0},{"$f":"'1b'!G8","v":0},{"$f":"'1b'!H8","v":0},{"$f":"'1b'!I8","v":0},{"$f":"'1b'!J8","v":0},{"$f":"'1b'!K8","v":0},{"$f":"'1b'!L8","v":0},{"$f":"'1b'!M8","v":0},{"$f":"'1b'!N8","v":0},{"$f":"'1b'!O8","v":0},{"$f":"'1b'!P8","v":0},{"$f":"'1b'!Q8","v":0},{"$f":"'1b'!R8","v":0},{"$f":"'1b'!S8","v":0},{"$f":"'1b'!T8","v":0},{"$f":"'1b'!U8","v":0},{"$f":"'1b'!V8","v":0},{"$f":"'1b'!W8","v":0},{"$f":"'1b'!X8","v":0},{"$f":"'1b'!Y8","v":0},{"$f":"'1b'!Z8","v":0},{"$f":"'1b'!AA8","v":0},{"$f":"'1b'!AB8","v":0},{"$f":"'1b'!AC8","v":0},{"$f":"'1b'!AD8","v":0},{"$f":"'1b'!AE8","v":0},{"$f":"'1b'!AF8","v":0},{"$f":"'1b'!AG8","v":0},{"$f":"'1b'!AH8","v":0},{"$f":"'1b'!AI8","v":0},{"$f":"'1b'!AJ8","v":0},{"$f":"'1b'!AK8","v":0},{"$f":"'1b'!AL8","v":0},{"$f":"'1b'!AM8","v":0},{"$f":"'1b'!AN8","v":0},{"$f":"'1b'!AO8","v":0},{"$f":"'1b'!AP8","v":0},{"$f":"'1b'!AQ8","v":0},{"$f":"'1b'!AR8","v":0},{"$f":"'1b'!AS8","v":0},{"$f":"'1b'!AT8","v":0},{"$f":"'1b'!AU8","v":0},{"$f":"'1b'!AV8","v":0},{"$f":"'1b'!AW8","v":0},{"$f":"'1b'!AX8","v":0},{"$f":"'1b'!AY8","v":0},{"$f":"'1b'!AZ8","v":0},{"$f":"'1b'!BA8","v":0},{"$f":"'1b'!BB8","v":0},{"$f":"'1b'!BC8","v":0},{"$f":"'1b'!BD8","v":0},{"$f":"'1b'!BE8","v":0}]
[{"$f":"'1b'!A9","v":"1b"},{"$f":"'1b'!B9","v":0},{"$f":"'1b'!C9","v":0},{"$f":"'1b'!D9","v":"lehrer07"},{"$f":"'1b'!E9","v":0},{"$f":"'1b'!F9","v":0},{"$f":"'1b'!G9","v":0},{"$f":"'1b'!H9","v":0},{"$f":"'1b'!I9","v":0},{"$f":"'1b'!J9","v":0},{"$f":"'1b'!K9","v":0},{"$f":"'1b'!L9","v":0},{"$f":"'1b'!M9","v":0},{"$f":"'1b'!N9","v":0},{"$f":"'1b'!O9","v":0},{"$f":"'1b'!P9","v":0},{"$f":"'1b'!Q9","v":0},{"$f":"'1b'!R9","v":0},{"$f":"'1b'!S9","v":0},{"$f":"'1b'!T9","v":0},{"$f":"'1b'!U9","v":0},{"$f":"'1b'!V9","v":0},{"$f":"'1b'!W9","v":0},{"$f":"'1b'!X9","v":0},{"$f":"'1b'!Y9","v":0},{"$f":"'1b'!Z9","v":0},{"$f":"'1b'!AA9","v":0},{"$f":"'1b'!AB9","v":0},{"$f":"'1b'!AC9","v":0},{"$f":"'1b'!AD9","v":0},{"$f":"'1b'!AE9","v":0},{"$f":"'1b'!AF9","v":0},{"$f":"'1b'!AG9","v":0},{"$f":"'1b'!AH9","v":0},{"$f":"'1b'!AI9","v":0},{"$f":"'1b'!AJ9","v":0},{"$f":"'1b'!AK9","v":0},{"$f":"'1b'!AL9","v":0},{"$f":"'1b'!AM9","v":0},{"$f":"'1b'!AN9","v":0},{"$f":"'1b'!AO9","v":0},{"$f":"'1b'!AP9","v":0},{"$f":"'1b'!AQ9","v":0},{"$f":"'1b'!AR9","v":0},{"$f":"'1b'!AS9","v":0},{"$f":"'1b'!AT9","v":0},{"$f":"'1b'!AU9","v":0},{"$f":"'1b'!AV9","v":0},{"$f":"'1b'!AW9","v":0},{"$f":"'1b'!AX9","v":0},{"$f":"'1b'!AY9","v":0},{"$f":"'1b'!AZ9","v":0},{"$f":"'1b'!BA9","v":0},{"$f":"'1b'!BB9","v":0},{"$f":"'1b'!BC9","v":0},{"$f":"'1b'!BD9","v":0},{"$f":"'1b'!BE9","v":0}]
[{"$f":"'1b'!A10","v":"1b"},{"$f":"'1b'!B10","v":0},{"$f":"'1b'!C10","v":0},{"$f":"'1b'!D10","v":"lehrer08"},{"$f":"'1b'!E10","v":0},{"$f":"'1b'!F10","v":0},{"$f":"'1b'!G10","v":0},{"$f":"'1b'!H10","v":0},{"$f":"'1b'!I10","v":0},{"$f":"'1b'!J10","v":0},{"$f":"'1b'!K10","v":0},{"$f":"'1b'!L10","v":0},{"$f":"'1b'!M10","v":0},{"$f":"'1b'!N10","v":0},{"$f":"'1b'!O10","v":0},{"$f":"'1b'!P10","v":0},{"$f":"'1b'!Q10","v":0},{"$f":"'1b'!R10","v":0},{"$f":"'1b'!S10","v":0},{"$f":"'1b'!T10","v":0},{"$f":"'1b'!U10","v":0},{"$f":"'1b'!V10","v":0},{"$f":"'1b'!W10","v":0},{"$f":"'1b'!X10","v":0},{"$f":"'1b'!Y10","v":0},{"$f":"'1b'!Z10","v":0},{"$f":"'1b'!AA10","v":0},{"$f":"'1b'!AB10","v":0},{"$f":"'1b'!AC10","v":0},{"$f":"'1b'!AD10","v":0},{"$f":"'1b'!AE10","v":0},{"$f":"'1b'!AF10","v":0},{"$f":"'1b'!AG10","v":0},{"$f":"'1b'!AH10","v":0},{"$f":"'1b'!AI10","v":0},{"$f":"'1b'!AJ10","v":0},{"$f":"'1b'!AK10","v":0},{"$f":"'1b'!AL10","v":0},{"$f":"'1b'!AM10","v":0},{"$f":"'1b'!AN10","v":0},{"$f":"'1b'!AO10","v":0},{"$f":"'1b'!AP10","v":0},{"$f":"'1b'!AQ10","v":0},{"$f":"'1b'!AR10","v":0},{"$f":"'1b'!AS10","v":0},{"$f":"'1b'!AT10","v":0},{"$f":"'1b'!AU10","v":0},{"$f":"'1b'!AV10","v":0},{"$f":"'1b'!AW10","v":0},{"$f":"'1b'!AX10","v":0},{"$f":"'1b'!AY10","v":0},{"$f":"'1b'!AZ10","v":0},{"$f":"'1b'!BA10","v":0},{"$f":"'1b'!BB10","v":0},{"$f":"'1b'!BC10","v":0},{"$f":"'1b'!BD10","v":0},{"$f":"'1b'!BE10","v":0}]
[{"$f":"'1b'!A11","v":"1b"},{"$f":"'1b'!B11","v":0},{"$f":"'1b'!C11","v":0},{"$f":"'1b'!D11","v":"lehrer09"},{"$f":"'1b'!E11","v":0},{"$f":"'1b'!F11","v":0},{"$f":"'1b'!G11","v":0},{"$f":"'1b'!H11","v":0},{"$f":"'1b'!I11","v":0},{"$f":"'1b'!J11","v":0},{"$f":"'1b'!K11","v":0},{"$f":"'1b'!L11","v":0},{"$f":"'1b'!M11","v":0},{"$f":"'1b'!N11","v":0},{"$f":"'1b'!O11","v":0},{"$f":"'1b'!P11","v":0},{"$f":"'1b'!Q11","v":0},{"$f":"'1b'!R11","v":0},{"$f":"'1b'!S11","v":0},{"$f":"'1b'!T11","v":0},{"$f":"'1b'!U11","v":0},{"$f":"'1b'!V11","v":0},{"$f":"'1b'!W11","v":0},{"$f":"'1b'!X11","v":0},{"$f":"'1b'!Y11","v":0},{"$f":"'1b'!Z11","v":0},{"$f":"'1b'!AA11","v":0},{"$f":"'1b'!AB11","v":0},{"$f":"'1b'!AC11","v":0},{"$f":"'1b'!AD11","v":0},{"$f":"'1b'!AE11","v":0},{"$f":"'1b'!AF11","v":0},{"$f":"'1b'!AG11","v":0},{"$f":"'1b'!AH11","v":0},{"$f":"'1b'!AI11","v":0},{"$f":"'1b'!AJ11","v":0},{"$f":"'1b'!AK11","v":0},{"$f":"'1b'!AL11","v":0},{"$f":"'1b'!AM11","v":0},{"$f":"'1b'!AN11","v":0},{"$f":"'1b'!AO11","v":0},{"$f":"'1b'!AP11","v":0},{"$f":"'1b'!AQ11","v":0},{"$f":"'1b'!AR11","v":0},{"$f":"'1b'!AS11","v":0},{"$f":"'1b'!AT11","v":0},{"$f":"'1b'!AU11","v":0},{"$f":"'1b'!AV11","v":0},{"$f":"'1b'!AW11","v":0},{"$f":"'1b'!AX11","v":0},{"$f":"'1b'!AY11","v":0},{"$f":"'1b'!AZ11","v":0},{"$f":"'1b'!BA11","v":0},{"$f":"'1b'!BB11","v":0},{"$f":"'1b'!BC11","v":0},{"$f":"'1b'!BD11","v":0},{"$f":"'1b'!BE11","v":0}]
[{"$f":"'1b'!A12","v":"1b"},{"$f":"'1b'!B12","v":0},{"$f":"'1b'!C12","v":0},{"$f":"'1b'!D12","v":"lehrer10"},{"$f":"'1b'!E12","v":0},{"$f":"'1b'!F12","v":0},{"$f":"'1b'!G12","v":0},{"$f":"'1b'!H12","v":0},{"$f":"'1b'!I12","v":0},{"$f":"'1b'!J12","v":0},{"$f":"'1b'!K12","v":0},{"$f":"'1b'!L12","v":0},{"$f":"'1b'!M12","v":0},{"$f":"'1b'!N12","v":0},{"$f":"'1b'!O12","v":0},{"$f":"'1b'!P12","v":0},{"$f":"'1b'!Q12","v":0},{"$f":"'1b'!R12","v":0},{"$f":"'1b'!S12","v":0},{"$f":"'1b'!T12","v":0},{"$f":"'1b'!U12","v":0},{"$f":"'1b'!V12","v":0},{"$f":"'1b'!W12","v":0},{"$f":"'1b'!X12","v":0},{"$f":"'1b'!Y12","v":0},{"$f":"'1b'!Z12","v":0},{"$f":"'1b'!AA12","v":0},{"$f":"'1b'!AB12","v":0},{"$f":"'1b'!AC12","v":0},{"$f":"'1b'!AD12","v":0},{"$f":"'1b'!AE12","v":0},{"$f":"'1b'!AF12","v":0},{"$f":"'1b'!AG12","v":0},{"$f":"'1b'!AH12","v":0},{"$f":"'1b'!AI12","v":0},{"$f":"'1b'!AJ12","v":0},{"$f":"'1b'!AK12","v":0},{"$f":"'1b'!AL12","v":0},{"$f":"'1b'!AM12","v":0},{"$f":"'1b'!AN12","v":0},{"$f":"'1b'!AO12","v":0},{"$f":"'1b'!AP12","v":0},{"$f":"'1b'!AQ12","v":0},{"$f":"'1b'!AR12","v":0},{"$f":"'1b'!AS12","v":0},{"$f":"'1b'!AT12","v":0},{"$f":"'1b'!AU12","v":0},{"$f":"'1b'!AV12","v":0},{"$f":"'1b'!AW12","v":0},{"$f":"'1b'!AX12","v":0},{"$f":"'1b'!AY12","v":0},{"$f":"'1b'!AZ12","v":0},{"$f":"'1b'!BA12","v":0},{"$f":"'1b'!BB12","v":0},{"$f":"'1b'!BC12","v":0},{"$f":"'1b'!BD12","v":0},{"$f":"'1b'!BE12","v":0}]
[{"$f":"'1b'!A13","v":"1b"},{"$f":"'1b'!B13","v":0},{"$f":"'1b'!C13","v":0},{"$f":"'1b'!D13","v":"lehrer11"},{"$f":"'1b'!E13","v":0},{"$f":"'1b'!F13","v":0},{"$f":"'1b'!G13","v":0},{"$f":"'1b'!H13","v":0},{"$f":"'1b'!I13","v":0},{"$f":"'1b'!J13","v":0},{"$f":"'1b'!K13","v":0},{"$f":"'1b'!L13","v":0},{"$f":"'1b'!M13","v":0},{"$f":"'1b'!N13","v":0},{"$f":"'1b'!O13","v":0},{"$f":"'1b'!P13","v":0},{"$f":"'1b'!Q13","v":0},{"$f":"'1b'!R13","v":0},{"$f":"'1b'!S13","v":0},{"$f":"'1b'!T13","v":0},{"$f":"'1b'!U13","v":0},{"$f":"'1b'!V13","v":0},{"$f":"'1b'!W13","v":0},{"$f":"'1b'!X13","v":0},{"$f":"'1b'!Y13","v":0},{"$f":"'1b'!Z13","v":0},{"$f":"'1b'!AA13","v":0},{"$f":"'1b'!AB13","v":0},{"$f":"'1b'!AC13","v":0},{"$f":"'1b'!AD13","v":0},{"$f":"'1b'!AE13","v":0},{"$f":"'1b'!AF13","v":0},{"$f":"'1b'!AG13","v":0},{"$f":"'1b'!AH13","v":0},{"$f":"'1b'!AI13","v":0},{"$f":"'1b'!AJ13","v":0},{"$f":"'1b'!AK13","v":0},{"$f":"'1b'!AL13","v":0},{"$f":"'1b'!AM13","v":0},{"$f":"'1b'!AN13","v":0},{"$f":"'1b'!AO13","v":0},{"$f":"'1b'!AP13","v":0},{"$f":"'1b'!AQ13","v":0},{"$f":"'1b'!AR13","v":0},{"$f":"'1b'!AS13","v":0},{"$f":"'1b'!AT13","v":0},{"$f":"'1b'!AU13","v":0},{"$f":"'1b'!AV13","v":0},{"$f":"'1b'!AW13","v":0},{"$f":"'1b'!AX13","v":0},{"$f":"'1b'!AY13","v":0},{"$f":"'1b'!AZ13","v":0},{"$f":"'1b'!BA13","v":0},{"$f":"'1b'!BB13","v":0},{"$f":"'1b'!BC13","v":0},{"$f":"'1b'!BD13","v":0},{"$f":"'1b'!BE13","v":0}]
[{"$f":"'1b'!A14","v":"1b"},{"$f":"'1b'!B14","v":0},{"$f":"'1b'!C14","v":0},{"$f":"'1b'!D14","v":"lehrer12"},{"$f":"'1b'!E14","v":0},{"$f":"'1b'!F14","v":0},{"$f":"'1b'!G14","v":0},{"$f":"'1b'!H14","v":0},{"$f":"'1b'!I14","v":0},{"$f":"'1b'!J14","v":0},{"$f":"'1b'!K14","v":0},{"$f":"'1b'!L14","v":0},{"$f":"'1b'!M14","v":0},{"$f":"'1b'!N14","v":0},{"$f":"'1b'!O14","v":0},{"$f":"'1b'!P14","v":0},{"$f":"'1b'!Q14","v":0},{"$f":"'1b'!R14","v":0},{"$f":"'1b'!S14","v":0},{"$f":"'1b'!T14","v":0},{"$f":"'1b'!U14","v":0},{"$f":"'1b'!V14","v":0},{"$f":"'1b'!W14","v":0},{"$f":"'1b'!X14","v":0},{"$f":"'1b'!Y14","v":0},{"$f":"'1b'!Z14","v":0},{"$f":"'1b'!AA14","v":0},{"$f":"'1b'!AB14","v":0},{"$f":"'1b'!AC14","v":0},{"$f":"'1b'!AD14","v":0},{"$f":"'1b'!AE14","v":0},{"$f":"'1b'!AF14","v":0},{"$f":"'1b'!AG14","v":0},{"$f":"'1b'!AH14","v":0},{"$f":"'1b'!AI14","v":0},{"$f":"'1b'!AJ14","v":0},{"$f":"'1b'!AK14","v":0},{"$f":"'1b'!AL14","v":0},{"$f":"'1b'!AM14","v":0},{"$f":"'1b'!AN14","v":0},{"$f":"'1b'!AO14","v":0},{"$f":"'1b'!AP14","v":0},{"$f":"'1b'!AQ14","v":0},{"$f":"'1b'!AR14","v":0},{"$f":"'1b'!AS14","v":0},{"$f":"'1b'!AT14","v":0},{"$f":"'1b'!AU14","v":0},{"$f":"'1b'!AV14","v":0},{"$f":"'1b'!AW14","v":0},{"$f":"'1b'!AX14","v":0},{"$f":"'1b'!AY14","v":0},{"$f":"'1b'!AZ14","v":0},{"$f":"'1b'!BA14","v":0},{"$f":"'1b'!BB14","v":0},{"$f":"'1b'!BC14","v":0},{"$f":"'1b'!BD14","v":0},{"$f":"'1b'!BE14","v":0}]
[{"$f":"'1b'!A15","v":"1b"},{"$f":"'1b'!B15","v":0},{"$f":"'1b'!C15","v":0},{"$f":"'1b'!D15","v":"lehrer13"},{"$f":"'1b'!E15","v":0},{"$f":"'1b'!F15","v":0},{"$f":"'1b'!G15","v":0},{"$f":"'1b'!H15","v":0},{"$f":"'1b'!I15","v":0},{"$f":"'1b'!J15","v":0},{"$f":"'1b'!K15","v":0},{"$f":"'1b'!L15","v":0},{"$f":"'1b'!M15","v":0},{"$f":"'1b'!N15","v":0},{"$f":"'1b'!O15","v":0},{"$f":"'1b'!P15","v":0},{"$f":"'1b'!Q15","v":0},{"$f":"'1b'!R15","v":0},{"$f":"'1b'!S15","v":0},{"$f":"'1b'!T15","v":0},{"$f":"'1b'!U15","v":0},{"$f":"'1b'!V15","v":0},{"$f":"'1b'!W15","v":0},{"$f":"'1b'!X15","v":0},{"$f":"'1b'!Y15","v":0},{"$f":"'1b'!Z15","v":0},{"$f":"'1b'!AA15","v":0},{"$f":"'1b'!AB15","v":0},{"$f":"'1b'!AC15","v":0},{"$f":"'1b'!AD15","v":0},{"$f":"'1b'!AE15","v":0},{"$f":"'1b'!AF15","v":0},{"$f":"'1b'!AG15","v":0},{"$f":"'1b'!AH15","v":0},{"$f":"'1b'!AI15","v":0},{"$f":"'1b'!AJ15","v":0},{"$f":"'1b'!AK15","v":0},{"$f":"'1b'!AL15","v":0},{"$f":"'1b'!AM15","v":0},{"$f":"'1b'!AN15","v":0},{"$f":"'1b'!AO15","v":0},{"$f":"'1b'!AP15","v":0},{"$f":"'1b'!AQ15","v":0},{"$f":"'1b'!AR15","v":0},{"$f":"'1b'!AS15","v":0},{"$f":"'1b'!AT15","v":0},{"$f":"'1b'!AU15","v":0},{"$f":"'1b'!AV15","v":0},{"$f":"'1b'!AW15","v":0},{"$f":"'1b'!AX15","v":0},{"$f":"'1b'!AY15","v":0},{"$f":"'1b'!AZ15","v":0},{"$f":"'1b'!BA15","v":0},{"$f":"'1b'!BB15","v":0},{"$f":"'1b'!BC15","v":0},{"$f":"'1b'!BD15","v":0},{"$f":"'1b'!BE15","v":0}]
[{"$f":"'1b'!A16","v":"1b"},{"$f":"'1b'!B16","v":0},{"$f":"'1b'!C16","v":0},{"$f":"'1b'!D16","v":"lehrer14"},{"$f":"'1b'!E16","v":0},{"$f":"'1b'!F16","v":0},{"$f":"'1b'!G16","v":0},{"$f":"'1b'!H16","v":0},{"$f":"'1b'!I16","v":0},{"$f":"'1b'!J16","v":0},{"$f":"'1b'!K16","v":0},{"$f":"'1b'!L16","v":0},{"$f":"'1b'!M16","v":0},{"$f":"'1b'!N16","v":0},{"$f":"'1b'!O16","v":0},{"$f":"'1b'!P16","v":0},{"$f":"'1b'!Q16","v":0},{"$f":"'1b'!R16","v":0},{"$f":"'1b'!S16","v":0},{"$f":"'1b'!T16","v":0},{"$f":"'1b'!U16","v":0},{"$f":"'1b'!V16","v":0},{"$f":"'1b'!W16","v":0},{"$f":"'1b'!X16","v":0},{"$f":"'1b'!Y16","v":0},{"$f":"'1b'!Z16","v":0},{"$f":"'1b'!AA16","v":0},{"$f":"'1b'!AB16","v":0},{"$f":"'1b'!AC16","v":0},{"$f":"'1b'!AD16","v":0},{"$f":"'1b'!AE16","v":0},{"$f":"'1b'!AF16","v":0},{"$f":"'1b'!AG16","v":0},{"$f":"'1b'!AH16","v":0},{"$f":"'1b'!AI16","v":0},{"$f":"'1b'!AJ16","v":0},{"$f":"'1b'!AK16","v":0},{"$f":"'1b'!AL16","v":0},{"$f":"'1b'!AM16","v":0},{"$f":"'1b'!AN16","v":0},{"$f":"'1b'!AO16","v":0},{"$f":"'1b'!AP16","v":0},{"$f":"'1b'!AQ16","v":0},{"$f":"'1b'!AR16","v":0},{"$f":"'1b'!AS16","v":0},{"$f":"'1b'!AT16","v":0},{"$f":"'1b'!AU16","v":0},{"$f":"'1b'!AV16","v":0},{"$f":"'1b'!AW16","v":0},{"$f":"'1b'!AX16","v":0},{"$f":"'1b'!AY16","v":0},{"$f":"'1b'!AZ16","v":0},{"$f":"'1b'!BA16","v":0},{"$f":"'1b'!BB16","v":0},{"$f":"'1b'!BC16","v":0},{"$f":"'1b'!BD16","v":0},{"$f":"'1b'!BE16","v":0}]
[{"$f":"'1b'!A17","v":"1b"},{"$f":"'1b'!B17","v":0},{"$f":"'1b'!C17","v":0},{"$f":"'1b'!D17","v":"lehrer15"},{"$f":"'1b'!E17","v":0},{"$f":"'1b'!F17","v":0},{"$f":"'1b'!G17","v":0},{"$f":"'1b'!H17","v":0},{"$f":"'1b'!I17","v":0},{"$f":"'1b'!J17","v":0},{"$f":"'1b'!K17","v":0},{"$f":"'1b'!L17","v":0},{"$f":"'1b'!M17","v":0},{"$f":"'1b'!N17","v":0},{"$f":"'1b'!O17","v":0},{"$f":"'1b'!P17","v":0},{"$f":"'1b'!Q17","v":0},{"$f":"'1b'!R17","v":0},{"$f":"'1b'!S17","v":0},{"$f":"'1b'!T17","v":0},{"$f":"'1b'!U17","v":0},{"$f":"'1b'!V17","v":0},{"$f":"'1b'!W17","v":0},{"$f":"'1b'!X17","v":0},{"$f":"'1b'!Y17","v":0},{"$f":"'1b'!Z17","v":0},{"$f":"'1b'!AA17","v":0},{"$f":"'1b'!AB17","v":0},{"$f":"'1b'!AC17","v":0},{"$f":"'1b'!AD17","v":0},{"$f":"'1b'!AE17","v":0},{"$f":"'1b'!AF17","v":0},{"$f":"'1b'!AG17","v":0},{"$f":"'1b'!AH17","v":0},{"$f":"'1b'!AI17","v":0},{"$f":"'1b'!AJ17","v":0},{"$f":"'1b'!AK17","v":0},{"$f":"'1b'!AL17","v":0},{"$f":"'1b'!AM17","v":0},{"$f":"'1b'!AN17","v":0},{"$f":"'1b'!AO17","v":0},{"$f":"'1b'!AP17","v":0},{"$f":"'1b'!AQ17","v":0},{"$f":"'1b'!AR17","v":0},{"$f":"'1b'!AS17","v":0},{"$f":"'1b'!AT17","v":0},{"$f":"'1b'!AU17","v":0},{"$f":"'1b'!AV17","v":0},{"$f":"'1b'!AW17","v":0},{"$f":"'1b'!AX17","v":0},{"$f":"'1b'!AY17","v":0},{"$f":"'1b'!AZ17","v":0},{"$f":"'1b'!BA17","v":0},{"$f":"'1b'!BB17","v":0},{"$f":"'1b'!BC17","v":0},{"$f":"'1b'!BD17","v":0},{"$f":"'1b'!BE17","v":0}]
[{"$f":"'1b'!A18","v":"1b"},{"$f":"'1b'!B18","v":0},{"$f":"'1b'!C18","v":0},{"$f":"'1b'!D18","v":"lehrer16"},{"$f":"'1b'!E18","v":0},{"$f":"'1b'!F18","v":0},{"$f":"'1b'!G18","v":0},{"$f":"'1b'!H18","v":0},{"$f":"'1b'!I18","v":0},{"$f":"'1b'!J18","v":0},{"$f":"'1b'!K18","v":0},{"$f":"'1b'!L18","v":0},{"$f":"'1b'!M18","v":0},{"$f":"'1b'!N18","v":0},{"$f":"'1b'!O18","v":0},{"$f":"'1b'!P18","v":0},{"$f":"'1b'!Q18","v":0},{"$f":"'1b'!R18","v":0},{"$f":"'1b'!S18","v":0},{"$f":"'1b'!T18","v":0},{"$f":"'1b'!U18","v":0},{"$f":"'1b'!V18","v":0},{"$f":"'1b'!W18","v":0},{"$f":"'1b'!X18","v":0},{"$f":"'1b'!Y18","v":0},{"$f":"'1b'!Z18","v":0},{"$f":"'1b'!AA18","v":0},{"$f":"'1b'!AB18","v":0},{"$f":"'1b'!AC18","v":0},{"$f":"'1b'!AD18","v":0},{"$f":"'1b'!AE18","v":0},{"$f":"'1b'!AF18","v":0},{"$f":"'1b'!AG18","v":0},{"$f":"'1b'!AH18","v":0},{"$f":"'1b'!AI18","v":0},{"$f":"'1b'!AJ18","v":0},{"$f":"'1b'!AK18","v":0},{"$f":"'1b'!AL18","v":0},{"$f":"'1b'!AM18","v":0},{"$f":"'1b'!AN18","v":0},{"$f":"'1b'!AO18","v":0},{"$f":"'1b'!AP18","v":0},{"$f":"'1b'!AQ18","v":0},{"$f":"'1b'!AR18","v":0},{"$f":"'1b'!AS18","v":0},{"$f":"'1b'!AT18","v":0},{"$f":"'1b'!AU18","v":0},{"$f":"'1b'!AV18","v":0},{"$f":"'1b'!AW18","v":0},{"$f":"'1b'!AX18","v":0},{"$f":"'1b'!AY18","v":0},{"$f":"'1b'!AZ18","v":0},{"$f":"'1b'!BA18","v":0},{"$f":"'1b'!BB18","v":0},{"$f":"'1b'!BC18","v":0},{"$f":"'1b'!BD18","v":0},{"$f":"'1b'!BE18","v":0}]
[{"$f":"'1b'!A19","v":"1b"},{"$f":"'1b'!B19","v":0},{"$f":"'1b'!C19","v":0},{"$f":"'1b'!D19","v":"lehrer17"},{"$f":"'1b'!E19","v":0},{"$f":"'1b'!F19","v":0},{"$f":"'1b'!G19","v":0},{"$f":"'1b'!H19","v":0},{"$f":"'1b'!I19","v":0},{"$f":"'1b'!J19","v":0},{"$f":"'1b'!K19","v":0},{"$f":"'1b'!L19","v":0},{"$f":"'1b'!M19","v":0},{"$f":"'1b'!N19","v":0},{"$f":"'1b'!O19","v":0},{"$f":"'1b'!P19","v":0},{"$f":"'1b'!Q19","v":0},{"$f":"'1b'!R19","v":0},{"$f":"'1b'!S19","v":0},{"$f":"'1b'!T19","v":0},{"$f":"'1b'!U19","v":0},{"$f":"'1b'!V19","v":0},{"$f":"'1b'!W19","v":0},{"$f":"'1b'!X19","v":0},{"$f":"'1b'!Y19","v":0},{"$f":"'1b'!Z19","v":0},{"$f":"'1b'!AA19","v":0},{"$f":"'1b'!AB19","v":0},{"$f":"'1b'!AC19","v":0},{"$f":"'1b'!AD19","v":0},{"$f":"'1b'!AE19","v":0},{"$f":"'1b'!AF19","v":0},{"$f":"'1b'!AG19","v":0},{"$f":"'1b'!AH19","v":0},{"$f":"'1b'!AI19","v":0},{"$f":"'1b'!AJ19","v":0},{"$f":"'1b'!AK19","v":0},{"$f":"'1b'!AL19","v":0},{"$f":"'1b'!AM19","v":0},{"$f":"'1b'!AN19","v":0},{"$f":"'1b'!AO19","v":0},{"$f":"'1b'!AP19","v":0},{"$f":"'1b'!AQ19","v":0},{"$f":"'1b'!AR19","v":0},{"$f":"'1b'!AS19","v":0},{"$f":"'1b'!AT19","v":0},{"$f":"'1b'!AU19","v":0},{"$f":"'1b'!AV19","v":0},{"$f":"'1b'!AW19","v":0},{"$f":"'1b'!AX19","v":0},{"$f":"'1b'!AY19","v":0},{"$f":"'1b'!AZ19","v":0},{"$f":"'1b'!BA19","v":0},{"$f":"'1b'!BB19","v":0},{"$f":"'1b'!BC19","v":0},{"$f":"'1b'!BD19","v":0},{"$f":"'1b'!BE19","v":0}]
[{"$f":"'1b'!A20","v":"1b"},{"$f":"'1b'!B20","v":0},{"$f":"'1b'!C20","v":0},{"$f":"'1b'!D20","v":"lehrer18"},{"$f":"'1b'!E20","v":0},{"$f":"'1b'!F20","v":0},{"$f":"'1b'!G20","v":0},{"$f":"'1b'!H20","v":0},{"$f":"'1b'!I20","v":0},{"$f":"'1b'!J20","v":0},{"$f":"'1b'!K20","v":0},{"$f":"'1b'!L20","v":0},{"$f":"'1b'!M20","v":0},{"$f":"'1b'!N20","v":0},{"$f":"'1b'!O20","v":0},{"$f":"'1b'!P20","v":0},{"$f":"'1b'!Q20","v":0},{"$f":"'1b'!R20","v":0},{"$f":"'1b'!S20","v":0},{"$f":"'1b'!T20","v":0},{"$f":"'1b'!U20","v":0},{"$f":"'1b'!V20","v":0},{"$f":"'1b'!W20","v":0},{"$f":"'1b'!X20","v":0},{"$f":"'1b'!Y20","v":0},{"$f":"'1b'!Z20","v":0},{"$f":"'1b'!AA20","v":0},{"$f":"'1b'!AB20","v":0},{"$f":"'1b'!AC20","v":0},{"$f":"'1b'!AD20","v":0},{"$f":"'1b'!AE20","v":0},{"$f":"'1b'!AF20","v":0},{"$f":"'1b'!AG20","v":0},{"$f":"'1b'!AH20","v":0},{"$f":"'1b'!AI20","v":0},{"$f":"'1b'!AJ20","v":0},{"$f":"'1b'!AK20","v":0},{"$f":"'1b'!AL20","v":0},{"$f":"'1b'!AM20","v":0},{"$f":"'1b'!AN20","v":0},{"$f":"'1b'!AO20","v":0},{"$f":"'1b'!AP20","v":0},{"$f":"'1b'!AQ20","v":0},{"$f":"'1b'!AR20","v":0},{"$f":"'1b'!AS20","v":0},{"$f":"'1b'!AT20","v":0},{"$f":"'1b'!AU20","v":0},{"$f":"'1b'!AV20","v":0},{"$f":"'1b'!AW20","v":0},{"$f":"'1b'!AX20","v":0},{"$f":"'1b'!AY20","v":0},{"$f":"'1b'!AZ20","v":0},{"$f":"'1b'!BA20","v":0},{"$f":"'1b'!BB20","v":0},{"$f":"'1b'!BC20","v":0},{"$f":"'1b'!BD20","v":0},{"$f":"'1b'!BE20","v":0}]
[{"$f":"'1b'!A21","v":"1b"},{"$f":"'1b'!B21","v":0},{"$f":"'1b'!C21","v":0},{"$f":"'1b'!D21","v":"lehrer19"},{"$f":"'1b'!E21","v":0},{"$f":"'1b'!F21","v":0},{"$f":"'1b'!G21","v":0},{"$f":"'1b'!H21","v":0},{"$f":"'1b'!I21","v":0},{"$f":"'1b'!J21","v":0},{"$f":"'1b'!K21","v":0},{"$f":"'1b'!L21","v":0},{"$f":"'1b'!M21","v":0},{"$f":"'1b'!N21","v":0},{"$f":"'1b'!O21","v":0},{"$f":"'1b'!P21","v":0},{"$f":"'1b'!Q21","v":0},{"$f":"'1b'!R21","v":0},{"$f":"'1b'!S21","v":0},{"$f":"'1b'!T21","v":0},{"$f":"'1b'!U21","v":0},{"$f":"'1b'!V21","v":0},{"$f":"'1b'!W21","v":0},{"$f":"'1b'!X21","v":0},{"$f":"'1b'!Y21","v":0},{"$f":"'1b'!Z21","v":0},{"$f":"'1b'!AA21","v":0},{"$f":"'1b'!AB21","v":0},{"$f":"'1b'!AC21","v":0},{"$f":"'1b'!AD21","v":0},{"$f":"'1b'!AE21","v":0},{"$f":"'1b'!AF21","v":0},{"$f":"'1b'!AG21","v":0},{"$f":"'1b'!AH21","v":0},{"$f":"'1b'!AI21","v":0},{"$f":"'1b'!AJ21","v":0},{"$f":"'1b'!AK21","v":0},{"$f":"'1b'!AL21","v":0},{"$f":"'1b'!AM21","v":0},{"$f":"'1b'!AN21","v":0},{"$f":"'1b'!AO21","v":0},{"$f":"'1b'!AP21","v":0},{"$f":"'1b'!AQ21","v":0},{"$f":"'1b'!AR21","v":0},{"$f":"'1b'!AS21","v":0},{"$f":"'1b'!AT21","v":0},{"$f":"'1b'!AU21","v":0},{"$f":"'1b'!AV21","v":0},{"$f":"'1b'!AW21","v":0},{"$f":"'1b'!AX21","v":0},{"$f":"'1b'!AY21","v":0},{"$f":"'1b'!AZ21","v":0},{"$f":"'1b'!BA21","v":0},{"$f":"'1b'!BB21","v":0},{"$f":"'1b'!BC21","v":0},{"$f":"'1b'!BD21","v":0},{"$f":"'1b'!BE21","v":0}]
[{"$f":"'1b'!A22","v":"1b"},{"$f":"'1b'!B22","v":0},{"$f":"'1b'!C22","v":0},{"$f":"'1b'!D22","v":"lehrer20"},{"$f":"'1b'!E22","v":0},{"$f":"'1b'!F22","v":0},{"$f":"'1b'!G22","v":0},{"$f":"'1b'!H22","v":0},{"$f":"'1b'!I22","v":0},{"$f":"'1b'!J22","v":0},{"$f":"'1b'!K22","v":0},{"$f":"'1b'!L22","v":0},{"$f":"'1b'!M22","v":0},{"$f":"'1b'!N22","v":0},{"$f":"'1b'!O22","v":0},{"$f":"'1b'!P22","v":0},{"$f":"'1b'!Q22","v":0},{"$f":"'1b'!R22","v":0},{"$f":"'1b'!S22","v":0},{"$f":"'1b'!T22","v":0},{"$f":"'1b'!U22","v":0},{"$f":"'1b'!V22","v":0},{"$f":"'1b'!W22","v":0},{"$f":"'1b'!X22","v":0},{"$f":"'1b'!Y22","v":0},{"$f":"'1b'!Z22","v":0},{"$f":"'1b'!AA22","v":0},{"$f":"'1b'!AB22","v":0},{"$f":"'1b'!AC22","v":0},{"$f":"'1b'!AD22","v":0},{"$f":"'1b'!AE22","v":0},{"$f":"'1b'!AF22","v":0},{"$f":"'1b'!AG22","v":0},{"$f":"'1b'!AH22","v":0},{"$f":"'1b'!AI22","v":0},{"$f":"'1b'!AJ22","v":0},{"$f":"'1b'!AK22","v":0},{"$f":"'1b'!AL22","v":0},{"$f":"'1b'!AM22","v":0},{"$f":"'1b'!AN22","v":0},{"$f":"'1b'!AO22","v":0},{"$f":"'1b'!AP22","v":0},{"$f":"'1b'!AQ22","v":0},{"$f":"'1b'!AR22","v":0},{"$f":"'1b'!AS22","v":0},{"$f":"'1b'!AT22","v":0},{"$f":"'1b'!AU22","v":0},{"$f":"'1b'!AV22","v":0},{"$f":"'1b'!AW22","v":0},{"$f":"'1b'!AX22","v":0},{"$f":"'1b'!AY22","v":0},{"$f":"'1b'!AZ22","v":0},{"$f":"'1b'!BA22","v":0},{"$f":"'1b'!BB22","v":0},{"$f":"'1b'!BC22","v":0},{"$f":"'1b'!BD22","v":0},{"$f":"'1b'!BE22","v":0}]
[{"$f":"'1b'!A23","v":"1b"},{"$f":"'1b'!B23","v":0},{"$f":"'1b'!C23","v":0},{"$f":"'1b'!D23","v":"lehrer21"},{"$f":"'1b'!E23","v":0},{"$f":"'1b'!F23","v":0},{"$f":"'1b'!G23","v":0},{"$f":"'1b'!H23","v":0},{"$f":"'1b'!I23","v":0},{"$f":"'1b'!J23","v":0},{"$f":"'1b'!K23","v":0},{"$f":"'1b'!L23","v":0},{"$f":"'1b'!M23","v":0},{"$f":"'1b'!N23","v":0},{"$f":"'1b'!O23","v":0},{"$f":"'1b'!P23","v":0},{"$f":"'1b'!Q23","v":0},{"$f":"'1b'!R23","v":0},{"$f":"'1b'!S23","v":0},{"$f":"'1b'!T23","v":0},{"$f":"'1b'!U23","v":0},{"$f":"'1b'!V23","v":0},{"$f":"'1b'!W23","v":0},{"$f":"'1b'!X23","v":0},{"$f":"'1b'!Y23","v":0},{"$f":"'1b'!Z23","v":0},{"$f":"'1b'!AA23","v":0},{"$f":"'1b'!AB23","v":0},{"$f":"'1b'!AC23","v":0},{"$f":"'1b'!AD23","v":0},{"$f":"'1b'!AE23","v":0},{"$f":"'1b'!AF23","v":0},{"$f":"'1b'!AG23","v":0},{"$f":"'1b'!AH23","v":0},{"$f":"'1b'!AI23","v":0},{"$f":"'1b'!AJ23","v":0},{"$f":"'1b'!AK23","v":0},{"$f":"'1b'!AL23","v":0},{"$f":"'1b'!AM23","v":0},{"$f":"'1b'!AN23","v":0},{"$f":"'1b'!AO23","v":0},{"$f":"'1b'!AP23","v":0},{"$f":"'1b'!AQ23","v":0},{"$f":"'1b'!AR23","v":0},{"$f":"'1b'!AS23","v":0},{"$f":"'1b'!AT23","v":0},{"$f":"'1b'!AU23","v":0},{"$f":"'1b'!AV23","v":0},{"$f":"'1b'!AW23","v":0},{"$f":"'1b'!AX23","v":0},{"$f":"'1b'!AY23","v":0},{"$f":"'1b'!AZ23","v":0},{"$f":"'1b'!BA23","v":0},{"$f":"'1b'!BB23","v":0},{"$f":"'1b'!BC23","v":0},{"$f":"'1b'!BD23","v":0},{"$f":"'1b'!BE23","v":0}]
[{"$f":"'1b'!A24","v":"1b"},{"$f":"'1b'!B24","v":0},{"$f":"'1b'!C24","v":0},{"$f":"'1b'!D24","v":"lehrer22"},{"$f":"'1b'!E24","v":0},{"$f":"'1b'!F24","v":0},{"$f":"'1b'!G24","v":0},{"$f":"'1b'!H24","v":0},{"$f":"'1b'!I24","v":0},{"$f":"'1b'!J24","v":0},{"$f":"'1b'!K24","v":0},{"$f":"'1b'!L24","v":0},{"$f":"'1b'!M24","v":0},{"$f":"'1b'!N24","v":0},{"$f":"'1b'!O24","v":0},{"$f":"'1b'!P24","v":0},{"$f":"'1b'!Q24","v":0},{"$f":"'1b'!R24","v":0},{"$f":"'1b'!S24","v":0},{"$f":"'1b'!T24","v":0},{"$f":"'1b'!U24","v":0},{"$f":"'1b'!V24","v":0},{"$f":"'1b'!W24","v":0},{"$f":"'1b'!X24","v":0},{"$f":"'1b'!Y24","v":0},{"$f":"'1b'!Z24","v":0},{"$f":"'1b'!AA24","v":0},{"$f":"'1b'!AB24","v":0},{"$f":"'1b'!AC24","v":0},{"$f":"'1b'!AD24","v":0},{"$f":"'1b'!AE24","v":0},{"$f":"'1b'!AF24","v":0},{"$f":"'1b'!AG24","v":0},{"$f":"'1b'!AH24","v":0},{"$f":"'1b'!AI24","v":0},{"$f":"'1b'!AJ24","v":0},{"$f":"'1b'!AK24","v":0},{"$f":"'1b'!AL24","v":0},{"$f":"'1b'!AM24","v":0},{"$f":"'1b'!AN24","v":0},{"$f":"'1b'!AO24","v":0},{"$f":"'1b'!AP24","v":0},{"$f":"'1b'!AQ24","v":0},{"$f":"'1b'!AR24","v":0},{"$f":"'1b'!AS24","v":0},{"$f":"'1b'!AT24","v":0},{"$f":"'1b'!AU24","v":0},{"$f":"'1b'!AV24","v":0},{"$f":"'1b'!AW24","v":0},{"$f":"'1b'!AX24","v":0},{"$f":"'1b'!AY24","v":0},{"$f":"'1b'!AZ24","v":0},{"$f":"'1b'!BA24","v":0},{"$f":"'1b'!BB24","v":0},{"$f":"'1b'!BC24","v":0},{"$f":"'1b'!BD24","v":0},{"$f":"'1b'!BE24","v":0}]
[{"$f":"'1b'!A25","v":"1b"},{"$f":"'1b'!B25","v":0},{"$f":"'1b'!C25","v":0},{"$f":"'1b'!D25","v":"lehrer23"},{"$f":"'1b'!E25","v":0},{"$f":"'1b'!F25","v":0},{"$f":"'1b'!G25","v":0},{"$f":"'1b'!H25","v":0},{"$f":"'1b'!I25","v":0},{"$f":"'1b'!J25","v":0},{"$f":"'1b'!K25","v":0},{"$f":"'1b'!L25","v":0},{"$f":"'1b'!M25","v":0},{"$f":"'1b'!N25","v":0},{"$f":"'1b'!O25","v":0},{"$f":"'1b'!P25","v":0},{"$f":"'1b'!Q25","v":0},{"$f":"'1b'!R25","v":0},{"$f":"'1b'!S25","v":0},{"$f":"'1b'!T25","v":0},{"$f":"'1b'!U25","v":0},{"$f":"'1b'!V25","v":0},{"$f":"'1b'!W25","v":0},{"$f":"'1b'!X25","v":0},{"$f":"'1b'!Y25","v":0},{"$f":"'1b'!Z25","v":0},{"$f":"'1b'!AA25","v":0},{"$f":"'1b'!AB25","v":0},{"$f":"'1b'!AC25","v":0},{"$f":"'1b'!AD25","v":0},{"$f":"'1b'!AE25","v":0},{"$f":"'1b'!AF25","v":0},{"$f":"'1b'!AG25","v":0},{"$f":"'1b'!AH25","v":0},{"$f":"'1b'!AI25","v":0},{"$f":"'1b'!AJ25","v":0},{"$f":"'1b'!AK25","v":0},{"$f":"'1b'!AL25","v":0},{"$f":"'1b'!AM25","v":0},{"$f":"'1b'!AN25","v":0},{"$f":"'1b'!AO25","v":0},{"$f":"'1b'!AP25","v":0},{"$f":"'1b'!AQ25","v":0},{"$f":"'1b'!AR25","v":0},{"$f":"'1b'!AS25","v":0},{"$f":"'1b'!AT25","v":0},{"$f":"'1b'!AU25","v":0},{"$f":"'1b'!AV25","v":0},{"$f":"'1b'!AW25","v":0},{"$f":"'1b'!AX25","v":0},{"$f":"'1b'!AY25","v":0},{"$f":"'1b'!AZ25","v":0},{"$f":"'1b'!BA25","v":0},{"$f":"'1b'!BB25","v":0},{"$f":"'1b'!BC25","v":0},{"$f":"'1b'!BD25","v":0},{"$f":"'1b'!BE25","v":0}]
[{"$f":"'1b'!A26","v":"1b"},{"$f":"'1b'!B26","v":0},{"$f":"'1b'!C26","v":0},{"$f":"'1b'!D26","v":"lehrer24"},{"$f":"'1b'!E26","v":0},{"$f":"'1b'!F26","v":0},{"$f":"'1b'!G26","v":0},{"$f":"'1b'!H26","v":0},{"$f":"'1b'!I26","v":0},{"$f":"'1b'!J26","v":0},{"$f":"'1b'!K26","v":0},{"$f":"'1b'!L26","v":0},{"$f":"'1b'!M26","v":0},{"$f":"'1b'!N26","v":0},{"$f":"'1b'!O26","v":0},{"$f":"'1b'!P26","v":0},{"$f":"'1b'!Q26","v":0},{"$f":"'1b'!R26","v":0},{"$f":"'1b'!S26","v":0},{"$f":"'1b'!T26","v":0},{"$f":"'1b'!U26","v":0},{"$f":"'1b'!V26","v":0},{"$f":"'1b'!W26","v":0},{"$f":"'1b'!X26","v":0},{"$f":"'1b'!Y26","v":0},{"$f":"'1b'!Z26","v":0},{"$f":"'1b'!AA26","v":0},{"$f":"'1b'!AB26","v":0},{"$f":"'1b'!AC26","v":0},{"$f":"'1b'!AD26","v":0},{"$f":"'1b'!AE26","v":0},{"$f":"'1b'!AF26","v":0},{"$f":"'1b'!AG26","v":0},{"$f":"'1b'!AH26","v":0},{"$f":"'1b'!AI26","v":0},{"$f":"'1b'!AJ26","v":0},{"$f":"'1b'!AK26","v":0},{"$f":"'1b'!AL26","v":0},{"$f":"'1b'!AM26","v":0},{"$f":"'1b'!AN26","v":0},{"$f":"'1b'!AO26","v":0},{"$f":"'1b'!AP26","v":0},{"$f":"'1b'!AQ26","v":0},{"$f":"'1b'!AR26","v":0},{"$f":"'1b'!AS26","v":0},{"$f":"'1b'!AT26","v":0},{"$f":"'1b'!AU26","v":0},{"$f":"'1b'!AV26","v":0},{"$f":"'1b'!AW26","v":0},{"$f":"'1b'!AX26","v":0},{"$f":"'1b'!AY26","v":0},{"$f":"'1b'!AZ26","v":0},{"$f":"'1b'!BA26","v":0},{"$f":"'1b'!BB26","v":0},{"$f":"'1b'!BC26","v":0},{"$f":"'1b'!BD26","v":0},{"$f":"'1b'!BE26","v":0}]
[{"$f":"'1b'!A27","v":"1b"},{"$f":"'1b'!B27","v":0},{"$f":"'1b'!C27","v":0},{"$f":"'1b'!D27","v":"lehrer25"},{"$f":"'1b'!E27","v":0},{"$f":"'1b'!F27","v":0},{"$f":"'1b'!G27","v":0},{"$f":"'1b'!H27","v":0},{"$f":"'1b'!I27","v":0},{"$f":"'1b'!J27","v":0},{"$f":"'1b'!K27","v":0},{"$f":"'1b'!L27","v":0},{"$f":"'1b'!M27","v":0},{"$f":"'1b'!N27","v":0},{"$f":"'1b'!O27","v":0},{"$f":"'1b'!P27","v":0},{"$f":"'1b'!Q27","v":0},{"$f":"'1b'!R27","v":0},{"$f":"'1b'!S27","v":0},{"$f":"'1b'!T27","v":0},{"$f":"'1b'!U27","v":0},{"$f":"'1b'!V27","v":0},{"$f":"'1b'!W27","v":0},{"$f":"'1b'!X27","v":0},{"$f":"'1b'!Y27","v":0},{"$f":"'1b'!Z27","v":0},{"$f":"'1b'!AA27","v":0},{"$f":"'1b'!AB27","v":0},{"$f":"'1b'!AC27","v":0},{"$f":"'1b'!AD27","v":0},{"$f":"'1b'!AE27","v":0},{"$f":"'1b'!AF27","v":0},{"$f":"'1b'!AG27","v":0},{"$f":"'1b'!AH27","v":0},{"$f":"'1b'!AI27","v":0},{"$f":"'1b'!AJ27","v":0},{"$f":"'1b'!AK27","v":0},{"$f":"'1b'!AL27","v":0},{"$f":"'1b'!AM27","v":0},{"$f":"'1b'!AN27","v":0},{"$f":"'1b'!AO27","v":0},{"$f":"'1b'!AP27","v":0},{"$f":"'1b'!AQ27","v":0},{"$f":"'1b'!AR27","v":0},{"$f":"'1b'!AS27","v":0},{"$f":"'1b'!AT27","v":0},{"$f":"'1b'!AU27","v":0},{"$f":"'1b'!AV27","v":0},{"$f":"'1b'!AW27","v":0},{"$f":"'1b'!AX27","v":0},{"$f":"'1b'!AY27","v":0},{"$f":"'1b'!AZ27","v":0},{"$f":"'1b'!BA27","v":0},{"$f":"'1b'!BB27","v":0},{"$f":"'1b'!BC27","v":0},{"$f":"'1b'!BD27","v":0},{"$f":"'1b'!BE27","v":0}]
[{"$f":"'1b'!A28","v":"1b"},{"$f":"'1b'!B28","v":0},{"$f":"'1b'!C28","v":0},{"$f":"'1b'!D28","v":"lehrer26"},{"$f":"'1b'!E28","v":0},{"$f":"'1b'!F28","v":0},{"$f":"'1b'!G28","v":0},{"$f":"'1b'!H28","v":0},{"$f":"'1b'!I28","v":0},{"$f":"'1b'!J28","v":0},{"$f":"'1b'!K28","v":0},{"$f":"'1b'!L28","v":0},{"$f":"'1b'!M28","v":0},{"$f":"'1b'!N28","v":0},{"$f":"'1b'!O28","v":0},{"$f":"'1b'!P28","v":0},{"$f":"'1b'!Q28","v":0},{"$f":"'1b'!R28","v":0},{"$f":"'1b'!S28","v":0},{"$f":"'1b'!T28","v":0},{"$f":"'1b'!U28","v":0},{"$f":"'1b'!V28","v":0},{"$f":"'1b'!W28","v":0},{"$f":"'1b'!X28","v":0},{"$f":"'1b'!Y28","v":0},{"$f":"'1b'!Z28","v":0},{"$f":"'1b'!AA28","v":0},{"$f":"'1b'!AB28","v":0},{"$f":"'1b'!AC28","v":0},{"$f":"'1b'!AD28","v":0},{"$f":"'1b'!AE28","v":0},{"$f":"'1b'!AF28","v":0},{"$f":"'1b'!AG28","v":0},{"$f":"'1b'!AH28","v":0},{"$f":"'1b'!AI28","v":0},{"$f":"'1b'!AJ28","v":0},{"$f":"'1b'!AK28","v":0},{"$f":"'1b'!AL28","v":0},{"$f":"'1b'!AM28","v":0},{"$f":"'1b'!AN28","v":0},{"$f":"'1b'!AO28","v":0},{"$f":"'1b'!AP28","v":0},{"$f":"'1b'!AQ28","v":0},{"$f":"'1b'!AR28","v":0},{"$f":"'1b'!AS28","v":0},{"$f":"'1b'!AT28","v":0},{"$f":"'1b'!AU28","v":0},{"$f":"'1b'!AV28","v":0},{"$f":"'1b'!AW28","v":0},{"$f":"'1b'!AX28","v":0},{"$f":"'1b'!AY28","v":0},{"$f":"'1b'!AZ28","v":0},{"$f":"'1b'!BA28","v":0},{"$f":"'1b'!BB28","v":0},{"$f":"'1b'!BC28","v":0},{"$f":"'1b'!BD28","v":0},{"$f":"'1b'!BE28","v":0}]
[{"$f":"'1b'!A29","v":"1b"},{"$f":"'1b'!B29","v":0},{"$f":"'1b'!C29","v":0},{"$f":"'1b'!D29","v":"lehrer27"},{"$f":"'1b'!E29","v":0},{"$f":"'1b'!F29","v":0},{"$f":"'1b'!G29","v":0},{"$f":"'1b'!H29","v":0},{"$f":"'1b'!I29","v":0},{"$f":"'1b'!J29","v":0},{"$f":"'1b'!K29","v":0},{"$f":"'1b'!L29","v":0},{"$f":"'1b'!M29","v":0},{"$f":"'1b'!N29","v":0},{"$f":"'1b'!O29","v":0},{"$f":"'1b'!P29","v":0},{"$f":"'1b'!Q29","v":0},{"$f":"'1b'!R29","v":0},{"$f":"'1b'!S29","v":0},{"$f":"'1b'!T29","v":0},{"$f":"'1b'!U29","v":0},{"$f":"'1b'!V29","v":0},{"$f":"'1b'!W29","v":0},{"$f":"'1b'!X29","v":0},{"$f":"'1b'!Y29","v":0},{"$f":"'1b'!Z29","v":0},{"$f":"'1b'!AA29","v":0},{"$f":"'1b'!AB29","v":0},{"$f":"'1b'!AC29","v":0},{"$f":"'1b'!AD29","v":0},{"$f":"'1b'!AE29","v":0},{"$f":"'1b'!AF29","v":0},{"$f":"'1b'!AG29","v":0},{"$f":"'1b'!AH29","v":0},{"$f":"'1b'!AI29","v":0},{"$f":"'1b'!AJ29","v":0},{"$f":"'1b'!AK29","v":0},{"$f":"'1b'!AL29","v":0},{"$f":"'1b'!AM29","v":0},{"$f":"'1b'!AN29","v":0},{"$f":"'1b'!AO29","v":0},{"$f":"'1b'!AP29","v":0},{"$f":"'1b'!AQ29","v":0},{"$f":"'1b'!AR29","v":0},{"$f":"'1b'!AS29","v":0},{"$f":"'1b'!AT29","v":0},{"$f":"'1b'!AU29","v":0},{"$f":"'1b'!AV29","v":0},{"$f":"'1b'!AW29","v":0},{"$f":"'1b'!AX29","v":0},{"$f":"'1b'!AY29","v":0},{"$f":"'1b'!AZ29","v":0},{"$f":"'1b'!BA29","v":0},{"$f":"'1b'!BB29","v":0},{"$f":"'1b'!BC29","v":0},{"$f":"'1b'!BD29","v":0},{"$f":"'1b'!BE29","v":0}]
[{"$f":"'1b'!A30","v":"1b"},{"$f":"'1b'!B30","v":0},{"$f":"'1b'!C30","v":0},{"$f":"'1b'!D30","v":"lehrer28"},{"$f":"'1b'!E30","v":0},{"$f":"'1b'!F30","v":0},{"$f":"'1b'!G30","v":0},{"$f":"'1b'!H30","v":0},{"$f":"'1b'!I30","v":0},{"$f":"'1b'!J30","v":0},{"$f":"'1b'!K30","v":0},{"$f":"'1b'!L30","v":0},{"$f":"'1b'!M30","v":0},{"$f":"'1b'!N30","v":0},{"$f":"'1b'!O30","v":0},{"$f":"'1b'!P30","v":0},{"$f":"'1b'!Q30","v":0},{"$f":"'1b'!R30","v":0},{"$f":"'1b'!S30","v":0},{"$f":"'1b'!T30","v":0},{"$f":"'1b'!U30","v":0},{"$f":"'1b'!V30","v":0},{"$f":"'1b'!W30","v":0},{"$f":"'1b'!X30","v":0},{"$f":"'1b'!Y30","v":0},{"$f":"'1b'!Z30","v":0},{"$f":"'1b'!AA30","v":0},{"$f":"'1b'!AB30","v":0},{"$f":"'1b'!AC30","v":0},{"$f":"'1b'!AD30","v":0},{"$f":"'1b'!AE30","v":0},{"$f":"'1b'!AF30","v":0},{"$f":"'1b'!AG30","v":0},{"$f":"'1b'!AH30","v":0},{"$f":"'1b'!AI30","v":0},{"$f":"'1b'!AJ30","v":0},{"$f":"'1b'!AK30","v":0},{"$f":"'1b'!AL30","v":0},{"$f":"'1b'!AM30","v":0},{"$f":"'1b'!AN30","v":0},{"$f":"'1b'!AO30","v":0},{"$f":"'1b'!AP30","v":0},{"$f":"'1b'!AQ30","v":0},{"$f":"'1b'!AR30","v":0},{"$f":"'1b'!AS30","v":0},{"$f":"'1b'!AT30","v":0},{"$f":"'1b'!AU30","v":0},{"$f":"'1b'!AV30","v":0},{"$f":"'1b'!AW30","v":0},{"$f":"'1b'!AX30","v":0},{"$f":"'1b'!AY30","v":0},{"$f":"'1b'!AZ30","v":0},{"$f":"'1b'!BA30","v":0},{"$f":"'1b'!BB30","v":0},{"$f":"'1b'!BC30","v":0},{"$f":"'1b'!BD30","v":0},{"$f":"'1b'!BE30","v":0}]
[{"$f":"'1b'!A31","v":"1b"},{"$f":"'1b'!B31","v":0},{"$f":"'1b'!C31","v":0},{"$f":"'1b'!D31","v":"lehrer29"},{"$f":"'1b'!E31","v":0},{"$f":"'1b'!F31","v":0},{"$f":"'1b'!G31","v":0},{"$f":"'1b'!H31","v":0},{"$f":"'1b'!I31","v":0},{"$f":"'1b'!J31","v":0},{"$f":"'1b'!K31","v":0},{"$f":"'1b'!L31","v":0},{"$f":"'1b'!M31","v":0},{"$f":"'1b'!N31","v":0},{"$f":"'1b'!O31","v":0},{"$f":"'1b'!P31","v":0},{"$f":"'1b'!Q31","v":0},{"$f":"'1b'!R31","v":0},{"$f":"'1b'!S31","v":0},{"$f":"'1b'!T31","v":0},{"$f":"'1b'!U31","v":0},{"$f":"'1b'!V31","v":0},{"$f":"'1b'!W31","v":0},{"$f":"'1b'!X31","v":0},{"$f":"'1b'!Y31","v":0},{"$f":"'1b'!Z31","v":0},{"$f":"'1b'!AA31","v":0},{"$f":"'1b'!AB31","v":0},{"$f":"'1b'!AC31","v":0},{"$f":"'1b'!AD31","v":0},{"$f":"'1b'!AE31","v":0},{"$f":"'1b'!AF31","v":0},{"$f":"'1b'!AG31","v":0},{"$f":"'1b'!AH31","v":0},{"$f":"'1b'!AI31","v":0},{"$f":"'1b'!AJ31","v":0},{"$f":"'1b'!AK31","v":0},{"$f":"'1b'!AL31","v":0},{"$f":"'1b'!AM31","v":0},{"$f":"'1b'!AN31","v":0},{"$f":"'1b'!AO31","v":0},{"$f":"'1b'!AP31","v":0},{"$f":"'1b'!AQ31","v":0},{"$f":"'1b'!AR31","v":0},{"$f":"'1b'!AS31","v":0},{"$f":"'1b'!AT31","v":0},{"$f":"'1b'!AU31","v":0},{"$f":"'1b'!AV31","v":0},{"$f":"'1b'!AW31","v":0},{"$f":"'1b'!AX31","v":0},{"$f":"'1b'!AY31","v":0},{"$f":"'1b'!AZ31","v":0},{"$f":"'1b'!BA31","v":0},{"$f":"'1b'!BB31","v":0},{"$f":"'1b'!BC31","v":0},{"$f":"'1b'!BD31","v":0},{"$f":"'1b'!BE31","v":0}]
[{"$f":"'1b'!A32","v":"1b"},{"$f":"'1b'!B32","v":0},{"$f":"'1b'!C32","v":0},{"$f":"'1b'!D32","v":"lehrer30"},{"$f":"'1b'!E32","v":0},{"$f":"'1b'!F32","v":0},{"$f":"'1b'!G32","v":0},{"$f":"'1b'!H32","v":0},{"$f":"'1b'!I32","v":0},{"$f":"'1b'!J32","v":0},{"$f":"'1b'!K32","v":0},{"$f":"'1b'!L32","v":0},{"$f":"'1b'!M32","v":0},{"$f":"'1b'!N32","v":0},{"$f":"'1b'!O32","v":0},{"$f":"'1b'!P32","v":0},{"$f":"'1b'!Q32","v":0},{"$f":"'1b'!R32","v":0},{"$f":"'1b'!S32","v":0},{"$f":"'1b'!T32","v":0},{"$f":"'1b'!U32","v":0},{"$f":"'1b'!V32","v":0},{"$f":"'1b'!W32","v":0},{"$f":"'1b'!X32","v":0},{"$f":"'1b'!Y32","v":0},{"$f":"'1b'!Z32","v":0},{"$f":"'1b'!AA32","v":0},{"$f":"'1b'!AB32","v":0},{"$f":"'1b'!AC32","v":0},{"$f":"'1b'!AD32","v":0},{"$f":"'1b'!AE32","v":0},{"$f":"'1b'!AF32","v":0},{"$f":"'1b'!AG32","v":0},{"$f":"'1b'!AH32","v":0},{"$f":"'1b'!AI32","v":0},{"$f":"'1b'!AJ32","v":0},{"$f":"'1b'!AK32","v":0},{"$f":"'1b'!AL32","v":0},{"$f":"'1b'!AM32","v":0},{"$f":"'1b'!AN32","v":0},{"$f":"'1b'!AO32","v":0},{"$f":"'1b'!AP32","v":0},{"$f":"'1b'!AQ32","v":0},{"$f":"'1b'!AR32","v":0},{"$f":"'1b'!AS32","v":0},{"$f":"'1b'!AT32","v":0},{"$f":"'1b'!AU32","v":0},{"$f":"'1b'!AV32","v":0},{"$f":"'1b'!AW32","v":0},{"$f":"'1b'!AX32","v":0},{"$f":"'1b'!AY32","v":0},{"$f":"'1b'!AZ32","v":0},{"$f":"'1b'!BA32","v":0},{"$f":"'1b'!BB32","v":0},{"$f":"'1b'!BC32","v":0},{"$f":"'1b'!BD32","v":0},{"$f":"'1b'!BE32","v":0}]
[{"$f":"'1b'!A33","v":"1b"},{"$f":"'1b'!B33","v":0},{"$f":"'1b'!C33","v":0},{"$f":"'1b'!D33","v":"lehrer31"},{"$f":"'1b'!E33","v":0},{"$f":"'1b'!F33","v":0},{"$f":"'1b'!G33","v":0},{"$f":"'1b'!H33","v":0},{"$f":"'1b'!I33","v":0},{"$f":"'1b'!J33","v":0},{"$f":"'1b'!K33","v":0},{"$f":"'1b'!L33","v":0},{"$f":"'1b'!M33","v":0},{"$f":"'1b'!N33","v":0},{"$f":"'1b'!O33","v":0},{"$f":"'1b'!P33","v":0},{"$f":"'1b'!Q33","v":0},{"$f":"'1b'!R33","v":0},{"$f":"'1b'!S33","v":0},{"$f":"'1b'!T33","v":0},{"$f":"'1b'!U33","v":0},{"$f":"'1b'!V33","v":0},{"$f":"'1b'!W33","v":0},{"$f":"'1b'!X33","v":0},{"$f":"'1b'!Y33","v":0},{"$f":"'1b'!Z33","v":0},{"$f":"'1b'!AA33","v":0},{"$f":"'1b'!AB33","v":0},{"$f":"'1b'!AC33","v":0},{"$f":"'1b'!AD33","v":0},{"$f":"'1b'!AE33","v":0},{"$f":"'1b'!AF33","v":0},{"$f":"'1b'!AG33","v":0},{"$f":"'1b'!AH33","v":0},{"$f":"'1b'!AI33","v":0},{"$f":"'1b'!AJ33","v":0},{"$f":"'1b'!AK33","v":0},{"$f":"'1b'!AL33","v":0},{"$f":"'1b'!AM33","v":0},{"$f":"'1b'!AN33","v":0},{"$f":"'1b'!AO33","v":0},{"$f":"'1b'!AP33","v":0},{"$f":"'1b'!AQ33","v":0},{"$f":"'1b'!AR33","v":0},{"$f":"'1b'!AS33","v":0},{"$f":"'1b'!AT33","v":0},{"$f":"'1b'!AU33","v":0},{"$f":"'1b'!AV33","v":0},{"$f":"'1b'!AW33","v":0},{"$f":"'1b'!AX33","v":0},{"$f":"'1b'!AY33","v":0},{"$f":"'1b'!AZ33","v":0},{"$f":"'1b'!BA33","v":0},{"$f":"'1b'!BB33","v":0},{"$f":"'1b'!BC33","v":0},{"$f":"'1b'!BD33","v":0},{"$f":"'1b'!BE33","v":0}]
[{"$f":"'1b'!A34","v":"1b"},{"$f":"'1b'!B34","v":0},{"$f":"'1b'!C34","v":0},{"$f":"'1b'!D34","v":"lehrer32"},{"$f":"'1b'!E34","v":0},{"$f":"'1b'!F34","v":0},{"$f":"'1b'!G34","v":0},{"$f":"'1b'!H34","v":0},{"$f":"'1b'!I34","v":0},{"$f":"'1b'!J34","v":0},{"$f":"'1b'!K34","v":0},{"$f":"'1b'!L34","v":0},{"$f":"'1b'!M34","v":0},{"$f":"'1b'!N34","v":0},{"$f":"'1b'!O34","v":0},{"$f":"'1b'!P34","v":0},{"$f":"'1b'!Q34","v":0},{"$f":"'1b'!R34","v":0},{"$f":"'1b'!S34","v":0},{"$f":"'1b'!T34","v":0},{"$f":"'1b'!U34","v":0},{"$f":"'1b'!V34","v":0},{"$f":"'1b'!W34","v":0},{"$f":"'1b'!X34","v":0},{"$f":"'1b'!Y34","v":0},{"$f":"'1b'!Z34","v":0},{"$f":"'1b'!AA34","v":0},{"$f":"'1b'!AB34","v":0},{"$f":"'1b'!AC34","v":0},{"$f":"'1b'!AD34","v":0},{"$f":"'1b'!AE34","v":0},{"$f":"'1b'!AF34","v":0},{"$f":"'1b'!AG34","v":0},{"$f":"'1b'!AH34","v":0},{"$f":"'1b'!AI34","v":0},{"$f":"'1b'!AJ34","v":0},{"$f":"'1b'!AK34","v":0},{"$f":"'1b'!AL34","v":0},{"$f":"'1b'!AM34","v":0},{"$f":"'1b'!AN34","v":0},{"$f":"'1b'!AO34","v":0},{"$f":"'1b'!AP34","v":0},{"$f":"'1b'!AQ34","v":0},{"$f":"'1b'!AR34","v":0},{"$f":"'1b'!AS34","v":0},{"$f":"'1b'!AT34","v":0},{"$f":"'1b'!AU34","v":0},{"$f":"'1b'!AV34","v":0},{"$f":"'1b'!AW34","v":0},{"$f":"'1b'!AX34","v":0},{"$f":"'1b'!AY34","v":0},{"$f":"'1b'!AZ34","v":0},{"$f":"'1b'!BA34","v":0},{"$f":"'1b'!BB34","v":0},{"$f":"'1b'!BC34","v":0},{"$f":"'1b'!BD34","v":0},{"$f":"'1b'!BE34","v":0}]
[{"$f":"'1b'!A35","v":"1b"},{"$f":"'1b'!B35","v":0},{"$f":"'1b'!C35","v":0},{"$f":"'1b'!D35","v":"lehrer33"},{"$f":"'1b'!E35","v":0},{"$f":"'1b'!F35","v":0},{"$f":"'1b'!G35","v":0},{"$f":"'1b'!H35","v":0},{"$f":"'1b'!I35","v":0},{"$f":"'1b'!J35","v":0},{"$f":"'1b'!K35","v":0},{"$f":"'1b'!L35","v":0},{"$f":"'1b'!M35","v":0},{"$f":"'1b'!N35","v":0},{"$f":"'1b'!O35","v":0},{"$f":"'1b'!P35","v":0},{"$f":"'1b'!Q35","v":0},{"$f":"'1b'!R35","v":0},{"$f":"'1b'!S35","v":0},{"$f":"'1b'!T35","v":0},{"$f":"'1b'!U35","v":0},{"$f":"'1b'!V35","v":0},{"$f":"'1b'!W35","v":0},{"$f":"'1b'!X35","v":0},{"$f":"'1b'!Y35","v":0},{"$f":"'1b'!Z35","v":0},{"$f":"'1b'!AA35","v":0},{"$f":"'1b'!AB35","v":0},{"$f":"'1b'!AC35","v":0},{"$f":"'1b'!AD35","v":0},{"$f":"'1b'!AE35","v":0},{"$f":"'1b'!AF35","v":0},{"$f":"'1b'!AG35","v":0},{"$f":"'1b'!AH35","v":0},{"$f":"'1b'!AI35","v":0},{"$f":"'1b'!AJ35","v":0},{"$f":"'1b'!AK35","v":0},{"$f":"'1b'!AL35","v":0},{"$f":"'1b'!AM35","v":0},{"$f":"'1b'!AN35","v":0},{"$f":"'1b'!AO35","v":0},{"$f":"'1b'!AP35","v":0},{"$f":"'1b'!AQ35","v":0},{"$f":"'1b'!AR35","v":0},{"$f":"'1b'!AS35","v":0},{"$f":"'1b'!AT35","v":0},{"$f":"'1b'!AU35","v":0},{"$f":"'1b'!AV35","v":0},{"$f":"'1b'!AW35","v":0},{"$f":"'1b'!AX35","v":0},{"$f":"'1b'!AY35","v":0},{"$f":"'1b'!AZ35","v":0},{"$f":"'1b'!BA35","v":0},{"$f":"'1b'!BB35","v":0},{"$f":"'1b'!BC35","v":0},{"$f":"'1b'!BD35","v":0},{"$f":"'1b'!BE35","v":0}]
[{"$f":"'1b'!A36","v":"1b"},{"$f":"'1b'!B36","v":0},{"$f":"'1b'!C36","v":0},{"$f":"'1b'!D36","v":"lehrer34"},{"$f":"'1b'!E36","v":0},{"$f":"'1b'!F36","v":0},{"$f":"'1b'!G36","v":0},{"$f":"'1b'!H36","v":0},{"$f":"'1b'!I36","v":0},{"$f":"'1b'!J36","v":0},{"$f":"'1b'!K36","v":0},{"$f":"'1b'!L36","v":0},{"$f":"'1b'!M36","v":0},{"$f":"'1b'!N36","v":0},{"$f":"'1b'!O36","v":0},{"$f":"'1b'!P36","v":0},{"$f":"'1b'!Q36","v":0},{"$f":"'1b'!R36","v":0},{"$f":"'1b'!S36","v":0},{"$f":"'1b'!T36","v":0},{"$f":"'1b'!U36","v":0},{"$f":"'1b'!V36","v":0},{"$f":"'1b'!W36","v":0},{"$f":"'1b'!X36","v":0},{"$f":"'1b'!Y36","v":0},{"$f":"'1b'!Z36","v":0},{"$f":"'1b'!AA36","v":0},{"$f":"'1b'!AB36","v":0},{"$f":"'1b'!AC36","v":0},{"$f":"'1b'!AD36","v":0},{"$f":"'1b'!AE36","v":0},{"$f":"'1b'!AF36","v":0},{"$f":"'1b'!AG36","v":0},{"$f":"'1b'!AH36","v":0},{"$f":"'1b'!AI36","v":0},{"$f":"'1b'!AJ36","v":0},{"$f":"'1b'!AK36","v":0},{"$f":"'1b'!AL36","v":0},{"$f":"'1b'!AM36","v":0},{"$f":"'1b'!AN36","v":0},{"$f":"'1b'!AO36","v":0},{"$f":"'1b'!AP36","v":0},{"$f":"'1b'!AQ36","v":0},{"$f":"'1b'!AR36","v":0},{"$f":"'1b'!AS36","v":0},{"$f":"'1b'!AT36","v":0},{"$f":"'1b'!AU36","v":0},{"$f":"'1b'!AV36","v":0},{"$f":"'1b'!AW36","v":0},{"$f":"'1b'!AX36","v":0},{"$f":"'1b'!AY36","v":0},{"$f":"'1b'!AZ36","v":0},{"$f":"'1b'!BA36","v":0},{"$f":"'1b'!BB36","v":0},{"$f":"'1b'!BC36","v":0},{"$f":"'1b'!BD36","v":0},{"$f":"'1b'!BE36","v":0}]
[{"$f":"'1b'!A37","v":"1b"},{"$f":"'1b'!B37","v":0},{"$f":"'1b'!C37","v":0},{"$f":"'1b'!D37","v":"lehrer35"},{"$f":"'1b'!E37","v":0},{"$f":"'1b'!F37","v":0},{"$f":"'1b'!G37","v":0},{"$f":"'1b'!H37","v":0},{"$f":"'1b'!I37","v":0},{"$f":"'1b'!J37","v":0},{"$f":"'1b'!K37","v":0},{"$f":"'1b'!L37","v":0},{"$f":"'1b'!M37","v":0},{"$f":"'1b'!N37","v":0},{"$f":"'1b'!O37","v":0},{"$f":"'1b'!P37","v":0},{"$f":"'1b'!Q37","v":0},{"$f":"'1b'!R37","v":0},{"$f":"'1b'!S37","v":0},{"$f":"'1b'!T37","v":0},{"$f":"'1b'!U37","v":0},{"$f":"'1b'!V37","v":0},{"$f":"'1b'!W37","v":0},{"$f":"'1b'!X37","v":0},{"$f":"'1b'!Y37","v":0},{"$f":"'1b'!Z37","v":0},{"$f":"'1b'!AA37","v":0},{"$f":"'1b'!AB37","v":0},{"$f":"'1b'!AC37","v":0},{"$f":"'1b'!AD37","v":0},{"$f":"'1b'!AE37","v":0},{"$f":"'1b'!AF37","v":0},{"$f":"'1b'!AG37","v":0},{"$f":"'1b'!AH37","v":0},{"$f":"'1b'!AI37","v":0},{"$f":"'1b'!AJ37","v":0},{"$f":"'1b'!AK37","v":0},{"$f":"'1b'!AL37","v":0},{"$f":"'1b'!AM37","v":0},{"$f":"'1b'!AN37","v":0},{"$f":"'1b'!AO37","v":0},{"$f":"'1b'!AP37","v":0},{"$f":"'1b'!AQ37","v":0},{"$f":"'1b'!AR37","v":0},{"$f":"'1b'!AS37","v":0},{"$f":"'1b'!AT37","v":0},{"$f":"'1b'!AU37","v":0},{"$f":"'1b'!AV37","v":0},{"$f":"'1b'!AW37","v":0},{"$f":"'1b'!AX37","v":0},{"$f":"'1b'!AY37","v":0},{"$f":"'1b'!AZ37","v":0},{"$f":"'1b'!BA37","v":0},{"$f":"'1b'!BB37","v":0},{"$f":"'1b'!BC37","v":0},{"$f":"'1b'!BD37","v":0},{"$f":"'1b'!BE37","v":0}]
[{"$f":"'1b'!A38","v":"1b"},{"$f":"'1b'!B38","v":0},{"$f":"'1b'!C38","v":0},{"$f":"'1b'!D38","v":"lehrer36"},{"$f":"'1b'!E38","v":0},{"$f":"'1b'!F38","v":0},{"$f":"'1b'!G38","v":0},{"$f":"'1b'!H38","v":0},{"$f":"'1b'!I38","v":0},{"$f":"'1b'!J38","v":0},{"$f":"'1b'!K38","v":0},{"$f":"'1b'!L38","v":0},{"$f":"'1b'!M38","v":0},{"$f":"'1b'!N38","v":0},{"$f":"'1b'!O38","v":0},{"$f":"'1b'!P38","v":0},{"$f":"'1b'!Q38","v":0},{"$f":"'1b'!R38","v":0},{"$f":"'1b'!S38","v":0},{"$f":"'1b'!T38","v":0},{"$f":"'1b'!U38","v":0},{"$f":"'1b'!V38","v":0},{"$f":"'1b'!W38","v":0},{"$f":"'1b'!X38","v":0},{"$f":"'1b'!Y38","v":0},{"$f":"'1b'!Z38","v":0},{"$f":"'1b'!AA38","v":0},{"$f":"'1b'!AB38","v":0},{"$f":"'1b'!AC38","v":0},{"$f":"'1b'!AD38","v":0},{"$f":"'1b'!AE38","v":0},{"$f":"'1b'!AF38","v":0},{"$f":"'1b'!AG38","v":0},{"$f":"'1b'!AH38","v":0},{"$f":"'1b'!AI38","v":0},{"$f":"'1b'!AJ38","v":0},{"$f":"'1b'!AK38","v":0},{"$f":"'1b'!AL38","v":0},{"$f":"'1b'!AM38","v":0},{"$f":"'1b'!AN38","v":0},{"$f":"'1b'!AO38","v":0},{"$f":"'1b'!AP38","v":0},{"$f":"'1b'!AQ38","v":0},{"$f":"'1b'!AR38","v":0},{"$f":"'1b'!AS38","v":0},{"$f":"'1b'!AT38","v":0},{"$f":"'1b'!AU38","v":0},{"$f":"'1b'!AV38","v":0},{"$f":"'1b'!AW38","v":0},{"$f":"'1b'!AX38","v":0},{"$f":"'1b'!AY38","v":0},{"$f":"'1b'!AZ38","v":0},{"$f":"'1b'!BA38","v":0},{"$f":"'1b'!BB38","v":0},{"$f":"'1b'!BC38","v":0},{"$f":"'1b'!BD38","v":0},{"$f":"'1b'!BE38","v":0}]
[{"$f":"'1b'!A39","v":"1b"},{"$f":"'1b'!B39","v":0},{"$f":"'1b'!C39","v":0},{"$f":"'1b'!D39","v":"lehrer37"},{"$f":"'1b'!E39","v":0},{"$f":"'1b'!F39","v":0},{"$f":"'1b'!G39","v":0},{"$f":"'1b'!H39","v":0},{"$f":"'1b'!I39","v":0},{"$f":"'1b'!J39","v":0},{"$f":"'1b'!K39","v":0},{"$f":"'1b'!L39","v":0},{"$f":"'1b'!M39","v":0},{"$f":"'1b'!N39","v":0},{"$f":"'1b'!O39","v":0},{"$f":"'1b'!P39","v":0},{"$f":"'1b'!Q39","v":0},{"$f":"'1b'!R39","v":0},{"$f":"'1b'!S39","v":0},{"$f":"'1b'!T39","v":0},{"$f":"'1b'!U39","v":0},{"$f":"'1b'!V39","v":0},{"$f":"'1b'!W39","v":0},{"$f":"'1b'!X39","v":0},{"$f":"'1b'!Y39","v":0},{"$f":"'1b'!Z39","v":0},{"$f":"'1b'!AA39","v":0},{"$f":"'1b'!AB39","v":0},{"$f":"'1b'!AC39","v":0},{"$f":"'1b'!AD39","v":0},{"$f":"'1b'!AE39","v":0},{"$f":"'1b'!AF39","v":0},{"$f":"'1b'!AG39","v":0},{"$f":"'1b'!AH39","v":0},{"$f":"'1b'!AI39","v":0},{"$f":"'1b'!AJ39","v":0},{"$f":"'1b'!AK39","v":0},{"$f":"'1b'!AL39","v":0},{"$f":"'1b'!AM39","v":0},{"$f":"'1b'!AN39","v":0},{"$f":"'1b'!AO39","v":0},{"$f":"'1b'!AP39","v":0},{"$f":"'1b'!AQ39","v":0},{"$f":"'1b'!AR39","v":0},{"$f":"'1b'!AS39","v":0},{"$f":"'1b'!AT39","v":0},{"$f":"'1b'!AU39","v":0},{"$f":"'1b'!AV39","v":0},{"$f":"'1b'!AW39","v":0},{"$f":"'1b'!AX39","v":0},{"$f":"'1b'!AY39","v":0},{"$f":"'1b'!AZ39","v":0},{"$f":"'1b'!BA39","v":0},{"$f":"'1b'!BB39","v":0},{"$f":"'1b'!BC39","v":0},{"$f":"'1b'!BD39","v":0},{"$f":"'1b'!BE39","v":0}]
[{"$f":"'1b'!A40","v":"1b"},{"$f":"'1b'!B40","v":0},{"$f":"'1b'!C40","v":0},{"$f":"'1b'!D40","v":"lehrer38"},{"$f":"'1b'!E40","v":0},{"$f":"'1b'!F40","v":0},{"$f":"'1b'!G40","v":0},{"$f":"'1b'!H40","v":0},{"$f":"'1b'!I40","v":0},{"$f":"'1b'!J40","v":0},{"$f":"'1b'!K40","v":0},{"$f":"'1b'!L40","v":0},{"$f":"'1b'!M40","v":0},{"$f":"'1b'!N40","v":0},{"$f":"'1b'!O40","v":0},{"$f":"'1b'!P40","v":0},{"$f":"'1b'!Q40","v":0},{"$f":"'1b'!R40","v":0},{"$f":"'1b'!S40","v":0},{"$f":"'1b'!T40","v":0},{"$f":"'1b'!U40","v":0},{"$f":"'1b'!V40","v":0},{"$f":"'1b'!W40","v":0},{"$f":"'1b'!X40","v":0},{"$f":"'1b'!Y40","v":0},{"$f":"'1b'!Z40","v":0},{"$f":"'1b'!AA40","v":0},{"$f":"'1b'!AB40","v":0},{"$f":"'1b'!AC40","v":0},{"$f":"'1b'!AD40","v":0},{"$f":"'1b'!AE40","v":0},{"$f":"'1b'!AF40","v":0},{"$f":"'1b'!AG40","v":0},{"$f":"'1b'!AH40","v":0},{"$f":"'1b'!AI40","v":0},{"$f":"'1b'!AJ40","v":0},{"$f":"'1b'!AK40","v":0},{"$f":"'1b'!AL40","v":0},{"$f":"'1b'!AM40","v":0},{"$f":"'1b'!AN40","v":0},{"$f":"'1b'!AO40","v":0},{"$f":"'1b'!AP40","v":0},{"$f":"'1b'!AQ40","v":0},{"$f":"'1b'!AR40","v":0},{"$f":"'1b'!AS40","v":0},{"$f":"'1b'!AT40","v":0},{"$f":"'1b'!AU40","v":0},{"$f":"'1b'!AV40","v":0},{"$f":"'1b'!AW40","v":0},{"$f":"'1b'!AX40","v":0},{"$f":"'1b'!AY40","v":0},{"$f":"'1b'!AZ40","v":0},{"$f":"'1b'!BA40","v":0},{"$f":"'1b'!BB40","v":0},{"$f":"'1b'!BC40","v":0},{"$f":"'1b'!BD40","v":0},{"$f":"'1b'!BE40","v":0}]
[{"$f":"'1b'!A41","v":"1b"},{"$f":"'1b'!B41","v":0},{"$f":"'1b'!C41","v":0},{"$f":"'1b'!D41","v":"lehrer39"},{"$f":"'1b'!E41","v":0},{"$f":"'1b'!F41","v":0},{"$f":"'1b'!G41","v":0},{"$f":"'1b'!H41","v":0},{"$f":"'1b'!I41","v":0},{"$f":"'1b'!J41","v":0},{"$f":"'1b'!K41","v":0},{"$f":"'1b'!L41","v":0},{"$f":"'1b'!M41","v":0},{"$f":"'1b'!N41","v":0},{"$f":"'1b'!O41","v":0},{"$f":"'1b'!P41","v":0},{"$f":"'1b'!Q41","v":0},{"$f":"'1b'!R41","v":0},{"$f":"'1b'!S41","v":0},{"$f":"'1b'!T41","v":0},{"$f":"'1b'!U41","v":0},{"$f":"'1b'!V41","v":0},{"$f":"'1b'!W41","v":0},{"$f":"'1b'!X41","v":0},{"$f":"'1b'!Y41","v":0},{"$f":"'1b'!Z41","v":0},{"$f":"'1b'!AA41","v":0},{"$f":"'1b'!AB41","v":0},{"$f":"'1b'!AC41","v":0},{"$f":"'1b'!AD41","v":0},{"$f":"'1b'!AE41","v":0},{"$f":"'1b'!AF41","v":0},{"$f":"'1b'!AG41","v":0},{"$f":"'1b'!AH41","v":0},{"$f":"'1b'!AI41","v":0},{"$f":"'1b'!AJ41","v":0},{"$f":"'1b'!AK41","v":0},{"$f":"'1b'!AL41","v":0},{"$f":"'1b'!AM41","v":0},{"$f":"'1b'!AN41","v":0},{"$f":"'1b'!AO41","v":0},{"$f":"'1b'!AP41","v":0},{"$f":"'1b'!AQ41","v":0},{"$f":"'1b'!AR41","v":0},{"$f":"'1b'!AS41","v":0},{"$f":"'1b'!AT41","v":0},{"$f":"'1b'!AU41","v":0},{"$f":"'1b'!AV41","v":0},{"$f":"'1b'!AW41","v":0},{"$f":"'1b'!AX41","v":0},{"$f":"'1b'!AY41","v":0},{"$f":"'1b'!AZ41","v":0},{"$f":"'1b'!BA41","v":0},{"$f":"'1b'!BB41","v":0},{"$f":"'1b'!BC41","v":0},{"$f":"'1b'!BD41","v":0},{"$f":"'1b'!BE41","v":0}]
[{"$f":"'1b'!A42","v":"1b"},{"$f":"'1b'!B42","v":0},{"$f":"'1b'!C42","v":0},{"$f":"'1b'!D42","v":"lehrer40"},{"$f":"'1b'!E42","v":0},{"$f":"'1b'!F42","v":0},{"$f":"'1b'!G42","v":0},{"$f":"'1b'!H42","v":0},{"$f":"'1b'!I42","v":0},{"$f":"'1b'!J42","v":0},{"$f":"'1b'!K42","v":0},{"$f":"'1b'!L42","v":0},{"$f":"'1b'!M42","v":0},{"$f":"'1b'!N42","v":0},{"$f":"'1b'!O42","v":0},{"$f":"'1b'!P42","v":0},{"$f":"'1b'!Q42","v":0},{"$f":"'1b'!R42","v":0},{"$f":"'1b'!S42","v":0},{"$f":"'1b'!T42","v":0},{"$f":"'1b'!U42","v":0},{"$f":"'1b'!V42","v":0},{"$f":"'1b'!W42","v":0},{"$f":"'1b'!X42","v":0},{"$f":"'1b'!Y42","v":0},{"$f":"'1b'!Z42","v":0},{"$f":"'1b'!AA42","v":0},{"$f":"'1b'!AB42","v":0},{"$f":"'1b'!AC42","v":0},{"$f":"'1b'!AD42","v":0},{"$f":"'1b'!AE42","v":0},{"$f":"'1b'!AF42","v":0},{"$f":"'1b'!AG42","v":0},{"$f":"'1b'!AH42","v":0},{"$f":"'1b'!AI42","v":0},{"$f":"'1b'!AJ42","v":0},{"$f":"'1b'!AK42","v":0},{"$f":"'1b'!AL42","v":0},{"$f":"'1b'!AM42","v":0},{"$f":"'1b'!AN42","v":0},{"$f":"'1b'!AO42","v":0},{"$f":"'1b'!AP42","v":0},{"$f":"'1b'!AQ42","v":0},{"$f":"'1b'!AR42","v":0},{"$f":"'1b'!AS42","v":0},{"$f":"'1b'!AT42","v":0},{"$f":"'1b'!AU42","v":0},{"$f":"'1b'!AV42","v":0},{"$f":"'1b'!AW42","v":0},{"$f":"'1b'!AX42","v":0},{"$f":"'1b'!AY42","v":0},{"$f":"'1b'!AZ42","v":0},{"$f":"'1b'!BA42","v":0},{"$f":"'1b'!BB42","v":0},{"$f":"'1b'!BC42","v":0},{"$f":"'1b'!BD42","v":0},{"$f":"'1b'!BE42","v":0}]
[{"$f":"'1b'!A43","v":"1b"},{"$f":"'1b'!B43","v":0},{"$f":"'1b'!C43","v":0},{"$f":"'1b'!D43","v":"lehrer41"},{"$f":"'1b'!E43","v":0},{"$f":"'1b'!F43","v":0},{"$f":"'1b'!G43","v":0},{"$f":"'1b'!H43","v":0},{"$f":"'1b'!I43","v":0},{"$f":"'1b'!J43","v":0},{"$f":"'1b'!K43","v":0},{"$f":"'1b'!L43","v":0},{"$f":"'1b'!M43","v":0},{"$f":"'1b'!N43","v":0},{"$f":"'1b'!O43","v":0},{"$f":"'1b'!P43","v":0},{"$f":"'1b'!Q43","v":0},{"$f":"'1b'!R43","v":0},{"$f":"'1b'!S43","v":0},{"$f":"'1b'!T43","v":0},{"$f":"'1b'!U43","v":0},{"$f":"'1b'!V43","v":0},{"$f":"'1b'!W43","v":0},{"$f":"'1b'!X43","v":0},{"$f":"'1b'!Y43","v":0},{"$f":"'1b'!Z43","v":0},{"$f":"'1b'!AA43","v":0},{"$f":"'1b'!AB43","v":0},{"$f":"'1b'!AC43","v":0},{"$f":"'1b'!AD43","v":0},{"$f":"'1b'!AE43","v":0},{"$f":"'1b'!AF43","v":0},{"$f":"'1b'!AG43","v":0},{"$f":"'1b'!AH43","v":0},{"$f":"'1b'!AI43","v":0},{"$f":"'1b'!AJ43","v":0},{"$f":"'1b'!AK43","v":0},{"$f":"'1b'!AL43","v":0},{"$f":"'1b'!AM43","v":0},{"$f":"'1b'!AN43","v":0},{"$f":"'1b'!AO43","v":0},{"$f":"'1b'!AP43","v":0},{"$f":"'1b'!AQ43","v":0},{"$f":"'1b'!AR43","v":0},{"$f":"'1b'!AS43","v":0},{"$f":"'1b'!AT43","v":0},{"$f":"'1b'!AU43","v":0},{"$f":"'1b'!AV43","v":0},{"$f":"'1b'!AW43","v":0},{"$f":"'1b'!AX43","v":0},{"$f":"'1b'!AY43","v":0},{"$f":"'1b'!AZ43","v":0},{"$f":"'1b'!BA43","v":0},{"$f":"'1b'!BB43","v":0},{"$f":"'1b'!BC43","v":0},{"$f":"'1b'!BD43","v":0},{"$f":"'1b'!BE43","v":0}]
[{"$f":"'1b'!A44","v":"1b"},{"$f":"'1b'!B44","v":0},{"$f":"'1b'!C44","v":0},{"$f":"'1b'!D44","v":"lehrer42"},{"$f":"'1b'!E44","v":0},{"$f":"'1b'!F44","v":0},{"$f":"'1b'!G44","v":0},{"$f":"'1b'!H44","v":0},{"$f":"'1b'!I44","v":0},{"$f":"'1b'!J44","v":0},{"$f":"'1b'!K44","v":0},{"$f":"'1b'!L44","v":0},{"$f":"'1b'!M44","v":0},{"$f":"'1b'!N44","v":0},{"$f":"'1b'!O44","v":0},{"$f":"'1b'!P44","v":0},{"$f":"'1b'!Q44","v":0},{"$f":"'1b'!R44","v":0},{"$f":"'1b'!S44","v":0},{"$f":"'1b'!T44","v":0},{"$f":"'1b'!U44","v":0},{"$f":"'1b'!V44","v":0},{"$f":"'1b'!W44","v":0},{"$f":"'1b'!X44","v":0},{"$f":"'1b'!Y44","v":0},{"$f":"'1b'!Z44","v":0},{"$f":"'1b'!AA44","v":0},{"$f":"'1b'!AB44","v":0},{"$f":"'1b'!AC44","v":0},{"$f":"'1b'!AD44","v":0},{"$f":"'1b'!AE44","v":0},{"$f":"'1b'!AF44","v":0},{"$f":"'1b'!AG44","v":0},{"$f":"'1b'!AH44","v":0},{"$f":"'1b'!AI44","v":0},{"$f":"'1b'!AJ44","v":0},{"$f":"'1b'!AK44","v":0},{"$f":"'1b'!AL44","v":0},{"$f":"'1b'!AM44","v":0},{"$f":"'1b'!AN44","v":0},{"$f":"'1b'!AO44","v":0},{"$f":"'1b'!AP44","v":0},{"$f":"'1b'!AQ44","v":0},{"$f":"'1b'!AR44","v":0},{"$f":"'1b'!AS44","v":0},{"$f":"'1b'!AT44","v":0},{"$f":"'1b'!AU44","v":0},{"$f":"'1b'!AV44","v":0},{"$f":"'1b'!AW44","v":0},{"$f":"'1b'!AX44","v":0},{"$f":"'1b'!AY44","v":0},{"$f":"'1b'!AZ44","v":0},{"$f":"'1b'!BA44","v":0},{"$f":"'1b'!BB44","v":0},{"$f":"'1b'!BC44","v":0},{"$f":"'1b'!BD44","v":0},{"$f":"'1b'!BE44","v":0}]
[{"$f":"'1b'!A45","v":"1b"},{"$f":"'1b'!B45","v":0},{"$f":"'1b'!C45","v":0},{"$f":"'1b'!D45","v":"lehrer43"},{"$f":"'1b'!E45","v":0},{"$f":"'1b'!F45","v":0},{"$f":"'1b'!G45","v":0},{"$f":"'1b'!H45","v":0},{"$f":"'1b'!I45","v":0},{"$f":"'1b'!J45","v":0},{"$f":"'1b'!K45","v":0},{"$f":"'1b'!L45","v":0},{"$f":"'1b'!M45","v":0},{"$f":"'1b'!N45","v":0},{"$f":"'1b'!O45","v":0},{"$f":"'1b'!P45","v":0},{"$f":"'1b'!Q45","v":0},{"$f":"'1b'!R45","v":0},{"$f":"'1b'!S45","v":0},{"$f":"'1b'!T45","v":0},{"$f":"'1b'!U45","v":0},{"$f":"'1b'!V45","v":0},{"$f":"'1b'!W45","v":0},{"$f":"'1b'!X45","v":0},{"$f":"'1b'!Y45","v":0},{"$f":"'1b'!Z45","v":0},{"$f":"'1b'!AA45","v":0},{"$f":"'1b'!AB45","v":0},{"$f":"'1b'!AC45","v":0},{"$f":"'1b'!AD45","v":0},{"$f":"'1b'!AE45","v":0},{"$f":"'1b'!AF45","v":0},{"$f":"'1b'!AG45","v":0},{"$f":"'1b'!AH45","v":0},{"$f":"'1b'!AI45","v":0},{"$f":"'1b'!AJ45","v":0},{"$f":"'1b'!AK45","v":0},{"$f":"'1b'!AL45","v":0},{"$f":"'1b'!AM45","v":0},{"$f":"'1b'!AN45","v":0},{"$f":"'1b'!AO45","v":0},{"$f":"'1b'!AP45","v":0},{"$f":"'1b'!AQ45","v":0},{"$f":"'1b'!AR45","v":0},{"$f":"'1b'!AS45","v":0},{"$f":"'1b'!AT45","v":0},{"$f":"'1b'!AU45","v":0},{"$f":"'1b'!AV45","v":0},{"$f":"'1b'!AW45","v":0},{"$f":"'1b'!AX45","v":0},{"$f":"'1b'!AY45","v":0},{"$f":"'1b'!AZ45","v":0},{"$f":"'1b'!BA45","v":0},{"$f":"'1b'!BB45","v":0},{"$f":"'1b'!BC45","v":0},{"$f":"'1b'!BD45","v":0},{"$f":"'1b'!BE45","v":0}]
[{"$f":"'1b'!A46","v":"1b"},{"$f":"'1b'!B46","v":0},{"$f":"'1b'!C46","v":0},{"$f":"'1b'!D46","v":"lehrer44"},{"$f":"'1b'!E46","v":0},{"$f":"'1b'!F46","v":0},{"$f":"'1b'!G46","v":0},{"$f":"'1b'!H46","v":0},{"$f":"'1b'!I46","v":0},{"$f":"'1b'!J46","v":0},{"$f":"'1b'!K46","v":0},{"$f":"'1b'!L46","v":0},{"$f":"'1b'!M46","v":0},{"$f":"'1b'!N46","v":0},{"$f":"'1b'!O46","v":0},{"$f":"'1b'!P46","v":0},{"$f":"'1b'!Q46","v":0},{"$f":"'1b'!R46","v":0},{"$f":"'1b'!S46","v":0},{"$f":"'1b'!T46","v":0},{"$f":"'1b'!U46","v":0},{"$f":"'1b'!V46","v":0},{"$f":"'1b'!W46","v":0},{"$f":"'1b'!X46","v":0},{"$f":"'1b'!Y46","v":0},{"$f":"'1b'!Z46","v":0},{"$f":"'1b'!AA46","v":0},{"$f":"'1b'!AB46","v":0},{"$f":"'1b'!AC46","v":0},{"$f":"'1b'!AD46","v":0},{"$f":"'1b'!AE46","v":0},{"$f":"'1b'!AF46","v":0},{"$f":"'1b'!AG46","v":0},{"$f":"'1b'!AH46","v":0},{"$f":"'1b'!AI46","v":0},{"$f":"'1b'!AJ46","v":0},{"$f":"'1b'!AK46","v":0},{"$f":"'1b'!AL46","v":0},{"$f":"'1b'!AM46","v":0},{"$f":"'1b'!AN46","v":0},{"$f":"'1b'!AO46","v":0},{"$f":"'1b'!AP46","v":0},{"$f":"'1b'!AQ46","v":0},{"$f":"'1b'!AR46","v":0},{"$f":"'1b'!AS46","v":0},{"$f":"'1b'!AT46","v":0},{"$f":"'1b'!AU46","v":0},{"$f":"'1b'!AV46","v":0},{"$f":"'1b'!AW46","v":0},{"$f":"'1b'!AX46","v":0},{"$f":"'1b'!AY46","v":0},{"$f":"'1b'!AZ46","v":0},{"$f":"'1b'!BA46","v":0},{"$f":"'1b'!BB46","v":0},{"$f":"'1b'!BC46","v":0},{"$f":"'1b'!BD46","v":0},{"$f":"'1b'!BE46","v":0}]
[{"$f":"'1b'!A47","v":"1b"},{"$f":"'1b'!B47","v":0},{"$f":"'1b'!C47","v":0},{"$f":"'1b'!D47","v":"lehrer45"},{"$f":"'1b'!E47","v":0},{"$f":"'1b'!F47","v":0},{"$f":"'1b'!G47","v":0},{"$f":"'1b'!H47","v":0},{"$f":"'1b'!I47","v":0},{"$f":"'1b'!J47","v":0},{"$f":"'1b'!K47","v":0},{"$f":"'1b'!L47","v":0},{"$f":"'1b'!M47","v":0},{"$f":"'1b'!N47","v":0},{"$f":"'1b'!O47","v":0},{"$f":"'1b'!P47","v":0},{"$f":"'1b'!Q47","v":0},{"$f":"'1b'!R47","v":0},{"$f":"'1b'!S47","v":0},{"$f":"'1b'!T47","v":0},{"$f":"'1b'!U47","v":0},{"$f":"'1b'!V47","v":0},{"$f":"'1b'!W47","v":0},{"$f":"'1b'!X47","v":0},{"$f":"'1b'!Y47","v":0},{"$f":"'1b'!Z47","v":0},{"$f":"'1b'!AA47","v":0},{"$f":"'1b'!AB47","v":0},{"$f":"'1b'!AC47","v":0},{"$f":"'1b'!AD47","v":0},{"$f":"'1b'!AE47","v":0},{"$f":"'1b'!AF47","v":0},{"$f":"'1b'!AG47","v":0},{"$f":"'1b'!AH47","v":0},{"$f":"'1b'!AI47","v":0},{"$f":"'1b'!AJ47","v":0},{"$f":"'1b'!AK47","v":0},{"$f":"'1b'!AL47","v":0},{"$f":"'1b'!AM47","v":0},{"$f":"'1b'!AN47","v":0},{"$f":"'1b'!AO47","v":0},{"$f":"'1b'!AP47","v":0},{"$f":"'1b'!AQ47","v":0},{"$f":"'1b'!AR47","v":0},{"$f":"'1b'!AS47","v":0},{"$f":"'1b'!AT47","v":0},{"$f":"'1b'!AU47","v":0},{"$f":"'1b'!AV47","v":0},{"$f":"'1b'!AW47","v":0},{"$f":"'1b'!AX47","v":0},{"$f":"'1b'!AY47","v":0},{"$f":"'1b'!AZ47","v":0},{"$f":"'1b'!BA47","v":0},{"$f":"'1b'!BB47","v":0},{"$f":"'1b'!BC47","v":0},{"$f":"'1b'!BD47","v":0},{"$f":"'1b'!BE47","v":0}]
[{"$f":"'1b'!A48","v":"1b"},{"$f":"'1b'!B48","v":0},{"$f":"'1b'!C48","v":0},{"$f":"'1b'!D48","v":"lehrer46"},{"$f":"'1b'!E48","v":0},{"$f":"'1b'!F48","v":0},{"$f":"'1b'!G48","v":0},{"$f":"'1b'!H48","v":0},{"$f":"'1b'!I48","v":0},{"$f":"'1b'!J48","v":0},{"$f":"'1b'!K48","v":0},{"$f":"'1b'!L48","v":0},{"$f":"'1b'!M48","v":0},{"$f":"'1b'!N48","v":0},{"$f":"'1b'!O48","v":0},{"$f":"'1b'!P48","v":0},{"$f":"'1b'!Q48","v":0},{"$f":"'1b'!R48","v":0},{"$f":"'1b'!S48","v":0},{"$f":"'1b'!T48","v":0},{"$f":"'1b'!U48","v":0},{"$f":"'1b'!V48","v":0},{"$f":"'1b'!W48","v":0},{"$f":"'1b'!X48","v":0},{"$f":"'1b'!Y48","v":0},{"$f":"'1b'!Z48","v":0},{"$f":"'1b'!AA48","v":0},{"$f":"'1b'!AB48","v":0},{"$f":"'1b'!AC48","v":0},{"$f":"'1b'!AD48","v":0},{"$f":"'1b'!AE48","v":0},{"$f":"'1b'!AF48","v":0},{"$f":"'1b'!AG48","v":0},{"$f":"'1b'!AH48","v":0},{"$f":"'1b'!AI48","v":0},{"$f":"'1b'!AJ48","v":0},{"$f":"'1b'!AK48","v":0},{"$f":"'1b'!AL48","v":0},{"$f":"'1b'!AM48","v":0},{"$f":"'1b'!AN48","v":0},{"$f":"'1b'!AO48","v":0},{"$f":"'1b'!AP48","v":0},{"$f":"'1b'!AQ48","v":0},{"$f":"'1b'!AR48","v":0},{"$f":"'1b'!AS48","v":0},{"$f":"'1b'!AT48","v":0},{"$f":"'1b'!AU48","v":0},{"$f":"'1b'!AV48","v":0},{"$f":"'1b'!AW48","v":0},{"$f":"'1b'!AX48","v":0},{"$f":"'1b'!AY48","v":0},{"$f":"'1b'!AZ48","v":0},{"$f":"'1b'!BA48","v":0},{"$f":"'1b'!BB48","v":0},{"$f":"'1b'!BC48","v":0},{"$f":"'1b'!BD48","v":0},{"$f":"'1b'!BE48","v":0}]
[{"$f":"'1b'!A49","v":"1b"},{"$f":"'1b'!B49","v":0},{"$f":"'1b'!C49","v":0},{"$f":"'1b'!D49","v":"lehrer47"},{"$f":"'1b'!E49","v":0},{"$f":"'1b'!F49","v":0},{"$f":"'1b'!G49","v":0},{"$f":"'1b'!H49","v":0},{"$f":"'1b'!I49","v":0},{"$f":"'1b'!J49","v":0},{"$f":"'1b'!K49","v":0},{"$f":"'1b'!L49","v":0},{"$f":"'1b'!M49","v":0},{"$f":"'1b'!N49","v":0},{"$f":"'1b'!O49","v":0},{"$f":"'1b'!P49","v":0},{"$f":"'1b'!Q49","v":0},{"$f":"'1b'!R49","v":0},{"$f":"'1b'!S49","v":0},{"$f":"'1b'!T49","v":0},{"$f":"'1b'!U49","v":0},{"$f":"'1b'!V49","v":0},{"$f":"'1b'!W49","v":0},{"$f":"'1b'!X49","v":0},{"$f":"'1b'!Y49","v":0},{"$f":"'1b'!Z49","v":0},{"$f":"'1b'!AA49","v":0},{"$f":"'1b'!AB49","v":0},{"$f":"'1b'!AC49","v":0},{"$f":"'1b'!AD49","v":0},{"$f":"'1b'!AE49","v":0},{"$f":"'1b'!AF49","v":0},{"$f":"'1b'!AG49","v":0},{"$f":"'1b'!AH49","v":0},{"$f":"'1b'!AI49","v":0},{"$f":"'1b'!AJ49","v":0},{"$f":"'1b'!AK49","v":0},{"$f":"'1b'!AL49","v":0},{"$f":"'1b'!AM49","v":0},{"$f":"'1b'!AN49","v":0},{"$f":"'1b'!AO49","v":0},{"$f":"'1b'!AP49","v":0},{"$f":"'1b'!AQ49","v":0},{"$f":"'1b'!AR49","v":0},{"$f":"'1b'!AS49","v":0},{"$f":"'1b'!AT49","v":0},{"$f":"'1b'!AU49","v":0},{"$f":"'1b'!AV49","v":0},{"$f":"'1b'!AW49","v":0},{"$f":"'1b'!AX49","v":0},{"$f":"'1b'!AY49","v":0},{"$f":"'1b'!AZ49","v":0},{"$f":"'1b'!BA49","v":0},{"$f":"'1b'!BB49","v":0},{"$f":"'1b'!BC49","v":0},{"$f":"'1b'!BD49","v":0},{"$f":"'1b'!BE49","v":0}]
[{"$f":"'1b'!A50","v":"1b"},{"$f":"'1b'!B50","v":0},{"$f":"'1b'!C50","v":0},{"$f":"'1b'!D50","v":"lehrer48"},{"$f":"'1b'!E50","v":0},{"$f":"'1b'!F50","v":0},{"$f":"'1b'!G50","v":0},{"$f":"'1b'!H50","v":0},{"$f":"'1b'!I50","v":0},{"$f":"'1b'!J50","v":0},{"$f":"'1b'!K50","v":0},{"$f":"'1b'!L50","v":0},{"$f":"'1b'!M50","v":0},{"$f":"'1b'!N50","v":0},{"$f":"'1b'!O50","v":0},{"$f":"'1b'!P50","v":0},{"$f":"'1b'!Q50","v":0},{"$f":"'1b'!R50","v":0},{"$f":"'1b'!S50","v":0},{"$f":"'1b'!T50","v":0},{"$f":"'1b'!U50","v":0},{"$f":"'1b'!V50","v":0},{"$f":"'1b'!W50","v":0},{"$f":"'1b'!X50","v":0},{"$f":"'1b'!Y50","v":0},{"$f":"'1b'!Z50","v":0},{"$f":"'1b'!AA50","v":0},{"$f":"'1b'!AB50","v":0},{"$f":"'1b'!AC50","v":0},{"$f":"'1b'!AD50","v":0},{"$f":"'1b'!AE50","v":0},{"$f":"'1b'!AF50","v":0},{"$f":"'1b'!AG50","v":0},{"$f":"'1b'!AH50","v":0},{"$f":"'1b'!AI50","v":0},{"$f":"'1b'!AJ50","v":0},{"$f":"'1b'!AK50","v":0},{"$f":"'1b'!AL50","v":0},{"$f":"'1b'!AM50","v":0},{"$f":"'1b'!AN50","v":0},{"$f":"'1b'!AO50","v":0},{"$f":"'1b'!AP50","v":0},{"$f":"'1b'!AQ50","v":0},{"$f":"'1b'!AR50","v":0},{"$f":"'1b'!AS50","v":0},{"$f":"'1b'!AT50","v":0},{"$f":"'1b'!AU50","v":0},{"$f":"'1b'!AV50","v":0},{"$f":"'1b'!AW50","v":0},{"$f":"'1b'!AX50","v":0},{"$f":"'1b'!AY50","v":0},{"$f":"'1b'!AZ50","v":0},{"$f":"'1b'!BA50","v":0},{"$f":"'1b'!BB50","v":0},{"$f":"'1b'!BC50","v":0},{"$f":"'1b'!BD50","v":0},{"$f":"'1b'!BE50","v":0}]
[{"$f":"'2a'!A3","v":"2a"},{"$f":"'2a'!B3","v":0},{"$f":"'2a'!C3","v":0},{"$f":"'2a'!D3","v":"lehrer01"},{"$f":"'2a'!E3","v":0},{"$f":"'2a'!F3","v":0},{"$f":"'2a'!G3","v":0},{"$f":"'2a'!H3","v":0},{"$f":"'2a'!I3","v":0},{"$f":"'2a'!J3","v":0},{"$f":"'2a'!K3","v":0},{"$f":"'2a'!L3","v":0},{"$f":"'2a'!M3","v":0},{"$f":"'2a'!N3","v":0},{"$f":"'2a'!O3","v":0},{"$f":"'2a'!P3","v":0},{"$f":"'2a'!Q3","v":0},{"$f":"'2a'!R3","v":0},{"$f":"'2a'!S3","v":0},{"$f":"'2a'!T3","v":0},{"$f":"'2a'!U3","v":0},{"$f":"'2a'!V3","v":0},{"$f":"'2a'!W3","v":0},{"$f":"'2a'!X3","v":0},{"$f":"'2a'!Y3","v":0},{"$f":"'2a'!Z3","v":0},{"$f":"'2a'!AA3","v":0},{"$f":"'2a'!AB3","v":0},{"$f":"'2a'!AC3","v":0},{"$f":"'2a'!AD3","v":0},{"$f":"'2a'!AE3","v":0},{"$f":"'2a'!AF3","v":0},{"$f":"'2a'!AG3","v":0},{"$f":"'2a'!AH3","v":0},{"$f":"'2a'!AI3","v":0},{"$f":"'2a'!AJ3","v":0},{"$f":"'2a'!AK3","v":0},{"$f":"'2a'!AL3","v":0},{"$f":"'2a'!AM3","v":0},{"$f":"'2a'!AN3","v":0},{"$f":"'2a'!AO3","v":0},{"$f":"'2a'!AP3","v":0},{"$f":"'2a'!AQ3","v":0},{"$f":"'2a'!AR3","v":0},{"$f":"'2a'!AS3","v":0},{"$f":"'2a'!AT3","v":0},{"$f":"'2a'!AU3","v":0},{"$f":"'2a'!AV3","v":0},{"$f":"'2a'!AW3","v":0},{"$f":"'2a'!AX3","v":0},{"$f":"'2a'!AY3","v":0},{"$f":"'2a'!AZ3","v":0},{"$f":"'2a'!BA3","v":0},{"$f":"'2a'!BB3","v":0},{"$f":"'2a'!BC3","v":0},{"$f":"'2a'!BD3","v":0},{"$f":"'2a'!BE3","v":0}]
[{"$f":"'2a'!A4","v":"2a"},{"$f":"'2a'!B4","v":0},{"$f":"'2a'!C4","v":0},{"$f":"'2a'!D4","v":"lehrer02"},{"$f":"'2a'!E4","v":0},{"$f":"'2a'!F4","v":0},{"$f":"'2a'!G4","v":0},{"$f":"'2a'!H4","v":0},{"$f":"'2a'!I4","v":0},{"$f":"'2a'!J4","v":0},{"$f":"'2a'!K4","v":0},{"$f":"'2a'!L4","v":0},{"$f":"'2a'!M4","v":0},{"$f":"'2a'!N4","v":0},{"$f":"'2a'!O4","v":0},{"$f":"'2a'!P4","v":0},{"$f":"'2a'!Q4","v":0},{"$f":"'2a'!R4","v":0},{"$f":"'2a'!S4","v":0},{"$f":"'2a'!T4","v":0},{"$f":"'2a'!U4","v":0},{"$f":"'2a'!V4","v":0},{"$f":"'2a'!W4","v":0},{"$f":"'2a'!X4","v":0},{"$f":"'2a'!Y4","v":0},{"$f":"'2a'!Z4","v":0},{"$f":"'2a'!AA4","v":0},{"$f":"'2a'!AB4","v":0},{"$f":"'2a'!AC4","v":0},{"$f":"'2a'!AD4","v":0},{"$f":"'2a'!AE4","v":0},{"$f":"'2a'!AF4","v":0},{"$f":"'2a'!AG4","v":0},{"$f":"'2a'!AH4","v":0},{"$f":"'2a'!AI4","v":0},{"$f":"'2a'!AJ4","v":0},{"$f":"'2a'!AK4","v":0},{"$f":"'2a'!AL4","v":0},{"$f":"'2a'!AM4","v":0},{"$f":"'2a'!AN4","v":0},{"$f":"'2a'!AO4","v":0},{"$f":"'2a'!AP4","v":0},{"$f":"'2a'!AQ4","v":0},{"$f":"'2a'!AR4","v":0},{"$f":"'2a'!AS4","v":0},{"$f":"'2a'!AT4","v":0},{"$f":"'2a'!AU4","v":0},{"$f":"'2a'!AV4","v":0},{"$f":"'2a'!AW4","v":0},{"$f":"'2a'!AX4","v":0},{"$f":"'2a'!AY4","v":0},{"$f":"'2a'!AZ4","v":0},{"$f":"'2a'!BA4","v":0},{"$f":"'2a'!BB4","v":0},{"$f":"'2a'!BC4","v":0},{"$f":"'2a'!BD4","v":0},{"$f":"'2a'!BE4","v":0}]
[{"$f":"'2a'!A5","v":"2a"},{"$f":"'2a'!B5","v":0},{"$f":"'2a'!C5","v":0},{"$f":"'2a'!D5","v":"lehrer03"},{"$f":"'2a'!E5","v":0},{"$f":"'2a'!F5","v":0},{"$f":"'2a'!G5","v":0},{"$f":"'2a'!H5","v":0},{"$f":"'2a'!I5","v":0},{"$f":"'2a'!J5","v":0},{"$f":"'2a'!K5","v":0},{"$f":"'2a'!L5","v":0},{"$f":"'2a'!M5","v":0},{"$f":"'2a'!N5","v":0},{"$f":"'2a'!O5","v":0},{"$f":"'2a'!P5","v":0},{"$f":"'2a'!Q5","v":0},{"$f":"'2a'!R5","v":0},{"$f":"'2a'!S5","v":0},{"$f":"'2a'!T5","v":0},{"$f":"'2a'!U5","v":0},{"$f":"'2a'!V5","v":0},{"$f":"'2a'!W5","v":0},{"$f":"'2a'!X5","v":0},{"$f":"'2a'!Y5","v":0},{"$f":"'2a'!Z5","v":0},{"$f":"'2a'!AA5","v":0},{"$f":"'2a'!AB5","v":0},{"$f":"'2a'!AC5","v":0},{"$f":"'2a'!AD5","v":0},{"$f":"'2a'!AE5","v":0},{"$f":"'2a'!AF5","v":0},{"$f":"'2a'!AG5","v":0},{"$f":"'2a'!AH5","v":0},{"$f":"'2a'!AI5","v":0},{"$f":"'2a'!AJ5","v":0},{"$f":"'2a'!AK5","v":0},{"$f":"'2a'!AL5","v":0},{"$f":"'2a'!AM5","v":0},{"$f":"'2a'!AN5","v":0},{"$f":"'2a'!AO5","v":0},{"$f":"'2a'!AP5","v":0},{"$f":"'2a'!AQ5","v":0},{"$f":"'2a'!AR5","v":0},{"$f":"'2a'!AS5","v":0},{"$f":"'2a'!AT5","v":0},{"$f":"'2a'!AU5","v":0},{"$f":"'2a'!AV5","v":0},{"$f":"'2a'!AW5","v":0},{"$f":"'2a'!AX5","v":0},{"$f":"'2a'!AY5","v":0},{"$f":"'2a'!AZ5","v":0},{"$f":"'2a'!BA5","v":0},{"$f":"'2a'!BB5","v":0},{"$f":"'2a'!BC5","v":0},{"$f":"'2a'!BD5","v":0},{"$f":"'2a'!BE5","v":0}]
[{"$f":"'2a'!A6","v":"2a"},{"$f":"'2a'!B6","v":0},{"$f":"'2a'!C6","v":0},{"$f":"'2a'!D6","v":"lehrer04"},{"$f":"'2a'!E6","v":0},{"$f":"'2a'!F6","v":0},{"$f":"'2a'!G6","v":0},{"$f":"'2a'!H6","v":0},{"$f":"'2a'!I6","v":0},{"$f":"'2a'!J6","v":0},{"$f":"'2a'!K6","v":0},{"$f":"'2a'!L6","v":0},{"$f":"'2a'!M6","v":0},{"$f":"'2a'!N6","v":0},{"$f":"'2a'!O6","v":0},{"$f":"'2a'!P6","v":0},{"$f":"'2a'!Q6","v":0},{"$f":"'2a'!R6","v":0},{"$f":"'2a'!S6","v":0},{"$f":"'2a'!T6","v":0},{"$f":"'2a'!U6","v":0},{"$f":"'2a'!V6","v":0},{"$f":"'2a'!W6","v":0},{"$f":"'2a'!X6","v":0},{"$f":"'2a'!Y6","v":0},{"$f":"'2a'!Z6","v":0},{"$f":"'2a'!AA6","v":0},{"$f":"'2a'!AB6","v":0},{"$f":"'2a'!AC6","v":0},{"$f":"'2a'!AD6","v":0},{"$f":"'2a'!AE6","v":0},{"$f":"'2a'!AF6","v":0},{"$f":"'2a'!AG6","v":0},{"$f":"'2a'!AH6","v":0},{"$f":"'2a'!AI6","v":0},{"$f":"'2a'!AJ6","v":0},{"$f":"'2a'!AK6","v":0},{"$f":"'2a'!AL6","v":0},{"$f":"'2a'!AM6","v":0},{"$f":"'2a'!AN6","v":0},{"$f":"'2a'!AO6","v":0},{"$f":"'2a'!AP6","v":0},{"$f":"'2a'!AQ6","v":0},{"$f":"'2a'!AR6","v":0},{"$f":"'2a'!AS6","v":0},{"$f":"'2a'!AT6","v":0},{"$f":"'2a'!AU6","v":0},{"$f":"'2a'!AV6","v":0},{"$f":"'2a'!AW6","v":0},{"$f":"'2a'!AX6","v":0},{"$f":"'2a'!AY6","v":0},{"$f":"'2a'!AZ6","v":0},{"$f":"'2a'!BA6","v":0},{"$f":"'2a'!BB6","v":0},{"$f":"'2a'!BC6","v":0},{"$f":"'2a'!BD6","v":0},{"$f":"'2a'!BE6","v":0}]
[{"$f":"'2a'!A7","v":"2a"},{"$f":"'2a'!B7","v":0},{"$f":"'2a'!C7","v":0},{"$f":"'2a'!D7","v":"lehrer05"},{"$f":"'2a'!E7","v":0},{"$f":"'2a'!F7","v":0},{"$f":"'2a'!G7","v":0},{"$f":"'2a'!H7","v":0},{"$f":"'2a'!I7","v":0},{"$f":"'2a'!J7","v":0},{"$f":"'2a'!K7","v":0},{"$f":"'2a'!L7","v":0},{"$f":"'2a'!M7","v":0},{"$f":"'2a'!N7","v":0},{"$f":"'2a'!O7","v":0},{"$f":"'2a'!P7","v":0},{"$f":"'2a'!Q7","v":0},{"$f":"'2a'!R7","v":0},{"$f":"'2a'!S7","v":0},{"$f":"'2a'!T7","v":0},{"$f":"'2a'!U7","v":0},{"$f":"'2a'!V7","v":0},{"$f":"'2a'!W7","v":0},{"$f":"'2a'!X7","v":0},{"$f":"'2a'!Y7","v":0},{"$f":"'2a'!Z7","v":0},{"$f":"'2a'!AA7","v":0},{"$f":"'2a'!AB7","v":0},{"$f":"'2a'!AC7","v":0},{"$f":"'2a'!AD7","v":0},{"$f":"'2a'!AE7","v":0},{"$f":"'2a'!AF7","v":0},{"$f":"'2a'!AG7","v":0},{"$f":"'2a'!AH7","v":0},{"$f":"'2a'!AI7","v":0},{"$f":"'2a'!AJ7","v":0},{"$f":"'2a'!AK7","v":0},{"$f":"'2a'!AL7","v":0},{"$f":"'2a'!AM7","v":0},{"$f":"'2a'!AN7","v":0},{"$f":"'2a'!AO7","v":0},{"$f":"'2a'!AP7","v":0},{"$f":"'2a'!AQ7","v":0},{"$f":"'2a'!AR7","v":0},{"$f":"'2a'!AS7","v":0},{"$f":"'2a'!AT7","v":0},{"$f":"'2a'!AU7","v":0},{"$f":"'2a'!AV7","v":0},{"$f":"'2a'!AW7","v":0},{"$f":"'2a'!AX7","v":0},{"$f":"'2a'!AY7","v":0},{"$f":"'2a'!AZ7","v":0},{"$f":"'2a'!BA7","v":0},{"$f":"'2a'!BB7","v":0},{"$f":"'2a'!BC7","v":0},{"$f":"'2a'!BD7","v":0},{"$f":"'2a'!BE7","v":0}]
[{"$f":"'2a'!A8","v":"2a"},{"$f":"'2a'!B8","v":0},{"$f":"'2a'!C8","v":0},{"$f":"'2a'!D8","v":"lehrer06"},{"$f":"'2a'!E8","v":0},{"$f":"'2a'!F8","v":0},{"$f":"'2a'!G8","v":0},{"$f":"'2a'!H8","v":0},{"$f":"'2a'!I8","v":0},{"$f":"'2a'!J8","v":0},{"$f":"'2a'!K8","v":0},{"$f":"'2a'!L8","v":0},{"$f":"'2a'!M8","v":0},{"$f":"'2a'!N8","v":0},{"$f":"'2a'!O8","v":0},{"$f":"'2a'!P8","v":0},{"$f":"'2a'!Q8","v":0},{"$f":"'2a'!R8","v":0},{"$f":"'2a'!S8","v":0},{"$f":"'2a'!T8","v":0},{"$f":"'2a'!U8","v":0},{"$f":"'2a'!V8","v":0},{"$f":"'2a'!W8","v":0},{"$f":"'2a'!X8","v":0},{"$f":"'2a'!Y8","v":0},{"$f":"'2a'!Z8","v":0},{"$f":"'2a'!AA8","v":0},{"$f":"'2a'!AB8","v":0},{"$f":"'2a'!AC8","v":0},{"$f":"'2a'!AD8","v":0},{"$f":"'2a'!AE8","v":0},{"$f":"'2a'!AF8","v":0},{"$f":"'2a'!AG8","v":0},{"$f":"'2a'!AH8","v":0},{"$f":"'2a'!AI8","v":0},{"$f":"'2a'!AJ8","v":0},{"$f":"'2a'!AK8","v":0},{"$f":"'2a'!AL8","v":0},{"$f":"'2a'!AM8","v":0},{"$f":"'2a'!AN8","v":0},{"$f":"'2a'!AO8","v":0},{"$f":"'2a'!AP8","v":0},{"$f":"'2a'!AQ8","v":0},{"$f":"'2a'!AR8","v":0},{"$f":"'2a'!AS8","v":0},{"$f":"'2a'!AT8","v":0},{"$f":"'2a'!AU8","v":0},{"$f":"'2a'!AV8","v":0},{"$f":"'2a'!AW8","v":0},{"$f":"'2a'!AX8","v":0},{"$f":"'2a'!AY8","v":0},{"$f":"'2a'!AZ8","v":0},{"$f":"'2a'!BA8","v":0},{"$f":"'2a'!BB8","v":0},{"$f":"'2a'!BC8","v":0},{"$f":"'2a'!BD8","v":0},{"$f":"'2a'!BE8","v":0}]
[{"$f":"'2a'!A9","v":"2a"},{"$f":"'2a'!B9","v":0},{"$f":"'2a'!C9","v":0},{"$f":"'2a'!D9","v":"lehrer07"},{"$f":"'2a'!E9","v":0},{"$f":"'2a'!F9","v":0},{"$f":"'2a'!G9","v":0},{"$f":"'2a'!H9","v":0},{"$f":"'2a'!I9","v":0},{"$f":"'2a'!J9","v":0},{"$f":"'2a'!K9","v":0},{"$f":"'2a'!L9","v":0},{"$f":"'2a'!M9","v":0},{"$f":"'2a'!N9","v":0},{"$f":"'2a'!O9","v":0},{"$f":"'2a'!P9","v":0},{"$f":"'2a'!Q9","v":0},{"$f":"'2a'!R9","v":0},{"$f":"'2a'!S9","v":0},{"$f":"'2a'!T9","v":0},{"$f":"'2a'!U9","v":0},{"$f":"'2a'!V9","v":0},{"$f":"'2a'!W9","v":0},{"$f":"'2a'!X9","v":0},{"$f":"'2a'!Y9","v":0},{"$f":"'2a'!Z9","v":0},{"$f":"'2a'!AA9","v":0},{"$f":"'2a'!AB9","v":0},{"$f":"'2a'!AC9","v":0},{"$f":"'2a'!AD9","v":0},{"$f":"'2a'!AE9","v":0},{"$f":"'2a'!AF9","v":0},{"$f":"'2a'!AG9","v":0},{"$f":"'2a'!AH9","v":0},{"$f":"'2a'!AI9","v":0},{"$f":"'2a'!AJ9","v":0},{"$f":"'2a'!AK9","v":0},{"$f":"'2a'!AL9","v":0},{"$f":"'2a'!AM9","v":0},{"$f":"'2a'!AN9","v":0},{"$f":"'2a'!AO9","v":0},{"$f":"'2a'!AP9","v":0},{"$f":"'2a'!AQ9","v":0},{"$f":"'2a'!AR9","v":0},{"$f":"'2a'!AS9","v":0},{"$f":"'2a'!AT9","v":0},{"$f":"'2a'!AU9","v":0},{"$f":"'2a'!AV9","v":0},{"$f":"'2a'!AW9","v":0},{"$f":"'2a'!AX9","v":0},{"$f":"'2a'!AY9","v":0},{"$f":"'2a'!AZ9","v":0},{"$f":"'2a'!BA9","v":0},{"$f":"'2a'!BB9","v":0},{"$f":"'2a'!BC9","v":0},{"$f":"'2a'!BD9","v":0},{"$f":"'2a'!BE9","v":0}]
[{"$f":"'2a'!A10","v":"2a"},{"$f":"'2a'!B10","v":0},{"$f":"'2a'!C10","v":0},{"$f":"'2a'!D10","v":"lehrer08"},{"$f":"'2a'!E10","v":0},{"$f":"'2a'!F10","v":0},{"$f":"'2a'!G10","v":0},{"$f":"'2a'!H10","v":0},{"$f":"'2a'!I10","v":0},{"$f":"'2a'!J10","v":0},{"$f":"'2a'!K10","v":0},{"$f":"'2a'!L10","v":0},{"$f":"'2a'!M10","v":0},{"$f":"'2a'!N10","v":0},{"$f":"'2a'!O10","v":0},{"$f":"'2a'!P10","v":0},{"$f":"'2a'!Q10","v":0},{"$f":"'2a'!R10","v":0},{"$f":"'2a'!S10","v":0},{"$f":"'2a'!T10","v":0},{"$f":"'2a'!U10","v":0},{"$f":"'2a'!V10","v":0},{"$f":"'2a'!W10","v":0},{"$f":"'2a'!X10","v":0},{"$f":"'2a'!Y10","v":0},{"$f":"'2a'!Z10","v":0},{"$f":"'2a'!AA10","v":0},{"$f":"'2a'!AB10","v":0},{"$f":"'2a'!AC10","v":0},{"$f":"'2a'!AD10","v":0},{"$f":"'2a'!AE10","v":0},{"$f":"'2a'!AF10","v":0},{"$f":"'2a'!AG10","v":0},{"$f":"'2a'!AH10","v":0},{"$f":"'2a'!AI10","v":0},{"$f":"'2a'!AJ10","v":0},{"$f":"'2a'!AK10","v":0},{"$f":"'2a'!AL10","v":0},{"$f":"'2a'!AM10","v":0},{"$f":"'2a'!AN10","v":0},{"$f":"'2a'!AO10","v":0},{"$f":"'2a'!AP10","v":0},{"$f":"'2a'!AQ10","v":0},{"$f":"'2a'!AR10","v":0},{"$f":"'2a'!AS10","v":0},{"$f":"'2a'!AT10","v":0},{"$f":"'2a'!AU10","v":0},{"$f":"'2a'!AV10","v":0},{"$f":"'2a'!AW10","v":0},{"$f":"'2a'!AX10","v":0},{"$f":"'2a'!AY10","v":0},{"$f":"'2a'!AZ10","v":0},{"$f":"'2a'!BA10","v":0},{"$f":"'2a'!BB10","v":0},{"$f":"'2a'!BC10","v":0},{"$f":"'2a'!BD10","v":0},{"$f":"'2a'!BE10","v":0}]
[{"$f":"'2a'!A11","v":"2a"},{"$f":"'2a'!B11","v":0},{"$f":"'2a'!C11","v":0},{"$f":"'2a'!D11","v":"lehrer09"},{"$f":"'2a'!E11","v":0},{"$f":"'2a'!F11","v":0},{"$f":"'2a'!G11","v":0},{"$f":"'2a'!H11","v":0},{"$f":"'2a'!I11","v":0},{"$f":"'2a'!J11","v":0},{"$f":"'2a'!K11","v":0},{"$f":"'2a'!L11","v":0},{"$f":"'2a'!M11","v":0},{"$f":"'2a'!N11","v":0},{"$f":"'2a'!O11","v":0},{"$f":"'2a'!P11","v":0},{"$f":"'2a'!Q11","v":0},{"$f":"'2a'!R11","v":0},{"$f":"'2a'!S11","v":0},{"$f":"'2a'!T11","v":0},{"$f":"'2a'!U11","v":0},{"$f":"'2a'!V11","v":0},{"$f":"'2a'!W11","v":0},{"$f":"'2a'!X11","v":0},{"$f":"'2a'!Y11","v":0},{"$f":"'2a'!Z11","v":0},{"$f":"'2a'!AA11","v":0},{"$f":"'2a'!AB11","v":0},{"$f":"'2a'!AC11","v":0},{"$f":"'2a'!AD11","v":0},{"$f":"'2a'!AE11","v":0},{"$f":"'2a'!AF11","v":0},{"$f":"'2a'!AG11","v":0},{"$f":"'2a'!AH11","v":0},{"$f":"'2a'!AI11","v":0},{"$f":"'2a'!AJ11","v":0},{"$f":"'2a'!AK11","v":0},{"$f":"'2a'!AL11","v":0},{"$f":"'2a'!AM11","v":0},{"$f":"'2a'!AN11","v":0},{"$f":"'2a'!AO11","v":0},{"$f":"'2a'!AP11","v":0},{"$f":"'2a'!AQ11","v":0},{"$f":"'2a'!AR11","v":0},{"$f":"'2a'!AS11","v":0},{"$f":"'2a'!AT11","v":0},{"$f":"'2a'!AU11","v":0},{"$f":"'2a'!AV11","v":0},{"$f":"'2a'!AW11","v":0},{"$f":"'2a'!AX11","v":0},{"$f":"'2a'!AY11","v":0},{"$f":"'2a'!AZ11","v":0},{"$f":"'2a'!BA11","v":0},{"$f":"'2a'!BB11","v":0},{"$f":"'2a'!BC11","v":0},{"$f":"'2a'!BD11","v":0},{"$f":"'2a'!BE11","v":0}]
[{"$f":"'2a'!A12","v":"2a"},{"$f":"'2a'!B12","v":0},{"$f":"'2a'!C12","v":0},{"$f":"'2a'!D12","v":"lehrer10"},{"$f":"'2a'!E12","v":0},{"$f":"'2a'!F12","v":0},{"$f":"'2a'!G12","v":0},{"$f":"'2a'!H12","v":0},{"$f":"'2a'!I12","v":0},{"$f":"'2a'!J12","v":0},{"$f":"'2a'!K12","v":0},{"$f":"'2a'!L12","v":0},{"$f":"'2a'!M12","v":0},{"$f":"'2a'!N12","v":0},{"$f":"'2a'!O12","v":0},{"$f":"'2a'!P12","v":0},{"$f":"'2a'!Q12","v":0},{"$f":"'2a'!R12","v":0},{"$f":"'2a'!S12","v":0},{"$f":"'2a'!T12","v":0},{"$f":"'2a'!U12","v":0},{"$f":"'2a'!V12","v":0},{"$f":"'2a'!W12","v":0},{"$f":"'2a'!X12","v":0},{"$f":"'2a'!Y12","v":0},{"$f":"'2a'!Z12","v":0},{"$f":"'2a'!AA12","v":0},{"$f":"'2a'!AB12","v":0},{"$f":"'2a'!AC12","v":0},{"$f":"'2a'!AD12","v":0},{"$f":"'2a'!AE12","v":0},{"$f":"'2a'!AF12","v":0},{"$f":"'2a'!AG12","v":0},{"$f":"'2a'!AH12","v":0},{"$f":"'2a'!AI12","v":0},{"$f":"'2a'!AJ12","v":0},{"$f":"'2a'!AK12","v":0},{"$f":"'2a'!AL12","v":0},{"$f":"'2a'!AM12","v":0},{"$f":"'2a'!AN12","v":0},{"$f":"'2a'!AO12","v":0},{"$f":"'2a'!AP12","v":0},{"$f":"'2a'!AQ12","v":0},{"$f":"'2a'!AR12","v":0},{"$f":"'2a'!AS12","v":0},{"$f":"'2a'!AT12","v":0},{"$f":"'2a'!AU12","v":0},{"$f":"'2a'!AV12","v":0},{"$f":"'2a'!AW12","v":0},{"$f":"'2a'!AX12","v":0},{"$f":"'2a'!AY12","v":0},{"$f":"'2a'!AZ12","v":0},{"$f":"'2a'!BA12","v":0},{"$f":"'2a'!BB12","v":0},{"$f":"'2a'!BC12","v":0},{"$f":"'2a'!BD12","v":0},{"$f":"'2a'!BE12","v":0}]
[{"$f":"'2a'!A13","v":"2a"},{"$f":"'2a'!B13","v":0},{"$f":"'2a'!C13","v":0},{"$f":"'2a'!D13","v":"lehrer11"},{"$f":"'2a'!E13","v":0},{"$f":"'2a'!F13","v":0},{"$f":"'2a'!G13","v":0},{"$f":"'2a'!H13","v":0},{"$f":"'2a'!I13","v":0},{"$f":"'2a'!J13","v":0},{"$f":"'2a'!K13","v":0},{"$f":"'2a'!L13","v":0},{"$f":"'2a'!M13","v":0},{"$f":"'2a'!N13","v":0},{"$f":"'2a'!O13","v":0},{"$f":"'2a'!P13","v":0},{"$f":"'2a'!Q13","v":0},{"$f":"'2a'!R13","v":0},{"$f":"'2a'!S13","v":0},{"$f":"'2a'!T13","v":0},{"$f":"'2a'!U13","v":0},{"$f":"'2a'!V13","v":0},{"$f":"'2a'!W13","v":0},{"$f":"'2a'!X13","v":0},{"$f":"'2a'!Y13","v":0},{"$f":"'2a'!Z13","v":0},{"$f":"'2a'!AA13","v":0},{"$f":"'2a'!AB13","v":0},{"$f":"'2a'!AC13","v":0},{"$f":"'2a'!AD13","v":0},{"$f":"'2a'!AE13","v":0},{"$f":"'2a'!AF13","v":0},{"$f":"'2a'!AG13","v":0},{"$f":"'2a'!AH13","v":0},{"$f":"'2a'!AI13","v":0},{"$f":"'2a'!AJ13","v":0},{"$f":"'2a'!AK13","v":0},{"$f":"'2a'!AL13","v":0},{"$f":"'2a'!AM13","v":0},{"$f":"'2a'!AN13","v":0},{"$f":"'2a'!AO13","v":0},{"$f":"'2a'!AP13","v":0},{"$f":"'2a'!AQ13","v":0},{"$f":"'2a'!AR13","v":0},{"$f":"'2a'!AS13","v":0},{"$f":"'2a'!AT13","v":0},{"$f":"'2a'!AU13","v":0},{"$f":"'2a'!AV13","v":0},{"$f":"'2a'!AW13","v":0},{"$f":"'2a'!AX13","v":0},{"$f":"'2a'!AY13","v":0},{"$f":"'2a'!AZ13","v":0},{"$f":"'2a'!BA13","v":0},{"$f":"'2a'!BB13","v":0},{"$f":"'2a'!BC13","v":0},{"$f":"'2a'!BD13","v":0},{"$f":"'2a'!BE13","v":0}]
[{"$f":"'2a'!A14","v":"2a"},{"$f":"'2a'!B14","v":0},{"$f":"'2a'!C14","v":0},{"$f":"'2a'!D14","v":"lehrer12"},{"$f":"'2a'!E14","v":0},{"$f":"'2a'!F14","v":0},{"$f":"'2a'!G14","v":0},{"$f":"'2a'!H14","v":0},{"$f":"'2a'!I14","v":0},{"$f":"'2a'!J14","v":0},{"$f":"'2a'!K14","v":0},{"$f":"'2a'!L14","v":0},{"$f":"'2a'!M14","v":0},{"$f":"'2a'!N14","v":0},{"$f":"'2a'!O14","v":0},{"$f":"'2a'!P14","v":0},{"$f":"'2a'!Q14","v":0},{"$f":"'2a'!R14","v":0},{"$f":"'2a'!S14","v":0},{"$f":"'2a'!T14","v":0},{"$f":"'2a'!U14","v":0},{"$f":"'2a'!V14","v":0},{"$f":"'2a'!W14","v":0},{"$f":"'2a'!X14","v":0},{"$f":"'2a'!Y14","v":0},{"$f":"'2a'!Z14","v":0},{"$f":"'2a'!AA14","v":0},{"$f":"'2a'!AB14","v":0},{"$f":"'2a'!AC14","v":0},{"$f":"'2a'!AD14","v":0},{"$f":"'2a'!AE14","v":0},{"$f":"'2a'!AF14","v":0},{"$f":"'2a'!AG14","v":0},{"$f":"'2a'!AH14","v":0},{"$f":"'2a'!AI14","v":0},{"$f":"'2a'!AJ14","v":0},{"$f":"'2a'!AK14","v":0},{"$f":"'2a'!AL14","v":0},{"$f":"'2a'!AM14","v":0},{"$f":"'2a'!AN14","v":0},{"$f":"'2a'!AO14","v":0},{"$f":"'2a'!AP14","v":0},{"$f":"'2a'!AQ14","v":0},{"$f":"'2a'!AR14","v":0},{"$f":"'2a'!AS14","v":0},{"$f":"'2a'!AT14","v":0},{"$f":"'2a'!AU14","v":0},{"$f":"'2a'!AV14","v":0},{"$f":"'2a'!AW14","v":0},{"$f":"'2a'!AX14","v":0},{"$f":"'2a'!AY14","v":0},{"$f":"'2a'!AZ14","v":0},{"$f":"'2a'!BA14","v":0},{"$f":"'2a'!BB14","v":0},{"$f":"'2a'!BC14","v":0},{"$f":"'2a'!BD14","v":0},{"$f":"'2a'!BE14","v":0}]
[{"$f":"'2a'!A15","v":"2a"},{"$f":"'2a'!B15","v":0},{"$f":"'2a'!C15","v":0},{"$f":"'2a'!D15","v":"lehrer13"},{"$f":"'2a'!E15","v":0},{"$f":"'2a'!F15","v":0},{"$f":"'2a'!G15","v":0},{"$f":"'2a'!H15","v":0},{"$f":"'2a'!I15","v":0},{"$f":"'2a'!J15","v":0},{"$f":"'2a'!K15","v":0},{"$f":"'2a'!L15","v":0},{"$f":"'2a'!M15","v":0},{"$f":"'2a'!N15","v":0},{"$f":"'2a'!O15","v":0},{"$f":"'2a'!P15","v":0},{"$f":"'2a'!Q15","v":0},{"$f":"'2a'!R15","v":0},{"$f":"'2a'!S15","v":0},{"$f":"'2a'!T15","v":0},{"$f":"'2a'!U15","v":0},{"$f":"'2a'!V15","v":0},{"$f":"'2a'!W15","v":0},{"$f":"'2a'!X15","v":0},{"$f":"'2a'!Y15","v":0},{"$f":"'2a'!Z15","v":0},{"$f":"'2a'!AA15","v":0},{"$f":"'2a'!AB15","v":0},{"$f":"'2a'!AC15","v":0},{"$f":"'2a'!AD15","v":0},{"$f":"'2a'!AE15","v":0},{"$f":"'2a'!AF15","v":0},{"$f":"'2a'!AG15","v":0},{"$f":"'2a'!AH15","v":0},{"$f":"'2a'!AI15","v":0},{"$f":"'2a'!AJ15","v":0},{"$f":"'2a'!AK15","v":0},{"$f":"'2a'!AL15","v":0},{"$f":"'2a'!AM15","v":0},{"$f":"'2a'!AN15","v":0},{"$f":"'2a'!AO15","v":0},{"$f":"'2a'!AP15","v":0},{"$f":"'2a'!AQ15","v":0},{"$f":"'2a'!AR15","v":0},{"$f":"'2a'!AS15","v":0},{"$f":"'2a'!AT15","v":0},{"$f":"'2a'!AU15","v":0},{"$f":"'2a'!AV15","v":0},{"$f":"'2a'!AW15","v":0},{"$f":"'2a'!AX15","v":0},{"$f":"'2a'!AY15","v":0},{"$f":"'2a'!AZ15","v":0},{"$f":"'2a'!BA15","v":0},{"$f":"'2a'!BB15","v":0},{"$f":"'2a'!BC15","v":0},{"$f":"'2a'!BD15","v":0},{"$f":"'2a'!BE15","v":0}]
[{"$f":"'2a'!A16","v":"2a"},{"$f":"'2a'!B16","v":0},{"$f":"'2a'!C16","v":0},{"$f":"'2a'!D16","v":"lehrer14"},{"$f":"'2a'!E16","v":0},{"$f":"'2a'!F16","v":0},{"$f":"'2a'!G16","v":0},{"$f":"'2a'!H16","v":0},{"$f":"'2a'!I16","v":0},{"$f":"'2a'!J16","v":0},{"$f":"'2a'!K16","v":0},{"$f":"'2a'!L16","v":0},{"$f":"'2a'!M16","v":0},{"$f":"'2a'!N16","v":0},{"$f":"'2a'!O16","v":0},{"$f":"'2a'!P16","v":0},{"$f":"'2a'!Q16","v":0},{"$f":"'2a'!R16","v":0},{"$f":"'2a'!S16","v":0},{"$f":"'2a'!T16","v":0},{"$f":"'2a'!U16","v":0},{"$f":"'2a'!V16","v":0},{"$f":"'2a'!W16","v":0},{"$f":"'2a'!X16","v":0},{"$f":"'2a'!Y16","v":0},{"$f":"'2a'!Z16","v":0},{"$f":"'2a'!AA16","v":0},{"$f":"'2a'!AB16","v":0},{"$f":"'2a'!AC16","v":0},{"$f":"'2a'!AD16","v":0},{"$f":"'2a'!AE16","v":0},{"$f":"'2a'!AF16","v":0},{"$f":"'2a'!AG16","v":0},{"$f":"'2a'!AH16","v":0},{"$f":"'2a'!AI16","v":0},{"$f":"'2a'!AJ16","v":0},{"$f":"'2a'!AK16","v":0},{"$f":"'2a'!AL16","v":0},{"$f":"'2a'!AM16","v":0},{"$f":"'2a'!AN16","v":0},{"$f":"'2a'!AO16","v":0},{"$f":"'2a'!AP16","v":0},{"$f":"'2a'!AQ16","v":0},{"$f":"'2a'!AR16","v":0},{"$f":"'2a'!AS16","v":0},{"$f":"'2a'!AT16","v":0},{"$f":"'2a'!AU16","v":0},{"$f":"'2a'!AV16","v":0},{"$f":"'2a'!AW16","v":0},{"$f":"'2a'!AX16","v":0},{"$f":"'2a'!AY16","v":0},{"$f":"'2a'!AZ16","v":0},{"$f":"'2a'!BA16","v":0},{"$f":"'2a'!BB16","v":0},{"$f":"'2a'!BC16","v":0},{"$f":"'2a'!BD16","v":0},{"$f":"'2a'!BE16","v":0}]
[{"$f":"'2a'!A17","v":"2a"},{"$f":"'2a'!B17","v":0},{"$f":"'2a'!C17","v":0},{"$f":"'2a'!D17","v":"lehrer15"},{"$f":"'2a'!E17","v":0},{"$f":"'2a'!F17","v":0},{"$f":"'2a'!G17","v":0},{"$f":"'2a'!H17","v":0},{"$f":"'2a'!I17","v":0},{"$f":"'2a'!J17","v":0},{"$f":"'2a'!K17","v":0},{"$f":"'2a'!L17","v":0},{"$f":"'2a'!M17","v":0},{"$f":"'2a'!N17","v":0},{"$f":"'2a'!O17","v":0},{"$f":"'2a'!P17","v":0},{"$f":"'2a'!Q17","v":0},{"$f":"'2a'!R17","v":0},{"$f":"'2a'!S17","v":0},{"$f":"'2a'!T17","v":0},{"$f":"'2a'!U17","v":0},{"$f":"'2a'!V17","v":0},{"$f":"'2a'!W17","v":0},{"$f":"'2a'!X17","v":0},{"$f":"'2a'!Y17","v":0},{"$f":"'2a'!Z17","v":0},{"$f":"'2a'!AA17","v":0},{"$f":"'2a'!AB17","v":0},{"$f":"'2a'!AC17","v":0},{"$f":"'2a'!AD17","v":0},{"$f":"'2a'!AE17","v":0},{"$f":"'2a'!AF17","v":0},{"$f":"'2a'!AG17","v":0},{"$f":"'2a'!AH17","v":0},{"$f":"'2a'!AI17","v":0},{"$f":"'2a'!AJ17","v":0},{"$f":"'2a'!AK17","v":0},{"$f":"'2a'!AL17","v":0},{"$f":"'2a'!AM17","v":0},{"$f":"'2a'!AN17","v":0},{"$f":"'2a'!AO17","v":0},{"$f":"'2a'!AP17","v":0},{"$f":"'2a'!AQ17","v":0},{"$f":"'2a'!AR17","v":0},{"$f":"'2a'!AS17","v":0},{"$f":"'2a'!AT17","v":0},{"$f":"'2a'!AU17","v":0},{"$f":"'2a'!AV17","v":0},{"$f":"'2a'!AW17","v":0},{"$f":"'2a'!AX17","v":0},{"$f":"'2a'!AY17","v":0},{"$f":"'2a'!AZ17","v":0},{"$f":"'2a'!BA17","v":0},{"$f":"'2a'!BB17","v":0},{"$f":"'2a'!BC17","v":0},{"$f":"'2a'!BD17","v":0},{"$f":"'2a'!BE17","v":0}]
[{"$f":"'2a'!A18","v":"2a"},{"$f":"'2a'!B18","v":0},{"$f":"'2a'!C18","v":0},{"$f":"'2a'!D18","v":"lehrer16"},{"$f":"'2a'!E18","v":0},{"$f":"'2a'!F18","v":0},{"$f":"'2a'!G18","v":0},{"$f":"'2a'!H18","v":0},{"$f":"'2a'!I18","v":0},{"$f":"'2a'!J18","v":0},{"$f":"'2a'!K18","v":0},{"$f":"'2a'!L18","v":0},{"$f":"'2a'!M18","v":0},{"$f":"'2a'!N18","v":0},{"$f":"'2a'!O18","v":0},{"$f":"'2a'!P18","v":0},{"$f":"'2a'!Q18","v":0},{"$f":"'2a'!R18","v":0},{"$f":"'2a'!S18","v":0},{"$f":"'2a'!T18","v":0},{"$f":"'2a'!U18","v":0},{"$f":"'2a'!V18","v":0},{"$f":"'2a'!W18","v":0},{"$f":"'2a'!X18","v":0},{"$f":"'2a'!Y18","v":0},{"$f":"'2a'!Z18","v":0},{"$f":"'2a'!AA18","v":0},{"$f":"'2a'!AB18","v":0},{"$f":"'2a'!AC18","v":0},{"$f":"'2a'!AD18","v":0},{"$f":"'2a'!AE18","v":0},{"$f":"'2a'!AF18","v":0},{"$f":"'2a'!AG18","v":0},{"$f":"'2a'!AH18","v":0},{"$f":"'2a'!AI18","v":0},{"$f":"'2a'!AJ18","v":0},{"$f":"'2a'!AK18","v":0},{"$f":"'2a'!AL18","v":0},{"$f":"'2a'!AM18","v":0},{"$f":"'2a'!AN18","v":0},{"$f":"'2a'!AO18","v":0},{"$f":"'2a'!AP18","v":0},{"$f":"'2a'!AQ18","v":0},{"$f":"'2a'!AR18","v":0},{"$f":"'2a'!AS18","v":0},{"$f":"'2a'!AT18","v":0},{"$f":"'2a'!AU18","v":0},{"$f":"'2a'!AV18","v":0},{"$f":"'2a'!AW18","v":0},{"$f":"'2a'!AX18","v":0},{"$f":"'2a'!AY18","v":0},{"$f":"'2a'!AZ18","v":0},{"$f":"'2a'!BA18","v":0},{"$f":"'2a'!BB18","v":0},{"$f":"'2a'!BC18","v":0},{"$f":"'2a'!BD18","v":0},{"$f":"'2a'!BE18","v":0}]
[{"$f":"'2a'!A19","v":"2a"},{"$f":"'2a'!B19","v":0},{"$f":"'2a'!C19","v":0},{"$f":"'2a'!D19","v":"lehrer17"},{"$f":"'2a'!E19","v":0},{"$f":"'2a'!F19","v":0},{"$f":"'2a'!G19","v":0},{"$f":"'2a'!H19","v":0},{"$f":"'2a'!I19","v":0},{"$f":"'2a'!J19","v":0},{"$f":"'2a'!K19","v":0},{"$f":"'2a'!L19","v":0},{"$f":"'2a'!M19","v":0},{"$f":"'2a'!N19","v":0},{"$f":"'2a'!O19","v":0},{"$f":"'2a'!P19","v":0},{"$f":"'2a'!Q19","v":0},{"$f":"'2a'!R19","v":0},{"$f":"'2a'!S19","v":0},{"$f":"'2a'!T19","v":0},{"$f":"'2a'!U19","v":0},{"$f":"'2a'!V19","v":0},{"$f":"'2a'!W19","v":0},{"$f":"'2a'!X19","v":0},{"$f":"'2a'!Y19","v":0},{"$f":"'2a'!Z19","v":0},{"$f":"'2a'!AA19","v":0},{"$f":"'2a'!AB19","v":0},{"$f":"'2a'!AC19","v":0},{"$f":"'2a'!AD19","v":0},{"$f":"'2a'!AE19","v":0},{"$f":"'2a'!AF19","v":0},{"$f":"'2a'!AG19","v":0},{"$f":"'2a'!AH19","v":0},{"$f":"'2a'!AI19","v":0},{"$f":"'2a'!AJ19","v":0},{"$f":"'2a'!AK19","v":0},{"$f":"'2a'!AL19","v":0},{"$f":"'2a'!AM19","v":0},{"$f":"'2a'!AN19","v":0},{"$f":"'2a'!AO19","v":0},{"$f":"'2a'!AP19","v":0},{"$f":"'2a'!AQ19","v":0},{"$f":"'2a'!AR19","v":0},{"$f":"'2a'!AS19","v":0},{"$f":"'2a'!AT19","v":0},{"$f":"'2a'!AU19","v":0},{"$f":"'2a'!AV19","v":0},{"$f":"'2a'!AW19","v":0},{"$f":"'2a'!AX19","v":0},{"$f":"'2a'!AY19","v":0},{"$f":"'2a'!AZ19","v":0},{"$f":"'2a'!BA19","v":0},{"$f":"'2a'!BB19","v":0},{"$f":"'2a'!BC19","v":0},{"$f":"'2a'!BD19","v":0},{"$f":"'2a'!BE19","v":0}]
[{"$f":"'2a'!A20","v":"2a"},{"$f":"'2a'!B20","v":0},{"$f":"'2a'!C20","v":0},{"$f":"'2a'!D20","v":"lehrer18"},{"$f":"'2a'!E20","v":0},{"$f":"'2a'!F20","v":0},{"$f":"'2a'!G20","v":0},{"$f":"'2a'!H20","v":0},{"$f":"'2a'!I20","v":0},{"$f":"'2a'!J20","v":0},{"$f":"'2a'!K20","v":0},{"$f":"'2a'!L20","v":0},{"$f":"'2a'!M20","v":0},{"$f":"'2a'!N20","v":0},{"$f":"'2a'!O20","v":0},{"$f":"'2a'!P20","v":0},{"$f":"'2a'!Q20","v":0},{"$f":"'2a'!R20","v":0},{"$f":"'2a'!S20","v":0},{"$f":"'2a'!T20","v":0},{"$f":"'2a'!U20","v":0},{"$f":"'2a'!V20","v":0},{"$f":"'2a'!W20","v":0},{"$f":"'2a'!X20","v":0},{"$f":"'2a'!Y20","v":0},{"$f":"'2a'!Z20","v":0},{"$f":"'2a'!AA20","v":0},{"$f":"'2a'!AB20","v":0},{"$f":"'2a'!AC20","v":0},{"$f":"'2a'!AD20","v":0},{"$f":"'2a'!AE20","v":0},{"$f":"'2a'!AF20","v":0},{"$f":"'2a'!AG20","v":0},{"$f":"'2a'!AH20","v":0},{"$f":"'2a'!AI20","v":0},{"$f":"'2a'!AJ20","v":0},{"$f":"'2a'!AK20","v":0},{"$f":"'2a'!AL20","v":0},{"$f":"'2a'!AM20","v":0},{"$f":"'2a'!AN20","v":0},{"$f":"'2a'!AO20","v":0},{"$f":"'2a'!AP20","v":0},{"$f":"'2a'!AQ20","v":0},{"$f":"'2a'!AR20","v":0},{"$f":"'2a'!AS20","v":0},{"$f":"'2a'!AT20","v":0},{"$f":"'2a'!AU20","v":0},{"$f":"'2a'!AV20","v":0},{"$f":"'2a'!AW20","v":0},{"$f":"'2a'!AX20","v":0},{"$f":"'2a'!AY20","v":0},{"$f":"'2a'!AZ20","v":0},{"$f":"'2a'!BA20","v":0},{"$f":"'2a'!BB20","v":0},{"$f":"'2a'!BC20","v":0},{"$f":"'2a'!BD20","v":0},{"$f":"'2a'!BE20","v":0}]
[{"$f":"'2a'!A21","v":"2a"},{"$f":"'2a'!B21","v":0},{"$f":"'2a'!C21","v":0},{"$f":"'2a'!D21","v":"lehrer19"},{"$f":"'2a'!E21","v":0},{"$f":"'2a'!F21","v":0},{"$f":"'2a'!G21","v":0},{"$f":"'2a'!H21","v":0},{"$f":"'2a'!I21","v":0},{"$f":"'2a'!J21","v":0},{"$f":"'2a'!K21","v":0},{"$f":"'2a'!L21","v":0},{"$f":"'2a'!M21","v":0},{"$f":"'2a'!N21","v":0},{"$f":"'2a'!O21","v":0},{"$f":"'2a'!P21","v":0},{"$f":"'2a'!Q21","v":0},{"$f":"'2a'!R21","v":0},{"$f":"'2a'!S21","v":0},{"$f":"'2a'!T21","v":0},{"$f":"'2a'!U21","v":0},{"$f":"'2a'!V21","v":0},{"$f":"'2a'!W21","v":0},{"$f":"'2a'!X21","v":0},{"$f":"'2a'!Y21","v":0},{"$f":"'2a'!Z21","v":0},{"$f":"'2a'!AA21","v":0},{"$f":"'2a'!AB21","v":0},{"$f":"'2a'!AC21","v":0},{"$f":"'2a'!AD21","v":0},{"$f":"'2a'!AE21","v":0},{"$f":"'2a'!AF21","v":0},{"$f":"'2a'!AG21","v":0},{"$f":"'2a'!AH21","v":0},{"$f":"'2a'!AI21","v":0},{"$f":"'2a'!AJ21","v":0},{"$f":"'2a'!AK21","v":0},{"$f":"'2a'!AL21","v":0},{"$f":"'2a'!AM21","v":0},{"$f":"'2a'!AN21","v":0},{"$f":"'2a'!AO21","v":0},{"$f":"'2a'!AP21","v":0},{"$f":"'2a'!AQ21","v":0},{"$f":"'2a'!AR21","v":0},{"$f":"'2a'!AS21","v":0},{"$f":"'2a'!AT21","v":0},{"$f":"'2a'!AU21","v":0},{"$f":"'2a'!AV21","v":0},{"$f":"'2a'!AW21","v":0},{"$f":"'2a'!AX21","v":0},{"$f":"'2a'!AY21","v":0},{"$f":"'2a'!AZ21","v":0},{"$f":"'2a'!BA21","v":0},{"$f":"'2a'!BB21","v":0},{"$f":"'2a'!BC21","v":0},{"$f":"'2a'!BD21","v":0},{"$f":"'2a'!BE21","v":0}]
[{"$f":"'2a'!A22","v":"2a"},{"$f":"'2a'!B22","v":0},{"$f":"'2a'!C22","v":0},{"$f":"'2a'!D22","v":"lehrer20"},{"$f":"'2a'!E22","v":0},{"$f":"'2a'!F22","v":0},{"$f":"'2a'!G22","v":0},{"$f":"'2a'!H22","v":0},{"$f":"'2a'!I22","v":0},{"$f":"'2a'!J22","v":0},{"$f":"'2a'!K22","v":0},{"$f":"'2a'!L22","v":0},{"$f":"'2a'!M22","v":0},{"$f":"'2a'!N22","v":0},{"$f":"'2a'!O22","v":0},{"$f":"'2a'!P22","v":0},{"$f":"'2a'!Q22","v":0},{"$f":"'2a'!R22","v":0},{"$f":"'2a'!S22","v":0},{"$f":"'2a'!T22","v":0},{"$f":"'2a'!U22","v":0},{"$f":"'2a'!V22","v":0},{"$f":"'2a'!W22","v":0},{"$f":"'2a'!X22","v":0},{"$f":"'2a'!Y22","v":0},{"$f":"'2a'!Z22","v":0},{"$f":"'2a'!AA22","v":0},{"$f":"'2a'!AB22","v":0},{"$f":"'2a'!AC22","v":0},{"$f":"'2a'!AD22","v":0},{"$f":"'2a'!AE22","v":0},{"$f":"'2a'!AF22","v":0},{"$f":"'2a'!AG22","v":0},{"$f":"'2a'!AH22","v":0},{"$f":"'2a'!AI22","v":0},{"$f":"'2a'!AJ22","v":0},{"$f":"'2a'!AK22","v":0},{"$f":"'2a'!AL22","v":0},{"$f":"'2a'!AM22","v":0},{"$f":"'2a'!AN22","v":0},{"$f":"'2a'!AO22","v":0},{"$f":"'2a'!AP22","v":0},{"$f":"'2a'!AQ22","v":0},{"$f":"'2a'!AR22","v":0},{"$f":"'2a'!AS22","v":0},{"$f":"'2a'!AT22","v":0},{"$f":"'2a'!AU22","v":0},{"$f":"'2a'!AV22","v":0},{"$f":"'2a'!AW22","v":0},{"$f":"'2a'!AX22","v":0},{"$f":"'2a'!AY22","v":0},{"$f":"'2a'!AZ22","v":0},{"$f":"'2a'!BA22","v":0},{"$f":"'2a'!BB22","v":0},{"$f":"'2a'!BC22","v":0},{"$f":"'2a'!BD22","v":0},{"$f":"'2a'!BE22","v":0}]
[{"$f":"'2a'!A23","v":"2a"},{"$f":"'2a'!B23","v":0},{"$f":"'2a'!C23","v":0},{"$f":"'2a'!D23","v":"lehrer21"},{"$f":"'2a'!E23","v":0},{"$f":"'2a'!F23","v":0},{"$f":"'2a'!G23","v":0},{"$f":"'2a'!H23","v":0},{"$f":"'2a'!I23","v":0},{"$f":"'2a'!J23","v":0},{"$f":"'2a'!K23","v":0},{"$f":"'2a'!L23","v":0},{"$f":"'2a'!M23","v":0},{"$f":"'2a'!N23","v":0},{"$f":"'2a'!O23","v":0},{"$f":"'2a'!P23","v":0},{"$f":"'2a'!Q23","v":0},{"$f":"'2a'!R23","v":0},{"$f":"'2a'!S23","v":0},{"$f":"'2a'!T23","v":0},{"$f":"'2a'!U23","v":0},{"$f":"'2a'!V23","v":0},{"$f":"'2a'!W23","v":0},{"$f":"'2a'!X23","v":0},{"$f":"'2a'!Y23","v":0},{"$f":"'2a'!Z23","v":0},{"$f":"'2a'!AA23","v":0},{"$f":"'2a'!AB23","v":0},{"$f":"'2a'!AC23","v":0},{"$f":"'2a'!AD23","v":0},{"$f":"'2a'!AE23","v":0},{"$f":"'2a'!AF23","v":0},{"$f":"'2a'!AG23","v":0},{"$f":"'2a'!AH23","v":0},{"$f":"'2a'!AI23","v":0},{"$f":"'2a'!AJ23","v":0},{"$f":"'2a'!AK23","v":0},{"$f":"'2a'!AL23","v":0},{"$f":"'2a'!AM23","v":0},{"$f":"'2a'!AN23","v":0},{"$f":"'2a'!AO23","v":0},{"$f":"'2a'!AP23","v":0},{"$f":"'2a'!AQ23","v":0},{"$f":"'2a'!AR23","v":0},{"$f":"'2a'!AS23","v":0},{"$f":"'2a'!AT23","v":0},{"$f":"'2a'!AU23","v":0},{"$f":"'2a'!AV23","v":0},{"$f":"'2a'!AW23","v":0},{"$f":"'2a'!AX23","v":0},{"$f":"'2a'!AY23","v":0},{"$f":"'2a'!AZ23","v":0},{"$f":"'2a'!BA23","v":0},{"$f":"'2a'!BB23","v":0},{"$f":"'2a'!BC23","v":0},{"$f":"'2a'!BD23","v":0},{"$f":"'2a'!BE23","v":0}]
[{"$f":"'2a'!A24","v":"2a"},{"$f":"'2a'!B24","v":0},{"$f":"'2a'!C24","v":0},{"$f":"'2a'!D24","v":"lehrer22"},{"$f":"'2a'!E24","v":0},{"$f":"'2a'!F24","v":0},{"$f":"'2a'!G24","v":0},{"$f":"'2a'!H24","v":0},{"$f":"'2a'!I24","v":0},{"$f":"'2a'!J24","v":0},{"$f":"'2a'!K24","v":0},{"$f":"'2a'!L24","v":0},{"$f":"'2a'!M24","v":0},{"$f":"'2a'!N24","v":0},{"$f":"'2a'!O24","v":0},{"$f":"'2a'!P24","v":0},{"$f":"'2a'!Q24","v":0},{"$f":"'2a'!R24","v":0},{"$f":"'2a'!S24","v":0},{"$f":"'2a'!T24","v":0},{"$f":"'2a'!U24","v":0},{"$f":"'2a'!V24","v":0},{"$f":"'2a'!W24","v":0},{"$f":"'2a'!X24","v":0},{"$f":"'2a'!Y24","v":0},{"$f":"'2a'!Z24","v":0},{"$f":"'2a'!AA24","v":0},{"$f":"'2a'!AB24","v":0},{"$f":"'2a'!AC24","v":0},{"$f":"'2a'!AD24","v":0},{"$f":"'2a'!AE24","v":0},{"$f":"'2a'!AF24","v":0},{"$f":"'2a'!AG24","v":0},{"$f":"'2a'!AH24","v":0},{"$f":"'2a'!AI24","v":0},{"$f":"'2a'!AJ24","v":0},{"$f":"'2a'!AK24","v":0},{"$f":"'2a'!AL24","v":0},{"$f":"'2a'!AM24","v":0},{"$f":"'2a'!AN24","v":0},{"$f":"'2a'!AO24","v":0},{"$f":"'2a'!AP24","v":0},{"$f":"'2a'!AQ24","v":0},{"$f":"'2a'!AR24","v":0},{"$f":"'2a'!AS24","v":0},{"$f":"'2a'!AT24","v":0},{"$f":"'2a'!AU24","v":0},{"$f":"'2a'!AV24","v":0},{"$f":"'2a'!AW24","v":0},{"$f":"'2a'!AX24","v":0},{"$f":"'2a'!AY24","v":0},{"$f":"'2a'!AZ24","v":0},{"$f":"'2a'!BA24","v":0},{"$f":"'2a'!BB24","v":0},{"$f":"'2a'!BC24","v":0},{"$f":"'2a'!BD24","v":0},{"$f":"'2a'!BE24","v":0}]
[{"$f":"'2a'!A25","v":"2a"},{"$f":"'2a'!B25","v":0},{"$f":"'2a'!C25","v":0},{"$f":"'2a'!D25","v":"lehrer23"},{"$f":"'2a'!E25","v":0},{"$f":"'2a'!F25","v":0},{"$f":"'2a'!G25","v":0},{"$f":"'2a'!H25","v":0},{"$f":"'2a'!I25","v":0},{"$f":"'2a'!J25","v":0},{"$f":"'2a'!K25","v":0},{"$f":"'2a'!L25","v":0},{"$f":"'2a'!M25","v":0},{"$f":"'2a'!N25","v":0},{"$f":"'2a'!O25","v":0},{"$f":"'2a'!P25","v":0},{"$f":"'2a'!Q25","v":0},{"$f":"'2a'!R25","v":0},{"$f":"'2a'!S25","v":0},{"$f":"'2a'!T25","v":0},{"$f":"'2a'!U25","v":0},{"$f":"'2a'!V25","v":0},{"$f":"'2a'!W25","v":0},{"$f":"'2a'!X25","v":0},{"$f":"'2a'!Y25","v":0},{"$f":"'2a'!Z25","v":0},{"$f":"'2a'!AA25","v":0},{"$f":"'2a'!AB25","v":0},{"$f":"'2a'!AC25","v":0},{"$f":"'2a'!AD25","v":0},{"$f":"'2a'!AE25","v":0},{"$f":"'2a'!AF25","v":0},{"$f":"'2a'!AG25","v":0},{"$f":"'2a'!AH25","v":0},{"$f":"'2a'!AI25","v":0},{"$f":"'2a'!AJ25","v":0},{"$f":"'2a'!AK25","v":0},{"$f":"'2a'!AL25","v":0},{"$f":"'2a'!AM25","v":0},{"$f":"'2a'!AN25","v":0},{"$f":"'2a'!AO25","v":0},{"$f":"'2a'!AP25","v":0},{"$f":"'2a'!AQ25","v":0},{"$f":"'2a'!AR25","v":0},{"$f":"'2a'!AS25","v":0},{"$f":"'2a'!AT25","v":0},{"$f":"'2a'!AU25","v":0},{"$f":"'2a'!AV25","v":0},{"$f":"'2a'!AW25","v":0},{"$f":"'2a'!AX25","v":0},{"$f":"'2a'!AY25","v":0},{"$f":"'2a'!AZ25","v":0},{"$f":"'2a'!BA25","v":0},{"$f":"'2a'!BB25","v":0},{"$f":"'2a'!BC25","v":0},{"$f":"'2a'!BD25","v":0},{"$f":"'2a'!BE25","v":0}]
[{"$f":"'2a'!A26","v":"2a"},{"$f":"'2a'!B26","v":0},{"$f":"'2a'!C26","v":0},{"$f":"'2a'!D26","v":"lehrer24"},{"$f":"'2a'!E26","v":0},{"$f":"'2a'!F26","v":0},{"$f":"'2a'!G26","v":0},{"$f":"'2a'!H26","v":0},{"$f":"'2a'!I26","v":0},{"$f":"'2a'!J26","v":0},{"$f":"'2a'!K26","v":0},{"$f":"'2a'!L26","v":0},{"$f":"'2a'!M26","v":0},{"$f":"'2a'!N26","v":0},{"$f":"'2a'!O26","v":0},{"$f":"'2a'!P26","v":0},{"$f":"'2a'!Q26","v":0},{"$f":"'2a'!R26","v":0},{"$f":"'2a'!S26","v":0},{"$f":"'2a'!T26","v":0},{"$f":"'2a'!U26","v":0},{"$f":"'2a'!V26","v":0},{"$f":"'2a'!W26","v":0},{"$f":"'2a'!X26","v":0},{"$f":"'2a'!Y26","v":0},{"$f":"'2a'!Z26","v":0},{"$f":"'2a'!AA26","v":0},{"$f":"'2a'!AB26","v":0},{"$f":"'2a'!AC26","v":0},{"$f":"'2a'!AD26","v":0},{"$f":"'2a'!AE26","v":0},{"$f":"'2a'!AF26","v":0},{"$f":"'2a'!AG26","v":0},{"$f":"'2a'!AH26","v":0},{"$f":"'2a'!AI26","v":0},{"$f":"'2a'!AJ26","v":0},{"$f":"'2a'!AK26","v":0},{"$f":"'2a'!AL26","v":0},{"$f":"'2a'!AM26","v":0},{"$f":"'2a'!AN26","v":0},{"$f":"'2a'!AO26","v":0},{"$f":"'2a'!AP26","v":0},{"$f":"'2a'!AQ26","v":0},{"$f":"'2a'!AR26","v":0},{"$f":"'2a'!AS26","v":0},{"$f":"'2a'!AT26","v":0},{"$f":"'2a'!AU26","v":0},{"$f":"'2a'!AV26","v":0},{"$f":"'2a'!AW26","v":0},{"$f":"'2a'!AX26","v":0},{"$f":"'2a'!AY26","v":0},{"$f":"'2a'!AZ26","v":0},{"$f":"'2a'!BA26","v":0},{"$f":"'2a'!BB26","v":0},{"$f":"'2a'!BC26","v":0},{"$f":"'2a'!BD26","v":0},{"$f":"'2a'!BE26","v":0}]
[{"$f":"'2a'!A27","v":"2a"},{"$f":"'2a'!B27","v":0},{"$f":"'2a'!C27","v":0},{"$f":"'2a'!D27","v":"lehrer25"},{"$f":"'2a'!E27","v":0},{"$f":"'2a'!F27","v":0},{"$f":"'2a'!G27","v":0},{"$f":"'2a'!H27","v":0},{"$f":"'2a'!I27","v":0},{"$f":"'2a'!J27","v":0},{"$f":"'2a'!K27","v":0},{"$f":"'2a'!L27","v":0},{"$f":"'2a'!M27","v":0},{"$f":"'2a'!N27","v":0},{"$f":"'2a'!O27","v":0},{"$f":"'2a'!P27","v":0},{"$f":"'2a'!Q27","v":0},{"$f":"'2a'!R27","v":0},{"$f":"'2a'!S27","v":0},{"$f":"'2a'!T27","v":0},{"$f":"'2a'!U27","v":0},{"$f":"'2a'!V27","v":0},{"$f":"'2a'!W27","v":0},{"$f":"'2a'!X27","v":0},{"$f":"'2a'!Y27","v":0},{"$f":"'2a'!Z27","v":0},{"$f":"'2a'!AA27","v":0},{"$f":"'2a'!AB27","v":0},{"$f":"'2a'!AC27","v":0},{"$f":"'2a'!AD27","v":0},{"$f":"'2a'!AE27","v":0},{"$f":"'2a'!AF27","v":0},{"$f":"'2a'!AG27","v":0},{"$f":"'2a'!AH27","v":0},{"$f":"'2a'!AI27","v":0},{"$f":"'2a'!AJ27","v":0},{"$f":"'2a'!AK27","v":0},{"$f":"'2a'!AL27","v":0},{"$f":"'2a'!AM27","v":0},{"$f":"'2a'!AN27","v":0},{"$f":"'2a'!AO27","v":0},{"$f":"'2a'!AP27","v":0},{"$f":"'2a'!AQ27","v":0},{"$f":"'2a'!AR27","v":0},{"$f":"'2a'!AS27","v":0},{"$f":"'2a'!AT27","v":0},{"$f":"'2a'!AU27","v":0},{"$f":"'2a'!AV27","v":0},{"$f":"'2a'!AW27","v":0},{"$f":"'2a'!AX27","v":0},{"$f":"'2a'!AY27","v":0},{"$f":"'2a'!AZ27","v":0},{"$f":"'2a'!BA27","v":0},{"$f":"'2a'!BB27","v":0},{"$f":"'2a'!BC27","v":0},{"$f":"'2a'!BD27","v":0},{"$f":"'2a'!BE27","v":0}]
[{"$f":"'2a'!A28","v":"2a"},{"$f":"'2a'!B28","v":0},{"$f":"'2a'!C28","v":0},{"$f":"'2a'!D28","v":"lehrer26"},{"$f":"'2a'!E28","v":0},{"$f":"'2a'!F28","v":0},{"$f":"'2a'!G28","v":0},{"$f":"'2a'!H28","v":0},{"$f":"'2a'!I28","v":0},{"$f":"'2a'!J28","v":0},{"$f":"'2a'!K28","v":0},{"$f":"'2a'!L28","v":0},{"$f":"'2a'!M28","v":0},{"$f":"'2a'!N28","v":0},{"$f":"'2a'!O28","v":0},{"$f":"'2a'!P28","v":0},{"$f":"'2a'!Q28","v":0},{"$f":"'2a'!R28","v":0},{"$f":"'2a'!S28","v":0},{"$f":"'2a'!T28","v":0},{"$f":"'2a'!U28","v":0},{"$f":"'2a'!V28","v":0},{"$f":"'2a'!W28","v":0},{"$f":"'2a'!X28","v":0},{"$f":"'2a'!Y28","v":0},{"$f":"'2a'!Z28","v":0},{"$f":"'2a'!AA28","v":0},{"$f":"'2a'!AB28","v":0},{"$f":"'2a'!AC28","v":0},{"$f":"'2a'!AD28","v":0},{"$f":"'2a'!AE28","v":0},{"$f":"'2a'!AF28","v":0},{"$f":"'2a'!AG28","v":0},{"$f":"'2a'!AH28","v":0},{"$f":"'2a'!AI28","v":0},{"$f":"'2a'!AJ28","v":0},{"$f":"'2a'!AK28","v":0},{"$f":"'2a'!AL28","v":0},{"$f":"'2a'!AM28","v":0},{"$f":"'2a'!AN28","v":0},{"$f":"'2a'!AO28","v":0},{"$f":"'2a'!AP28","v":0},{"$f":"'2a'!AQ28","v":0},{"$f":"'2a'!AR28","v":0},{"$f":"'2a'!AS28","v":0},{"$f":"'2a'!AT28","v":0},{"$f":"'2a'!AU28","v":0},{"$f":"'2a'!AV28","v":0},{"$f":"'2a'!AW28","v":0},{"$f":"'2a'!AX28","v":0},{"$f":"'2a'!AY28","v":0},{"$f":"'2a'!AZ28","v":0},{"$f":"'2a'!BA28","v":0},{"$f":"'2a'!BB28","v":0},{"$f":"'2a'!BC28","v":0},{"$f":"'2a'!BD28","v":0},{"$f":"'2a'!BE28","v":0}]
[{"$f":"'2a'!A29","v":"2a"},{"$f":"'2a'!B29","v":0},{"$f":"'2a'!C29","v":0},{"$f":"'2a'!D29","v":"lehrer27"},{"$f":"'2a'!E29","v":0},{"$f":"'2a'!F29","v":0},{"$f":"'2a'!G29","v":0},{"$f":"'2a'!H29","v":0},{"$f":"'2a'!I29","v":0},{"$f":"'2a'!J29","v":0},{"$f":"'2a'!K29","v":0},{"$f":"'2a'!L29","v":0},{"$f":"'2a'!M29","v":0},{"$f":"'2a'!N29","v":0},{"$f":"'2a'!O29","v":0},{"$f":"'2a'!P29","v":0},{"$f":"'2a'!Q29","v":0},{"$f":"'2a'!R29","v":0},{"$f":"'2a'!S29","v":0},{"$f":"'2a'!T29","v":0},{"$f":"'2a'!U29","v":0},{"$f":"'2a'!V29","v":0},{"$f":"'2a'!W29","v":0},{"$f":"'2a'!X29","v":0},{"$f":"'2a'!Y29","v":0},{"$f":"'2a'!Z29","v":0},{"$f":"'2a'!AA29","v":0},{"$f":"'2a'!AB29","v":0},{"$f":"'2a'!AC29","v":0},{"$f":"'2a'!AD29","v":0},{"$f":"'2a'!AE29","v":0},{"$f":"'2a'!AF29","v":0},{"$f":"'2a'!AG29","v":0},{"$f":"'2a'!AH29","v":0},{"$f":"'2a'!AI29","v":0},{"$f":"'2a'!AJ29","v":0},{"$f":"'2a'!AK29","v":0},{"$f":"'2a'!AL29","v":0},{"$f":"'2a'!AM29","v":0},{"$f":"'2a'!AN29","v":0},{"$f":"'2a'!AO29","v":0},{"$f":"'2a'!AP29","v":0},{"$f":"'2a'!AQ29","v":0},{"$f":"'2a'!AR29","v":0},{"$f":"'2a'!AS29","v":0},{"$f":"'2a'!AT29","v":0},{"$f":"'2a'!AU29","v":0},{"$f":"'2a'!AV29","v":0},{"$f":"'2a'!AW29","v":0},{"$f":"'2a'!AX29","v":0},{"$f":"'2a'!AY29","v":0},{"$f":"'2a'!AZ29","v":0},{"$f":"'2a'!BA29","v":0},{"$f":"'2a'!BB29","v":0},{"$f":"'2a'!BC29","v":0},{"$f":"'2a'!BD29","v":0},{"$f":"'2a'!BE29","v":0}]
[{"$f":"'2a'!A30","v":"2a"},{"$f":"'2a'!B30","v":0},{"$f":"'2a'!C30","v":0},{"$f":"'2a'!D30","v":"lehrer28"},{"$f":"'2a'!E30","v":0},{"$f":"'2a'!F30","v":0},{"$f":"'2a'!G30","v":0},{"$f":"'2a'!H30","v":0},{"$f":"'2a'!I30","v":0},{"$f":"'2a'!J30","v":0},{"$f":"'2a'!K30","v":0},{"$f":"'2a'!L30","v":0},{"$f":"'2a'!M30","v":0},{"$f":"'2a'!N30","v":0},{"$f":"'2a'!O30","v":0},{"$f":"'2a'!P30","v":0},{"$f":"'2a'!Q30","v":0},{"$f":"'2a'!R30","v":0},{"$f":"'2a'!S30","v":0},{"$f":"'2a'!T30","v":0},{"$f":"'2a'!U30","v":0},{"$f":"'2a'!V30","v":0},{"$f":"'2a'!W30","v":0},{"$f":"'2a'!X30","v":0},{"$f":"'2a'!Y30","v":0},{"$f":"'2a'!Z30","v":0},{"$f":"'2a'!AA30","v":0},{"$f":"'2a'!AB30","v":0},{"$f":"'2a'!AC30","v":0},{"$f":"'2a'!AD30","v":0},{"$f":"'2a'!AE30","v":0},{"$f":"'2a'!AF30","v":0},{"$f":"'2a'!AG30","v":0},{"$f":"'2a'!AH30","v":0},{"$f":"'2a'!AI30","v":0},{"$f":"'2a'!AJ30","v":0},{"$f":"'2a'!AK30","v":0},{"$f":"'2a'!AL30","v":0},{"$f":"'2a'!AM30","v":0},{"$f":"'2a'!AN30","v":0},{"$f":"'2a'!AO30","v":0},{"$f":"'2a'!AP30","v":0},{"$f":"'2a'!AQ30","v":0},{"$f":"'2a'!AR30","v":0},{"$f":"'2a'!AS30","v":0},{"$f":"'2a'!AT30","v":0},{"$f":"'2a'!AU30","v":0},{"$f":"'2a'!AV30","v":0},{"$f":"'2a'!AW30","v":0},{"$f":"'2a'!AX30","v":0},{"$f":"'2a'!AY30","v":0},{"$f":"'2a'!AZ30","v":0},{"$f":"'2a'!BA30","v":0},{"$f":"'2a'!BB30","v":0},{"$f":"'2a'!BC30","v":0},{"$f":"'2a'!BD30","v":0},{"$f":"'2a'!BE30","v":0}]
[{"$f":"'2a'!A31","v":"2a"},{"$f":"'2a'!B31","v":0},{"$f":"'2a'!C31","v":0},{"$f":"'2a'!D31","v":"lehrer29"},{"$f":"'2a'!E31","v":0},{"$f":"'2a'!F31","v":0},{"$f":"'2a'!G31","v":0},{"$f":"'2a'!H31","v":0},{"$f":"'2a'!I31","v":0},{"$f":"'2a'!J31","v":0},{"$f":"'2a'!K31","v":0},{"$f":"'2a'!L31","v":0},{"$f":"'2a'!M31","v":0},{"$f":"'2a'!N31","v":0},{"$f":"'2a'!O31","v":0},{"$f":"'2a'!P31","v":0},{"$f":"'2a'!Q31","v":0},{"$f":"'2a'!R31","v":0},{"$f":"'2a'!S31","v":0},{"$f":"'2a'!T31","v":0},{"$f":"'2a'!U31","v":0},{"$f":"'2a'!V31","v":0},{"$f":"'2a'!W31","v":0},{"$f":"'2a'!X31","v":0},{"$f":"'2a'!Y31","v":0},{"$f":"'2a'!Z31","v":0},{"$f":"'2a'!AA31","v":0},{"$f":"'2a'!AB31","v":0},{"$f":"'2a'!AC31","v":0},{"$f":"'2a'!AD31","v":0},{"$f":"'2a'!AE31","v":0},{"$f":"'2a'!AF31","v":0},{"$f":"'2a'!AG31","v":0},{"$f":"'2a'!AH31","v":0},{"$f":"'2a'!AI31","v":0},{"$f":"'2a'!AJ31","v":0},{"$f":"'2a'!AK31","v":0},{"$f":"'2a'!AL31","v":0},{"$f":"'2a'!AM31","v":0},{"$f":"'2a'!AN31","v":0},{"$f":"'2a'!AO31","v":0},{"$f":"'2a'!AP31","v":0},{"$f":"'2a'!AQ31","v":0},{"$f":"'2a'!AR31","v":0},{"$f":"'2a'!AS31","v":0},{"$f":"'2a'!AT31","v":0},{"$f":"'2a'!AU31","v":0},{"$f":"'2a'!AV31","v":0},{"$f":"'2a'!AW31","v":0},{"$f":"'2a'!AX31","v":0},{"$f":"'2a'!AY31","v":0},{"$f":"'2a'!AZ31","v":0},{"$f":"'2a'!BA31","v":0},{"$f":"'2a'!BB31","v":0},{"$f":"'2a'!BC31","v":0},{"$f":"'2a'!BD31","v":0},{"$f":"'2a'!BE31","v":0}]
[{"$f":"'2a'!A32","v":"2a"},{"$f":"'2a'!B32","v":0},{"$f":"'2a'!C32","v":0},{"$f":"'2a'!D32","v":"lehrer30"},{"$f":"'2a'!E32","v":0},{"$f":"'2a'!F32","v":0},{"$f":"'2a'!G32","v":0},{"$f":"'2a'!H32","v":0},{"$f":"'2a'!I32","v":0},{"$f":"'2a'!J32","v":0},{"$f":"'2a'!K32","v":0},{"$f":"'2a'!L32","v":0},{"$f":"'2a'!M32","v":0},{"$f":"'2a'!N32","v":0},{"$f":"'2a'!O32","v":0},{"$f":"'2a'!P32","v":0},{"$f":"'2a'!Q32","v":0},{"$f":"'2a'!R32","v":0},{"$f":"'2a'!S32","v":0},{"$f":"'2a'!T32","v":0},{"$f":"'2a'!U32","v":0},{"$f":"'2a'!V32","v":0},{"$f":"'2a'!W32","v":0},{"$f":"'2a'!X32","v":0},{"$f":"'2a'!Y32","v":0},{"$f":"'2a'!Z32","v":0},{"$f":"'2a'!AA32","v":0},{"$f":"'2a'!AB32","v":0},{"$f":"'2a'!AC32","v":0},{"$f":"'2a'!AD32","v":0},{"$f":"'2a'!AE32","v":0},{"$f":"'2a'!AF32","v":0},{"$f":"'2a'!AG32","v":0},{"$f":"'2a'!AH32","v":0},{"$f":"'2a'!AI32","v":0},{"$f":"'2a'!AJ32","v":0},{"$f":"'2a'!AK32","v":0},{"$f":"'2a'!AL32","v":0},{"$f":"'2a'!AM32","v":0},{"$f":"'2a'!AN32","v":0},{"$f":"'2a'!AO32","v":0},{"$f":"'2a'!AP32","v":0},{"$f":"'2a'!AQ32","v":0},{"$f":"'2a'!AR32","v":0},{"$f":"'2a'!AS32","v":0},{"$f":"'2a'!AT32","v":0},{"$f":"'2a'!AU32","v":0},{"$f":"'2a'!AV32","v":0},{"$f":"'2a'!AW32","v":0},{"$f":"'2a'!AX32","v":0},{"$f":"'2a'!AY32","v":0},{"$f":"'2a'!AZ32","v":0},{"$f":"'2a'!BA32","v":0},{"$f":"'2a'!BB32","v":0},{"$f":"'2a'!BC32","v":0},{"$f":"'2a'!BD32","v":0},{"$f":"'2a'!BE32","v":0}]
[{"$f":"'2a'!A33","v":"2a"},{"$f":"'2a'!B33","v":0},{"$f":"'2a'!C33","v":0},{"$f":"'2a'!D33","v":"lehrer31"},{"$f":"'2a'!E33","v":0},{"$f":"'2a'!F33","v":0},{"$f":"'2a'!G33","v":0},{"$f":"'2a'!H33","v":0},{"$f":"'2a'!I33","v":0},{"$f":"'2a'!J33","v":0},{"$f":"'2a'!K33","v":0},{"$f":"'2a'!L33","v":0},{"$f":"'2a'!M33","v":0},{"$f":"'2a'!N33","v":0},{"$f":"'2a'!O33","v":0},{"$f":"'2a'!P33","v":0},{"$f":"'2a'!Q33","v":0},{"$f":"'2a'!R33","v":0},{"$f":"'2a'!S33","v":0},{"$f":"'2a'!T33","v":0},{"$f":"'2a'!U33","v":0},{"$f":"'2a'!V33","v":0},{"$f":"'2a'!W33","v":0},{"$f":"'2a'!X33","v":0},{"$f":"'2a'!Y33","v":0},{"$f":"'2a'!Z33","v":0},{"$f":"'2a'!AA33","v":0},{"$f":"'2a'!AB33","v":0},{"$f":"'2a'!AC33","v":0},{"$f":"'2a'!AD33","v":0},{"$f":"'2a'!AE33","v":0},{"$f":"'2a'!AF33","v":0},{"$f":"'2a'!AG33","v":0},{"$f":"'2a'!AH33","v":0},{"$f":"'2a'!AI33","v":0},{"$f":"'2a'!AJ33","v":0},{"$f":"'2a'!AK33","v":0},{"$f":"'2a'!AL33","v":0},{"$f":"'2a'!AM33","v":0},{"$f":"'2a'!AN33","v":0},{"$f":"'2a'!AO33","v":0},{"$f":"'2a'!AP33","v":0},{"$f":"'2a'!AQ33","v":0},{"$f":"'2a'!AR33","v":0},{"$f":"'2a'!AS33","v":0},{"$f":"'2a'!AT33","v":0},{"$f":"'2a'!AU33","v":0},{"$f":"'2a'!AV33","v":0},{"$f":"'2a'!AW33","v":0},{"$f":"'2a'!AX33","v":0},{"$f":"'2a'!AY33","v":0},{"$f":"'2a'!AZ33","v":0},{"$f":"'2a'!BA33","v":0},{"$f":"'2a'!BB33","v":0},{"$f":"'2a'!BC33","v":0},{"$f":"'2a'!BD33","v":0},{"$f":"'2a'!BE33","v":0}]
[{"$f":"'2a'!A34","v":"2a"},{"$f":"'2a'!B34","v":0},{"$f":"'2a'!C34","v":0},{"$f":"'2a'!D34","v":"lehrer32"},{"$f":"'2a'!E34","v":0},{"$f":"'2a'!F34","v":0},{"$f":"'2a'!G34","v":0},{"$f":"'2a'!H34","v":0},{"$f":"'2a'!I34","v":0},{"$f":"'2a'!J34","v":0},{"$f":"'2a'!K34","v":0},{"$f":"'2a'!L34","v":0},{"$f":"'2a'!M34","v":0},{"$f":"'2a'!N34","v":0},{"$f":"'2a'!O34","v":0},{"$f":"'2a'!P34","v":0},{"$f":"'2a'!Q34","v":0},{"$f":"'2a'!R34","v":0},{"$f":"'2a'!S34","v":0},{"$f":"'2a'!T34","v":0},{"$f":"'2a'!U34","v":0},{"$f":"'2a'!V34","v":0},{"$f":"'2a'!W34","v":0},{"$f":"'2a'!X34","v":0},{"$f":"'2a'!Y34","v":0},{"$f":"'2a'!Z34","v":0},{"$f":"'2a'!AA34","v":0},{"$f":"'2a'!AB34","v":0},{"$f":"'2a'!AC34","v":0},{"$f":"'2a'!AD34","v":0},{"$f":"'2a'!AE34","v":0},{"$f":"'2a'!AF34","v":0},{"$f":"'2a'!AG34","v":0},{"$f":"'2a'!AH34","v":0},{"$f":"'2a'!AI34","v":0},{"$f":"'2a'!AJ34","v":0},{"$f":"'2a'!AK34","v":0},{"$f":"'2a'!AL34","v":0},{"$f":"'2a'!AM34","v":0},{"$f":"'2a'!AN34","v":0},{"$f":"'2a'!AO34","v":0},{"$f":"'2a'!AP34","v":0},{"$f":"'2a'!AQ34","v":0},{"$f":"'2a'!AR34","v":0},{"$f":"'2a'!AS34","v":0},{"$f":"'2a'!AT34","v":0},{"$f":"'2a'!AU34","v":0},{"$f":"'2a'!AV34","v":0},{"$f":"'2a'!AW34","v":0},{"$f":"'2a'!AX34","v":0},{"$f":"'2a'!AY34","v":0},{"$f":"'2a'!AZ34","v":0},{"$f":"'2a'!BA34","v":0},{"$f":"'2a'!BB34","v":0},{"$f":"'2a'!BC34","v":0},{"$f":"'2a'!BD34","v":0},{"$f":"'2a'!BE34","v":0}]
[{"$f":"'2a'!A35","v":"2a"},{"$f":"'2a'!B35","v":0},{"$f":"'2a'!C35","v":0},{"$f":"'2a'!D35","v":"lehrer33"},{"$f":"'2a'!E35","v":0},{"$f":"'2a'!F35","v":0},{"$f":"'2a'!G35","v":0},{"$f":"'2a'!H35","v":0},{"$f":"'2a'!I35","v":0},{"$f":"'2a'!J35","v":0},{"$f":"'2a'!K35","v":0},{"$f":"'2a'!L35","v":0},{"$f":"'2a'!M35","v":0},{"$f":"'2a'!N35","v":0},{"$f":"'2a'!O35","v":0},{"$f":"'2a'!P35","v":0},{"$f":"'2a'!Q35","v":0},{"$f":"'2a'!R35","v":0},{"$f":"'2a'!S35","v":0},{"$f":"'2a'!T35","v":0},{"$f":"'2a'!U35","v":0},{"$f":"'2a'!V35","v":0},{"$f":"'2a'!W35","v":0},{"$f":"'2a'!X35","v":0},{"$f":"'2a'!Y35","v":0},{"$f":"'2a'!Z35","v":0},{"$f":"'2a'!AA35","v":0},{"$f":"'2a'!AB35","v":0},{"$f":"'2a'!AC35","v":0},{"$f":"'2a'!AD35","v":0},{"$f":"'2a'!AE35","v":0},{"$f":"'2a'!AF35","v":0},{"$f":"'2a'!AG35","v":0},{"$f":"'2a'!AH35","v":0},{"$f":"'2a'!AI35","v":0},{"$f":"'2a'!AJ35","v":0},{"$f":"'2a'!AK35","v":0},{"$f":"'2a'!AL35","v":0},{"$f":"'2a'!AM35","v":0},{"$f":"'2a'!AN35","v":0},{"$f":"'2a'!AO35","v":0},{"$f":"'2a'!AP35","v":0},{"$f":"'2a'!AQ35","v":0},{"$f":"'2a'!AR35","v":0},{"$f":"'2a'!AS35","v":0},{"$f":"'2a'!AT35","v":0},{"$f":"'2a'!AU35","v":0},{"$f":"'2a'!AV35","v":0},{"$f":"'2a'!AW35","v":0},{"$f":"'2a'!AX35","v":0},{"$f":"'2a'!AY35","v":0},{"$f":"'2a'!AZ35","v":0},{"$f":"'2a'!BA35","v":0},{"$f":"'2a'!BB35","v":0},{"$f":"'2a'!BC35","v":0},{"$f":"'2a'!BD35","v":0},{"$f":"'2a'!BE35","v":0}]
[{"$f":"'2a'!A36","v":"2a"},{"$f":"'2a'!B36","v":0},{"$f":"'2a'!C36","v":0},{"$f":"'2a'!D36","v":"lehrer34"},{"$f":"'2a'!E36","v":0},{"$f":"'2a'!F36","v":0},{"$f":"'2a'!G36","v":0},{"$f":"'2a'!H36","v":0},{"$f":"'2a'!I36","v":0},{"$f":"'2a'!J36","v":0},{"$f":"'2a'!K36","v":0},{"$f":"'2a'!L36","v":0},{"$f":"'2a'!M36","v":0},{"$f":"'2a'!N36","v":0},{"$f":"'2a'!O36","v":0},{"$f":"'2a'!P36","v":0},{"$f":"'2a'!Q36","v":0},{"$f":"'2a'!R36","v":0},{"$f":"'2a'!S36","v":0},{"$f":"'2a'!T36","v":0},{"$f":"'2a'!U36","v":0},{"$f":"'2a'!V36","v":0},{"$f":"'2a'!W36","v":0},{"$f":"'2a'!X36","v":0},{"$f":"'2a'!Y36","v":0},{"$f":"'2a'!Z36","v":0},{"$f":"'2a'!AA36","v":0},{"$f":"'2a'!AB36","v":0},{"$f":"'2a'!AC36","v":0},{"$f":"'2a'!AD36","v":0},{"$f":"'2a'!AE36","v":0},{"$f":"'2a'!AF36","v":0},{"$f":"'2a'!AG36","v":0},{"$f":"'2a'!AH36","v":0},{"$f":"'2a'!AI36","v":0},{"$f":"'2a'!AJ36","v":0},{"$f":"'2a'!AK36","v":0},{"$f":"'2a'!AL36","v":0},{"$f":"'2a'!AM36","v":0},{"$f":"'2a'!AN36","v":0},{"$f":"'2a'!AO36","v":0},{"$f":"'2a'!AP36","v":0},{"$f":"'2a'!AQ36","v":0},{"$f":"'2a'!AR36","v":0},{"$f":"'2a'!AS36","v":0},{"$f":"'2a'!AT36","v":0},{"$f":"'2a'!AU36","v":0},{"$f":"'2a'!AV36","v":0},{"$f":"'2a'!AW36","v":0},{"$f":"'2a'!AX36","v":0},{"$f":"'2a'!AY36","v":0},{"$f":"'2a'!AZ36","v":0},{"$f":"'2a'!BA36","v":0},{"$f":"'2a'!BB36","v":0},{"$f":"'2a'!BC36","v":0},{"$f":"'2a'!BD36","v":0},{"$f":"'2a'!BE36","v":0}]
[{"$f":"'2a'!A37","v":"2a"},{"$f":"'2a'!B37","v":0},{"$f":"'2a'!C37","v":0},{"$f":"'2a'!D37","v":"lehrer35"},{"$f":"'2a'!E37","v":0},{"$f":"'2a'!F37","v":0},{"$f":"'2a'!G37","v":0},{"$f":"'2a'!H37","v":0},{"$f":"'2a'!I37","v":0},{"$f":"'2a'!J37","v":0},{"$f":"'2a'!K37","v":0},{"$f":"'2a'!L37","v":0},{"$f":"'2a'!M37","v":0},{"$f":"'2a'!N37","v":0},{"$f":"'2a'!O37","v":0},{"$f":"'2a'!P37","v":0},{"$f":"'2a'!Q37","v":0},{"$f":"'2a'!R37","v":0},{"$f":"'2a'!S37","v":0},{"$f":"'2a'!T37","v":0},{"$f":"'2a'!U37","v":0},{"$f":"'2a'!V37","v":0},{"$f":"'2a'!W37","v":0},{"$f":"'2a'!X37","v":0},{"$f":"'2a'!Y37","v":0},{"$f":"'2a'!Z37","v":0},{"$f":"'2a'!AA37","v":0},{"$f":"'2a'!AB37","v":0},{"$f":"'2a'!AC37","v":0},{"$f":"'2a'!AD37","v":0},{"$f":"'2a'!AE37","v":0},{"$f":"'2a'!AF37","v":0},{"$f":"'2a'!AG37","v":0},{"$f":"'2a'!AH37","v":0},{"$f":"'2a'!AI37","v":0},{"$f":"'2a'!AJ37","v":0},{"$f":"'2a'!AK37","v":0},{"$f":"'2a'!AL37","v":0},{"$f":"'2a'!AM37","v":0},{"$f":"'2a'!AN37","v":0},{"$f":"'2a'!AO37","v":0},{"$f":"'2a'!AP37","v":0},{"$f":"'2a'!AQ37","v":0},{"$f":"'2a'!AR37","v":0},{"$f":"'2a'!AS37","v":0},{"$f":"'2a'!AT37","v":0},{"$f":"'2a'!AU37","v":0},{"$f":"'2a'!AV37","v":0},{"$f":"'2a'!AW37","v":0},{"$f":"'2a'!AX37","v":0},{"$f":"'2a'!AY37","v":0},{"$f":"'2a'!AZ37","v":0},{"$f":"'2a'!BA37","v":0},{"$f":"'2a'!BB37","v":0},{"$f":"'2a'!BC37","v":0},{"$f":"'2a'!BD37","v":0},{"$f":"'2a'!BE37","v":0}]
[{"$f":"'2a'!A38","v":"2a"},{"$f":"'2a'!B38","v":0},{"$f":"'2a'!C38","v":0},{"$f":"'2a'!D38","v":"lehrer36"},{"$f":"'2a'!E38","v":0},{"$f":"'2a'!F38","v":0},{"$f":"'2a'!G38","v":0},{"$f":"'2a'!H38","v":0},{"$f":"'2a'!I38","v":0},{"$f":"'2a'!J38","v":0},{"$f":"'2a'!K38","v":0},{"$f":"'2a'!L38","v":0},{"$f":"'2a'!M38","v":0},{"$f":"'2a'!N38","v":0},{"$f":"'2a'!O38","v":0},{"$f":"'2a'!P38","v":0},{"$f":"'2a'!Q38","v":0},{"$f":"'2a'!R38","v":0},{"$f":"'2a'!S38","v":0},{"$f":"'2a'!T38","v":0},{"$f":"'2a'!U38","v":0},{"$f":"'2a'!V38","v":0},{"$f":"'2a'!W38","v":0},{"$f":"'2a'!X38","v":0},{"$f":"'2a'!Y38","v":0},{"$f":"'2a'!Z38","v":0},{"$f":"'2a'!AA38","v":0},{"$f":"'2a'!AB38","v":0},{"$f":"'2a'!AC38","v":0},{"$f":"'2a'!AD38","v":0},{"$f":"'2a'!AE38","v":0},{"$f":"'2a'!AF38","v":0},{"$f":"'2a'!AG38","v":0},{"$f":"'2a'!AH38","v":0},{"$f":"'2a'!AI38","v":0},{"$f":"'2a'!AJ38","v":0},{"$f":"'2a'!AK38","v":0},{"$f":"'2a'!AL38","v":0},{"$f":"'2a'!AM38","v":0},{"$f":"'2a'!AN38","v":0},{"$f":"'2a'!AO38","v":0},{"$f":"'2a'!AP38","v":0},{"$f":"'2a'!AQ38","v":0},{"$f":"'2a'!AR38","v":0},{"$f":"'2a'!AS38","v":0},{"$f":"'2a'!AT38","v":0},{"$f":"'2a'!AU38","v":0},{"$f":"'2a'!AV38","v":0},{"$f":"'2a'!AW38","v":0},{"$f":"'2a'!AX38","v":0},{"$f":"'2a'!AY38","v":0},{"$f":"'2a'!AZ38","v":0},{"$f":"'2a'!BA38","v":0},{"$f":"'2a'!BB38","v":0},{"$f":"'2a'!BC38","v":0},{"$f":"'2a'!BD38","v":0},{"$f":"'2a'!BE38","v":0}]
[{"$f":"'2a'!A39","v":"2a"},{"$f":"'2a'!B39","v":0},{"$f":"'2a'!C39","v":0},{"$f":"'2a'!D39","v":"lehrer37"},{"$f":"'2a'!E39","v":0},{"$f":"'2a'!F39","v":0},{"$f":"'2a'!G39","v":0},{"$f":"'2a'!H39","v":0},{"$f":"'2a'!I39","v":0},{"$f":"'2a'!J39","v":0},{"$f":"'2a'!K39","v":0},{"$f":"'2a'!L39","v":0},{"$f":"'2a'!M39","v":0},{"$f":"'2a'!N39","v":0},{"$f":"'2a'!O39","v":0},{"$f":"'2a'!P39","v":0},{"$f":"'2a'!Q39","v":0},{"$f":"'2a'!R39","v":0},{"$f":"'2a'!S39","v":0},{"$f":"'2a'!T39","v":0},{"$f":"'2a'!U39","v":0},{"$f":"'2a'!V39","v":0},{"$f":"'2a'!W39","v":0},{"$f":"'2a'!X39","v":0},{"$f":"'2a'!Y39","v":0},{"$f":"'2a'!Z39","v":0},{"$f":"'2a'!AA39","v":0},{"$f":"'2a'!AB39","v":0},{"$f":"'2a'!AC39","v":0},{"$f":"'2a'!AD39","v":0},{"$f":"'2a'!AE39","v":0},{"$f":"'2a'!AF39","v":0},{"$f":"'2a'!AG39","v":0},{"$f":"'2a'!AH39","v":0},{"$f":"'2a'!AI39","v":0},{"$f":"'2a'!AJ39","v":0},{"$f":"'2a'!AK39","v":0},{"$f":"'2a'!AL39","v":0},{"$f":"'2a'!AM39","v":0},{"$f":"'2a'!AN39","v":0},{"$f":"'2a'!AO39","v":0},{"$f":"'2a'!AP39","v":0},{"$f":"'2a'!AQ39","v":0},{"$f":"'2a'!AR39","v":0},{"$f":"'2a'!AS39","v":0},{"$f":"'2a'!AT39","v":0},{"$f":"'2a'!AU39","v":0},{"$f":"'2a'!AV39","v":0},{"$f":"'2a'!AW39","v":0},{"$f":"'2a'!AX39","v":0},{"$f":"'2a'!AY39","v":0},{"$f":"'2a'!AZ39","v":0},{"$f":"'2a'!BA39","v":0},{"$f":"'2a'!BB39","v":0},{"$f":"'2a'!BC39","v":0},{"$f":"'2a'!BD39","v":0},{"$f":"'2a'!BE39","v":0}]
[{"$f":"'2a'!A40","v":"2a"},{"$f":"'2a'!B40","v":0},{"$f":"'2a'!C40","v":0},{"$f":"'2a'!D40","v":"lehrer38"},{"$f":"'2a'!E40","v":0},{"$f":"'2a'!F40","v":0},{"$f":"'2a'!G40","v":0},{"$f":"'2a'!H40","v":0},{"$f":"'2a'!I40","v":0},{"$f":"'2a'!J40","v":0},{"$f":"'2a'!K40","v":0},{"$f":"'2a'!L40","v":0},{"$f":"'2a'!M40","v":0},{"$f":"'2a'!N40","v":0},{"$f":"'2a'!O40","v":0},{"$f":"'2a'!P40","v":0},{"$f":"'2a'!Q40","v":0},{"$f":"'2a'!R40","v":0},{"$f":"'2a'!S40","v":0},{"$f":"'2a'!T40","v":0},{"$f":"'2a'!U40","v":0},{"$f":"'2a'!V40","v":0},{"$f":"'2a'!W40","v":0},{"$f":"'2a'!X40","v":0},{"$f":"'2a'!Y40","v":0},{"$f":"'2a'!Z40","v":0},{"$f":"'2a'!AA40","v":0},{"$f":"'2a'!AB40","v":0},{"$f":"'2a'!AC40","v":0},{"$f":"'2a'!AD40","v":0},{"$f":"'2a'!AE40","v":0},{"$f":"'2a'!AF40","v":0},{"$f":"'2a'!AG40","v":0},{"$f":"'2a'!AH40","v":0},{"$f":"'2a'!AI40","v":0},{"$f":"'2a'!AJ40","v":0},{"$f":"'2a'!AK40","v":0},{"$f":"'2a'!AL40","v":0},{"$f":"'2a'!AM40","v":0},{"$f":"'2a'!AN40","v":0},{"$f":"'2a'!AO40","v":0},{"$f":"'2a'!AP40","v":0},{"$f":"'2a'!AQ40","v":0},{"$f":"'2a'!AR40","v":0},{"$f":"'2a'!AS40","v":0},{"$f":"'2a'!AT40","v":0},{"$f":"'2a'!AU40","v":0},{"$f":"'2a'!AV40","v":0},{"$f":"'2a'!AW40","v":0},{"$f":"'2a'!AX40","v":0},{"$f":"'2a'!AY40","v":0},{"$f":"'2a'!AZ40","v":0},{"$f":"'2a'!BA40","v":0},{"$f":"'2a'!BB40","v":0},{"$f":"'2a'!BC40","v":0},{"$f":"'2a'!BD40","v":0},{"$f":"'2a'!BE40","v":0}]
[{"$f":"'2a'!A41","v":"2a"},{"$f":"'2a'!B41","v":0},{"$f":"'2a'!C41","v":0},{"$f":"'2a'!D41","v":"lehrer39"},{"$f":"'2a'!E41","v":0},{"$f":"'2a'!F41","v":0},{"$f":"'2a'!G41","v":0},{"$f":"'2a'!H41","v":0},{"$f":"'2a'!I41","v":0},{"$f":"'2a'!J41","v":0},{"$f":"'2a'!K41","v":0},{"$f":"'2a'!L41","v":0},{"$f":"'2a'!M41","v":0},{"$f":"'2a'!N41","v":0},{"$f":"'2a'!O41","v":0},{"$f":"'2a'!P41","v":0},{"$f":"'2a'!Q41","v":0},{"$f":"'2a'!R41","v":0},{"$f":"'2a'!S41","v":0},{"$f":"'2a'!T41","v":0},{"$f":"'2a'!U41","v":0},{"$f":"'2a'!V41","v":0},{"$f":"'2a'!W41","v":0},{"$f":"'2a'!X41","v":0},{"$f":"'2a'!Y41","v":0},{"$f":"'2a'!Z41","v":0},{"$f":"'2a'!AA41","v":0},{"$f":"'2a'!AB41","v":0},{"$f":"'2a'!AC41","v":0},{"$f":"'2a'!AD41","v":0},{"$f":"'2a'!AE41","v":0},{"$f":"'2a'!AF41","v":0},{"$f":"'2a'!AG41","v":0},{"$f":"'2a'!AH41","v":0},{"$f":"'2a'!AI41","v":0},{"$f":"'2a'!AJ41","v":0},{"$f":"'2a'!AK41","v":0},{"$f":"'2a'!AL41","v":0},{"$f":"'2a'!AM41","v":0},{"$f":"'2a'!AN41","v":0},{"$f":"'2a'!AO41","v":0},{"$f":"'2a'!AP41","v":0},{"$f":"'2a'!AQ41","v":0},{"$f":"'2a'!AR41","v":0},{"$f":"'2a'!AS41","v":0},{"$f":"'2a'!AT41","v":0},{"$f":"'2a'!AU41","v":0},{"$f":"'2a'!AV41","v":0},{"$f":"'2a'!AW41","v":0},{"$f":"'2a'!AX41","v":0},{"$f":"'2a'!AY41","v":0},{"$f":"'2a'!AZ41","v":0},{"$f":"'2a'!BA41","v":0},{"$f":"'2a'!BB41","v":0},{"$f":"'2a'!BC41","v":0},{"$f":"'2a'!BD41","v":0},{"$f":"'2a'!BE41","v":0}]
[{"$f":"'2a'!A42","v":"2a"},{"$f":"'2a'!B42","v":0},{"$f":"'2a'!C42","v":0},{"$f":"'2a'!D42","v":"lehrer40"},{"$f":"'2a'!E42","v":0},{"$f":"'2a'!F42","v":0},{"$f":"'2a'!G42","v":0},{"$f":"'2a'!H42","v":0},{"$f":"'2a'!I42","v":0},{"$f":"'2a'!J42","v":0},{"$f":"'2a'!K42","v":0},{"$f":"'2a'!L42","v":0},{"$f":"'2a'!M42","v":0},{"$f":"'2a'!N42","v":0},{"$f":"'2a'!O42","v":0},{"$f":"'2a'!P42","v":0},{"$f":"'2a'!Q42","v":0},{"$f":"'2a'!R42","v":0},{"$f":"'2a'!S42","v":0},{"$f":"'2a'!T42","v":0},{"$f":"'2a'!U42","v":0},{"$f":"'2a'!V42","v":0},{"$f":"'2a'!W42","v":0},{"$f":"'2a'!X42","v":0},{"$f":"'2a'!Y42","v":0},{"$f":"'2a'!Z42","v":0},{"$f":"'2a'!AA42","v":0},{"$f":"'2a'!AB42","v":0},{"$f":"'2a'!AC42","v":0},{"$f":"'2a'!AD42","v":0},{"$f":"'2a'!AE42","v":0},{"$f":"'2a'!AF42","v":0},{"$f":"'2a'!AG42","v":0},{"$f":"'2a'!AH42","v":0},{"$f":"'2a'!AI42","v":0},{"$f":"'2a'!AJ42","v":0},{"$f":"'2a'!AK42","v":0},{"$f":"'2a'!AL42","v":0},{"$f":"'2a'!AM42","v":0},{"$f":"'2a'!AN42","v":0},{"$f":"'2a'!AO42","v":0},{"$f":"'2a'!AP42","v":0},{"$f":"'2a'!AQ42","v":0},{"$f":"'2a'!AR42","v":0},{"$f":"'2a'!AS42","v":0},{"$f":"'2a'!AT42","v":0},{"$f":"'2a'!AU42","v":0},{"$f":"'2a'!AV42","v":0},{"$f":"'2a'!AW42","v":0},{"$f":"'2a'!AX42","v":0},{"$f":"'2a'!AY42","v":0},{"$f":"'2a'!AZ42","v":0},{"$f":"'2a'!BA42","v":0},{"$f":"'2a'!BB42","v":0},{"$f":"'2a'!BC42","v":0},{"$f":"'2a'!BD42","v":0},{"$f":"'2a'!BE42","v":0}]
[{"$f":"'2a'!A43","v":"2a"},{"$f":"'2a'!B43","v":0},{"$f":"'2a'!C43","v":0},{"$f":"'2a'!D43","v":"lehrer41"},{"$f":"'2a'!E43","v":0},{"$f":"'2a'!F43","v":0},{"$f":"'2a'!G43","v":0},{"$f":"'2a'!H43","v":0},{"$f":"'2a'!I43","v":0},{"$f":"'2a'!J43","v":0},{"$f":"'2a'!K43","v":0},{"$f":"'2a'!L43","v":0},{"$f":"'2a'!M43","v":0},{"$f":"'2a'!N43","v":0},{"$f":"'2a'!O43","v":0},{"$f":"'2a'!P43","v":0},{"$f":"'2a'!Q43","v":0},{"$f":"'2a'!R43","v":0},{"$f":"'2a'!S43","v":0},{"$f":"'2a'!T43","v":0},{"$f":"'2a'!U43","v":0},{"$f":"'2a'!V43","v":0},{"$f":"'2a'!W43","v":0},{"$f":"'2a'!X43","v":0},{"$f":"'2a'!Y43","v":0},{"$f":"'2a'!Z43","v":0},{"$f":"'2a'!AA43","v":0},{"$f":"'2a'!AB43","v":0},{"$f":"'2a'!AC43","v":0},{"$f":"'2a'!AD43","v":0},{"$f":"'2a'!AE43","v":0},{"$f":"'2a'!AF43","v":0},{"$f":"'2a'!AG43","v":0},{"$f":"'2a'!AH43","v":0},{"$f":"'2a'!AI43","v":0},{"$f":"'2a'!AJ43","v":0},{"$f":"'2a'!AK43","v":0},{"$f":"'2a'!AL43","v":0},{"$f":"'2a'!AM43","v":0},{"$f":"'2a'!AN43","v":0},{"$f":"'2a'!AO43","v":0},{"$f":"'2a'!AP43","v":0},{"$f":"'2a'!AQ43","v":0},{"$f":"'2a'!AR43","v":0},{"$f":"'2a'!AS43","v":0},{"$f":"'2a'!AT43","v":0},{"$f":"'2a'!AU43","v":0},{"$f":"'2a'!AV43","v":0},{"$f":"'2a'!AW43","v":0},{"$f":"'2a'!AX43","v":0},{"$f":"'2a'!AY43","v":0},{"$f":"'2a'!AZ43","v":0},{"$f":"'2a'!BA43","v":0},{"$f":"'2a'!BB43","v":0},{"$f":"'2a'!BC43","v":0},{"$f":"'2a'!BD43","v":0},{"$f":"'2a'!BE43","v":0}]
[{"$f":"'2a'!A44","v":"2a"},{"$f":"'2a'!B44","v":0},{"$f":"'2a'!C44","v":0},{"$f":"'2a'!D44","v":"lehrer42"},{"$f":"'2a'!E44","v":0},{"$f":"'2a'!F44","v":0},{"$f":"'2a'!G44","v":0},{"$f":"'2a'!H44","v":0},{"$f":"'2a'!I44","v":0},{"$f":"'2a'!J44","v":0},{"$f":"'2a'!K44","v":0},{"$f":"'2a'!L44","v":0},{"$f":"'2a'!M44","v":0},{"$f":"'2a'!N44","v":0},{"$f":"'2a'!O44","v":0},{"$f":"'2a'!P44","v":0},{"$f":"'2a'!Q44","v":0},{"$f":"'2a'!R44","v":0},{"$f":"'2a'!S44","v":0},{"$f":"'2a'!T44","v":0},{"$f":"'2a'!U44","v":0},{"$f":"'2a'!V44","v":0},{"$f":"'2a'!W44","v":0},{"$f":"'2a'!X44","v":0},{"$f":"'2a'!Y44","v":0},{"$f":"'2a'!Z44","v":0},{"$f":"'2a'!AA44","v":0},{"$f":"'2a'!AB44","v":0},{"$f":"'2a'!AC44","v":0},{"$f":"'2a'!AD44","v":0},{"$f":"'2a'!AE44","v":0},{"$f":"'2a'!AF44","v":0},{"$f":"'2a'!AG44","v":0},{"$f":"'2a'!AH44","v":0},{"$f":"'2a'!AI44","v":0},{"$f":"'2a'!AJ44","v":0},{"$f":"'2a'!AK44","v":0},{"$f":"'2a'!AL44","v":0},{"$f":"'2a'!AM44","v":0},{"$f":"'2a'!AN44","v":0},{"$f":"'2a'!AO44","v":0},{"$f":"'2a'!AP44","v":0},{"$f":"'2a'!AQ44","v":0},{"$f":"'2a'!AR44","v":0},{"$f":"'2a'!AS44","v":0},{"$f":"'2a'!AT44","v":0},{"$f":"'2a'!AU44","v":0},{"$f":"'2a'!AV44","v":0},{"$f":"'2a'!AW44","v":0},{"$f":"'2a'!AX44","v":0},{"$f":"'2a'!AY44","v":0},{"$f":"'2a'!AZ44","v":0},{"$f":"'2a'!BA44","v":0},{"$f":"'2a'!BB44","v":0},{"$f":"'2a'!BC44","v":0},{"$f":"'2a'!BD44","v":0},{"$f":"'2a'!BE44","v":0}]
[{"$f":"'2a'!A45","v":"2a"},{"$f":"'2a'!B45","v":0},{"$f":"'2a'!C45","v":0},{"$f":"'2a'!D45","v":"lehrer43"},{"$f":"'2a'!E45","v":0},{"$f":"'2a'!F45","v":0},{"$f":"'2a'!G45","v":0},{"$f":"'2a'!H45","v":0},{"$f":"'2a'!I45","v":0},{"$f":"'2a'!J45","v":0},{"$f":"'2a'!K45","v":0},{"$f":"'2a'!L45","v":0},{"$f":"'2a'!M45","v":0},{"$f":"'2a'!N45","v":0},{"$f":"'2a'!O45","v":0},{"$f":"'2a'!P45","v":0},{"$f":"'2a'!Q45","v":0},{"$f":"'2a'!R45","v":0},{"$f":"'2a'!S45","v":0},{"$f":"'2a'!T45","v":0},{"$f":"'2a'!U45","v":0},{"$f":"'2a'!V45","v":0},{"$f":"'2a'!W45","v":0},{"$f":"'2a'!X45","v":0},{"$f":"'2a'!Y45","v":0},{"$f":"'2a'!Z45","v":0},{"$f":"'2a'!AA45","v":0},{"$f":"'2a'!AB45","v":0},{"$f":"'2a'!AC45","v":0},{"$f":"'2a'!AD45","v":0},{"$f":"'2a'!AE45","v":0},{"$f":"'2a'!AF45","v":0},{"$f":"'2a'!AG45","v":0},{"$f":"'2a'!AH45","v":0},{"$f":"'2a'!AI45","v":0},{"$f":"'2a'!AJ45","v":0},{"$f":"'2a'!AK45","v":0},{"$f":"'2a'!AL45","v":0},{"$f":"'2a'!AM45","v":0},{"$f":"'2a'!AN45","v":0},{"$f":"'2a'!AO45","v":0},{"$f":"'2a'!AP45","v":0},{"$f":"'2a'!AQ45","v":0},{"$f":"'2a'!AR45","v":0},{"$f":"'2a'!AS45","v":0},{"$f":"'2a'!AT45","v":0},{"$f":"'2a'!AU45","v":0},{"$f":"'2a'!AV45","v":0},{"$f":"'2a'!AW45","v":0},{"$f":"'2a'!AX45","v":0},{"$f":"'2a'!AY45","v":0},{"$f":"'2a'!AZ45","v":0},{"$f":"'2a'!BA45","v":0},{"$f":"'2a'!BB45","v":0},{"$f":"'2a'!BC45","v":0},{"$f":"'2a'!BD45","v":0},{"$f":"'2a'!BE45","v":0}]
[{"$f":"'2a'!A46","v":"2a"},{"$f":"'2a'!B46","v":0},{"$f":"'2a'!C46","v":0},{"$f":"'2a'!D46","v":"lehrer44"},{"$f":"'2a'!E46","v":0},{"$f":"'2a'!F46","v":0},{"$f":"'2a'!G46","v":0},{"$f":"'2a'!H46","v":0},{"$f":"'2a'!I46","v":0},{"$f":"'2a'!J46","v":0},{"$f":"'2a'!K46","v":0},{"$f":"'2a'!L46","v":0},{"$f":"'2a'!M46","v":0},{"$f":"'2a'!N46","v":0},{"$f":"'2a'!O46","v":0},{"$f":"'2a'!P46","v":0},{"$f":"'2a'!Q46","v":0},{"$f":"'2a'!R46","v":0},{"$f":"'2a'!S46","v":0},{"$f":"'2a'!T46","v":0},{"$f":"'2a'!U46","v":0},{"$f":"'2a'!V46","v":0},{"$f":"'2a'!W46","v":0},{"$f":"'2a'!X46","v":0},{"$f":"'2a'!Y46","v":0},{"$f":"'2a'!Z46","v":0},{"$f":"'2a'!AA46","v":0},{"$f":"'2a'!AB46","v":0},{"$f":"'2a'!AC46","v":0},{"$f":"'2a'!AD46","v":0},{"$f":"'2a'!AE46","v":0},{"$f":"'2a'!AF46","v":0},{"$f":"'2a'!AG46","v":0},{"$f":"'2a'!AH46","v":0},{"$f":"'2a'!AI46","v":0},{"$f":"'2a'!AJ46","v":0},{"$f":"'2a'!AK46","v":0},{"$f":"'2a'!AL46","v":0},{"$f":"'2a'!AM46","v":0},{"$f":"'2a'!AN46","v":0},{"$f":"'2a'!AO46","v":0},{"$f":"'2a'!AP46","v":0},{"$f":"'2a'!AQ46","v":0},{"$f":"'2a'!AR46","v":0},{"$f":"'2a'!AS46","v":0},{"$f":"'2a'!AT46","v":0},{"$f":"'2a'!AU46","v":0},{"$f":"'2a'!AV46","v":0},{"$f":"'2a'!AW46","v":0},{"$f":"'2a'!AX46","v":0},{"$f":"'2a'!AY46","v":0},{"$f":"'2a'!AZ46","v":0},{"$f":"'2a'!BA46","v":0},{"$f":"'2a'!BB46","v":0},{"$f":"'2a'!BC46","v":0},{"$f":"'2a'!BD46","v":0},{"$f":"'2a'!BE46","v":0}]
[{"$f":"'2a'!A47","v":"2a"},{"$f":"'2a'!B47","v":0},{"$f":"'2a'!C47","v":0},{"$f":"'2a'!D47","v":"lehrer45"},{"$f":"'2a'!E47","v":0},{"$f":"'2a'!F47","v":0},{"$f":"'2a'!G47","v":0},{"$f":"'2a'!H47","v":0},{"$f":"'2a'!I47","v":0},{"$f":"'2a'!J47","v":0},{"$f":"'2a'!K47","v":0},{"$f":"'2a'!L47","v":0},{"$f":"'2a'!M47","v":0},{"$f":"'2a'!N47","v":0},{"$f":"'2a'!O47","v":0},{"$f":"'2a'!P47","v":0},{"$f":"'2a'!Q47","v":0},{"$f":"'2a'!R47","v":0},{"$f":"'2a'!S47","v":0},{"$f":"'2a'!T47","v":0},{"$f":"'2a'!U47","v":0},{"$f":"'2a'!V47","v":0},{"$f":"'2a'!W47","v":0},{"$f":"'2a'!X47","v":0},{"$f":"'2a'!Y47","v":0},{"$f":"'2a'!Z47","v":0},{"$f":"'2a'!AA47","v":0},{"$f":"'2a'!AB47","v":0},{"$f":"'2a'!AC47","v":0},{"$f":"'2a'!AD47","v":0},{"$f":"'2a'!AE47","v":0},{"$f":"'2a'!AF47","v":0},{"$f":"'2a'!AG47","v":0},{"$f":"'2a'!AH47","v":0},{"$f":"'2a'!AI47","v":0},{"$f":"'2a'!AJ47","v":0},{"$f":"'2a'!AK47","v":0},{"$f":"'2a'!AL47","v":0},{"$f":"'2a'!AM47","v":0},{"$f":"'2a'!AN47","v":0},{"$f":"'2a'!AO47","v":0},{"$f":"'2a'!AP47","v":0},{"$f":"'2a'!AQ47","v":0},{"$f":"'2a'!AR47","v":0},{"$f":"'2a'!AS47","v":0},{"$f":"'2a'!AT47","v":0},{"$f":"'2a'!AU47","v":0},{"$f":"'2a'!AV47","v":0},{"$f":"'2a'!AW47","v":0},{"$f":"'2a'!AX47","v":0},{"$f":"'2a'!AY47","v":0},{"$f":"'2a'!AZ47","v":0},{"$f":"'2a'!BA47","v":0},{"$f":"'2a'!BB47","v":0},{"$f":"'2a'!BC47","v":0},{"$f":"'2a'!BD47","v":0},{"$f":"'2a'!BE47","v":0}]
[{"$f":"'2a'!A48","v":"2a"},{"$f":"'2a'!B48","v":0},{"$f":"'2a'!C48","v":0},{"$f":"'2a'!D48","v":"lehrer46"},{"$f":"'2a'!E48","v":0},{"$f":"'2a'!F48","v":0},{"$f":"'2a'!G48","v":0},{"$f":"'2a'!H48","v":0},{"$f":"'2a'!I48","v":0},{"$f":"'2a'!J48","v":0},{"$f":"'2a'!K48","v":0},{"$f":"'2a'!L48","v":0},{"$f":"'2a'!M48","v":0},{"$f":"'2a'!N48","v":0},{"$f":"'2a'!O48","v":0},{"$f":"'2a'!P48","v":0},{"$f":"'2a'!Q48","v":0},{"$f":"'2a'!R48","v":0},{"$f":"'2a'!S48","v":0},{"$f":"'2a'!T48","v":0},{"$f":"'2a'!U48","v":0},{"$f":"'2a'!V48","v":0},{"$f":"'2a'!W48","v":0},{"$f":"'2a'!X48","v":0},{"$f":"'2a'!Y48","v":0},{"$f":"'2a'!Z48","v":0},{"$f":"'2a'!AA48","v":0},{"$f":"'2a'!AB48","v":0},{"$f":"'2a'!AC48","v":0},{"$f":"'2a'!AD48","v":0},{"$f":"'2a'!AE48","v":0},{"$f":"'2a'!AF48","v":0},{"$f":"'2a'!AG48","v":0},{"$f":"'2a'!AH48","v":0},{"$f":"'2a'!AI48","v":0},{"$f":"'2a'!AJ48","v":0},{"$f":"'2a'!AK48","v":0},{"$f":"'2a'!AL48","v":0},{"$f":"'2a'!AM48","v":0},{"$f":"'2a'!AN48","v":0},{"$f":"'2a'!AO48","v":0},{"$f":"'2a'!AP48","v":0},{"$f":"'2a'!AQ48","v":0},{"$f":"'2a'!AR48","v":0},{"$f":"'2a'!AS48","v":0},{"$f":"'2a'!AT48","v":0},{"$f":"'2a'!AU48","v":0},{"$f":"'2a'!AV48","v":0},{"$f":"'2a'!AW48","v":0},{"$f":"'2a'!AX48","v":0},{"$f":"'2a'!AY48","v":0},{"$f":"'2a'!AZ48","v":0},{"$f":"'2a'!BA48","v":0},{"$f":"'2a'!BB48","v":0},{"$f":"'2a'!BC48","v":0},{"$f":"'2a'!BD48","v":0},{"$f":"'2a'!BE48","v":0}]
[{"$f":"'2a'!A49","v":"2a"},{"$f":"'2a'!B49","v":0},{"$f":"'2a'!C49","v":0},{"$f":"'2a'!D49","v":"lehrer47"},{"$f":"'2a'!E49","v":0},{"$f":"'2a'!F49","v":0},{"$f":"'2a'!G49","v":0},{"$f":"'2a'!H49","v":0},{"$f":"'2a'!I49","v":0},{"$f":"'2a'!J49","v":0},{"$f":"'2a'!K49","v":0},{"$f":"'2a'!L49","v":0},{"$f":"'2a'!M49","v":0},{"$f":"'2a'!N49","v":0},{"$f":"'2a'!O49","v":0},{"$f":"'2a'!P49","v":0},{"$f":"'2a'!Q49","v":0},{"$f":"'2a'!R49","v":0},{"$f":"'2a'!S49","v":0},{"$f":"'2a'!T49","v":0},{"$f":"'2a'!U49","v":0},{"$f":"'2a'!V49","v":0},{"$f":"'2a'!W49","v":0},{"$f":"'2a'!X49","v":0},{"$f":"'2a'!Y49","v":0},{"$f":"'2a'!Z49","v":0},{"$f":"'2a'!AA49","v":0},{"$f":"'2a'!AB49","v":0},{"$f":"'2a'!AC49","v":0},{"$f":"'2a'!AD49","v":0},{"$f":"'2a'!AE49","v":0},{"$f":"'2a'!AF49","v":0},{"$f":"'2a'!AG49","v":0},{"$f":"'2a'!AH49","v":0},{"$f":"'2a'!AI49","v":0},{"$f":"'2a'!AJ49","v":0},{"$f":"'2a'!AK49","v":0},{"$f":"'2a'!AL49","v":0},{"$f":"'2a'!AM49","v":0},{"$f":"'2a'!AN49","v":0},{"$f":"'2a'!AO49","v":0},{"$f":"'2a'!AP49","v":0},{"$f":"'2a'!AQ49","v":0},{"$f":"'2a'!AR49","v":0},{"$f":"'2a'!AS49","v":0},{"$f":"'2a'!AT49","v":0},{"$f":"'2a'!AU49","v":0},{"$f":"'2a'!AV49","v":0},{"$f":"'2a'!AW49","v":0},{"$f":"'2a'!AX49","v":0},{"$f":"'2a'!AY49","v":0},{"$f":"'2a'!AZ49","v":0},{"$f":"'2a'!BA49","v":0},{"$f":"'2a'!BB49","v":0},{"$f":"'2a'!BC49","v":0},{"$f":"'2a'!BD49","v":0},{"$f":"'2a'!BE49","v":0}]
[{"$f":"'2a'!A50","v":"2a"},{"$f":"'2a'!B50","v":0},{"$f":"'2a'!C50","v":0},{"$f":"'2a'!D50","v":"lehrer48"},{"$f":"'2a'!E50","v":0},{"$f":"'2a'!F50","v":0},{"$f":"'2a'!G50","v":0},{"$f":"'2a'!H50","v":0},{"$f":"'2a'!I50","v":0},{"$f":"'2a'!J50","v":0},{"$f":"'2a'!K50","v":0},{"$f":"'2a'!L50","v":0},{"$f":"'2a'!M50","v":0},{"$f":"'2a'!N50","v":0},{"$f":"'2a'!O50","v":0},{"$f":"'2a'!P50","v":0},{"$f":"'2a'!Q50","v":0},{"$f":"'2a'!R50","v":0},{"$f":"'2a'!S50","v":0},{"$f":"'2a'!T50","v":0},{"$f":"'2a'!U50","v":0},{"$f":"'2a'!V50","v":0},{"$f":"'2a'!W50","v":0},{"$f":"'2a'!X50","v":0},{"$f":"'2a'!Y50","v":0},{"$f":"'2a'!Z50","v":0},{"$f":"'2a'!AA50","v":0},{"$f":"'2a'!AB50","v":0},{"$f":"'2a'!AC50","v":0},{"$f":"'2a'!AD50","v":0},{"$f":"'2a'!AE50","v":0},{"$f":"'2a'!AF50","v":0},{"$f":"'2a'!AG50","v":0},{"$f":"'2a'!AH50","v":0},{"$f":"'2a'!AI50","v":0},{"$f":"'2a'!AJ50","v":0},{"$f":"'2a'!AK50","v":0},{"$f":"'2a'!AL50","v":0},{"$f":"'2a'!AM50","v":0},{"$f":"'2a'!AN50","v":0},{"$f":"'2a'!AO50","v":0},{"$f":"'2a'!AP50","v":0},{"$f":"'2a'!AQ50","v":0},{"$f":"'2a'!AR50","v":0},{"$f":"'2a'!AS50","v":0},{"$f":"'2a'!AT50","v":0},{"$f":"'2a'!AU50","v":0},{"$f":"'2a'!AV50","v":0},{"$f":"'2a'!AW50","v":0},{"$f":"'2a'!AX50","v":0},{"$f":"'2a'!AY50","v":0},{"$f":"'2a'!AZ50","v":0},{"$f":"'2a'!BA50","v":0},{"$f":"'2a'!BB50","v":0},{"$f":"'2a'!BC50","v":0},{"$f":"'2a'!BD50","v":0},{"$f":"'2a'!BE50","v":0}]
[{"$f":"'2b'!A3","v":"2b"},{"$f":"'2b'!B3","v":0},{"$f":"'2b'!C3","v":0},{"$f":"'2b'!D3","v":"lehrer01"},{"$f":"'2b'!E3","v":0},{"$f":"'2b'!F3","v":0},{"$f":"'2b'!G3","v":0},{"$f":"'2b'!H3","v":0},{"$f":"'2b'!I3","v":0},{"$f":"'2b'!J3","v":0},{"$f":"'2b'!K3","v":0},{"$f":"'2b'!L3","v":0},{"$f":"'2b'!M3","v":0},{"$f":"'2b'!N3","v":0},{"$f":"'2b'!O3","v":0},{"$f":"'2b'!P3","v":0},{"$f":"'2b'!Q3","v":0},{"$f":"'2b'!R3","v":0},{"$f":"'2b'!S3","v":0},{"$f":"'2b'!T3","v":0},{"$f":"'2b'!U3","v":0},{"$f":"'2b'!V3","v":0},{"$f":"'2b'!W3","v":0},{"$f":"'2b'!X3","v":0},{"$f":"'2b'!Y3","v":0},{"$f":"'2b'!Z3","v":0},{"$f":"'2b'!AA3","v":0},{"$f":"'2b'!AB3","v":0},{"$f":"'2b'!AC3","v":0},{"$f":"'2b'!AD3","v":0},{"$f":"'2b'!AE3","v":0},{"$f":"'2b'!AF3","v":0},{"$f":"'2b'!AG3","v":0},{"$f":"'2b'!AH3","v":0},{"$f":"'2b'!AI3","v":0},{"$f":"'2b'!AJ3","v":0},{"$f":"'2b'!AK3","v":0},{"$f":"'2b'!AL3","v":0},{"$f":"'2b'!AM3","v":0},{"$f":"'2b'!AN3","v":0},{"$f":"'2b'!AO3","v":0},{"$f":"'2b'!AP3","v":0},{"$f":"'2b'!AQ3","v":0},{"$f":"'2b'!AR3","v":0},{"$f":"'2b'!AS3","v":0},{"$f":"'2b'!AT3","v":0},{"$f":"'2b'!AU3","v":0},{"$f":"'2b'!AV3","v":0},{"$f":"'2b'!AW3","v":0},{"$f":"'2b'!AX3","v":0},{"$f":"'2b'!AY3","v":0},{"$f":"'2b'!AZ3","v":0},{"$f":"'2b'!BA3","v":0},{"$f":"'2b'!BB3","v":0},{"$f":"'2b'!BC3","v":0},{"$f":"'2b'!BD3","v":0},{"$f":"'2b'!BE3","v":0}]
[{"$f":"'2b'!A4","v":"2b"},{"$f":"'2b'!B4","v":0},{"$f":"'2b'!C4","v":0},{"$f":"'2b'!D4","v":"lehrer02"},{"$f":"'2b'!E4","v":0},{"$f":"'2b'!F4","v":0},{"$f":"'2b'!G4","v":0},{"$f":"'2b'!H4","v":0},{"$f":"'2b'!I4","v":0},{"$f":"'2b'!J4","v":0},{"$f":"'2b'!K4","v":0},{"$f":"'2b'!L4","v":0},{"$f":"'2b'!M4","v":0},{"$f":"'2b'!N4","v":0},{"$f":"'2b'!O4","v":0},{"$f":"'2b'!P4","v":0},{"$f":"'2b'!Q4","v":0},{"$f":"'2b'!R4","v":0},{"$f":"'2b'!S4","v":0},{"$f":"'2b'!T4","v":0},{"$f":"'2b'!U4","v":0},{"$f":"'2b'!V4","v":0},{"$f":"'2b'!W4","v":0},{"$f":"'2b'!X4","v":0},{"$f":"'2b'!Y4","v":0},{"$f":"'2b'!Z4","v":0},{"$f":"'2b'!AA4","v":0},{"$f":"'2b'!AB4","v":0},{"$f":"'2b'!AC4","v":0},{"$f":"'2b'!AD4","v":0},{"$f":"'2b'!AE4","v":0},{"$f":"'2b'!AF4","v":0},{"$f":"'2b'!AG4","v":0},{"$f":"'2b'!AH4","v":0},{"$f":"'2b'!AI4","v":0},{"$f":"'2b'!AJ4","v":0},{"$f":"'2b'!AK4","v":0},{"$f":"'2b'!AL4","v":0},{"$f":"'2b'!AM4","v":0},{"$f":"'2b'!AN4","v":0},{"$f":"'2b'!AO4","v":0},{"$f":"'2b'!AP4","v":0},{"$f":"'2b'!AQ4","v":0},{"$f":"'2b'!AR4","v":0},{"$f":"'2b'!AS4","v":0},{"$f":"'2b'!AT4","v":0},{"$f":"'2b'!AU4","v":0},{"$f":"'2b'!AV4","v":0},{"$f":"'2b'!AW4","v":0},{"$f":"'2b'!AX4","v":0},{"$f":"'2b'!AY4","v":0},{"$f":"'2b'!AZ4","v":0},{"$f":"'2b'!BA4","v":0},{"$f":"'2b'!BB4","v":0},{"$f":"'2b'!BC4","v":0},{"$f":"'2b'!BD4","v":0},{"$f":"'2b'!BE4","v":0}]
[{"$f":"'2b'!A5","v":"2b"},{"$f":"'2b'!B5","v":0},{"$f":"'2b'!C5","v":0},{"$f":"'2b'!D5","v":"lehrer03"},{"$f":"'2b'!E5","v":0},{"$f":"'2b'!F5","v":0},{"$f":"'2b'!G5","v":0},{"$f":"'2b'!H5","v":0},{"$f":"'2b'!I5","v":0},{"$f":"'2b'!J5","v":0},{"$f":"'2b'!K5","v":0},{"$f":"'2b'!L5","v":0},{"$f":"'2b'!M5","v":0},{"$f":"'2b'!N5","v":0},{"$f":"'2b'!O5","v":0},{"$f":"'2b'!P5","v":0},{"$f":"'2b'!Q5","v":0},{"$f":"'2b'!R5","v":0},{"$f":"'2b'!S5","v":0},{"$f":"'2b'!T5","v":0},{"$f":"'2b'!U5","v":0},{"$f":"'2b'!V5","v":0},{"$f":"'2b'!W5","v":0},{"$f":"'2b'!X5","v":0},{"$f":"'2b'!Y5","v":0},{"$f":"'2b'!Z5","v":0},{"$f":"'2b'!AA5","v":0},{"$f":"'2b'!AB5","v":0},{"$f":"'2b'!AC5","v":0},{"$f":"'2b'!AD5","v":0},{"$f":"'2b'!AE5","v":0},{"$f":"'2b'!AF5","v":0},{"$f":"'2b'!AG5","v":0},{"$f":"'2b'!AH5","v":0},{"$f":"'2b'!AI5","v":0},{"$f":"'2b'!AJ5","v":0},{"$f":"'2b'!AK5","v":0},{"$f":"'2b'!AL5","v":0},{"$f":"'2b'!AM5","v":0},{"$f":"'2b'!AN5","v":0},{"$f":"'2b'!AO5","v":0},{"$f":"'2b'!AP5","v":0},{"$f":"'2b'!AQ5","v":0},{"$f":"'2b'!AR5","v":0},{"$f":"'2b'!AS5","v":0},{"$f":"'2b'!AT5","v":0},{"$f":"'2b'!AU5","v":0},{"$f":"'2b'!AV5","v":0},{"$f":"'2b'!AW5","v":0},{"$f":"'2b'!AX5","v":0},{"$f":"'2b'!AY5","v":0},{"$f":"'2b'!AZ5","v":0},{"$f":"'2b'!BA5","v":0},{"$f":"'2b'!BB5","v":0},{"$f":"'2b'!BC5","v":0},{"$f":"'2b'!BD5","v":0},{"$f":"'2b'!BE5","v":0}]
[{"$f":"'2b'!A6","v":"2b"},{"$f":"'2b'!B6","v":0},{"$f":"'2b'!C6","v":0},{"$f":"'2b'!D6","v":"lehrer04"},{"$f":"'2b'!E6","v":0},{"$f":"'2b'!F6","v":0},{"$f":"'2b'!G6","v":0},{"$f":"'2b'!H6","v":0},{"$f":"'2b'!I6","v":0},{"$f":"'2b'!J6","v":0},{"$f":"'2b'!K6","v":0},{"$f":"'2b'!L6","v":0},{"$f":"'2b'!M6","v":0},{"$f":"'2b'!N6","v":0},{"$f":"'2b'!O6","v":0},{"$f":"'2b'!P6","v":0},{"$f":"'2b'!Q6","v":0},{"$f":"'2b'!R6","v":0},{"$f":"'2b'!S6","v":0},{"$f":"'2b'!T6","v":0},{"$f":"'2b'!U6","v":0},{"$f":"'2b'!V6","v":0},{"$f":"'2b'!W6","v":0},{"$f":"'2b'!X6","v":0},{"$f":"'2b'!Y6","v":0},{"$f":"'2b'!Z6","v":0},{"$f":"'2b'!AA6","v":0},{"$f":"'2b'!AB6","v":0},{"$f":"'2b'!AC6","v":0},{"$f":"'2b'!AD6","v":0},{"$f":"'2b'!AE6","v":0},{"$f":"'2b'!AF6","v":0},{"$f":"'2b'!AG6","v":0},{"$f":"'2b'!AH6","v":0},{"$f":"'2b'!AI6","v":0},{"$f":"'2b'!AJ6","v":0},{"$f":"'2b'!AK6","v":0},{"$f":"'2b'!AL6","v":0},{"$f":"'2b'!AM6","v":0},{"$f":"'2b'!AN6","v":0},{"$f":"'2b'!AO6","v":0},{"$f":"'2b'!AP6","v":0},{"$f":"'2b'!AQ6","v":0},{"$f":"'2b'!AR6","v":0},{"$f":"'2b'!AS6","v":0},{"$f":"'2b'!AT6","v":0},{"$f":"'2b'!AU6","v":0},{"$f":"'2b'!AV6","v":0},{"$f":"'2b'!AW6","v":0},{"$f":"'2b'!AX6","v":0},{"$f":"'2b'!AY6","v":0},{"$f":"'2b'!AZ6","v":0},{"$f":"'2b'!BA6","v":0},{"$f":"'2b'!BB6","v":0},{"$f":"'2b'!BC6","v":0},{"$f":"'2b'!BD6","v":0},{"$f":"'2b'!BE6","v":0}]
[{"$f":"'2b'!A7","v":"2b"},{"$f":"'2b'!B7","v":0},{"$f":"'2b'!C7","v":0},{"$f":"'2b'!D7","v":"lehrer05"},{"$f":"'2b'!E7","v":0},{"$f":"'2b'!F7","v":0},{"$f":"'2b'!G7","v":0},{"$f":"'2b'!H7","v":0},{"$f":"'2b'!I7","v":0},{"$f":"'2b'!J7","v":0},{"$f":"'2b'!K7","v":0},{"$f":"'2b'!L7","v":0},{"$f":"'2b'!M7","v":0},{"$f":"'2b'!N7","v":0},{"$f":"'2b'!O7","v":0},{"$f":"'2b'!P7","v":0},{"$f":"'2b'!Q7","v":0},{"$f":"'2b'!R7","v":0},{"$f":"'2b'!S7","v":0},{"$f":"'2b'!T7","v":0},{"$f":"'2b'!U7","v":0},{"$f":"'2b'!V7","v":0},{"$f":"'2b'!W7","v":0},{"$f":"'2b'!X7","v":0},{"$f":"'2b'!Y7","v":0},{"$f":"'2b'!Z7","v":0},{"$f":"'2b'!AA7","v":0},{"$f":"'2b'!AB7","v":0},{"$f":"'2b'!AC7","v":0},{"$f":"'2b'!AD7","v":0},{"$f":"'2b'!AE7","v":0},{"$f":"'2b'!AF7","v":0},{"$f":"'2b'!AG7","v":0},{"$f":"'2b'!AH7","v":0},{"$f":"'2b'!AI7","v":0},{"$f":"'2b'!AJ7","v":0},{"$f":"'2b'!AK7","v":0},{"$f":"'2b'!AL7","v":0},{"$f":"'2b'!AM7","v":0},{"$f":"'2b'!AN7","v":0},{"$f":"'2b'!AO7","v":0},{"$f":"'2b'!AP7","v":0},{"$f":"'2b'!AQ7","v":0},{"$f":"'2b'!AR7","v":0},{"$f":"'2b'!AS7","v":0},{"$f":"'2b'!AT7","v":0},{"$f":"'2b'!AU7","v":0},{"$f":"'2b'!AV7","v":0},{"$f":"'2b'!AW7","v":0},{"$f":"'2b'!AX7","v":0},{"$f":"'2b'!AY7","v":0},{"$f":"'2b'!AZ7","v":0},{"$f":"'2b'!BA7","v":0},{"$f":"'2b'!BB7","v":0},{"$f":"'2b'!BC7","v":0},{"$f":"'2b'!BD7","v":0},{"$f":"'2b'!BE7","v":0}]
[{"$f":"'2b'!A8","v":"2b"},{"$f":"'2b'!B8","v":0},{"$f":"'2b'!C8","v":0},{"$f":"'2b'!D8","v":"lehrer06"},{"$f":"'2b'!E8","v":0},{"$f":"'2b'!F8","v":0},{"$f":"'2b'!G8","v":0},{"$f":"'2b'!H8","v":0},{"$f":"'2b'!I8","v":0},{"$f":"'2b'!J8","v":0},{"$f":"'2b'!K8","v":0},{"$f":"'2b'!L8","v":0},{"$f":"'2b'!M8","v":0},{"$f":"'2b'!N8","v":0},{"$f":"'2b'!O8","v":0},{"$f":"'2b'!P8","v":0},{"$f":"'2b'!Q8","v":0},{"$f":"'2b'!R8","v":0},{"$f":"'2b'!S8","v":0},{"$f":"'2b'!T8","v":0},{"$f":"'2b'!U8","v":0},{"$f":"'2b'!V8","v":0},{"$f":"'2b'!W8","v":0},{"$f":"'2b'!X8","v":0},{"$f":"'2b'!Y8","v":0},{"$f":"'2b'!Z8","v":0},{"$f":"'2b'!AA8","v":0},{"$f":"'2b'!AB8","v":0},{"$f":"'2b'!AC8","v":0},{"$f":"'2b'!AD8","v":0},{"$f":"'2b'!AE8","v":0},{"$f":"'2b'!AF8","v":0},{"$f":"'2b'!AG8","v":0},{"$f":"'2b'!AH8","v":0},{"$f":"'2b'!AI8","v":0},{"$f":"'2b'!AJ8","v":0},{"$f":"'2b'!AK8","v":0},{"$f":"'2b'!AL8","v":0},{"$f":"'2b'!AM8","v":0},{"$f":"'2b'!AN8","v":0},{"$f":"'2b'!AO8","v":0},{"$f":"'2b'!AP8","v":0},{"$f":"'2b'!AQ8","v":0},{"$f":"'2b'!AR8","v":0},{"$f":"'2b'!AS8","v":0},{"$f":"'2b'!AT8","v":0},{"$f":"'2b'!AU8","v":0},{"$f":"'2b'!AV8","v":0},{"$f":"'2b'!AW8","v":0},{"$f":"'2b'!AX8","v":0},{"$f":"'2b'!AY8","v":0},{"$f":"'2b'!AZ8","v":0},{"$f":"'2b'!BA8","v":0},{"$f":"'2b'!BB8","v":0},{"$f":"'2b'!BC8","v":0},{"$f":"'2b'!BD8","v":0},{"$f":"'2b'!BE8","v":0}]
[{"$f":"'2b'!A9","v":"2b"},{"$f":"'2b'!B9","v":0},{"$f":"'2b'!C9","v":0},{"$f":"'2b'!D9","v":"lehrer07"},{"$f":"'2b'!E9","v":0},{"$f":"'2b'!F9","v":0},{"$f":"'2b'!G9","v":0},{"$f":"'2b'!H9","v":0},{"$f":"'2b'!I9","v":0},{"$f":"'2b'!J9","v":0},{"$f":"'2b'!K9","v":0},{"$f":"'2b'!L9","v":0},{"$f":"'2b'!M9","v":0},{"$f":"'2b'!N9","v":0},{"$f":"'2b'!O9","v":0},{"$f":"'2b'!P9","v":0},{"$f":"'2b'!Q9","v":0},{"$f":"'2b'!R9","v":0},{"$f":"'2b'!S9","v":0},{"$f":"'2b'!T9","v":0},{"$f":"'2b'!U9","v":0},{"$f":"'2b'!V9","v":0},{"$f":"'2b'!W9","v":0},{"$f":"'2b'!X9","v":0},{"$f":"'2b'!Y9","v":0},{"$f":"'2b'!Z9","v":0},{"$f":"'2b'!AA9","v":0},{"$f":"'2b'!AB9","v":0},{"$f":"'2b'!AC9","v":0},{"$f":"'2b'!AD9","v":0},{"$f":"'2b'!AE9","v":0},{"$f":"'2b'!AF9","v":0},{"$f":"'2b'!AG9","v":0},{"$f":"'2b'!AH9","v":0},{"$f":"'2b'!AI9","v":0},{"$f":"'2b'!AJ9","v":0},{"$f":"'2b'!AK9","v":0},{"$f":"'2b'!AL9","v":0},{"$f":"'2b'!AM9","v":0},{"$f":"'2b'!AN9","v":0},{"$f":"'2b'!AO9","v":0},{"$f":"'2b'!AP9","v":0},{"$f":"'2b'!AQ9","v":0},{"$f":"'2b'!AR9","v":0},{"$f":"'2b'!AS9","v":0},{"$f":"'2b'!AT9","v":0},{"$f":"'2b'!AU9","v":0},{"$f":"'2b'!AV9","v":0},{"$f":"'2b'!AW9","v":0},{"$f":"'2b'!AX9","v":0},{"$f":"'2b'!AY9","v":0},{"$f":"'2b'!AZ9","v":0},{"$f":"'2b'!BA9","v":0},{"$f":"'2b'!BB9","v":0},{"$f":"'2b'!BC9","v":0},{"$f":"'2b'!BD9","v":0},{"$f":"'2b'!BE9","v":0}]
[{"$f":"'2b'!A10","v":"2b"},{"$f":"'2b'!B10","v":0},{"$f":"'2b'!C10","v":0},{"$f":"'2b'!D10","v":"lehrer08"},{"$f":"'2b'!E10","v":0},{"$f":"'2b'!F10","v":0},{"$f":"'2b'!G10","v":0},{"$f":"'2b'!H10","v":0},{"$f":"'2b'!I10","v":0},{"$f":"'2b'!J10","v":0},{"$f":"'2b'!K10","v":0},{"$f":"'2b'!L10","v":0},{"$f":"'2b'!M10","v":0},{"$f":"'2b'!N10","v":0},{"$f":"'2b'!O10","v":0},{"$f":"'2b'!P10","v":0},{"$f":"'2b'!Q10","v":0},{"$f":"'2b'!R10","v":0},{"$f":"'2b'!S10","v":0},{"$f":"'2b'!T10","v":0},{"$f":"'2b'!U10","v":0},{"$f":"'2b'!V10","v":0},{"$f":"'2b'!W10","v":0},{"$f":"'2b'!X10","v":0},{"$f":"'2b'!Y10","v":0},{"$f":"'2b'!Z10","v":0},{"$f":"'2b'!AA10","v":0},{"$f":"'2b'!AB10","v":0},{"$f":"'2b'!AC10","v":0},{"$f":"'2b'!AD10","v":0},{"$f":"'2b'!AE10","v":0},{"$f":"'2b'!AF10","v":0},{"$f":"'2b'!AG10","v":0},{"$f":"'2b'!AH10","v":0},{"$f":"'2b'!AI10","v":0},{"$f":"'2b'!AJ10","v":0},{"$f":"'2b'!AK10","v":0},{"$f":"'2b'!AL10","v":0},{"$f":"'2b'!AM10","v":0},{"$f":"'2b'!AN10","v":0},{"$f":"'2b'!AO10","v":0},{"$f":"'2b'!AP10","v":0},{"$f":"'2b'!AQ10","v":0},{"$f":"'2b'!AR10","v":0},{"$f":"'2b'!AS10","v":0},{"$f":"'2b'!AT10","v":0},{"$f":"'2b'!AU10","v":0},{"$f":"'2b'!AV10","v":0},{"$f":"'2b'!AW10","v":0},{"$f":"'2b'!AX10","v":0},{"$f":"'2b'!AY10","v":0},{"$f":"'2b'!AZ10","v":0},{"$f":"'2b'!BA10","v":0},{"$f":"'2b'!BB10","v":0},{"$f":"'2b'!BC10","v":0},{"$f":"'2b'!BD10","v":0},{"$f":"'2b'!BE10","v":0}]
[{"$f":"'2b'!A11","v":"2b"},{"$f":"'2b'!B11","v":0},{"$f":"'2b'!C11","v":0},{"$f":"'2b'!D11","v":"lehrer09"},{"$f":"'2b'!E11","v":0},{"$f":"'2b'!F11","v":0},{"$f":"'2b'!G11","v":0},{"$f":"'2b'!H11","v":0},{"$f":"'2b'!I11","v":0},{"$f":"'2b'!J11","v":0},{"$f":"'2b'!K11","v":0},{"$f":"'2b'!L11","v":0},{"$f":"'2b'!M11","v":0},{"$f":"'2b'!N11","v":0},{"$f":"'2b'!O11","v":0},{"$f":"'2b'!P11","v":0},{"$f":"'2b'!Q11","v":0},{"$f":"'2b'!R11","v":0},{"$f":"'2b'!S11","v":0},{"$f":"'2b'!T11","v":0},{"$f":"'2b'!U11","v":0},{"$f":"'2b'!V11","v":0},{"$f":"'2b'!W11","v":0},{"$f":"'2b'!X11","v":0},{"$f":"'2b'!Y11","v":0},{"$f":"'2b'!Z11","v":0},{"$f":"'2b'!AA11","v":0},{"$f":"'2b'!AB11","v":0},{"$f":"'2b'!AC11","v":0},{"$f":"'2b'!AD11","v":0},{"$f":"'2b'!AE11","v":0},{"$f":"'2b'!AF11","v":0},{"$f":"'2b'!AG11","v":0},{"$f":"'2b'!AH11","v":0},{"$f":"'2b'!AI11","v":0},{"$f":"'2b'!AJ11","v":0},{"$f":"'2b'!AK11","v":0},{"$f":"'2b'!AL11","v":0},{"$f":"'2b'!AM11","v":0},{"$f":"'2b'!AN11","v":0},{"$f":"'2b'!AO11","v":0},{"$f":"'2b'!AP11","v":0},{"$f":"'2b'!AQ11","v":0},{"$f":"'2b'!AR11","v":0},{"$f":"'2b'!AS11","v":0},{"$f":"'2b'!AT11","v":0},{"$f":"'2b'!AU11","v":0},{"$f":"'2b'!AV11","v":0},{"$f":"'2b'!AW11","v":0},{"$f":"'2b'!AX11","v":0},{"$f":"'2b'!AY11","v":0},{"$f":"'2b'!AZ11","v":0},{"$f":"'2b'!BA11","v":0},{"$f":"'2b'!BB11","v":0},{"$f":"'2b'!BC11","v":0},{"$f":"'2b'!BD11","v":0},{"$f":"'2b'!BE11","v":0}]
[{"$f":"'2b'!A12","v":"2b"},{"$f":"'2b'!B12","v":0},{"$f":"'2b'!C12","v":0},{"$f":"'2b'!D12","v":"lehrer10"},{"$f":"'2b'!E12","v":0},{"$f":"'2b'!F12","v":0},{"$f":"'2b'!G12","v":0},{"$f":"'2b'!H12","v":0},{"$f":"'2b'!I12","v":0},{"$f":"'2b'!J12","v":0},{"$f":"'2b'!K12","v":0},{"$f":"'2b'!L12","v":0},{"$f":"'2b'!M12","v":0},{"$f":"'2b'!N12","v":0},{"$f":"'2b'!O12","v":0},{"$f":"'2b'!P12","v":0},{"$f":"'2b'!Q12","v":0},{"$f":"'2b'!R12","v":0},{"$f":"'2b'!S12","v":0},{"$f":"'2b'!T12","v":0},{"$f":"'2b'!U12","v":0},{"$f":"'2b'!V12","v":0},{"$f":"'2b'!W12","v":0},{"$f":"'2b'!X12","v":0},{"$f":"'2b'!Y12","v":0},{"$f":"'2b'!Z12","v":0},{"$f":"'2b'!AA12","v":0},{"$f":"'2b'!AB12","v":0},{"$f":"'2b'!AC12","v":0},{"$f":"'2b'!AD12","v":0},{"$f":"'2b'!AE12","v":0},{"$f":"'2b'!AF12","v":0},{"$f":"'2b'!AG12","v":0},{"$f":"'2b'!AH12","v":0},{"$f":"'2b'!AI12","v":0},{"$f":"'2b'!AJ12","v":0},{"$f":"'2b'!AK12","v":0},{"$f":"'2b'!AL12","v":0},{"$f":"'2b'!AM12","v":0},{"$f":"'2b'!AN12","v":0},{"$f":"'2b'!AO12","v":0},{"$f":"'2b'!AP12","v":0},{"$f":"'2b'!AQ12","v":0},{"$f":"'2b'!AR12","v":0},{"$f":"'2b'!AS12","v":0},{"$f":"'2b'!AT12","v":0},{"$f":"'2b'!AU12","v":0},{"$f":"'2b'!AV12","v":0},{"$f":"'2b'!AW12","v":0},{"$f":"'2b'!AX12","v":0},{"$f":"'2b'!AY12","v":0},{"$f":"'2b'!AZ12","v":0},{"$f":"'2b'!BA12","v":0},{"$f":"'2b'!BB12","v":0},{"$f":"'2b'!BC12","v":0},{"$f":"'2b'!BD12","v":0},{"$f":"'2b'!BE12","v":0}]
[{"$f":"'2b'!A13","v":"2b"},{"$f":"'2b'!B13","v":0},{"$f":"'2b'!C13","v":0},{"$f":"'2b'!D13","v":"lehrer11"},{"$f":"'2b'!E13","v":0},{"$f":"'2b'!F13","v":0},{"$f":"'2b'!G13","v":0},{"$f":"'2b'!H13","v":0},{"$f":"'2b'!I13","v":0},{"$f":"'2b'!J13","v":0},{"$f":"'2b'!K13","v":0},{"$f":"'2b'!L13","v":0},{"$f":"'2b'!M13","v":0},{"$f":"'2b'!N13","v":0},{"$f":"'2b'!O13","v":0},{"$f":"'2b'!P13","v":0},{"$f":"'2b'!Q13","v":0},{"$f":"'2b'!R13","v":0},{"$f":"'2b'!S13","v":0},{"$f":"'2b'!T13","v":0},{"$f":"'2b'!U13","v":0},{"$f":"'2b'!V13","v":0},{"$f":"'2b'!W13","v":0},{"$f":"'2b'!X13","v":0},{"$f":"'2b'!Y13","v":0},{"$f":"'2b'!Z13","v":0},{"$f":"'2b'!AA13","v":0},{"$f":"'2b'!AB13","v":0},{"$f":"'2b'!AC13","v":0},{"$f":"'2b'!AD13","v":0},{"$f":"'2b'!AE13","v":0},{"$f":"'2b'!AF13","v":0},{"$f":"'2b'!AG13","v":0},{"$f":"'2b'!AH13","v":0},{"$f":"'2b'!AI13","v":0},{"$f":"'2b'!AJ13","v":0},{"$f":"'2b'!AK13","v":0},{"$f":"'2b'!AL13","v":0},{"$f":"'2b'!AM13","v":0},{"$f":"'2b'!AN13","v":0},{"$f":"'2b'!AO13","v":0},{"$f":"'2b'!AP13","v":0},{"$f":"'2b'!AQ13","v":0},{"$f":"'2b'!AR13","v":0},{"$f":"'2b'!AS13","v":0},{"$f":"'2b'!AT13","v":0},{"$f":"'2b'!AU13","v":0},{"$f":"'2b'!AV13","v":0},{"$f":"'2b'!AW13","v":0},{"$f":"'2b'!AX13","v":0},{"$f":"'2b'!AY13","v":0},{"$f":"'2b'!AZ13","v":0},{"$f":"'2b'!BA13","v":0},{"$f":"'2b'!BB13","v":0},{"$f":"'2b'!BC13","v":0},{"$f":"'2b'!BD13","v":0},{"$f":"'2b'!BE13","v":0}]
[{"$f":"'2b'!A14","v":"2b"},{"$f":"'2b'!B14","v":0},{"$f":"'2b'!C14","v":0},{"$f":"'2b'!D14","v":"lehrer12"},{"$f":"'2b'!E14","v":0},{"$f":"'2b'!F14","v":0},{"$f":"'2b'!G14","v":0},{"$f":"'2b'!H14","v":0},{"$f":"'2b'!I14","v":0},{"$f":"'2b'!J14","v":0},{"$f":"'2b'!K14","v":0},{"$f":"'2b'!L14","v":0},{"$f":"'2b'!M14","v":0},{"$f":"'2b'!N14","v":0},{"$f":"'2b'!O14","v":0},{"$f":"'2b'!P14","v":0},{"$f":"'2b'!Q14","v":0},{"$f":"'2b'!R14","v":0},{"$f":"'2b'!S14","v":0},{"$f":"'2b'!T14","v":0},{"$f":"'2b'!U14","v":0},{"$f":"'2b'!V14","v":0},{"$f":"'2b'!W14","v":0},{"$f":"'2b'!X14","v":0},{"$f":"'2b'!Y14","v":0},{"$f":"'2b'!Z14","v":0},{"$f":"'2b'!AA14","v":0},{"$f":"'2b'!AB14","v":0},{"$f":"'2b'!AC14","v":0},{"$f":"'2b'!AD14","v":0},{"$f":"'2b'!AE14","v":0},{"$f":"'2b'!AF14","v":0},{"$f":"'2b'!AG14","v":0},{"$f":"'2b'!AH14","v":0},{"$f":"'2b'!AI14","v":0},{"$f":"'2b'!AJ14","v":0},{"$f":"'2b'!AK14","v":0},{"$f":"'2b'!AL14","v":0},{"$f":"'2b'!AM14","v":0},{"$f":"'2b'!AN14","v":0},{"$f":"'2b'!AO14","v":0},{"$f":"'2b'!AP14","v":0},{"$f":"'2b'!AQ14","v":0},{"$f":"'2b'!AR14","v":0},{"$f":"'2b'!AS14","v":0},{"$f":"'2b'!AT14","v":0},{"$f":"'2b'!AU14","v":0},{"$f":"'2b'!AV14","v":0},{"$f":"'2b'!AW14","v":0},{"$f":"'2b'!AX14","v":0},{"$f":"'2b'!AY14","v":0},{"$f":"'2b'!AZ14","v":0},{"$f":"'2b'!BA14","v":0},{"$f":"'2b'!BB14","v":0},{"$f":"'2b'!BC14","v":0},{"$f":"'2b'!BD14","v":0},{"$f":"'2b'!BE14","v":0}]
[{"$f":"'2b'!A15","v":"2b"},{"$f":"'2b'!B15","v":0},{"$f":"'2b'!C15","v":0},{"$f":"'2b'!D15","v":"lehrer13"},{"$f":"'2b'!E15","v":0},{"$f":"'2b'!F15","v":0},{"$f":"'2b'!G15","v":0},{"$f":"'2b'!H15","v":0},{"$f":"'2b'!I15","v":0},{"$f":"'2b'!J15","v":0},{"$f":"'2b'!K15","v":0},{"$f":"'2b'!L15","v":0},{"$f":"'2b'!M15","v":0},{"$f":"'2b'!N15","v":0},{"$f":"'2b'!O15","v":0},{"$f":"'2b'!P15","v":0},{"$f":"'2b'!Q15","v":0},{"$f":"'2b'!R15","v":0},{"$f":"'2b'!S15","v":0},{"$f":"'2b'!T15","v":0},{"$f":"'2b'!U15","v":0},{"$f":"'2b'!V15","v":0},{"$f":"'2b'!W15","v":0},{"$f":"'2b'!X15","v":0},{"$f":"'2b'!Y15","v":0},{"$f":"'2b'!Z15","v":0},{"$f":"'2b'!AA15","v":0},{"$f":"'2b'!AB15","v":0},{"$f":"'2b'!AC15","v":0},{"$f":"'2b'!AD15","v":0},{"$f":"'2b'!AE15","v":0},{"$f":"'2b'!AF15","v":0},{"$f":"'2b'!AG15","v":0},{"$f":"'2b'!AH15","v":0},{"$f":"'2b'!AI15","v":0},{"$f":"'2b'!AJ15","v":0},{"$f":"'2b'!AK15","v":0},{"$f":"'2b'!AL15","v":0},{"$f":"'2b'!AM15","v":0},{"$f":"'2b'!AN15","v":0},{"$f":"'2b'!AO15","v":0},{"$f":"'2b'!AP15","v":0},{"$f":"'2b'!AQ15","v":0},{"$f":"'2b'!AR15","v":0},{"$f":"'2b'!AS15","v":0},{"$f":"'2b'!AT15","v":0},{"$f":"'2b'!AU15","v":0},{"$f":"'2b'!AV15","v":0},{"$f":"'2b'!AW15","v":0},{"$f":"'2b'!AX15","v":0},{"$f":"'2b'!AY15","v":0},{"$f":"'2b'!AZ15","v":0},{"$f":"'2b'!BA15","v":0},{"$f":"'2b'!BB15","v":0},{"$f":"'2b'!BC15","v":0},{"$f":"'2b'!BD15","v":0},{"$f":"'2b'!BE15","v":0}]
[{"$f":"'2b'!A16","v":"2b"},{"$f":"'2b'!B16","v":0},{"$f":"'2b'!C16","v":0},{"$f":"'2b'!D16","v":"lehrer14"},{"$f":"'2b'!E16","v":0},{"$f":"'2b'!F16","v":0},{"$f":"'2b'!G16","v":0},{"$f":"'2b'!H16","v":0},{"$f":"'2b'!I16","v":0},{"$f":"'2b'!J16","v":0},{"$f":"'2b'!K16","v":0},{"$f":"'2b'!L16","v":0},{"$f":"'2b'!M16","v":0},{"$f":"'2b'!N16","v":0},{"$f":"'2b'!O16","v":0},{"$f":"'2b'!P16","v":0},{"$f":"'2b'!Q16","v":0},{"$f":"'2b'!R16","v":0},{"$f":"'2b'!S16","v":0},{"$f":"'2b'!T16","v":0},{"$f":"'2b'!U16","v":0},{"$f":"'2b'!V16","v":0},{"$f":"'2b'!W16","v":0},{"$f":"'2b'!X16","v":0},{"$f":"'2b'!Y16","v":0},{"$f":"'2b'!Z16","v":0},{"$f":"'2b'!AA16","v":0},{"$f":"'2b'!AB16","v":0},{"$f":"'2b'!AC16","v":0},{"$f":"'2b'!AD16","v":0},{"$f":"'2b'!AE16","v":0},{"$f":"'2b'!AF16","v":0},{"$f":"'2b'!AG16","v":0},{"$f":"'2b'!AH16","v":0},{"$f":"'2b'!AI16","v":0},{"$f":"'2b'!AJ16","v":0},{"$f":"'2b'!AK16","v":0},{"$f":"'2b'!AL16","v":0},{"$f":"'2b'!AM16","v":0},{"$f":"'2b'!AN16","v":0},{"$f":"'2b'!AO16","v":0},{"$f":"'2b'!AP16","v":0},{"$f":"'2b'!AQ16","v":0},{"$f":"'2b'!AR16","v":0},{"$f":"'2b'!AS16","v":0},{"$f":"'2b'!AT16","v":0},{"$f":"'2b'!AU16","v":0},{"$f":"'2b'!AV16","v":0},{"$f":"'2b'!AW16","v":0},{"$f":"'2b'!AX16","v":0},{"$f":"'2b'!AY16","v":0},{"$f":"'2b'!AZ16","v":0},{"$f":"'2b'!BA16","v":0},{"$f":"'2b'!BB16","v":0},{"$f":"'2b'!BC16","v":0},{"$f":"'2b'!BD16","v":0},{"$f":"'2b'!BE16","v":0}]
[{"$f":"'2b'!A17","v":"2b"},{"$f":"'2b'!B17","v":0},{"$f":"'2b'!C17","v":0},{"$f":"'2b'!D17","v":"lehrer15"},{"$f":"'2b'!E17","v":0},{"$f":"'2b'!F17","v":0},{"$f":"'2b'!G17","v":0},{"$f":"'2b'!H17","v":0},{"$f":"'2b'!I17","v":0},{"$f":"'2b'!J17","v":0},{"$f":"'2b'!K17","v":0},{"$f":"'2b'!L17","v":0},{"$f":"'2b'!M17","v":0},{"$f":"'2b'!N17","v":0},{"$f":"'2b'!O17","v":0},{"$f":"'2b'!P17","v":0},{"$f":"'2b'!Q17","v":0},{"$f":"'2b'!R17","v":0},{"$f":"'2b'!S17","v":0},{"$f":"'2b'!T17","v":0},{"$f":"'2b'!U17","v":0},{"$f":"'2b'!V17","v":0},{"$f":"'2b'!W17","v":0},{"$f":"'2b'!X17","v":0},{"$f":"'2b'!Y17","v":0},{"$f":"'2b'!Z17","v":0},{"$f":"'2b'!AA17","v":0},{"$f":"'2b'!AB17","v":0},{"$f":"'2b'!AC17","v":0},{"$f":"'2b'!AD17","v":0},{"$f":"'2b'!AE17","v":0},{"$f":"'2b'!AF17","v":0},{"$f":"'2b'!AG17","v":0},{"$f":"'2b'!AH17","v":0},{"$f":"'2b'!AI17","v":0},{"$f":"'2b'!AJ17","v":0},{"$f":"'2b'!AK17","v":0},{"$f":"'2b'!AL17","v":0},{"$f":"'2b'!AM17","v":0},{"$f":"'2b'!AN17","v":0},{"$f":"'2b'!AO17","v":0},{"$f":"'2b'!AP17","v":0},{"$f":"'2b'!AQ17","v":0},{"$f":"'2b'!AR17","v":0},{"$f":"'2b'!AS17","v":0},{"$f":"'2b'!AT17","v":0},{"$f":"'2b'!AU17","v":0},{"$f":"'2b'!AV17","v":0},{"$f":"'2b'!AW17","v":0},{"$f":"'2b'!AX17","v":0},{"$f":"'2b'!AY17","v":0},{"$f":"'2b'!AZ17","v":0},{"$f":"'2b'!BA17","v":0},{"$f":"'2b'!BB17","v":0},{"$f":"'2b'!BC17","v":0},{"$f":"'2b'!BD17","v":0},{"$f":"'2b'!BE17","v":0}]
[{"$f":"'2b'!A18","v":"2b"},{"$f":"'2b'!B18","v":0},{"$f":"'2b'!C18","v":0},{"$f":"'2b'!D18","v":"lehrer16"},{"$f":"'2b'!E18","v":0},{"$f":"'2b'!F18","v":0},{"$f":"'2b'!G18","v":0},{"$f":"'2b'!H18","v":0},{"$f":"'2b'!I18","v":0},{"$f":"'2b'!J18","v":0},{"$f":"'2b'!K18","v":0},{"$f":"'2b'!L18","v":0},{"$f":"'2b'!M18","v":0},{"$f":"'2b'!N18","v":0},{"$f":"'2b'!O18","v":0},{"$f":"'2b'!P18","v":0},{"$f":"'2b'!Q18","v":0},{"$f":"'2b'!R18","v":0},{"$f":"'2b'!S18","v":0},{"$f":"'2b'!T18","v":0},{"$f":"'2b'!U18","v":0},{"$f":"'2b'!V18","v":0},{"$f":"'2b'!W18","v":0},{"$f":"'2b'!X18","v":0},{"$f":"'2b'!Y18","v":0},{"$f":"'2b'!Z18","v":0},{"$f":"'2b'!AA18","v":0},{"$f":"'2b'!AB18","v":0},{"$f":"'2b'!AC18","v":0},{"$f":"'2b'!AD18","v":0},{"$f":"'2b'!AE18","v":0},{"$f":"'2b'!AF18","v":0},{"$f":"'2b'!AG18","v":0},{"$f":"'2b'!AH18","v":0},{"$f":"'2b'!AI18","v":0},{"$f":"'2b'!AJ18","v":0},{"$f":"'2b'!AK18","v":0},{"$f":"'2b'!AL18","v":0},{"$f":"'2b'!AM18","v":0},{"$f":"'2b'!AN18","v":0},{"$f":"'2b'!AO18","v":0},{"$f":"'2b'!AP18","v":0},{"$f":"'2b'!AQ18","v":0},{"$f":"'2b'!AR18","v":0},{"$f":"'2b'!AS18","v":0},{"$f":"'2b'!AT18","v":0},{"$f":"'2b'!AU18","v":0},{"$f":"'2b'!AV18","v":0},{"$f":"'2b'!AW18","v":0},{"$f":"'2b'!AX18","v":0},{"$f":"'2b'!AY18","v":0},{"$f":"'2b'!AZ18","v":0},{"$f":"'2b'!BA18","v":0},{"$f":"'2b'!BB18","v":0},{"$f":"'2b'!BC18","v":0},{"$f":"'2b'!BD18","v":0},{"$f":"'2b'!BE18","v":0}]
[{"$f":"'2b'!A19","v":"2b"},{"$f":"'2b'!B19","v":0},{"$f":"'2b'!C19","v":0},{"$f":"'2b'!D19","v":"lehrer17"},{"$f":"'2b'!E19","v":0},{"$f":"'2b'!F19","v":0},{"$f":"'2b'!G19","v":0},{"$f":"'2b'!H19","v":0},{"$f":"'2b'!I19","v":0},{"$f":"'2b'!J19","v":0},{"$f":"'2b'!K19","v":0},{"$f":"'2b'!L19","v":0},{"$f":"'2b'!M19","v":0},{"$f":"'2b'!N19","v":0},{"$f":"'2b'!O19","v":0},{"$f":"'2b'!P19","v":0},{"$f":"'2b'!Q19","v":0},{"$f":"'2b'!R19","v":0},{"$f":"'2b'!S19","v":0},{"$f":"'2b'!T19","v":0},{"$f":"'2b'!U19","v":0},{"$f":"'2b'!V19","v":0},{"$f":"'2b'!W19","v":0},{"$f":"'2b'!X19","v":0},{"$f":"'2b'!Y19","v":0},{"$f":"'2b'!Z19","v":0},{"$f":"'2b'!AA19","v":0},{"$f":"'2b'!AB19","v":0},{"$f":"'2b'!AC19","v":0},{"$f":"'2b'!AD19","v":0},{"$f":"'2b'!AE19","v":0},{"$f":"'2b'!AF19","v":0},{"$f":"'2b'!AG19","v":0},{"$f":"'2b'!AH19","v":0},{"$f":"'2b'!AI19","v":0},{"$f":"'2b'!AJ19","v":0},{"$f":"'2b'!AK19","v":0},{"$f":"'2b'!AL19","v":0},{"$f":"'2b'!AM19","v":0},{"$f":"'2b'!AN19","v":0},{"$f":"'2b'!AO19","v":0},{"$f":"'2b'!AP19","v":0},{"$f":"'2b'!AQ19","v":0},{"$f":"'2b'!AR19","v":0},{"$f":"'2b'!AS19","v":0},{"$f":"'2b'!AT19","v":0},{"$f":"'2b'!AU19","v":0},{"$f":"'2b'!AV19","v":0},{"$f":"'2b'!AW19","v":0},{"$f":"'2b'!AX19","v":0},{"$f":"'2b'!AY19","v":0},{"$f":"'2b'!AZ19","v":0},{"$f":"'2b'!BA19","v":0},{"$f":"'2b'!BB19","v":0},{"$f":"'2b'!BC19","v":0},{"$f":"'2b'!BD19","v":0},{"$f":"'2b'!BE19","v":0}]
[{"$f":"'2b'!A20","v":"2b"},{"$f":"'2b'!B20","v":0},{"$f":"'2b'!C20","v":0},{"$f":"'2b'!D20","v":"lehrer18"},{"$f":"'2b'!E20","v":0},{"$f":"'2b'!F20","v":0},{"$f":"'2b'!G20","v":0},{"$f":"'2b'!H20","v":0},{"$f":"'2b'!I20","v":0},{"$f":"'2b'!J20","v":0},{"$f":"'2b'!K20","v":0},{"$f":"'2b'!L20","v":0},{"$f":"'2b'!M20","v":0},{"$f":"'2b'!N20","v":0},{"$f":"'2b'!O20","v":0},{"$f":"'2b'!P20","v":0},{"$f":"'2b'!Q20","v":0},{"$f":"'2b'!R20","v":0},{"$f":"'2b'!S20","v":0},{"$f":"'2b'!T20","v":0},{"$f":"'2b'!U20","v":0},{"$f":"'2b'!V20","v":0},{"$f":"'2b'!W20","v":0},{"$f":"'2b'!X20","v":0},{"$f":"'2b'!Y20","v":0},{"$f":"'2b'!Z20","v":0},{"$f":"'2b'!AA20","v":0},{"$f":"'2b'!AB20","v":0},{"$f":"'2b'!AC20","v":0},{"$f":"'2b'!AD20","v":0},{"$f":"'2b'!AE20","v":0},{"$f":"'2b'!AF20","v":0},{"$f":"'2b'!AG20","v":0},{"$f":"'2b'!AH20","v":0},{"$f":"'2b'!AI20","v":0},{"$f":"'2b'!AJ20","v":0},{"$f":"'2b'!AK20","v":0},{"$f":"'2b'!AL20","v":0},{"$f":"'2b'!AM20","v":0},{"$f":"'2b'!AN20","v":0},{"$f":"'2b'!AO20","v":0},{"$f":"'2b'!AP20","v":0},{"$f":"'2b'!AQ20","v":0},{"$f":"'2b'!AR20","v":0},{"$f":"'2b'!AS20","v":0},{"$f":"'2b'!AT20","v":0},{"$f":"'2b'!AU20","v":0},{"$f":"'2b'!AV20","v":0},{"$f":"'2b'!AW20","v":0},{"$f":"'2b'!AX20","v":0},{"$f":"'2b'!AY20","v":0},{"$f":"'2b'!AZ20","v":0},{"$f":"'2b'!BA20","v":0},{"$f":"'2b'!BB20","v":0},{"$f":"'2b'!BC20","v":0},{"$f":"'2b'!BD20","v":0},{"$f":"'2b'!BE20","v":0}]
[{"$f":"'2b'!A21","v":"2b"},{"$f":"'2b'!B21","v":0},{"$f":"'2b'!C21","v":0},{"$f":"'2b'!D21","v":"lehrer19"},{"$f":"'2b'!E21","v":0},{"$f":"'2b'!F21","v":0},{"$f":"'2b'!G21","v":0},{"$f":"'2b'!H21","v":0},{"$f":"'2b'!I21","v":0},{"$f":"'2b'!J21","v":0},{"$f":"'2b'!K21","v":0},{"$f":"'2b'!L21","v":0},{"$f":"'2b'!M21","v":0},{"$f":"'2b'!N21","v":0},{"$f":"'2b'!O21","v":0},{"$f":"'2b'!P21","v":0},{"$f":"'2b'!Q21","v":0},{"$f":"'2b'!R21","v":0},{"$f":"'2b'!S21","v":0},{"$f":"'2b'!T21","v":0},{"$f":"'2b'!U21","v":0},{"$f":"'2b'!V21","v":0},{"$f":"'2b'!W21","v":0},{"$f":"'2b'!X21","v":0},{"$f":"'2b'!Y21","v":0},{"$f":"'2b'!Z21","v":0},{"$f":"'2b'!AA21","v":0},{"$f":"'2b'!AB21","v":0},{"$f":"'2b'!AC21","v":0},{"$f":"'2b'!AD21","v":0},{"$f":"'2b'!AE21","v":0},{"$f":"'2b'!AF21","v":0},{"$f":"'2b'!AG21","v":0},{"$f":"'2b'!AH21","v":0},{"$f":"'2b'!AI21","v":0},{"$f":"'2b'!AJ21","v":0},{"$f":"'2b'!AK21","v":0},{"$f":"'2b'!AL21","v":0},{"$f":"'2b'!AM21","v":0},{"$f":"'2b'!AN21","v":0},{"$f":"'2b'!AO21","v":0},{"$f":"'2b'!AP21","v":0},{"$f":"'2b'!AQ21","v":0},{"$f":"'2b'!AR21","v":0},{"$f":"'2b'!AS21","v":0},{"$f":"'2b'!AT21","v":0},{"$f":"'2b'!AU21","v":0},{"$f":"'2b'!AV21","v":0},{"$f":"'2b'!AW21","v":0},{"$f":"'2b'!AX21","v":0},{"$f":"'2b'!AY21","v":0},{"$f":"'2b'!AZ21","v":0},{"$f":"'2b'!BA21","v":0},{"$f":"'2b'!BB21","v":0},{"$f":"'2b'!BC21","v":0},{"$f":"'2b'!BD21","v":0},{"$f":"'2b'!BE21","v":0}]
[{"$f":"'2b'!A22","v":"2b"},{"$f":"'2b'!B22","v":0},{"$f":"'2b'!C22","v":0},{"$f":"'2b'!D22","v":"lehrer20"},{"$f":"'2b'!E22","v":0},{"$f":"'2b'!F22","v":0},{"$f":"'2b'!G22","v":0},{"$f":"'2b'!H22","v":0},{"$f":"'2b'!I22","v":0},{"$f":"'2b'!J22","v":0},{"$f":"'2b'!K22","v":0},{"$f":"'2b'!L22","v":0},{"$f":"'2b'!M22","v":0},{"$f":"'2b'!N22","v":0},{"$f":"'2b'!O22","v":0},{"$f":"'2b'!P22","v":0},{"$f":"'2b'!Q22","v":0},{"$f":"'2b'!R22","v":0},{"$f":"'2b'!S22","v":0},{"$f":"'2b'!T22","v":0},{"$f":"'2b'!U22","v":0},{"$f":"'2b'!V22","v":0},{"$f":"'2b'!W22","v":0},{"$f":"'2b'!X22","v":0},{"$f":"'2b'!Y22","v":0},{"$f":"'2b'!Z22","v":0},{"$f":"'2b'!AA22","v":0},{"$f":"'2b'!AB22","v":0},{"$f":"'2b'!AC22","v":0},{"$f":"'2b'!AD22","v":0},{"$f":"'2b'!AE22","v":0},{"$f":"'2b'!AF22","v":0},{"$f":"'2b'!AG22","v":0},{"$f":"'2b'!AH22","v":0},{"$f":"'2b'!AI22","v":0},{"$f":"'2b'!AJ22","v":0},{"$f":"'2b'!AK22","v":0},{"$f":"'2b'!AL22","v":0},{"$f":"'2b'!AM22","v":0},{"$f":"'2b'!AN22","v":0},{"$f":"'2b'!AO22","v":0},{"$f":"'2b'!AP22","v":0},{"$f":"'2b'!AQ22","v":0},{"$f":"'2b'!AR22","v":0},{"$f":"'2b'!AS22","v":0},{"$f":"'2b'!AT22","v":0},{"$f":"'2b'!AU22","v":0},{"$f":"'2b'!AV22","v":0},{"$f":"'2b'!AW22","v":0},{"$f":"'2b'!AX22","v":0},{"$f":"'2b'!AY22","v":0},{"$f":"'2b'!AZ22","v":0},{"$f":"'2b'!BA22","v":0},{"$f":"'2b'!BB22","v":0},{"$f":"'2b'!BC22","v":0},{"$f":"'2b'!BD22","v":0},{"$f":"'2b'!BE22","v":0}]
[{"$f":"'2b'!A23","v":"2b"},{"$f":"'2b'!B23","v":0},{"$f":"'2b'!C23","v":0},{"$f":"'2b'!D23","v":"lehrer21"},{"$f":"'2b'!E23","v":0},{"$f":"'2b'!F23","v":0},{"$f":"'2b'!G23","v":0},{"$f":"'2b'!H23","v":0},{"$f":"'2b'!I23","v":0},{"$f":"'2b'!J23","v":0},{"$f":"'2b'!K23","v":0},{"$f":"'2b'!L23","v":0},{"$f":"'2b'!M23","v":0},{"$f":"'2b'!N23","v":0},{"$f":"'2b'!O23","v":0},{"$f":"'2b'!P23","v":0},{"$f":"'2b'!Q23","v":0},{"$f":"'2b'!R23","v":0},{"$f":"'2b'!S23","v":0},{"$f":"'2b'!T23","v":0},{"$f":"'2b'!U23","v":0},{"$f":"'2b'!V23","v":0},{"$f":"'2b'!W23","v":0},{"$f":"'2b'!X23","v":0},{"$f":"'2b'!Y23","v":0},{"$f":"'2b'!Z23","v":0},{"$f":"'2b'!AA23","v":0},{"$f":"'2b'!AB23","v":0},{"$f":"'2b'!AC23","v":0},{"$f":"'2b'!AD23","v":0},{"$f":"'2b'!AE23","v":0},{"$f":"'2b'!AF23","v":0},{"$f":"'2b'!AG23","v":0},{"$f":"'2b'!AH23","v":0},{"$f":"'2b'!AI23","v":0},{"$f":"'2b'!AJ23","v":0},{"$f":"'2b'!AK23","v":0},{"$f":"'2b'!AL23","v":0},{"$f":"'2b'!AM23","v":0},{"$f":"'2b'!AN23","v":0},{"$f":"'2b'!AO23","v":0},{"$f":"'2b'!AP23","v":0},{"$f":"'2b'!AQ23","v":0},{"$f":"'2b'!AR23","v":0},{"$f":"'2b'!AS23","v":0},{"$f":"'2b'!AT23","v":0},{"$f":"'2b'!AU23","v":0},{"$f":"'2b'!AV23","v":0},{"$f":"'2b'!AW23","v":0},{"$f":"'2b'!AX23","v":0},{"$f":"'2b'!AY23","v":0},{"$f":"'2b'!AZ23","v":0},{"$f":"'2b'!BA23","v":0},{"$f":"'2b'!BB23","v":0},{"$f":"'2b'!BC23","v":0},{"$f":"'2b'!BD23","v":0},{"$f":"'2b'!BE23","v":0}]
[{"$f":"'2b'!A24","v":"2b"},{"$f":"'2b'!B24","v":0},{"$f":"'2b'!C24","v":0},{"$f":"'2b'!D24","v":"lehrer22"},{"$f":"'2b'!E24","v":0},{"$f":"'2b'!F24","v":0},{"$f":"'2b'!G24","v":0},{"$f":"'2b'!H24","v":0},{"$f":"'2b'!I24","v":0},{"$f":"'2b'!J24","v":0},{"$f":"'2b'!K24","v":0},{"$f":"'2b'!L24","v":0},{"$f":"'2b'!M24","v":0},{"$f":"'2b'!N24","v":0},{"$f":"'2b'!O24","v":0},{"$f":"'2b'!P24","v":0},{"$f":"'2b'!Q24","v":0},{"$f":"'2b'!R24","v":0},{"$f":"'2b'!S24","v":0},{"$f":"'2b'!T24","v":0},{"$f":"'2b'!U24","v":0},{"$f":"'2b'!V24","v":0},{"$f":"'2b'!W24","v":0},{"$f":"'2b'!X24","v":0},{"$f":"'2b'!Y24","v":0},{"$f":"'2b'!Z24","v":0},{"$f":"'2b'!AA24","v":0},{"$f":"'2b'!AB24","v":0},{"$f":"'2b'!AC24","v":0},{"$f":"'2b'!AD24","v":0},{"$f":"'2b'!AE24","v":0},{"$f":"'2b'!AF24","v":0},{"$f":"'2b'!AG24","v":0},{"$f":"'2b'!AH24","v":0},{"$f":"'2b'!AI24","v":0},{"$f":"'2b'!AJ24","v":0},{"$f":"'2b'!AK24","v":0},{"$f":"'2b'!AL24","v":0},{"$f":"'2b'!AM24","v":0},{"$f":"'2b'!AN24","v":0},{"$f":"'2b'!AO24","v":0},{"$f":"'2b'!AP24","v":0},{"$f":"'2b'!AQ24","v":0},{"$f":"'2b'!AR24","v":0},{"$f":"'2b'!AS24","v":0},{"$f":"'2b'!AT24","v":0},{"$f":"'2b'!AU24","v":0},{"$f":"'2b'!AV24","v":0},{"$f":"'2b'!AW24","v":0},{"$f":"'2b'!AX24","v":0},{"$f":"'2b'!AY24","v":0},{"$f":"'2b'!AZ24","v":0},{"$f":"'2b'!BA24","v":0},{"$f":"'2b'!BB24","v":0},{"$f":"'2b'!BC24","v":0},{"$f":"'2b'!BD24","v":0},{"$f":"'2b'!BE24","v":0}]
[{"$f":"'2b'!A25","v":"2b"},{"$f":"'2b'!B25","v":0},{"$f":"'2b'!C25","v":0},{"$f":"'2b'!D25","v":"lehrer23"},{"$f":"'2b'!E25","v":0},{"$f":"'2b'!F25","v":0},{"$f":"'2b'!G25","v":0},{"$f":"'2b'!H25","v":0},{"$f":"'2b'!I25","v":0},{"$f":"'2b'!J25","v":0},{"$f":"'2b'!K25","v":0},{"$f":"'2b'!L25","v":0},{"$f":"'2b'!M25","v":0},{"$f":"'2b'!N25","v":0},{"$f":"'2b'!O25","v":0},{"$f":"'2b'!P25","v":0},{"$f":"'2b'!Q25","v":0},{"$f":"'2b'!R25","v":0},{"$f":"'2b'!S25","v":0},{"$f":"'2b'!T25","v":0},{"$f":"'2b'!U25","v":0},{"$f":"'2b'!V25","v":0},{"$f":"'2b'!W25","v":0},{"$f":"'2b'!X25","v":0},{"$f":"'2b'!Y25","v":0},{"$f":"'2b'!Z25","v":0},{"$f":"'2b'!AA25","v":0},{"$f":"'2b'!AB25","v":0},{"$f":"'2b'!AC25","v":0},{"$f":"'2b'!AD25","v":0},{"$f":"'2b'!AE25","v":0},{"$f":"'2b'!AF25","v":0},{"$f":"'2b'!AG25","v":0},{"$f":"'2b'!AH25","v":0},{"$f":"'2b'!AI25","v":0},{"$f":"'2b'!AJ25","v":0},{"$f":"'2b'!AK25","v":0},{"$f":"'2b'!AL25","v":0},{"$f":"'2b'!AM25","v":0},{"$f":"'2b'!AN25","v":0},{"$f":"'2b'!AO25","v":0},{"$f":"'2b'!AP25","v":0},{"$f":"'2b'!AQ25","v":0},{"$f":"'2b'!AR25","v":0},{"$f":"'2b'!AS25","v":0},{"$f":"'2b'!AT25","v":0},{"$f":"'2b'!AU25","v":0},{"$f":"'2b'!AV25","v":0},{"$f":"'2b'!AW25","v":0},{"$f":"'2b'!AX25","v":0},{"$f":"'2b'!AY25","v":0},{"$f":"'2b'!AZ25","v":0},{"$f":"'2b'!BA25","v":0},{"$f":"'2b'!BB25","v":0},{"$f":"'2b'!BC25","v":0},{"$f":"'2b'!BD25","v":0},{"$f":"'2b'!BE25","v":0}]
[{"$f":"'2b'!A26","v":"2b"},{"$f":"'2b'!B26","v":0},{"$f":"'2b'!C26","v":0},{"$f":"'2b'!D26","v":"lehrer24"},{"$f":"'2b'!E26","v":0},{"$f":"'2b'!F26","v":0},{"$f":"'2b'!G26","v":0},{"$f":"'2b'!H26","v":0},{"$f":"'2b'!I26","v":0},{"$f":"'2b'!J26","v":0},{"$f":"'2b'!K26","v":0},{"$f":"'2b'!L26","v":0},{"$f":"'2b'!M26","v":0},{"$f":"'2b'!N26","v":0},{"$f":"'2b'!O26","v":0},{"$f":"'2b'!P26","v":0},{"$f":"'2b'!Q26","v":0},{"$f":"'2b'!R26","v":0},{"$f":"'2b'!S26","v":0},{"$f":"'2b'!T26","v":0},{"$f":"'2b'!U26","v":0},{"$f":"'2b'!V26","v":0},{"$f":"'2b'!W26","v":0},{"$f":"'2b'!X26","v":0},{"$f":"'2b'!Y26","v":0},{"$f":"'2b'!Z26","v":0},{"$f":"'2b'!AA26","v":0},{"$f":"'2b'!AB26","v":0},{"$f":"'2b'!AC26","v":0},{"$f":"'2b'!AD26","v":0},{"$f":"'2b'!AE26","v":0},{"$f":"'2b'!AF26","v":0},{"$f":"'2b'!AG26","v":0},{"$f":"'2b'!AH26","v":0},{"$f":"'2b'!AI26","v":0},{"$f":"'2b'!AJ26","v":0},{"$f":"'2b'!AK26","v":0},{"$f":"'2b'!AL26","v":0},{"$f":"'2b'!AM26","v":0},{"$f":"'2b'!AN26","v":0},{"$f":"'2b'!AO26","v":0},{"$f":"'2b'!AP26","v":0},{"$f":"'2b'!AQ26","v":0},{"$f":"'2b'!AR26","v":0},{"$f":"'2b'!AS26","v":0},{"$f":"'2b'!AT26","v":0},{"$f":"'2b'!AU26","v":0},{"$f":"'2b'!AV26","v":0},{"$f":"'2b'!AW26","v":0},{"$f":"'2b'!AX26","v":0},{"$f":"'2b'!AY26","v":0},{"$f":"'2b'!AZ26","v":0},{"$f":"'2b'!BA26","v":0},{"$f":"'2b'!BB26","v":0},{"$f":"'2b'!BC26","v":0},{"$f":"'2b'!BD26","v":0},{"$f":"'2b'!BE26","v":0}]
[{"$f":"'2b'!A27","v":"2b"},{"$f":"'2b'!B27","v":0},{"$f":"'2b'!C27","v":0},{"$f":"'2b'!D27","v":"lehrer25"},{"$f":"'2b'!E27","v":0},{"$f":"'2b'!F27","v":0},{"$f":"'2b'!G27","v":0},{"$f":"'2b'!H27","v":0},{"$f":"'2b'!I27","v":0},{"$f":"'2b'!J27","v":0},{"$f":"'2b'!K27","v":0},{"$f":"'2b'!L27","v":0},{"$f":"'2b'!M27","v":0},{"$f":"'2b'!N27","v":0},{"$f":"'2b'!O27","v":0},{"$f":"'2b'!P27","v":0},{"$f":"'2b'!Q27","v":0},{"$f":"'2b'!R27","v":0},{"$f":"'2b'!S27","v":0},{"$f":"'2b'!T27","v":0},{"$f":"'2b'!U27","v":0},{"$f":"'2b'!V27","v":0},{"$f":"'2b'!W27","v":0},{"$f":"'2b'!X27","v":0},{"$f":"'2b'!Y27","v":0},{"$f":"'2b'!Z27","v":0},{"$f":"'2b'!AA27","v":0},{"$f":"'2b'!AB27","v":0},{"$f":"'2b'!AC27","v":0},{"$f":"'2b'!AD27","v":0},{"$f":"'2b'!AE27","v":0},{"$f":"'2b'!AF27","v":0},{"$f":"'2b'!AG27","v":0},{"$f":"'2b'!AH27","v":0},{"$f":"'2b'!AI27","v":0},{"$f":"'2b'!AJ27","v":0},{"$f":"'2b'!AK27","v":0},{"$f":"'2b'!AL27","v":0},{"$f":"'2b'!AM27","v":0},{"$f":"'2b'!AN27","v":0},{"$f":"'2b'!AO27","v":0},{"$f":"'2b'!AP27","v":0},{"$f":"'2b'!AQ27","v":0},{"$f":"'2b'!AR27","v":0},{"$f":"'2b'!AS27","v":0},{"$f":"'2b'!AT27","v":0},{"$f":"'2b'!AU27","v":0},{"$f":"'2b'!AV27","v":0},{"$f":"'2b'!AW27","v":0},{"$f":"'2b'!AX27","v":0},{"$f":"'2b'!AY27","v":0},{"$f":"'2b'!AZ27","v":0},{"$f":"'2b'!BA27","v":0},{"$f":"'2b'!BB27","v":0},{"$f":"'2b'!BC27","v":0},{"$f":"'2b'!BD27","v":0},{"$f":"'2b'!BE27","v":0}]
[{"$f":"'2b'!A28","v":"2b"},{"$f":"'2b'!B28","v":0},{"$f":"'2b'!C28","v":0},{"$f":"'2b'!D28","v":"lehrer26"},{"$f":"'2b'!E28","v":0},{"$f":"'2b'!F28","v":0},{"$f":"'2b'!G28","v":0},{"$f":"'2b'!H28","v":0},{"$f":"'2b'!I28","v":0},{"$f":"'2b'!J28","v":0},{"$f":"'2b'!K28","v":0},{"$f":"'2b'!L28","v":0},{"$f":"'2b'!M28","v":0},{"$f":"'2b'!N28","v":0},{"$f":"'2b'!O28","v":0},{"$f":"'2b'!P28","v":0},{"$f":"'2b'!Q28","v":0},{"$f":"'2b'!R28","v":0},{"$f":"'2b'!S28","v":0},{"$f":"'2b'!T28","v":0},{"$f":"'2b'!U28","v":0},{"$f":"'2b'!V28","v":0},{"$f":"'2b'!W28","v":0},{"$f":"'2b'!X28","v":0},{"$f":"'2b'!Y28","v":0},{"$f":"'2b'!Z28","v":0},{"$f":"'2b'!AA28","v":0},{"$f":"'2b'!AB28","v":0},{"$f":"'2b'!AC28","v":0},{"$f":"'2b'!AD28","v":0},{"$f":"'2b'!AE28","v":0},{"$f":"'2b'!AF28","v":0},{"$f":"'2b'!AG28","v":0},{"$f":"'2b'!AH28","v":0},{"$f":"'2b'!AI28","v":0},{"$f":"'2b'!AJ28","v":0},{"$f":"'2b'!AK28","v":0},{"$f":"'2b'!AL28","v":0},{"$f":"'2b'!AM28","v":0},{"$f":"'2b'!AN28","v":0},{"$f":"'2b'!AO28","v":0},{"$f":"'2b'!AP28","v":0},{"$f":"'2b'!AQ28","v":0},{"$f":"'2b'!AR28","v":0},{"$f":"'2b'!AS28","v":0},{"$f":"'2b'!AT28","v":0},{"$f":"'2b'!AU28","v":0},{"$f":"'2b'!AV28","v":0},{"$f":"'2b'!AW28","v":0},{"$f":"'2b'!AX28","v":0},{"$f":"'2b'!AY28","v":0},{"$f":"'2b'!AZ28","v":0},{"$f":"'2b'!BA28","v":0},{"$f":"'2b'!BB28","v":0},{"$f":"'2b'!BC28","v":0},{"$f":"'2b'!BD28","v":0},{"$f":"'2b'!BE28","v":0}]
[{"$f":"'2b'!A29","v":"2b"},{"$f":"'2b'!B29","v":0},{"$f":"'2b'!C29","v":0},{"$f":"'2b'!D29","v":"lehrer27"},{"$f":"'2b'!E29","v":0},{"$f":"'2b'!F29","v":0},{"$f":"'2b'!G29","v":0},{"$f":"'2b'!H29","v":0},{"$f":"'2b'!I29","v":0},{"$f":"'2b'!J29","v":0},{"$f":"'2b'!K29","v":0},{"$f":"'2b'!L29","v":0},{"$f":"'2b'!M29","v":0},{"$f":"'2b'!N29","v":0},{"$f":"'2b'!O29","v":0},{"$f":"'2b'!P29","v":0},{"$f":"'2b'!Q29","v":0},{"$f":"'2b'!R29","v":0},{"$f":"'2b'!S29","v":0},{"$f":"'2b'!T29","v":0},{"$f":"'2b'!U29","v":0},{"$f":"'2b'!V29","v":0},{"$f":"'2b'!W29","v":0},{"$f":"'2b'!X29","v":0},{"$f":"'2b'!Y29","v":0},{"$f":"'2b'!Z29","v":0},{"$f":"'2b'!AA29","v":0},{"$f":"'2b'!AB29","v":0},{"$f":"'2b'!AC29","v":0},{"$f":"'2b'!AD29","v":0},{"$f":"'2b'!AE29","v":0},{"$f":"'2b'!AF29","v":0},{"$f":"'2b'!AG29","v":0},{"$f":"'2b'!AH29","v":0},{"$f":"'2b'!AI29","v":0},{"$f":"'2b'!AJ29","v":0},{"$f":"'2b'!AK29","v":0},{"$f":"'2b'!AL29","v":0},{"$f":"'2b'!AM29","v":0},{"$f":"'2b'!AN29","v":0},{"$f":"'2b'!AO29","v":0},{"$f":"'2b'!AP29","v":0},{"$f":"'2b'!AQ29","v":0},{"$f":"'2b'!AR29","v":0},{"$f":"'2b'!AS29","v":0},{"$f":"'2b'!AT29","v":0},{"$f":"'2b'!AU29","v":0},{"$f":"'2b'!AV29","v":0},{"$f":"'2b'!AW29","v":0},{"$f":"'2b'!AX29","v":0},{"$f":"'2b'!AY29","v":0},{"$f":"'2b'!AZ29","v":0},{"$f":"'2b'!BA29","v":0},{"$f":"'2b'!BB29","v":0},{"$f":"'2b'!BC29","v":0},{"$f":"'2b'!BD29","v":0},{"$f":"'2b'!BE29","v":0}]
[{"$f":"'2b'!A30","v":"2b"},{"$f":"'2b'!B30","v":0},{"$f":"'2b'!C30","v":0},{"$f":"'2b'!D30","v":"lehrer28"},{"$f":"'2b'!E30","v":0},{"$f":"'2b'!F30","v":0},{"$f":"'2b'!G30","v":0},{"$f":"'2b'!H30","v":0},{"$f":"'2b'!I30","v":0},{"$f":"'2b'!J30","v":0},{"$f":"'2b'!K30","v":0},{"$f":"'2b'!L30","v":0},{"$f":"'2b'!M30","v":0},{"$f":"'2b'!N30","v":0},{"$f":"'2b'!O30","v":0},{"$f":"'2b'!P30","v":0},{"$f":"'2b'!Q30","v":0},{"$f":"'2b'!R30","v":0},{"$f":"'2b'!S30","v":0},{"$f":"'2b'!T30","v":0},{"$f":"'2b'!U30","v":0},{"$f":"'2b'!V30","v":0},{"$f":"'2b'!W30","v":0},{"$f":"'2b'!X30","v":0},{"$f":"'2b'!Y30","v":0},{"$f":"'2b'!Z30","v":0},{"$f":"'2b'!AA30","v":0},{"$f":"'2b'!AB30","v":0},{"$f":"'2b'!AC30","v":0},{"$f":"'2b'!AD30","v":0},{"$f":"'2b'!AE30","v":0},{"$f":"'2b'!AF30","v":0},{"$f":"'2b'!AG30","v":0},{"$f":"'2b'!AH30","v":0},{"$f":"'2b'!AI30","v":0},{"$f":"'2b'!AJ30","v":0},{"$f":"'2b'!AK30","v":0},{"$f":"'2b'!AL30","v":0},{"$f":"'2b'!AM30","v":0},{"$f":"'2b'!AN30","v":0},{"$f":"'2b'!AO30","v":0},{"$f":"'2b'!AP30","v":0},{"$f":"'2b'!AQ30","v":0},{"$f":"'2b'!AR30","v":0},{"$f":"'2b'!AS30","v":0},{"$f":"'2b'!AT30","v":0},{"$f":"'2b'!AU30","v":0},{"$f":"'2b'!AV30","v":0},{"$f":"'2b'!AW30","v":0},{"$f":"'2b'!AX30","v":0},{"$f":"'2b'!AY30","v":0},{"$f":"'2b'!AZ30","v":0},{"$f":"'2b'!BA30","v":0},{"$f":"'2b'!BB30","v":0},{"$f":"'2b'!BC30","v":0},{"$f":"'2b'!BD30","v":0},{"$f":"'2b'!BE30","v":0}]
[{"$f":"'2b'!A31","v":"2b"},{"$f":"'2b'!B31","v":0},{"$f":"'2b'!C31","v":0},{"$f":"'2b'!D31","v":"lehrer29"},{"$f":"'2b'!E31","v":0},{"$f":"'2b'!F31","v":0},{"$f":"'2b'!G31","v":0},{"$f":"'2b'!H31","v":0},{"$f":"'2b'!I31","v":0},{"$f":"'2b'!J31","v":0},{"$f":"'2b'!K31","v":0},{"$f":"'2b'!L31","v":0},{"$f":"'2b'!M31","v":0},{"$f":"'2b'!N31","v":0},{"$f":"'2b'!O31","v":0},{"$f":"'2b'!P31","v":0},{"$f":"'2b'!Q31","v":0},{"$f":"'2b'!R31","v":0},{"$f":"'2b'!S31","v":0},{"$f":"'2b'!T31","v":0},{"$f":"'2b'!U31","v":0},{"$f":"'2b'!V31","v":0},{"$f":"'2b'!W31","v":0},{"$f":"'2b'!X31","v":0},{"$f":"'2b'!Y31","v":0},{"$f":"'2b'!Z31","v":0},{"$f":"'2b'!AA31","v":0},{"$f":"'2b'!AB31","v":0},{"$f":"'2b'!AC31","v":0},{"$f":"'2b'!AD31","v":0},{"$f":"'2b'!AE31","v":0},{"$f":"'2b'!AF31","v":0},{"$f":"'2b'!AG31","v":0},{"$f":"'2b'!AH31","v":0},{"$f":"'2b'!AI31","v":0},{"$f":"'2b'!AJ31","v":0},{"$f":"'2b'!AK31","v":0},{"$f":"'2b'!AL31","v":0},{"$f":"'2b'!AM31","v":0},{"$f":"'2b'!AN31","v":0},{"$f":"'2b'!AO31","v":0},{"$f":"'2b'!AP31","v":0},{"$f":"'2b'!AQ31","v":0},{"$f":"'2b'!AR31","v":0},{"$f":"'2b'!AS31","v":0},{"$f":"'2b'!AT31","v":0},{"$f":"'2b'!AU31","v":0},{"$f":"'2b'!AV31","v":0},{"$f":"'2b'!AW31","v":0},{"$f":"'2b'!AX31","v":0},{"$f":"'2b'!AY31","v":0},{"$f":"'2b'!AZ31","v":0},{"$f":"'2b'!BA31","v":0},{"$f":"'2b'!BB31","v":0},{"$f":"'2b'!BC31","v":0},{"$f":"'2b'!BD31","v":0},{"$f":"'2b'!BE31","v":0}]
[{"$f":"'2b'!A32","v":"2b"},{"$f":"'2b'!B32","v":0},{"$f":"'2b'!C32","v":0},{"$f":"'2b'!D32","v":"lehrer30"},{"$f":"'2b'!E32","v":0},{"$f":"'2b'!F32","v":0},{"$f":"'2b'!G32","v":0},{"$f":"'2b'!H32","v":0},{"$f":"'2b'!I32","v":0},{"$f":"'2b'!J32","v":0},{"$f":"'2b'!K32","v":0},{"$f":"'2b'!L32","v":0},{"$f":"'2b'!M32","v":0},{"$f":"'2b'!N32","v":0},{"$f":"'2b'!O32","v":0},{"$f":"'2b'!P32","v":0},{"$f":"'2b'!Q32","v":0},{"$f":"'2b'!R32","v":0},{"$f":"'2b'!S32","v":0},{"$f":"'2b'!T32","v":0},{"$f":"'2b'!U32","v":0},{"$f":"'2b'!V32","v":0},{"$f":"'2b'!W32","v":0},{"$f":"'2b'!X32","v":0},{"$f":"'2b'!Y32","v":0},{"$f":"'2b'!Z32","v":0},{"$f":"'2b'!AA32","v":0},{"$f":"'2b'!AB32","v":0},{"$f":"'2b'!AC32","v":0},{"$f":"'2b'!AD32","v":0},{"$f":"'2b'!AE32","v":0},{"$f":"'2b'!AF32","v":0},{"$f":"'2b'!AG32","v":0},{"$f":"'2b'!AH32","v":0},{"$f":"'2b'!AI32","v":0},{"$f":"'2b'!AJ32","v":0},{"$f":"'2b'!AK32","v":0},{"$f":"'2b'!AL32","v":0},{"$f":"'2b'!AM32","v":0},{"$f":"'2b'!AN32","v":0},{"$f":"'2b'!AO32","v":0},{"$f":"'2b'!AP32","v":0},{"$f":"'2b'!AQ32","v":0},{"$f":"'2b'!AR32","v":0},{"$f":"'2b'!AS32","v":0},{"$f":"'2b'!AT32","v":0},{"$f":"'2b'!AU32","v":0},{"$f":"'2b'!AV32","v":0},{"$f":"'2b'!AW32","v":0},{"$f":"'2b'!AX32","v":0},{"$f":"'2b'!AY32","v":0},{"$f":"'2b'!AZ32","v":0},{"$f":"'2b'!BA32","v":0},{"$f":"'2b'!BB32","v":0},{"$f":"'2b'!BC32","v":0},{"$f":"'2b'!BD32","v":0},{"$f":"'2b'!BE32","v":0}]
[{"$f":"'2b'!A33","v":"2b"},{"$f":"'2b'!B33","v":0},{"$f":"'2b'!C33","v":0},{"$f":"'2b'!D33","v":"lehrer31"},{"$f":"'2b'!E33","v":0},{"$f":"'2b'!F33","v":0},{"$f":"'2b'!G33","v":0},{"$f":"'2b'!H33","v":0},{"$f":"'2b'!I33","v":0},{"$f":"'2b'!J33","v":0},{"$f":"'2b'!K33","v":0},{"$f":"'2b'!L33","v":0},{"$f":"'2b'!M33","v":0},{"$f":"'2b'!N33","v":0},{"$f":"'2b'!O33","v":0},{"$f":"'2b'!P33","v":0},{"$f":"'2b'!Q33","v":0},{"$f":"'2b'!R33","v":0},{"$f":"'2b'!S33","v":0},{"$f":"'2b'!T33","v":0},{"$f":"'2b'!U33","v":0},{"$f":"'2b'!V33","v":0},{"$f":"'2b'!W33","v":0},{"$f":"'2b'!X33","v":0},{"$f":"'2b'!Y33","v":0},{"$f":"'2b'!Z33","v":0},{"$f":"'2b'!AA33","v":0},{"$f":"'2b'!AB33","v":0},{"$f":"'2b'!AC33","v":0},{"$f":"'2b'!AD33","v":0},{"$f":"'2b'!AE33","v":0},{"$f":"'2b'!AF33","v":0},{"$f":"'2b'!AG33","v":0},{"$f":"'2b'!AH33","v":0},{"$f":"'2b'!AI33","v":0},{"$f":"'2b'!AJ33","v":0},{"$f":"'2b'!AK33","v":0},{"$f":"'2b'!AL33","v":0},{"$f":"'2b'!AM33","v":0},{"$f":"'2b'!AN33","v":0},{"$f":"'2b'!AO33","v":0},{"$f":"'2b'!AP33","v":0},{"$f":"'2b'!AQ33","v":0},{"$f":"'2b'!AR33","v":0},{"$f":"'2b'!AS33","v":0},{"$f":"'2b'!AT33","v":0},{"$f":"'2b'!AU33","v":0},{"$f":"'2b'!AV33","v":0},{"$f":"'2b'!AW33","v":0},{"$f":"'2b'!AX33","v":0},{"$f":"'2b'!AY33","v":0},{"$f":"'2b'!AZ33","v":0},{"$f":"'2b'!BA33","v":0},{"$f":"'2b'!BB33","v":0},{"$f":"'2b'!BC33","v":0},{"$f":"'2b'!BD33","v":0},{"$f":"'2b'!BE33","v":0}]
[{"$f":"'2b'!A34","v":"2b"},{"$f":"'2b'!B34","v":0},{"$f":"'2b'!C34","v":0},{"$f":"'2b'!D34","v":"lehrer32"},{"$f":"'2b'!E34","v":0},{"$f":"'2b'!F34","v":0},{"$f":"'2b'!G34","v":0},{"$f":"'2b'!H34","v":0},{"$f":"'2b'!I34","v":0},{"$f":"'2b'!J34","v":0},{"$f":"'2b'!K34","v":0},{"$f":"'2b'!L34","v":0},{"$f":"'2b'!M34","v":0},{"$f":"'2b'!N34","v":0},{"$f":"'2b'!O34","v":0},{"$f":"'2b'!P34","v":0},{"$f":"'2b'!Q34","v":0},{"$f":"'2b'!R34","v":0},{"$f":"'2b'!S34","v":0},{"$f":"'2b'!T34","v":0},{"$f":"'2b'!U34","v":0},{"$f":"'2b'!V34","v":0},{"$f":"'2b'!W34","v":0},{"$f":"'2b'!X34","v":0},{"$f":"'2b'!Y34","v":0},{"$f":"'2b'!Z34","v":0},{"$f":"'2b'!AA34","v":0},{"$f":"'2b'!AB34","v":0},{"$f":"'2b'!AC34","v":0},{"$f":"'2b'!AD34","v":0},{"$f":"'2b'!AE34","v":0},{"$f":"'2b'!AF34","v":0},{"$f":"'2b'!AG34","v":0},{"$f":"'2b'!AH34","v":0},{"$f":"'2b'!AI34","v":0},{"$f":"'2b'!AJ34","v":0},{"$f":"'2b'!AK34","v":0},{"$f":"'2b'!AL34","v":0},{"$f":"'2b'!AM34","v":0},{"$f":"'2b'!AN34","v":0},{"$f":"'2b'!AO34","v":0},{"$f":"'2b'!AP34","v":0},{"$f":"'2b'!AQ34","v":0},{"$f":"'2b'!AR34","v":0},{"$f":"'2b'!AS34","v":0},{"$f":"'2b'!AT34","v":0},{"$f":"'2b'!AU34","v":0},{"$f":"'2b'!AV34","v":0},{"$f":"'2b'!AW34","v":0},{"$f":"'2b'!AX34","v":0},{"$f":"'2b'!AY34","v":0},{"$f":"'2b'!AZ34","v":0},{"$f":"'2b'!BA34","v":0},{"$f":"'2b'!BB34","v":0},{"$f":"'2b'!BC34","v":0},{"$f":"'2b'!BD34","v":0},{"$f":"'2b'!BE34","v":0}]
[{"$f":"'2b'!A35","v":"2b"},{"$f":"'2b'!B35","v":0},{"$f":"'2b'!C35","v":0},{"$f":"'2b'!D35","v":"lehrer33"},{"$f":"'2b'!E35","v":0},{"$f":"'2b'!F35","v":0},{"$f":"'2b'!G35","v":0},{"$f":"'2b'!H35","v":0},{"$f":"'2b'!I35","v":0},{"$f":"'2b'!J35","v":0},{"$f":"'2b'!K35","v":0},{"$f":"'2b'!L35","v":0},{"$f":"'2b'!M35","v":0},{"$f":"'2b'!N35","v":0},{"$f":"'2b'!O35","v":0},{"$f":"'2b'!P35","v":0},{"$f":"'2b'!Q35","v":0},{"$f":"'2b'!R35","v":0},{"$f":"'2b'!S35","v":0},{"$f":"'2b'!T35","v":0},{"$f":"'2b'!U35","v":0},{"$f":"'2b'!V35","v":0},{"$f":"'2b'!W35","v":0},{"$f":"'2b'!X35","v":0},{"$f":"'2b'!Y35","v":0},{"$f":"'2b'!Z35","v":0},{"$f":"'2b'!AA35","v":0},{"$f":"'2b'!AB35","v":0},{"$f":"'2b'!AC35","v":0},{"$f":"'2b'!AD35","v":0},{"$f":"'2b'!AE35","v":0},{"$f":"'2b'!AF35","v":0},{"$f":"'2b'!AG35","v":0},{"$f":"'2b'!AH35","v":0},{"$f":"'2b'!AI35","v":0},{"$f":"'2b'!AJ35","v":0},{"$f":"'2b'!AK35","v":0},{"$f":"'2b'!AL35","v":0},{"$f":"'2b'!AM35","v":0},{"$f":"'2b'!AN35","v":0},{"$f":"'2b'!AO35","v":0},{"$f":"'2b'!AP35","v":0},{"$f":"'2b'!AQ35","v":0},{"$f":"'2b'!AR35","v":0},{"$f":"'2b'!AS35","v":0},{"$f":"'2b'!AT35","v":0},{"$f":"'2b'!AU35","v":0},{"$f":"'2b'!AV35","v":0},{"$f":"'2b'!AW35","v":0},{"$f":"'2b'!AX35","v":0},{"$f":"'2b'!AY35","v":0},{"$f":"'2b'!AZ35","v":0},{"$f":"'2b'!BA35","v":0},{"$f":"'2b'!BB35","v":0},{"$f":"'2b'!BC35","v":0},{"$f":"'2b'!BD35","v":0},{"$f":"'2b'!BE35","v":0}]
[{"$f":"'2b'!A36","v":"2b"},{"$f":"'2b'!B36","v":0},{"$f":"'2b'!C36","v":0},{"$f":"'2b'!D36","v":"lehrer34"},{"$f":"'2b'!E36","v":0},{"$f":"'2b'!F36","v":0},{"$f":"'2b'!G36","v":0},{"$f":"'2b'!H36","v":0},{"$f":"'2b'!I36","v":0},{"$f":"'2b'!J36","v":0},{"$f":"'2b'!K36","v":0},{"$f":"'2b'!L36","v":0},{"$f":"'2b'!M36","v":0},{"$f":"'2b'!N36","v":0},{"$f":"'2b'!O36","v":0},{"$f":"'2b'!P36","v":0},{"$f":"'2b'!Q36","v":0},{"$f":"'2b'!R36","v":0},{"$f":"'2b'!S36","v":0},{"$f":"'2b'!T36","v":0},{"$f":"'2b'!U36","v":0},{"$f":"'2b'!V36","v":0},{"$f":"'2b'!W36","v":0},{"$f":"'2b'!X36","v":0},{"$f":"'2b'!Y36","v":0},{"$f":"'2b'!Z36","v":0},{"$f":"'2b'!AA36","v":0},{"$f":"'2b'!AB36","v":0},{"$f":"'2b'!AC36","v":0},{"$f":"'2b'!AD36","v":0},{"$f":"'2b'!AE36","v":0},{"$f":"'2b'!AF36","v":0},{"$f":"'2b'!AG36","v":0},{"$f":"'2b'!AH36","v":0},{"$f":"'2b'!AI36","v":0},{"$f":"'2b'!AJ36","v":0},{"$f":"'2b'!AK36","v":0},{"$f":"'2b'!AL36","v":0},{"$f":"'2b'!AM36","v":0},{"$f":"'2b'!AN36","v":0},{"$f":"'2b'!AO36","v":0},{"$f":"'2b'!AP36","v":0},{"$f":"'2b'!AQ36","v":0},{"$f":"'2b'!AR36","v":0},{"$f":"'2b'!AS36","v":0},{"$f":"'2b'!AT36","v":0},{"$f":"'2b'!AU36","v":0},{"$f":"'2b'!AV36","v":0},{"$f":"'2b'!AW36","v":0},{"$f":"'2b'!AX36","v":0},{"$f":"'2b'!AY36","v":0},{"$f":"'2b'!AZ36","v":0},{"$f":"'2b'!BA36","v":0},{"$f":"'2b'!BB36","v":0},{"$f":"'2b'!BC36","v":0},{"$f":"'2b'!BD36","v":0},{"$f":"'2b'!BE36","v":0}]
[{"$f":"'2b'!A37","v":"2b"},{"$f":"'2b'!B37","v":0},{"$f":"'2b'!C37","v":0},{"$f":"'2b'!D37","v":"lehrer35"},{"$f":"'2b'!E37","v":0},{"$f":"'2b'!F37","v":0},{"$f":"'2b'!G37","v":0},{"$f":"'2b'!H37","v":0},{"$f":"'2b'!I37","v":0},{"$f":"'2b'!J37","v":0},{"$f":"'2b'!K37","v":0},{"$f":"'2b'!L37","v":0},{"$f":"'2b'!M37","v":0},{"$f":"'2b'!N37","v":0},{"$f":"'2b'!O37","v":0},{"$f":"'2b'!P37","v":0},{"$f":"'2b'!Q37","v":0},{"$f":"'2b'!R37","v":0},{"$f":"'2b'!S37","v":0},{"$f":"'2b'!T37","v":0},{"$f":"'2b'!U37","v":0},{"$f":"'2b'!V37","v":0},{"$f":"'2b'!W37","v":0},{"$f":"'2b'!X37","v":0},{"$f":"'2b'!Y37","v":0},{"$f":"'2b'!Z37","v":0},{"$f":"'2b'!AA37","v":0},{"$f":"'2b'!AB37","v":0},{"$f":"'2b'!AC37","v":0},{"$f":"'2b'!AD37","v":0},{"$f":"'2b'!AE37","v":0},{"$f":"'2b'!AF37","v":0},{"$f":"'2b'!AG37","v":0},{"$f":"'2b'!AH37","v":0},{"$f":"'2b'!AI37","v":0},{"$f":"'2b'!AJ37","v":0},{"$f":"'2b'!AK37","v":0},{"$f":"'2b'!AL37","v":0},{"$f":"'2b'!AM37","v":0},{"$f":"'2b'!AN37","v":0},{"$f":"'2b'!AO37","v":0},{"$f":"'2b'!AP37","v":0},{"$f":"'2b'!AQ37","v":0},{"$f":"'2b'!AR37","v":0},{"$f":"'2b'!AS37","v":0},{"$f":"'2b'!AT37","v":0},{"$f":"'2b'!AU37","v":0},{"$f":"'2b'!AV37","v":0},{"$f":"'2b'!AW37","v":0},{"$f":"'2b'!AX37","v":0},{"$f":"'2b'!AY37","v":0},{"$f":"'2b'!AZ37","v":0},{"$f":"'2b'!BA37","v":0},{"$f":"'2b'!BB37","v":0},{"$f":"'2b'!BC37","v":0},{"$f":"'2b'!BD37","v":0},{"$f":"'2b'!BE37","v":0}]
[{"$f":"'2b'!A38","v":"2b"},{"$f":"'2b'!B38","v":0},{"$f":"'2b'!C38","v":0},{"$f":"'2b'!D38","v":"lehrer36"},{"$f":"'2b'!E38","v":0},{"$f":"'2b'!F38","v":0},{"$f":"'2b'!G38","v":0},{"$f":"'2b'!H38","v":0},{"$f":"'2b'!I38","v":0},{"$f":"'2b'!J38","v":0},{"$f":"'2b'!K38","v":0},{"$f":"'2b'!L38","v":0},{"$f":"'2b'!M38","v":0},{"$f":"'2b'!N38","v":0},{"$f":"'2b'!O38","v":0},{"$f":"'2b'!P38","v":0},{"$f":"'2b'!Q38","v":0},{"$f":"'2b'!R38","v":0},{"$f":"'2b'!S38","v":0},{"$f":"'2b'!T38","v":0},{"$f":"'2b'!U38","v":0},{"$f":"'2b'!V38","v":0},{"$f":"'2b'!W38","v":0},{"$f":"'2b'!X38","v":0},{"$f":"'2b'!Y38","v":0},{"$f":"'2b'!Z38","v":0},{"$f":"'2b'!AA38","v":0},{"$f":"'2b'!AB38","v":0},{"$f":"'2b'!AC38","v":0},{"$f":"'2b'!AD38","v":0},{"$f":"'2b'!AE38","v":0},{"$f":"'2b'!AF38","v":0},{"$f":"'2b'!AG38","v":0},{"$f":"'2b'!AH38","v":0},{"$f":"'2b'!AI38","v":0},{"$f":"'2b'!AJ38","v":0},{"$f":"'2b'!AK38","v":0},{"$f":"'2b'!AL38","v":0},{"$f":"'2b'!AM38","v":0},{"$f":"'2b'!AN38","v":0},{"$f":"'2b'!AO38","v":0},{"$f":"'2b'!AP38","v":0},{"$f":"'2b'!AQ38","v":0},{"$f":"'2b'!AR38","v":0},{"$f":"'2b'!AS38","v":0},{"$f":"'2b'!AT38","v":0},{"$f":"'2b'!AU38","v":0},{"$f":"'2b'!AV38","v":0},{"$f":"'2b'!AW38","v":0},{"$f":"'2b'!AX38","v":0},{"$f":"'2b'!AY38","v":0},{"$f":"'2b'!AZ38","v":0},{"$f":"'2b'!BA38","v":0},{"$f":"'2b'!BB38","v":0},{"$f":"'2b'!BC38","v":0},{"$f":"'2b'!BD38","v":0},{"$f":"'2b'!BE38","v":0}]
[{"$f":"'2b'!A39","v":"2b"},{"$f":"'2b'!B39","v":0},{"$f":"'2b'!C39","v":0},{"$f":"'2b'!D39","v":"lehrer37"},{"$f":"'2b'!E39","v":0},{"$f":"'2b'!F39","v":0},{"$f":"'2b'!G39","v":0},{"$f":"'2b'!H39","v":0},{"$f":"'2b'!I39","v":0},{"$f":"'2b'!J39","v":0},{"$f":"'2b'!K39","v":0},{"$f":"'2b'!L39","v":0},{"$f":"'2b'!M39","v":0},{"$f":"'2b'!N39","v":0},{"$f":"'2b'!O39","v":0},{"$f":"'2b'!P39","v":0},{"$f":"'2b'!Q39","v":0},{"$f":"'2b'!R39","v":0},{"$f":"'2b'!S39","v":0},{"$f":"'2b'!T39","v":0},{"$f":"'2b'!U39","v":0},{"$f":"'2b'!V39","v":0},{"$f":"'2b'!W39","v":0},{"$f":"'2b'!X39","v":0},{"$f":"'2b'!Y39","v":0},{"$f":"'2b'!Z39","v":0},{"$f":"'2b'!AA39","v":0},{"$f":"'2b'!AB39","v":0},{"$f":"'2b'!AC39","v":0},{"$f":"'2b'!AD39","v":0},{"$f":"'2b'!AE39","v":0},{"$f":"'2b'!AF39","v":0},{"$f":"'2b'!AG39","v":0},{"$f":"'2b'!AH39","v":0},{"$f":"'2b'!AI39","v":0},{"$f":"'2b'!AJ39","v":0},{"$f":"'2b'!AK39","v":0},{"$f":"'2b'!AL39","v":0},{"$f":"'2b'!AM39","v":0},{"$f":"'2b'!AN39","v":0},{"$f":"'2b'!AO39","v":0},{"$f":"'2b'!AP39","v":0},{"$f":"'2b'!AQ39","v":0},{"$f":"'2b'!AR39","v":0},{"$f":"'2b'!AS39","v":0},{"$f":"'2b'!AT39","v":0},{"$f":"'2b'!AU39","v":0},{"$f":"'2b'!AV39","v":0},{"$f":"'2b'!AW39","v":0},{"$f":"'2b'!AX39","v":0},{"$f":"'2b'!AY39","v":0},{"$f":"'2b'!AZ39","v":0},{"$f":"'2b'!BA39","v":0},{"$f":"'2b'!BB39","v":0},{"$f":"'2b'!BC39","v":0},{"$f":"'2b'!BD39","v":0},{"$f":"'2b'!BE39","v":0}]
[{"$f":"'2b'!A40","v":"2b"},{"$f":"'2b'!B40","v":0},{"$f":"'2b'!C40","v":0},{"$f":"'2b'!D40","v":"lehrer38"},{"$f":"'2b'!E40","v":0},{"$f":"'2b'!F40","v":0},{"$f":"'2b'!G40","v":0},{"$f":"'2b'!H40","v":0},{"$f":"'2b'!I40","v":0},{"$f":"'2b'!J40","v":0},{"$f":"'2b'!K40","v":0},{"$f":"'2b'!L40","v":0},{"$f":"'2b'!M40","v":0},{"$f":"'2b'!N40","v":0},{"$f":"'2b'!O40","v":0},{"$f":"'2b'!P40","v":0},{"$f":"'2b'!Q40","v":0},{"$f":"'2b'!R40","v":0},{"$f":"'2b'!S40","v":0},{"$f":"'2b'!T40","v":0},{"$f":"'2b'!U40","v":0},{"$f":"'2b'!V40","v":0},{"$f":"'2b'!W40","v":0},{"$f":"'2b'!X40","v":0},{"$f":"'2b'!Y40","v":0},{"$f":"'2b'!Z40","v":0},{"$f":"'2b'!AA40","v":0},{"$f":"'2b'!AB40","v":0},{"$f":"'2b'!AC40","v":0},{"$f":"'2b'!AD40","v":0},{"$f":"'2b'!AE40","v":0},{"$f":"'2b'!AF40","v":0},{"$f":"'2b'!AG40","v":0},{"$f":"'2b'!AH40","v":0},{"$f":"'2b'!AI40","v":0},{"$f":"'2b'!AJ40","v":0},{"$f":"'2b'!AK40","v":0},{"$f":"'2b'!AL40","v":0},{"$f":"'2b'!AM40","v":0},{"$f":"'2b'!AN40","v":0},{"$f":"'2b'!AO40","v":0},{"$f":"'2b'!AP40","v":0},{"$f":"'2b'!AQ40","v":0},{"$f":"'2b'!AR40","v":0},{"$f":"'2b'!AS40","v":0},{"$f":"'2b'!AT40","v":0},{"$f":"'2b'!AU40","v":0},{"$f":"'2b'!AV40","v":0},{"$f":"'2b'!AW40","v":0},{"$f":"'2b'!AX40","v":0},{"$f":"'2b'!AY40","v":0},{"$f":"'2b'!AZ40","v":0},{"$f":"'2b'!BA40","v":0},{"$f":"'2b'!BB40","v":0},{"$f":"'2b'!BC40","v":0},{"$f":"'2b'!BD40","v":0},{"$f":"'2b'!BE40","v":0}]
[{"$f":"'2b'!A41","v":"2b"},{"$f":"'2b'!B41","v":0},{"$f":"'2b'!C41","v":0},{"$f":"'2b'!D41","v":"lehrer39"},{"$f":"'2b'!E41","v":0},{"$f":"'2b'!F41","v":0},{"$f":"'2b'!G41","v":0},{"$f":"'2b'!H41","v":0},{"$f":"'2b'!I41","v":0},{"$f":"'2b'!J41","v":0},{"$f":"'2b'!K41","v":0},{"$f":"'2b'!L41","v":0},{"$f":"'2b'!M41","v":0},{"$f":"'2b'!N41","v":0},{"$f":"'2b'!O41","v":0},{"$f":"'2b'!P41","v":0},{"$f":"'2b'!Q41","v":0},{"$f":"'2b'!R41","v":0},{"$f":"'2b'!S41","v":0},{"$f":"'2b'!T41","v":0},{"$f":"'2b'!U41","v":0},{"$f":"'2b'!V41","v":0},{"$f":"'2b'!W41","v":0},{"$f":"'2b'!X41","v":0},{"$f":"'2b'!Y41","v":0},{"$f":"'2b'!Z41","v":0},{"$f":"'2b'!AA41","v":0},{"$f":"'2b'!AB41","v":0},{"$f":"'2b'!AC41","v":0},{"$f":"'2b'!AD41","v":0},{"$f":"'2b'!AE41","v":0},{"$f":"'2b'!AF41","v":0},{"$f":"'2b'!AG41","v":0},{"$f":"'2b'!AH41","v":0},{"$f":"'2b'!AI41","v":0},{"$f":"'2b'!AJ41","v":0},{"$f":"'2b'!AK41","v":0},{"$f":"'2b'!AL41","v":0},{"$f":"'2b'!AM41","v":0},{"$f":"'2b'!AN41","v":0},{"$f":"'2b'!AO41","v":0},{"$f":"'2b'!AP41","v":0},{"$f":"'2b'!AQ41","v":0},{"$f":"'2b'!AR41","v":0},{"$f":"'2b'!AS41","v":0},{"$f":"'2b'!AT41","v":0},{"$f":"'2b'!AU41","v":0},{"$f":"'2b'!AV41","v":0},{"$f":"'2b'!AW41","v":0},{"$f":"'2b'!AX41","v":0},{"$f":"'2b'!AY41","v":0},{"$f":"'2b'!AZ41","v":0},{"$f":"'2b'!BA41","v":0},{"$f":"'2b'!BB41","v":0},{"$f":"'2b'!BC41","v":0},{"$f":"'2b'!BD41","v":0},{"$f":"'2b'!BE41","v":0}]
[{"$f":"'2b'!A42","v":"2b"},{"$f":"'2b'!B42","v":0},{"$f":"'2b'!C42","v":0},{"$f":"'2b'!D42","v":"lehrer40"},{"$f":"'2b'!E42","v":0},{"$f":"'2b'!F42","v":0},{"$f":"'2b'!G42","v":0},{"$f":"'2b'!H42","v":0},{"$f":"'2b'!I42","v":0},{"$f":"'2b'!J42","v":0},{"$f":"'2b'!K42","v":0},{"$f":"'2b'!L42","v":0},{"$f":"'2b'!M42","v":0},{"$f":"'2b'!N42","v":0},{"$f":"'2b'!O42","v":0},{"$f":"'2b'!P42","v":0},{"$f":"'2b'!Q42","v":0},{"$f":"'2b'!R42","v":0},{"$f":"'2b'!S42","v":0},{"$f":"'2b'!T42","v":0},{"$f":"'2b'!U42","v":0},{"$f":"'2b'!V42","v":0},{"$f":"'2b'!W42","v":0},{"$f":"'2b'!X42","v":0},{"$f":"'2b'!Y42","v":0},{"$f":"'2b'!Z42","v":0},{"$f":"'2b'!AA42","v":0},{"$f":"'2b'!AB42","v":0},{"$f":"'2b'!AC42","v":0},{"$f":"'2b'!AD42","v":0},{"$f":"'2b'!AE42","v":0},{"$f":"'2b'!AF42","v":0},{"$f":"'2b'!AG42","v":0},{"$f":"'2b'!AH42","v":0},{"$f":"'2b'!AI42","v":0},{"$f":"'2b'!AJ42","v":0},{"$f":"'2b'!AK42","v":0},{"$f":"'2b'!AL42","v":0},{"$f":"'2b'!AM42","v":0},{"$f":"'2b'!AN42","v":0},{"$f":"'2b'!AO42","v":0},{"$f":"'2b'!AP42","v":0},{"$f":"'2b'!AQ42","v":0},{"$f":"'2b'!AR42","v":0},{"$f":"'2b'!AS42","v":0},{"$f":"'2b'!AT42","v":0},{"$f":"'2b'!AU42","v":0},{"$f":"'2b'!AV42","v":0},{"$f":"'2b'!AW42","v":0},{"$f":"'2b'!AX42","v":0},{"$f":"'2b'!AY42","v":0},{"$f":"'2b'!AZ42","v":0},{"$f":"'2b'!BA42","v":0},{"$f":"'2b'!BB42","v":0},{"$f":"'2b'!BC42","v":0},{"$f":"'2b'!BD42","v":0},{"$f":"'2b'!BE42","v":0}]
[{"$f":"'2b'!A43","v":"2b"},{"$f":"'2b'!B43","v":0},{"$f":"'2b'!C43","v":0},{"$f":"'2b'!D43","v":"lehrer41"},{"$f":"'2b'!E43","v":0},{"$f":"'2b'!F43","v":0},{"$f":"'2b'!G43","v":0},{"$f":"'2b'!H43","v":0},{"$f":"'2b'!I43","v":0},{"$f":"'2b'!J43","v":0},{"$f":"'2b'!K43","v":0},{"$f":"'2b'!L43","v":0},{"$f":"'2b'!M43","v":0},{"$f":"'2b'!N43","v":0},{"$f":"'2b'!O43","v":0},{"$f":"'2b'!P43","v":0},{"$f":"'2b'!Q43","v":0},{"$f":"'2b'!R43","v":0},{"$f":"'2b'!S43","v":0},{"$f":"'2b'!T43","v":0},{"$f":"'2b'!U43","v":0},{"$f":"'2b'!V43","v":0},{"$f":"'2b'!W43","v":0},{"$f":"'2b'!X43","v":0},{"$f":"'2b'!Y43","v":0},{"$f":"'2b'!Z43","v":0},{"$f":"'2b'!AA43","v":0},{"$f":"'2b'!AB43","v":0},{"$f":"'2b'!AC43","v":0},{"$f":"'2b'!AD43","v":0},{"$f":"'2b'!AE43","v":0},{"$f":"'2b'!AF43","v":0},{"$f":"'2b'!AG43","v":0},{"$f":"'2b'!AH43","v":0},{"$f":"'2b'!AI43","v":0},{"$f":"'2b'!AJ43","v":0},{"$f":"'2b'!AK43","v":0},{"$f":"'2b'!AL43","v":0},{"$f":"'2b'!AM43","v":0},{"$f":"'2b'!AN43","v":0},{"$f":"'2b'!AO43","v":0},{"$f":"'2b'!AP43","v":0},{"$f":"'2b'!AQ43","v":0},{"$f":"'2b'!AR43","v":0},{"$f":"'2b'!AS43","v":0},{"$f":"'2b'!AT43","v":0},{"$f":"'2b'!AU43","v":0},{"$f":"'2b'!AV43","v":0},{"$f":"'2b'!AW43","v":0},{"$f":"'2b'!AX43","v":0},{"$f":"'2b'!AY43","v":0},{"$f":"'2b'!AZ43","v":0},{"$f":"'2b'!BA43","v":0},{"$f":"'2b'!BB43","v":0},{"$f":"'2b'!BC43","v":0},{"$f":"'2b'!BD43","v":0},{"$f":"'2b'!BE43","v":0}]
[{"$f":"'2b'!A44","v":"2b"},{"$f":"'2b'!B44","v":0},{"$f":"'2b'!C44","v":0},{"$f":"'2b'!D44","v":"lehrer42"},{"$f":"'2b'!E44","v":0},{"$f":"'2b'!F44","v":0},{"$f":"'2b'!G44","v":0},{"$f":"'2b'!H44","v":0},{"$f":"'2b'!I44","v":0},{"$f":"'2b'!J44","v":0},{"$f":"'2b'!K44","v":0},{"$f":"'2b'!L44","v":0},{"$f":"'2b'!M44","v":0},{"$f":"'2b'!N44","v":0},{"$f":"'2b'!O44","v":0},{"$f":"'2b'!P44","v":0},{"$f":"'2b'!Q44","v":0},{"$f":"'2b'!R44","v":0},{"$f":"'2b'!S44","v":0},{"$f":"'2b'!T44","v":0},{"$f":"'2b'!U44","v":0},{"$f":"'2b'!V44","v":0},{"$f":"'2b'!W44","v":0},{"$f":"'2b'!X44","v":0},{"$f":"'2b'!Y44","v":0},{"$f":"'2b'!Z44","v":0},{"$f":"'2b'!AA44","v":0},{"$f":"'2b'!AB44","v":0},{"$f":"'2b'!AC44","v":0},{"$f":"'2b'!AD44","v":0},{"$f":"'2b'!AE44","v":0},{"$f":"'2b'!AF44","v":0},{"$f":"'2b'!AG44","v":0},{"$f":"'2b'!AH44","v":0},{"$f":"'2b'!AI44","v":0},{"$f":"'2b'!AJ44","v":0},{"$f":"'2b'!AK44","v":0},{"$f":"'2b'!AL44","v":0},{"$f":"'2b'!AM44","v":0},{"$f":"'2b'!AN44","v":0},{"$f":"'2b'!AO44","v":0},{"$f":"'2b'!AP44","v":0},{"$f":"'2b'!AQ44","v":0},{"$f":"'2b'!AR44","v":0},{"$f":"'2b'!AS44","v":0},{"$f":"'2b'!AT44","v":0},{"$f":"'2b'!AU44","v":0},{"$f":"'2b'!AV44","v":0},{"$f":"'2b'!AW44","v":0},{"$f":"'2b'!AX44","v":0},{"$f":"'2b'!AY44","v":0},{"$f":"'2b'!AZ44","v":0},{"$f":"'2b'!BA44","v":0},{"$f":"'2b'!BB44","v":0},{"$f":"'2b'!BC44","v":0},{"$f":"'2b'!BD44","v":0},{"$f":"'2b'!BE44","v":0}]
[{"$f":"'2b'!A45","v":"2b"},{"$f":"'2b'!B45","v":0},{"$f":"'2b'!C45","v":0},{"$f":"'2b'!D45","v":"lehrer43"},{"$f":"'2b'!E45","v":0},{"$f":"'2b'!F45","v":0},{"$f":"'2b'!G45","v":0},{"$f":"'2b'!H45","v":0},{"$f":"'2b'!I45","v":0},{"$f":"'2b'!J45","v":0},{"$f":"'2b'!K45","v":0},{"$f":"'2b'!L45","v":0},{"$f":"'2b'!M45","v":0},{"$f":"'2b'!N45","v":0},{"$f":"'2b'!O45","v":0},{"$f":"'2b'!P45","v":0},{"$f":"'2b'!Q45","v":0},{"$f":"'2b'!R45","v":0},{"$f":"'2b'!S45","v":0},{"$f":"'2b'!T45","v":0},{"$f":"'2b'!U45","v":0},{"$f":"'2b'!V45","v":0},{"$f":"'2b'!W45","v":0},{"$f":"'2b'!X45","v":0},{"$f":"'2b'!Y45","v":0},{"$f":"'2b'!Z45","v":0},{"$f":"'2b'!AA45","v":0},{"$f":"'2b'!AB45","v":0},{"$f":"'2b'!AC45","v":0},{"$f":"'2b'!AD45","v":0},{"$f":"'2b'!AE45","v":0},{"$f":"'2b'!AF45","v":0},{"$f":"'2b'!AG45","v":0},{"$f":"'2b'!AH45","v":0},{"$f":"'2b'!AI45","v":0},{"$f":"'2b'!AJ45","v":0},{"$f":"'2b'!AK45","v":0},{"$f":"'2b'!AL45","v":0},{"$f":"'2b'!AM45","v":0},{"$f":"'2b'!AN45","v":0},{"$f":"'2b'!AO45","v":0},{"$f":"'2b'!AP45","v":0},{"$f":"'2b'!AQ45","v":0},{"$f":"'2b'!AR45","v":0},{"$f":"'2b'!AS45","v":0},{"$f":"'2b'!AT45","v":0},{"$f":"'2b'!AU45","v":0},{"$f":"'2b'!AV45","v":0},{"$f":"'2b'!AW45","v":0},{"$f":"'2b'!AX45","v":0},{"$f":"'2b'!AY45","v":0},{"$f":"'2b'!AZ45","v":0},{"$f":"'2b'!BA45","v":0},{"$f":"'2b'!BB45","v":0},{"$f":"'2b'!BC45","v":0},{"$f":"'2b'!BD45","v":0},{"$f":"'2b'!BE45","v":0}]
[{"$f":"'2b'!A46","v":"2b"},{"$f":"'2b'!B46","v":0},{"$f":"'2b'!C46","v":0},{"$f":"'2b'!D46","v":"lehrer44"},{"$f":"'2b'!E46","v":0},{"$f":"'2b'!F46","v":0},{"$f":"'2b'!G46","v":0},{"$f":"'2b'!H46","v":0},{"$f":"'2b'!I46","v":0},{"$f":"'2b'!J46","v":0},{"$f":"'2b'!K46","v":0},{"$f":"'2b'!L46","v":0},{"$f":"'2b'!M46","v":0},{"$f":"'2b'!N46","v":0},{"$f":"'2b'!O46","v":0},{"$f":"'2b'!P46","v":0},{"$f":"'2b'!Q46","v":0},{"$f":"'2b'!R46","v":0},{"$f":"'2b'!S46","v":0},{"$f":"'2b'!T46","v":0},{"$f":"'2b'!U46","v":0},{"$f":"'2b'!V46","v":0},{"$f":"'2b'!W46","v":0},{"$f":"'2b'!X46","v":0},{"$f":"'2b'!Y46","v":0},{"$f":"'2b'!Z46","v":0},{"$f":"'2b'!AA46","v":0},{"$f":"'2b'!AB46","v":0},{"$f":"'2b'!AC46","v":0},{"$f":"'2b'!AD46","v":0},{"$f":"'2b'!AE46","v":0},{"$f":"'2b'!AF46","v":0},{"$f":"'2b'!AG46","v":0},{"$f":"'2b'!AH46","v":0},{"$f":"'2b'!AI46","v":0},{"$f":"'2b'!AJ46","v":0},{"$f":"'2b'!AK46","v":0},{"$f":"'2b'!AL46","v":0},{"$f":"'2b'!AM46","v":0},{"$f":"'2b'!AN46","v":0},{"$f":"'2b'!AO46","v":0},{"$f":"'2b'!AP46","v":0},{"$f":"'2b'!AQ46","v":0},{"$f":"'2b'!AR46","v":0},{"$f":"'2b'!AS46","v":0},{"$f":"'2b'!AT46","v":0},{"$f":"'2b'!AU46","v":0},{"$f":"'2b'!AV46","v":0},{"$f":"'2b'!AW46","v":0},{"$f":"'2b'!AX46","v":0},{"$f":"'2b'!AY46","v":0},{"$f":"'2b'!AZ46","v":0},{"$f":"'2b'!BA46","v":0},{"$f":"'2b'!BB46","v":0},{"$f":"'2b'!BC46","v":0},{"$f":"'2b'!BD46","v":0},{"$f":"'2b'!BE46","v":0}]
[{"$f":"'2b'!A47","v":"2b"},{"$f":"'2b'!B47","v":0},{"$f":"'2b'!C47","v":0},{"$f":"'2b'!D47","v":"lehrer45"},{"$f":"'2b'!E47","v":0},{"$f":"'2b'!F47","v":0},{"$f":"'2b'!G47","v":0},{"$f":"'2b'!H47","v":0},{"$f":"'2b'!I47","v":0},{"$f":"'2b'!J47","v":0},{"$f":"'2b'!K47","v":0},{"$f":"'2b'!L47","v":0},{"$f":"'2b'!M47","v":0},{"$f":"'2b'!N47","v":0},{"$f":"'2b'!O47","v":0},{"$f":"'2b'!P47","v":0},{"$f":"'2b'!Q47","v":0},{"$f":"'2b'!R47","v":0},{"$f":"'2b'!S47","v":0},{"$f":"'2b'!T47","v":0},{"$f":"'2b'!U47","v":0},{"$f":"'2b'!V47","v":0},{"$f":"'2b'!W47","v":0},{"$f":"'2b'!X47","v":0},{"$f":"'2b'!Y47","v":0},{"$f":"'2b'!Z47","v":0},{"$f":"'2b'!AA47","v":0},{"$f":"'2b'!AB47","v":0},{"$f":"'2b'!AC47","v":0},{"$f":"'2b'!AD47","v":0},{"$f":"'2b'!AE47","v":0},{"$f":"'2b'!AF47","v":0},{"$f":"'2b'!AG47","v":0},{"$f":"'2b'!AH47","v":0},{"$f":"'2b'!AI47","v":0},{"$f":"'2b'!AJ47","v":0},{"$f":"'2b'!AK47","v":0},{"$f":"'2b'!AL47","v":0},{"$f":"'2b'!AM47","v":0},{"$f":"'2b'!AN47","v":0},{"$f":"'2b'!AO47","v":0},{"$f":"'2b'!AP47","v":0},{"$f":"'2b'!AQ47","v":0},{"$f":"'2b'!AR47","v":0},{"$f":"'2b'!AS47","v":0},{"$f":"'2b'!AT47","v":0},{"$f":"'2b'!AU47","v":0},{"$f":"'2b'!AV47","v":0},{"$f":"'2b'!AW47","v":0},{"$f":"'2b'!AX47","v":0},{"$f":"'2b'!AY47","v":0},{"$f":"'2b'!AZ47","v":0},{"$f":"'2b'!BA47","v":0},{"$f":"'2b'!BB47","v":0},{"$f":"'2b'!BC47","v":0},{"$f":"'2b'!BD47","v":0},{"$f":"'2b'!BE47","v":0}]
[{"$f":"'2b'!A48","v":"2b"},{"$f":"'2b'!B48","v":0},{"$f":"'2b'!C48","v":0},{"$f":"'2b'!D48","v":"lehrer46"},{"$f":"'2b'!E48","v":0},{"$f":"'2b'!F48","v":0},{"$f":"'2b'!G48","v":0},{"$f":"'2b'!H48","v":0},{"$f":"'2b'!I48","v":0},{"$f":"'2b'!J48","v":0},{"$f":"'2b'!K48","v":0},{"$f":"'2b'!L48","v":0},{"$f":"'2b'!M48","v":0},{"$f":"'2b'!N48","v":0},{"$f":"'2b'!O48","v":0},{"$f":"'2b'!P48","v":0},{"$f":"'2b'!Q48","v":0},{"$f":"'2b'!R48","v":0},{"$f":"'2b'!S48","v":0},{"$f":"'2b'!T48","v":0},{"$f":"'2b'!U48","v":0},{"$f":"'2b'!V48","v":0},{"$f":"'2b'!W48","v":0},{"$f":"'2b'!X48","v":0},{"$f":"'2b'!Y48","v":0},{"$f":"'2b'!Z48","v":0},{"$f":"'2b'!AA48","v":0},{"$f":"'2b'!AB48","v":0},{"$f":"'2b'!AC48","v":0},{"$f":"'2b'!AD48","v":0},{"$f":"'2b'!AE48","v":0},{"$f":"'2b'!AF48","v":0},{"$f":"'2b'!AG48","v":0},{"$f":"'2b'!AH48","v":0},{"$f":"'2b'!AI48","v":0},{"$f":"'2b'!AJ48","v":0},{"$f":"'2b'!AK48","v":0},{"$f":"'2b'!AL48","v":0},{"$f":"'2b'!AM48","v":0},{"$f":"'2b'!AN48","v":0},{"$f":"'2b'!AO48","v":0},{"$f":"'2b'!AP48","v":0},{"$f":"'2b'!AQ48","v":0},{"$f":"'2b'!AR48","v":0},{"$f":"'2b'!AS48","v":0},{"$f":"'2b'!AT48","v":0},{"$f":"'2b'!AU48","v":0},{"$f":"'2b'!AV48","v":0},{"$f":"'2b'!AW48","v":0},{"$f":"'2b'!AX48","v":0},{"$f":"'2b'!AY48","v":0},{"$f":"'2b'!AZ48","v":0},{"$f":"'2b'!BA48","v":0},{"$f":"'2b'!BB48","v":0},{"$f":"'2b'!BC48","v":0},{"$f":"'2b'!BD48","v":0},{"$f":"'2b'!BE48","v":0}]
[{"$f":"'2b'!A49","v":"2b"},{"$f":"'2b'!B49","v":0},{"$f":"'2b'!C49","v":0},{"$f":"'2b'!D49","v":"lehrer47"},{"$f":"'2b'!E49","v":0},{"$f":"'2b'!F49","v":0},{"$f":"'2b'!G49","v":0},{"$f":"'2b'!H49","v":0},{"$f":"'2b'!I49","v":0},{"$f":"'2b'!J49","v":0},{"$f":"'2b'!K49","v":0},{"$f":"'2b'!L49","v":0},{"$f":"'2b'!M49","v":0},{"$f":"'2b'!N49","v":0},{"$f":"'2b'!O49","v":0},{"$f":"'2b'!P49","v":0},{"$f":"'2b'!Q49","v":0},{"$f":"'2b'!R49","v":0},{"$f":"'2b'!S49","v":0},{"$f":"'2b'!T49","v":0},{"$f":"'2b'!U49","v":0},{"$f":"'2b'!V49","v":0},{"$f":"'2b'!W49","v":0},{"$f":"'2b'!X49","v":0},{"$f":"'2b'!Y49","v":0},{"$f":"'2b'!Z49","v":0},{"$f":"'2b'!AA49","v":0},{"$f":"'2b'!AB49","v":0},{"$f":"'2b'!AC49","v":0},{"$f":"'2b'!AD49","v":0},{"$f":"'2b'!AE49","v":0},{"$f":"'2b'!AF49","v":0},{"$f":"'2b'!AG49","v":0},{"$f":"'2b'!AH49","v":0},{"$f":"'2b'!AI49","v":0},{"$f":"'2b'!AJ49","v":0},{"$f":"'2b'!AK49","v":0},{"$f":"'2b'!AL49","v":0},{"$f":"'2b'!AM49","v":0},{"$f":"'2b'!AN49","v":0},{"$f":"'2b'!AO49","v":0},{"$f":"'2b'!AP49","v":0},{"$f":"'2b'!AQ49","v":0},{"$f":"'2b'!AR49","v":0},{"$f":"'2b'!AS49","v":0},{"$f":"'2b'!AT49","v":0},{"$f":"'2b'!AU49","v":0},{"$f":"'2b'!AV49","v":0},{"$f":"'2b'!AW49","v":0},{"$f":"'2b'!AX49","v":0},{"$f":"'2b'!AY49","v":0},{"$f":"'2b'!AZ49","v":0},{"$f":"'2b'!BA49","v":0},{"$f":"'2b'!BB49","v":0},{"$f":"'2b'!BC49","v":0},{"$f":"'2b'!BD49","v":0},{"$f":"'2b'!BE49","v":0}]
[{"$f":"'2b'!A50","v":"2b"},{"$f":"'2b'!B50","v":0},{"$f":"'2b'!C50","v":0},{"$f":"'2b'!D50","v":"lehrer48"},{"$f":"'2b'!E50","v":0},{"$f":"'2b'!F50","v":0},{"$f":"'2b'!G50","v":0},{"$f":"'2b'!H50","v":0},{"$f":"'2b'!I50","v":0},{"$f":"'2b'!J50","v":0},{"$f":"'2b'!K50","v":0},{"$f":"'2b'!L50","v":0},{"$f":"'2b'!M50","v":0},{"$f":"'2b'!N50","v":0},{"$f":"'2b'!O50","v":0},{"$f":"'2b'!P50","v":0},{"$f":"'2b'!Q50","v":0},{"$f":"'2b'!R50","v":0},{"$f":"'2b'!S50","v":0},{"$f":"'2b'!T50","v":0},{"$f":"'2b'!U50","v":0},{"$f":"'2b'!V50","v":0},{"$f":"'2b'!W50","v":0},{"$f":"'2b'!X50","v":0},{"$f":"'2b'!Y50","v":0},{"$f":"'2b'!Z50","v":0},{"$f":"'2b'!AA50","v":0},{"$f":"'2b'!AB50","v":0},{"$f":"'2b'!AC50","v":0},{"$f":"'2b'!AD50","v":0},{"$f":"'2b'!AE50","v":0},{"$f":"'2b'!AF50","v":0},{"$f":"'2b'!AG50","v":0},{"$f":"'2b'!AH50","v":0},{"$f":"'2b'!AI50","v":0},{"$f":"'2b'!AJ50","v":0},{"$f":"'2b'!AK50","v":0},{"$f":"'2b'!AL50","v":0},{"$f":"'2b'!AM50","v":0},{"$f":"'2b'!AN50","v":0},{"$f":"'2b'!AO50","v":0},{"$f":"'2b'!AP50","v":0},{"$f":"'2b'!AQ50","v":0},{"$f":"'2b'!AR50","v":0},{"$f":"'2b'!AS50","v":0},{"$f":"'2b'!AT50","v":0},{"$f":"'2b'!AU50","v":0},{"$f":"'2b'!AV50","v":0},{"$f":"'2b'!AW50","v":0},{"$f":"'2b'!AX50","v":0},{"$f":"'2b'!AY50","v":0},{"$f":"'2b'!AZ50","v":0},{"$f":"'2b'!BA50","v":0},{"$f":"'2b'!BB50","v":0},{"$f":"'2b'!BC50","v":0},{"$f":"'2b'!BD50","v":0},{"$f":"'2b'!BE50","v":0}]
[{"$f":"'3b'!A3","v":"3b"},{"$f":"'3b'!B3","v":0},{"$f":"'3b'!C3","v":0},{"$f":"'3b'!D3","v":"lehrer01"},{"$f":"'3b'!E3","v":0},{"$f":"'3b'!F3","v":0},{"$f":"'3b'!G3","v":0},{"$f":"'3b'!H3","v":0},{"$f":"'3b'!I3","v":0},{"$f":"'3b'!J3","v":0},{"$f":"'3b'!K3","v":0},{"$f":"'3b'!L3","v":0},{"$f":"'3b'!M3","v":0},{"$f":"'3b'!N3","v":0},{"$f":"'3b'!O3","v":0},{"$f":"'3b'!P3","v":0},{"$f":"'3b'!Q3","v":0},{"$f":"'3b'!R3","v":0},{"$f":"'3b'!S3","v":0},{"$f":"'3b'!T3","v":0},{"$f":"'3b'!U3","v":0},{"$f":"'3b'!V3","v":0},{"$f":"'3b'!W3","v":0},{"$f":"'3b'!X3","v":0},{"$f":"'3b'!Y3","v":0},{"$f":"'3b'!Z3","v":0},{"$f":"'3b'!AA3","v":0},{"$f":"'3b'!AB3","v":0},{"$f":"'3b'!AC3","v":0},{"$f":"'3b'!AD3","v":0},{"$f":"'3b'!AE3","v":0},{"$f":"'3b'!AF3","v":0},{"$f":"'3b'!AG3","v":0},{"$f":"'3b'!AH3","v":0},{"$f":"'3b'!AI3","v":0},{"$f":"'3b'!AJ3","v":0},{"$f":"'3b'!AK3","v":0},{"$f":"'3b'!AL3","v":0},{"$f":"'3b'!AM3","v":0},{"$f":"'3b'!AN3","v":0},{"$f":"'3b'!AO3","v":0},{"$f":"'3b'!AP3","v":0},{"$f":"'3b'!AQ3","v":0},{"$f":"'3b'!AR3","v":0},{"$f":"'3b'!AS3","v":0},{"$f":"'3b'!AT3","v":0},{"$f":"'3b'!AU3","v":0},{"$f":"'3b'!AV3","v":0},{"$f":"'3b'!AW3","v":0},{"$f":"'3b'!AX3","v":0},{"$f":"'3b'!AY3","v":0},{"$f":"'3b'!AZ3","v":0},{"$f":"'3b'!BA3","v":0},{"$f":"'3b'!BB3","v":0},{"$f":"'3b'!BC3","v":0},{"$f":"'3b'!BD3","v":0},{"$f":"'3b'!BE3","v":0}]
[{"$f":"'3b'!A4","v":"3b"},{"$f":"'3b'!B4","v":0},{"$f":"'3b'!C4","v":0},{"$f":"'3b'!D4","v":"lehrer02"},{"$f":"'3b'!E4","v":0},{"$f":"'3b'!F4","v":0},{"$f":"'3b'!G4","v":0},{"$f":"'3b'!H4","v":0},{"$f":"'3b'!I4","v":0},{"$f":"'3b'!J4","v":0},{"$f":"'3b'!K4","v":0},{"$f":"'3b'!L4","v":0},{"$f":"'3b'!M4","v":0},{"$f":"'3b'!N4","v":0},{"$f":"'3b'!O4","v":0},{"$f":"'3b'!P4","v":0},{"$f":"'3b'!Q4","v":0},{"$f":"'3b'!R4","v":0},{"$f":"'3b'!S4","v":0},{"$f":"'3b'!T4","v":0},{"$f":"'3b'!U4","v":0},{"$f":"'3b'!V4","v":0},{"$f":"'3b'!W4","v":0},{"$f":"'3b'!X4","v":0},{"$f":"'3b'!Y4","v":0},{"$f":"'3b'!Z4","v":0},{"$f":"'3b'!AA4","v":0},{"$f":"'3b'!AB4","v":0},{"$f":"'3b'!AC4","v":0},{"$f":"'3b'!AD4","v":0},{"$f":"'3b'!AE4","v":0},{"$f":"'3b'!AF4","v":0},{"$f":"'3b'!AG4","v":0},{"$f":"'3b'!AH4","v":0},{"$f":"'3b'!AI4","v":0},{"$f":"'3b'!AJ4","v":0},{"$f":"'3b'!AK4","v":0},{"$f":"'3b'!AL4","v":0},{"$f":"'3b'!AM4","v":0},{"$f":"'3b'!AN4","v":0},{"$f":"'3b'!AO4","v":0},{"$f":"'3b'!AP4","v":0},{"$f":"'3b'!AQ4","v":0},{"$f":"'3b'!AR4","v":0},{"$f":"'3b'!AS4","v":0},{"$f":"'3b'!AT4","v":0},{"$f":"'3b'!AU4","v":0},{"$f":"'3b'!AV4","v":0},{"$f":"'3b'!AW4","v":0},{"$f":"'3b'!AX4","v":0},{"$f":"'3b'!AY4","v":0},{"$f":"'3b'!AZ4","v":0},{"$f":"'3b'!BA4","v":0},{"$f":"'3b'!BB4","v":0},{"$f":"'3b'!BC4","v":0},{"$f":"'3b'!BD4","v":0},{"$f":"'3b'!BE4","v":0}]
[{"$f":"'3b'!A5","v":"3b"},{"$f":"'3b'!B5","v":0},{"$f":"'3b'!C5","v":0},{"$f":"'3b'!D5","v":"lehrer03"},{"$f":"'3b'!E5","v":0},{"$f":"'3b'!F5","v":0},{"$f":"'3b'!G5","v":0},{"$f":"'3b'!H5","v":0},{"$f":"'3b'!I5","v":0},{"$f":"'3b'!J5","v":0},{"$f":"'3b'!K5","v":0},{"$f":"'3b'!L5","v":0},{"$f":"'3b'!M5","v":0},{"$f":"'3b'!N5","v":0},{"$f":"'3b'!O5","v":0},{"$f":"'3b'!P5","v":0},{"$f":"'3b'!Q5","v":0},{"$f":"'3b'!R5","v":0},{"$f":"'3b'!S5","v":0},{"$f":"'3b'!T5","v":0},{"$f":"'3b'!U5","v":0},{"$f":"'3b'!V5","v":0},{"$f":"'3b'!W5","v":0},{"$f":"'3b'!X5","v":0},{"$f":"'3b'!Y5","v":0},{"$f":"'3b'!Z5","v":0},{"$f":"'3b'!AA5","v":0},{"$f":"'3b'!AB5","v":0},{"$f":"'3b'!AC5","v":0},{"$f":"'3b'!AD5","v":0},{"$f":"'3b'!AE5","v":0},{"$f":"'3b'!AF5","v":0},{"$f":"'3b'!AG5","v":0},{"$f":"'3b'!AH5","v":0},{"$f":"'3b'!AI5","v":0},{"$f":"'3b'!AJ5","v":0},{"$f":"'3b'!AK5","v":0},{"$f":"'3b'!AL5","v":0},{"$f":"'3b'!AM5","v":0},{"$f":"'3b'!AN5","v":0},{"$f":"'3b'!AO5","v":0},{"$f":"'3b'!AP5","v":0},{"$f":"'3b'!AQ5","v":0},{"$f":"'3b'!AR5","v":0},{"$f":"'3b'!AS5","v":0},{"$f":"'3b'!AT5","v":0},{"$f":"'3b'!AU5","v":0},{"$f":"'3b'!AV5","v":0},{"$f":"'3b'!AW5","v":0},{"$f":"'3b'!AX5","v":0},{"$f":"'3b'!AY5","v":0},{"$f":"'3b'!AZ5","v":0},{"$f":"'3b'!BA5","v":0},{"$f":"'3b'!BB5","v":0},{"$f":"'3b'!BC5","v":0},{"$f":"'3b'!BD5","v":0},{"$f":"'3b'!BE5","v":0}]
[{"$f":"'3b'!A6","v":"3b"},{"$f":"'3b'!B6","v":0},{"$f":"'3b'!C6","v":0},{"$f":"'3b'!D6","v":"lehrer04"},{"$f":"'3b'!E6","v":0},{"$f":"'3b'!F6","v":0},{"$f":"'3b'!G6","v":0},{"$f":"'3b'!H6","v":0},{"$f":"'3b'!I6","v":0},{"$f":"'3b'!J6","v":0},{"$f":"'3b'!K6","v":0},{"$f":"'3b'!L6","v":0},{"$f":"'3b'!M6","v":0},{"$f":"'3b'!N6","v":0},{"$f":"'3b'!O6","v":0},{"$f":"'3b'!P6","v":0},{"$f":"'3b'!Q6","v":0},{"$f":"'3b'!R6","v":0},{"$f":"'3b'!S6","v":0},{"$f":"'3b'!T6","v":0},{"$f":"'3b'!U6","v":0},{"$f":"'3b'!V6","v":0},{"$f":"'3b'!W6","v":0},{"$f":"'3b'!X6","v":0},{"$f":"'3b'!Y6","v":0},{"$f":"'3b'!Z6","v":0},{"$f":"'3b'!AA6","v":0},{"$f":"'3b'!AB6","v":0},{"$f":"'3b'!AC6","v":0},{"$f":"'3b'!AD6","v":0},{"$f":"'3b'!AE6","v":0},{"$f":"'3b'!AF6","v":0},{"$f":"'3b'!AG6","v":0},{"$f":"'3b'!AH6","v":0},{"$f":"'3b'!AI6","v":0},{"$f":"'3b'!AJ6","v":0},{"$f":"'3b'!AK6","v":0},{"$f":"'3b'!AL6","v":0},{"$f":"'3b'!AM6","v":0},{"$f":"'3b'!AN6","v":0},{"$f":"'3b'!AO6","v":0},{"$f":"'3b'!AP6","v":0},{"$f":"'3b'!AQ6","v":0},{"$f":"'3b'!AR6","v":0},{"$f":"'3b'!AS6","v":0},{"$f":"'3b'!AT6","v":0},{"$f":"'3b'!AU6","v":0},{"$f":"'3b'!AV6","v":0},{"$f":"'3b'!AW6","v":0},{"$f":"'3b'!AX6","v":0},{"$f":"'3b'!AY6","v":0},{"$f":"'3b'!AZ6","v":0},{"$f":"'3b'!BA6","v":0},{"$f":"'3b'!BB6","v":0},{"$f":"'3b'!BC6","v":0},{"$f":"'3b'!BD6","v":0},{"$f":"'3b'!BE6","v":0}]
[{"$f":"'3b'!A7","v":"3b"},{"$f":"'3b'!B7","v":0},{"$f":"'3b'!C7","v":0},{"$f":"'3b'!D7","v":"lehrer05"},{"$f":"'3b'!E7","v":0},{"$f":"'3b'!F7","v":0},{"$f":"'3b'!G7","v":0},{"$f":"'3b'!H7","v":0},{"$f":"'3b'!I7","v":0},{"$f":"'3b'!J7","v":0},{"$f":"'3b'!K7","v":0},{"$f":"'3b'!L7","v":0},{"$f":"'3b'!M7","v":0},{"$f":"'3b'!N7","v":0},{"$f":"'3b'!O7","v":0},{"$f":"'3b'!P7","v":0},{"$f":"'3b'!Q7","v":0},{"$f":"'3b'!R7","v":0},{"$f":"'3b'!S7","v":0},{"$f":"'3b'!T7","v":0},{"$f":"'3b'!U7","v":0},{"$f":"'3b'!V7","v":0},{"$f":"'3b'!W7","v":0},{"$f":"'3b'!X7","v":0},{"$f":"'3b'!Y7","v":0},{"$f":"'3b'!Z7","v":0},{"$f":"'3b'!AA7","v":0},{"$f":"'3b'!AB7","v":0},{"$f":"'3b'!AC7","v":0},{"$f":"'3b'!AD7","v":0},{"$f":"'3b'!AE7","v":0},{"$f":"'3b'!AF7","v":0},{"$f":"'3b'!AG7","v":0},{"$f":"'3b'!AH7","v":0},{"$f":"'3b'!AI7","v":0},{"$f":"'3b'!AJ7","v":0},{"$f":"'3b'!AK7","v":0},{"$f":"'3b'!AL7","v":0},{"$f":"'3b'!AM7","v":0},{"$f":"'3b'!AN7","v":0},{"$f":"'3b'!AO7","v":0},{"$f":"'3b'!AP7","v":0},{"$f":"'3b'!AQ7","v":0},{"$f":"'3b'!AR7","v":0},{"$f":"'3b'!AS7","v":0},{"$f":"'3b'!AT7","v":0},{"$f":"'3b'!AU7","v":0},{"$f":"'3b'!AV7","v":0},{"$f":"'3b'!AW7","v":0},{"$f":"'3b'!AX7","v":0},{"$f":"'3b'!AY7","v":0},{"$f":"'3b'!AZ7","v":0},{"$f":"'3b'!BA7","v":0},{"$f":"'3b'!BB7","v":0},{"$f":"'3b'!BC7","v":0},{"$f":"'3b'!BD7","v":0},{"$f":"'3b'!BE7","v":0}]
[{"$f":"'3b'!A8","v":"3b"},{"$f":"'3b'!B8","v":0},{"$f":"'3b'!C8","v":0},{"$f":"'3b'!D8","v":"lehrer06"},{"$f":"'3b'!E8","v":0},{"$f":"'3b'!F8","v":0},{"$f":"'3b'!G8","v":0},{"$f":"'3b'!H8","v":0},{"$f":"'3b'!I8","v":0},{"$f":"'3b'!J8","v":0},{"$f":"'3b'!K8","v":0},{"$f":"'3b'!L8","v":0},{"$f":"'3b'!M8","v":0},{"$f":"'3b'!N8","v":0},{"$f":"'3b'!O8","v":0},{"$f":"'3b'!P8","v":0},{"$f":"'3b'!Q8","v":0},{"$f":"'3b'!R8","v":0},{"$f":"'3b'!S8","v":0},{"$f":"'3b'!T8","v":0},{"$f":"'3b'!U8","v":0},{"$f":"'3b'!V8","v":0},{"$f":"'3b'!W8","v":0},{"$f":"'3b'!X8","v":0},{"$f":"'3b'!Y8","v":0},{"$f":"'3b'!Z8","v":0},{"$f":"'3b'!AA8","v":0},{"$f":"'3b'!AB8","v":0},{"$f":"'3b'!AC8","v":0},{"$f":"'3b'!AD8","v":0},{"$f":"'3b'!AE8","v":0},{"$f":"'3b'!AF8","v":0},{"$f":"'3b'!AG8","v":0},{"$f":"'3b'!AH8","v":0},{"$f":"'3b'!AI8","v":0},{"$f":"'3b'!AJ8","v":0},{"$f":"'3b'!AK8","v":0},{"$f":"'3b'!AL8","v":0},{"$f":"'3b'!AM8","v":0},{"$f":"'3b'!AN8","v":0},{"$f":"'3b'!AO8","v":0},{"$f":"'3b'!AP8","v":0},{"$f":"'3b'!AQ8","v":0},{"$f":"'3b'!AR8","v":0},{"$f":"'3b'!AS8","v":0},{"$f":"'3b'!AT8","v":0},{"$f":"'3b'!AU8","v":0},{"$f":"'3b'!AV8","v":0},{"$f":"'3b'!AW8","v":0},{"$f":"'3b'!AX8","v":0},{"$f":"'3b'!AY8","v":0},{"$f":"'3b'!AZ8","v":0},{"$f":"'3b'!BA8","v":0},{"$f":"'3b'!BB8","v":0},{"$f":"'3b'!BC8","v":0},{"$f":"'3b'!BD8","v":0},{"$f":"'3b'!BE8","v":0}]
[{"$f":"'3b'!A9","v":"3b"},{"$f":"'3b'!B9","v":0},{"$f":"'3b'!C9","v":0},{"$f":"'3b'!D9","v":"lehrer07"},{"$f":"'3b'!E9","v":0},{"$f":"'3b'!F9","v":0},{"$f":"'3b'!G9","v":0},{"$f":"'3b'!H9","v":0},{"$f":"'3b'!I9","v":0},{"$f":"'3b'!J9","v":0},{"$f":"'3b'!K9","v":0},{"$f":"'3b'!L9","v":0},{"$f":"'3b'!M9","v":0},{"$f":"'3b'!N9","v":0},{"$f":"'3b'!O9","v":0},{"$f":"'3b'!P9","v":0},{"$f":"'3b'!Q9","v":0},{"$f":"'3b'!R9","v":0},{"$f":"'3b'!S9","v":0},{"$f":"'3b'!T9","v":0},{"$f":"'3b'!U9","v":0},{"$f":"'3b'!V9","v":0},{"$f":"'3b'!W9","v":0},{"$f":"'3b'!X9","v":0},{"$f":"'3b'!Y9","v":0},{"$f":"'3b'!Z9","v":0},{"$f":"'3b'!AA9","v":0},{"$f":"'3b'!AB9","v":0},{"$f":"'3b'!AC9","v":0},{"$f":"'3b'!AD9","v":0},{"$f":"'3b'!AE9","v":0},{"$f":"'3b'!AF9","v":0},{"$f":"'3b'!AG9","v":0},{"$f":"'3b'!AH9","v":0},{"$f":"'3b'!AI9","v":0},{"$f":"'3b'!AJ9","v":0},{"$f":"'3b'!AK9","v":0},{"$f":"'3b'!AL9","v":0},{"$f":"'3b'!AM9","v":0},{"$f":"'3b'!AN9","v":0},{"$f":"'3b'!AO9","v":0},{"$f":"'3b'!AP9","v":0},{"$f":"'3b'!AQ9","v":0},{"$f":"'3b'!AR9","v":0},{"$f":"'3b'!AS9","v":0},{"$f":"'3b'!AT9","v":0},{"$f":"'3b'!AU9","v":0},{"$f":"'3b'!AV9","v":0},{"$f":"'3b'!AW9","v":0},{"$f":"'3b'!AX9","v":0},{"$f":"'3b'!AY9","v":0},{"$f":"'3b'!AZ9","v":0},{"$f":"'3b'!BA9","v":0},{"$f":"'3b'!BB9","v":0},{"$f":"'3b'!BC9","v":0},{"$f":"'3b'!BD9","v":0},{"$f":"'3b'!BE9","v":0}]
[{"$f":"'3b'!A10","v":"3b"},{"$f":"'3b'!B10","v":0},{"$f":"'3b'!C10","v":0},{"$f":"'3b'!D10","v":"lehrer08"},{"$f":"'3b'!E10","v":0},{"$f":"'3b'!F10","v":0},{"$f":"'3b'!G10","v":0},{"$f":"'3b'!H10","v":0},{"$f":"'3b'!I10","v":0},{"$f":"'3b'!J10","v":0},{"$f":"'3b'!K10","v":0},{"$f":"'3b'!L10","v":0},{"$f":"'3b'!M10","v":0},{"$f":"'3b'!N10","v":0},{"$f":"'3b'!O10","v":0},{"$f":"'3b'!P10","v":0},{"$f":"'3b'!Q10","v":0},{"$f":"'3b'!R10","v":0},{"$f":"'3b'!S10","v":0},{"$f":"'3b'!T10","v":0},{"$f":"'3b'!U10","v":0},{"$f":"'3b'!V10","v":0},{"$f":"'3b'!W10","v":0},{"$f":"'3b'!X10","v":0},{"$f":"'3b'!Y10","v":0},{"$f":"'3b'!Z10","v":0},{"$f":"'3b'!AA10","v":0},{"$f":"'3b'!AB10","v":0},{"$f":"'3b'!AC10","v":0},{"$f":"'3b'!AD10","v":0},{"$f":"'3b'!AE10","v":0},{"$f":"'3b'!AF10","v":0},{"$f":"'3b'!AG10","v":0},{"$f":"'3b'!AH10","v":0},{"$f":"'3b'!AI10","v":0},{"$f":"'3b'!AJ10","v":0},{"$f":"'3b'!AK10","v":0},{"$f":"'3b'!AL10","v":0},{"$f":"'3b'!AM10","v":0},{"$f":"'3b'!AN10","v":0},{"$f":"'3b'!AO10","v":0},{"$f":"'3b'!AP10","v":0},{"$f":"'3b'!AQ10","v":0},{"$f":"'3b'!AR10","v":0},{"$f":"'3b'!AS10","v":0},{"$f":"'3b'!AT10","v":0},{"$f":"'3b'!AU10","v":0},{"$f":"'3b'!AV10","v":0},{"$f":"'3b'!AW10","v":0},{"$f":"'3b'!AX10","v":0},{"$f":"'3b'!AY10","v":0},{"$f":"'3b'!AZ10","v":0},{"$f":"'3b'!BA10","v":0},{"$f":"'3b'!BB10","v":0},{"$f":"'3b'!BC10","v":0},{"$f":"'3b'!BD10","v":0},{"$f":"'3b'!BE10","v":0}]
[{"$f":"'3b'!A11","v":"3b"},{"$f":"'3b'!B11","v":0},{"$f":"'3b'!C11","v":0},{"$f":"'3b'!D11","v":"lehrer09"},{"$f":"'3b'!E11","v":0},{"$f":"'3b'!F11","v":0},{"$f":"'3b'!G11","v":0},{"$f":"'3b'!H11","v":0},{"$f":"'3b'!I11","v":0},{"$f":"'3b'!J11","v":0},{"$f":"'3b'!K11","v":0},{"$f":"'3b'!L11","v":0},{"$f":"'3b'!M11","v":0},{"$f":"'3b'!N11","v":0},{"$f":"'3b'!O11","v":0},{"$f":"'3b'!P11","v":0},{"$f":"'3b'!Q11","v":0},{"$f":"'3b'!R11","v":0},{"$f":"'3b'!S11","v":0},{"$f":"'3b'!T11","v":0},{"$f":"'3b'!U11","v":0},{"$f":"'3b'!V11","v":0},{"$f":"'3b'!W11","v":0},{"$f":"'3b'!X11","v":0},{"$f":"'3b'!Y11","v":0},{"$f":"'3b'!Z11","v":0},{"$f":"'3b'!AA11","v":0},{"$f":"'3b'!AB11","v":0},{"$f":"'3b'!AC11","v":0},{"$f":"'3b'!AD11","v":0},{"$f":"'3b'!AE11","v":0},{"$f":"'3b'!AF11","v":0},{"$f":"'3b'!AG11","v":0},{"$f":"'3b'!AH11","v":0},{"$f":"'3b'!AI11","v":0},{"$f":"'3b'!AJ11","v":0},{"$f":"'3b'!AK11","v":0},{"$f":"'3b'!AL11","v":0},{"$f":"'3b'!AM11","v":0},{"$f":"'3b'!AN11","v":0},{"$f":"'3b'!AO11","v":0},{"$f":"'3b'!AP11","v":0},{"$f":"'3b'!AQ11","v":0},{"$f":"'3b'!AR11","v":0},{"$f":"'3b'!AS11","v":0},{"$f":"'3b'!AT11","v":0},{"$f":"'3b'!AU11","v":0},{"$f":"'3b'!AV11","v":0},{"$f":"'3b'!AW11","v":0},{"$f":"'3b'!AX11","v":0},{"$f":"'3b'!AY11","v":0},{"$f":"'3b'!AZ11","v":0},{"$f":"'3b'!BA11","v":0},{"$f":"'3b'!BB11","v":0},{"$f":"'3b'!BC11","v":0},{"$f":"'3b'!BD11","v":0},{"$f":"'3b'!BE11","v":0}]
[{"$f":"'3b'!A12","v":"3b"},{"$f":"'3b'!B12","v":0},{"$f":"'3b'!C12","v":0},{"$f":"'3b'!D12","v":"lehrer10"},{"$f":"'3b'!E12","v":0},{"$f":"'3b'!F12","v":0},{"$f":"'3b'!G12","v":0},{"$f":"'3b'!H12","v":0},{"$f":"'3b'!I12","v":0},{"$f":"'3b'!J12","v":0},{"$f":"'3b'!K12","v":0},{"$f":"'3b'!L12","v":0},{"$f":"'3b'!M12","v":0},{"$f":"'3b'!N12","v":0},{"$f":"'3b'!O12","v":0},{"$f":"'3b'!P12","v":0},{"$f":"'3b'!Q12","v":0},{"$f":"'3b'!R12","v":0},{"$f":"'3b'!S12","v":0},{"$f":"'3b'!T12","v":0},{"$f":"'3b'!U12","v":0},{"$f":"'3b'!V12","v":0},{"$f":"'3b'!W12","v":0},{"$f":"'3b'!X12","v":0},{"$f":"'3b'!Y12","v":0},{"$f":"'3b'!Z12","v":0},{"$f":"'3b'!AA12","v":0},{"$f":"'3b'!AB12","v":0},{"$f":"'3b'!AC12","v":0},{"$f":"'3b'!AD12","v":0},{"$f":"'3b'!AE12","v":0},{"$f":"'3b'!AF12","v":0},{"$f":"'3b'!AG12","v":0},{"$f":"'3b'!AH12","v":0},{"$f":"'3b'!AI12","v":0},{"$f":"'3b'!AJ12","v":0},{"$f":"'3b'!AK12","v":0},{"$f":"'3b'!AL12","v":0},{"$f":"'3b'!AM12","v":0},{"$f":"'3b'!AN12","v":0},{"$f":"'3b'!AO12","v":0},{"$f":"'3b'!AP12","v":0},{"$f":"'3b'!AQ12","v":0},{"$f":"'3b'!AR12","v":0},{"$f":"'3b'!AS12","v":0},{"$f":"'3b'!AT12","v":0},{"$f":"'3b'!AU12","v":0},{"$f":"'3b'!AV12","v":0},{"$f":"'3b'!AW12","v":0},{"$f":"'3b'!AX12","v":0},{"$f":"'3b'!AY12","v":0},{"$f":"'3b'!AZ12","v":0},{"$f":"'3b'!BA12","v":0},{"$f":"'3b'!BB12","v":0},{"$f":"'3b'!BC12","v":0},{"$f":"'3b'!BD12","v":0},{"$f":"'3b'!BE12","v":0}]
[{"$f":"'3b'!A13","v":"3b"},{"$f":"'3b'!B13","v":0},{"$f":"'3b'!C13","v":0},{"$f":"'3b'!D13","v":"lehrer11"},{"$f":"'3b'!E13","v":0},{"$f":"'3b'!F13","v":0},{"$f":"'3b'!G13","v":0},{"$f":"'3b'!H13","v":0},{"$f":"'3b'!I13","v":0},{"$f":"'3b'!J13","v":0},{"$f":"'3b'!K13","v":0},{"$f":"'3b'!L13","v":0},{"$f":"'3b'!M13","v":0},{"$f":"'3b'!N13","v":0},{"$f":"'3b'!O13","v":0},{"$f":"'3b'!P13","v":0},{"$f":"'3b'!Q13","v":0},{"$f":"'3b'!R13","v":0},{"$f":"'3b'!S13","v":0},{"$f":"'3b'!T13","v":0},{"$f":"'3b'!U13","v":0},{"$f":"'3b'!V13","v":0},{"$f":"'3b'!W13","v":0},{"$f":"'3b'!X13","v":0},{"$f":"'3b'!Y13","v":0},{"$f":"'3b'!Z13","v":0},{"$f":"'3b'!AA13","v":0},{"$f":"'3b'!AB13","v":0},{"$f":"'3b'!AC13","v":0},{"$f":"'3b'!AD13","v":0},{"$f":"'3b'!AE13","v":0},{"$f":"'3b'!AF13","v":0},{"$f":"'3b'!AG13","v":0},{"$f":"'3b'!AH13","v":0},{"$f":"'3b'!AI13","v":0},{"$f":"'3b'!AJ13","v":0},{"$f":"'3b'!AK13","v":0},{"$f":"'3b'!AL13","v":0},{"$f":"'3b'!AM13","v":0},{"$f":"'3b'!AN13","v":0},{"$f":"'3b'!AO13","v":0},{"$f":"'3b'!AP13","v":0},{"$f":"'3b'!AQ13","v":0},{"$f":"'3b'!AR13","v":0},{"$f":"'3b'!AS13","v":0},{"$f":"'3b'!AT13","v":0},{"$f":"'3b'!AU13","v":0},{"$f":"'3b'!AV13","v":0},{"$f":"'3b'!AW13","v":0},{"$f":"'3b'!AX13","v":0},{"$f":"'3b'!AY13","v":0},{"$f":"'3b'!AZ13","v":0},{"$f":"'3b'!BA13","v":0},{"$f":"'3b'!BB13","v":0},{"$f":"'3b'!BC13","v":0},{"$f":"'3b'!BD13","v":0},{"$f":"'3b'!BE13","v":0}]
[{"$f":"'3b'!A14","v":"3b"},{"$f":"'3b'!B14","v":0},{"$f":"'3b'!C14","v":0},{"$f":"'3b'!D14","v":"lehrer12"},{"$f":"'3b'!E14","v":0},{"$f":"'3b'!F14","v":0},{"$f":"'3b'!G14","v":0},{"$f":"'3b'!H14","v":0},{"$f":"'3b'!I14","v":0},{"$f":"'3b'!J14","v":0},{"$f":"'3b'!K14","v":0},{"$f":"'3b'!L14","v":0},{"$f":"'3b'!M14","v":0},{"$f":"'3b'!N14","v":0},{"$f":"'3b'!O14","v":0},{"$f":"'3b'!P14","v":0},{"$f":"'3b'!Q14","v":0},{"$f":"'3b'!R14","v":0},{"$f":"'3b'!S14","v":0},{"$f":"'3b'!T14","v":0},{"$f":"'3b'!U14","v":0},{"$f":"'3b'!V14","v":0},{"$f":"'3b'!W14","v":0},{"$f":"'3b'!X14","v":0},{"$f":"'3b'!Y14","v":0},{"$f":"'3b'!Z14","v":0},{"$f":"'3b'!AA14","v":0},{"$f":"'3b'!AB14","v":0},{"$f":"'3b'!AC14","v":0},{"$f":"'3b'!AD14","v":0},{"$f":"'3b'!AE14","v":0},{"$f":"'3b'!AF14","v":0},{"$f":"'3b'!AG14","v":0},{"$f":"'3b'!AH14","v":0},{"$f":"'3b'!AI14","v":0},{"$f":"'3b'!AJ14","v":0},{"$f":"'3b'!AK14","v":0},{"$f":"'3b'!AL14","v":0},{"$f":"'3b'!AM14","v":0},{"$f":"'3b'!AN14","v":0},{"$f":"'3b'!AO14","v":0},{"$f":"'3b'!AP14","v":0},{"$f":"'3b'!AQ14","v":0},{"$f":"'3b'!AR14","v":0},{"$f":"'3b'!AS14","v":0},{"$f":"'3b'!AT14","v":0},{"$f":"'3b'!AU14","v":0},{"$f":"'3b'!AV14","v":0},{"$f":"'3b'!AW14","v":0},{"$f":"'3b'!AX14","v":0},{"$f":"'3b'!AY14","v":0},{"$f":"'3b'!AZ14","v":0},{"$f":"'3b'!BA14","v":0},{"$f":"'3b'!BB14","v":0},{"$f":"'3b'!BC14","v":0},{"$f":"'3b'!BD14","v":0},{"$f":"'3b'!BE14","v":0}]
[{"$f":"'3b'!A15","v":"3b"},{"$f":"'3b'!B15","v":0},{"$f":"'3b'!C15","v":0},{"$f":"'3b'!D15","v":"lehrer13"},{"$f":"'3b'!E15","v":0},{"$f":"'3b'!F15","v":0},{"$f":"'3b'!G15","v":0},{"$f":"'3b'!H15","v":0},{"$f":"'3b'!I15","v":0},{"$f":"'3b'!J15","v":0},{"$f":"'3b'!K15","v":0},{"$f":"'3b'!L15","v":0},{"$f":"'3b'!M15","v":0},{"$f":"'3b'!N15","v":0},{"$f":"'3b'!O15","v":0},{"$f":"'3b'!P15","v":0},{"$f":"'3b'!Q15","v":0},{"$f":"'3b'!R15","v":0},{"$f":"'3b'!S15","v":0},{"$f":"'3b'!T15","v":0},{"$f":"'3b'!U15","v":0},{"$f":"'3b'!V15","v":0},{"$f":"'3b'!W15","v":0},{"$f":"'3b'!X15","v":0},{"$f":"'3b'!Y15","v":0},{"$f":"'3b'!Z15","v":0},{"$f":"'3b'!AA15","v":0},{"$f":"'3b'!AB15","v":0},{"$f":"'3b'!AC15","v":0},{"$f":"'3b'!AD15","v":0},{"$f":"'3b'!AE15","v":0},{"$f":"'3b'!AF15","v":0},{"$f":"'3b'!AG15","v":0},{"$f":"'3b'!AH15","v":0},{"$f":"'3b'!AI15","v":0},{"$f":"'3b'!AJ15","v":0},{"$f":"'3b'!AK15","v":0},{"$f":"'3b'!AL15","v":0},{"$f":"'3b'!AM15","v":0},{"$f":"'3b'!AN15","v":0},{"$f":"'3b'!AO15","v":0},{"$f":"'3b'!AP15","v":0},{"$f":"'3b'!AQ15","v":0},{"$f":"'3b'!AR15","v":0},{"$f":"'3b'!AS15","v":0},{"$f":"'3b'!AT15","v":0},{"$f":"'3b'!AU15","v":0},{"$f":"'3b'!AV15","v":0},{"$f":"'3b'!AW15","v":0},{"$f":"'3b'!AX15","v":0},{"$f":"'3b'!AY15","v":0},{"$f":"'3b'!AZ15","v":0},{"$f":"'3b'!BA15","v":0},{"$f":"'3b'!BB15","v":0},{"$f":"'3b'!BC15","v":0},{"$f":"'3b'!BD15","v":0},{"$f":"'3b'!BE15","v":0}]
[{"$f":"'3b'!A16","v":"3b"},{"$f":"'3b'!B16","v":0},{"$f":"'3b'!C16","v":0},{"$f":"'3b'!D16","v":"lehrer14"},{"$f":"'3b'!E16","v":0},{"$f":"'3b'!F16","v":0},{"$f":"'3b'!G16","v":0},{"$f":"'3b'!H16","v":0},{"$f":"'3b'!I16","v":0},{"$f":"'3b'!J16","v":0},{"$f":"'3b'!K16","v":0},{"$f":"'3b'!L16","v":0},{"$f":"'3b'!M16","v":0},{"$f":"'3b'!N16","v":0},{"$f":"'3b'!O16","v":0},{"$f":"'3b'!P16","v":0},{"$f":"'3b'!Q16","v":0},{"$f":"'3b'!R16","v":0},{"$f":"'3b'!S16","v":0},{"$f":"'3b'!T16","v":0},{"$f":"'3b'!U16","v":0},{"$f":"'3b'!V16","v":0},{"$f":"'3b'!W16","v":0},{"$f":"'3b'!X16","v":0},{"$f":"'3b'!Y16","v":0},{"$f":"'3b'!Z16","v":0},{"$f":"'3b'!AA16","v":0},{"$f":"'3b'!AB16","v":0},{"$f":"'3b'!AC16","v":0},{"$f":"'3b'!AD16","v":0},{"$f":"'3b'!AE16","v":0},{"$f":"'3b'!AF16","v":0},{"$f":"'3b'!AG16","v":0},{"$f":"'3b'!AH16","v":0},{"$f":"'3b'!AI16","v":0},{"$f":"'3b'!AJ16","v":0},{"$f":"'3b'!AK16","v":0},{"$f":"'3b'!AL16","v":0},{"$f":"'3b'!AM16","v":0},{"$f":"'3b'!AN16","v":0},{"$f":"'3b'!AO16","v":0},{"$f":"'3b'!AP16","v":0},{"$f":"'3b'!AQ16","v":0},{"$f":"'3b'!AR16","v":0},{"$f":"'3b'!AS16","v":0},{"$f":"'3b'!AT16","v":0},{"$f":"'3b'!AU16","v":0},{"$f":"'3b'!AV16","v":0},{"$f":"'3b'!AW16","v":0},{"$f":"'3b'!AX16","v":0},{"$f":"'3b'!AY16","v":0},{"$f":"'3b'!AZ16","v":0},{"$f":"'3b'!BA16","v":0},{"$f":"'3b'!BB16","v":0},{"$f":"'3b'!BC16","v":0},{"$f":"'3b'!BD16","v":0},{"$f":"'3b'!BE16","v":0}]
[{"$f":"'3b'!A17","v":"3b"},{"$f":"'3b'!B17","v":0},{"$f":"'3b'!C17","v":0},{"$f":"'3b'!D17","v":"lehrer15"},{"$f":"'3b'!E17","v":0},{"$f":"'3b'!F17","v":0},{"$f":"'3b'!G17","v":0},{"$f":"'3b'!H17","v":0},{"$f":"'3b'!I17","v":0},{"$f":"'3b'!J17","v":0},{"$f":"'3b'!K17","v":0},{"$f":"'3b'!L17","v":0},{"$f":"'3b'!M17","v":0},{"$f":"'3b'!N17","v":0},{"$f":"'3b'!O17","v":0},{"$f":"'3b'!P17","v":0},{"$f":"'3b'!Q17","v":0},{"$f":"'3b'!R17","v":0},{"$f":"'3b'!S17","v":0},{"$f":"'3b'!T17","v":0},{"$f":"'3b'!U17","v":0},{"$f":"'3b'!V17","v":0},{"$f":"'3b'!W17","v":0},{"$f":"'3b'!X17","v":0},{"$f":"'3b'!Y17","v":0},{"$f":"'3b'!Z17","v":0},{"$f":"'3b'!AA17","v":0},{"$f":"'3b'!AB17","v":0},{"$f":"'3b'!AC17","v":0},{"$f":"'3b'!AD17","v":0},{"$f":"'3b'!AE17","v":0},{"$f":"'3b'!AF17","v":0},{"$f":"'3b'!AG17","v":0},{"$f":"'3b'!AH17","v":0},{"$f":"'3b'!AI17","v":0},{"$f":"'3b'!AJ17","v":0},{"$f":"'3b'!AK17","v":0},{"$f":"'3b'!AL17","v":0},{"$f":"'3b'!AM17","v":0},{"$f":"'3b'!AN17","v":0},{"$f":"'3b'!AO17","v":0},{"$f":"'3b'!AP17","v":0},{"$f":"'3b'!AQ17","v":0},{"$f":"'3b'!AR17","v":0},{"$f":"'3b'!AS17","v":0},{"$f":"'3b'!AT17","v":0},{"$f":"'3b'!AU17","v":0},{"$f":"'3b'!AV17","v":0},{"$f":"'3b'!AW17","v":0},{"$f":"'3b'!AX17","v":0},{"$f":"'3b'!AY17","v":0},{"$f":"'3b'!AZ17","v":0},{"$f":"'3b'!BA17","v":0},{"$f":"'3b'!BB17","v":0},{"$f":"'3b'!BC17","v":0},{"$f":"'3b'!BD17","v":0},{"$f":"'3b'!BE17","v":0}]
[{"$f":"'3b'!A18","v":"3b"},{"$f":"'3b'!B18","v":0},{"$f":"'3b'!C18","v":0},{"$f":"'3b'!D18","v":"lehrer16"},{"$f":"'3b'!E18","v":0},{"$f":"'3b'!F18","v":0},{"$f":"'3b'!G18","v":0},{"$f":"'3b'!H18","v":0},{"$f":"'3b'!I18","v":0},{"$f":"'3b'!J18","v":0},{"$f":"'3b'!K18","v":0},{"$f":"'3b'!L18","v":0},{"$f":"'3b'!M18","v":0},{"$f":"'3b'!N18","v":0},{"$f":"'3b'!O18","v":0},{"$f":"'3b'!P18","v":0},{"$f":"'3b'!Q18","v":0},{"$f":"'3b'!R18","v":0},{"$f":"'3b'!S18","v":0},{"$f":"'3b'!T18","v":0},{"$f":"'3b'!U18","v":0},{"$f":"'3b'!V18","v":0},{"$f":"'3b'!W18","v":0},{"$f":"'3b'!X18","v":0},{"$f":"'3b'!Y18","v":0},{"$f":"'3b'!Z18","v":0},{"$f":"'3b'!AA18","v":0},{"$f":"'3b'!AB18","v":0},{"$f":"'3b'!AC18","v":0},{"$f":"'3b'!AD18","v":0},{"$f":"'3b'!AE18","v":0},{"$f":"'3b'!AF18","v":0},{"$f":"'3b'!AG18","v":0},{"$f":"'3b'!AH18","v":0},{"$f":"'3b'!AI18","v":0},{"$f":"'3b'!AJ18","v":0},{"$f":"'3b'!AK18","v":0},{"$f":"'3b'!AL18","v":0},{"$f":"'3b'!AM18","v":0},{"$f":"'3b'!AN18","v":0},{"$f":"'3b'!AO18","v":0},{"$f":"'3b'!AP18","v":0},{"$f":"'3b'!AQ18","v":0},{"$f":"'3b'!AR18","v":0},{"$f":"'3b'!AS18","v":0},{"$f":"'3b'!AT18","v":0},{"$f":"'3b'!AU18","v":0},{"$f":"'3b'!AV18","v":0},{"$f":"'3b'!AW18","v":0},{"$f":"'3b'!AX18","v":0},{"$f":"'3b'!AY18","v":0},{"$f":"'3b'!AZ18","v":0},{"$f":"'3b'!BA18","v":0},{"$f":"'3b'!BB18","v":0},{"$f":"'3b'!BC18","v":0},{"$f":"'3b'!BD18","v":0},{"$f":"'3b'!BE18","v":0}]
[{"$f":"'3b'!A19","v":"3b"},{"$f":"'3b'!B19","v":0},{"$f":"'3b'!C19","v":0},{"$f":"'3b'!D19","v":"lehrer17"},{"$f":"'3b'!E19","v":0},{"$f":"'3b'!F19","v":0},{"$f":"'3b'!G19","v":0},{"$f":"'3b'!H19","v":0},{"$f":"'3b'!I19","v":0},{"$f":"'3b'!J19","v":0},{"$f":"'3b'!K19","v":0},{"$f":"'3b'!L19","v":0},{"$f":"'3b'!M19","v":0},{"$f":"'3b'!N19","v":0},{"$f":"'3b'!O19","v":0},{"$f":"'3b'!P19","v":0},{"$f":"'3b'!Q19","v":0},{"$f":"'3b'!R19","v":0},{"$f":"'3b'!S19","v":0},{"$f":"'3b'!T19","v":0},{"$f":"'3b'!U19","v":0},{"$f":"'3b'!V19","v":0},{"$f":"'3b'!W19","v":0},{"$f":"'3b'!X19","v":0},{"$f":"'3b'!Y19","v":0},{"$f":"'3b'!Z19","v":0},{"$f":"'3b'!AA19","v":0},{"$f":"'3b'!AB19","v":0},{"$f":"'3b'!AC19","v":0},{"$f":"'3b'!AD19","v":0},{"$f":"'3b'!AE19","v":0},{"$f":"'3b'!AF19","v":0},{"$f":"'3b'!AG19","v":0},{"$f":"'3b'!AH19","v":0},{"$f":"'3b'!AI19","v":0},{"$f":"'3b'!AJ19","v":0},{"$f":"'3b'!AK19","v":0},{"$f":"'3b'!AL19","v":0},{"$f":"'3b'!AM19","v":0},{"$f":"'3b'!AN19","v":0},{"$f":"'3b'!AO19","v":0},{"$f":"'3b'!AP19","v":0},{"$f":"'3b'!AQ19","v":0},{"$f":"'3b'!AR19","v":0},{"$f":"'3b'!AS19","v":0},{"$f":"'3b'!AT19","v":0},{"$f":"'3b'!AU19","v":0},{"$f":"'3b'!AV19","v":0},{"$f":"'3b'!AW19","v":0},{"$f":"'3b'!AX19","v":0},{"$f":"'3b'!AY19","v":0},{"$f":"'3b'!AZ19","v":0},{"$f":"'3b'!BA19","v":0},{"$f":"'3b'!BB19","v":0},{"$f":"'3b'!BC19","v":0},{"$f":"'3b'!BD19","v":0},{"$f":"'3b'!BE19","v":0}]
[{"$f":"'3b'!A20","v":"3b"},{"$f":"'3b'!B20","v":0},{"$f":"'3b'!C20","v":0},{"$f":"'3b'!D20","v":"lehrer18"},{"$f":"'3b'!E20","v":0},{"$f":"'3b'!F20","v":0},{"$f":"'3b'!G20","v":0},{"$f":"'3b'!H20","v":0},{"$f":"'3b'!I20","v":0},{"$f":"'3b'!J20","v":0},{"$f":"'3b'!K20","v":0},{"$f":"'3b'!L20","v":0},{"$f":"'3b'!M20","v":0},{"$f":"'3b'!N20","v":0},{"$f":"'3b'!O20","v":0},{"$f":"'3b'!P20","v":0},{"$f":"'3b'!Q20","v":0},{"$f":"'3b'!R20","v":0},{"$f":"'3b'!S20","v":0},{"$f":"'3b'!T20","v":0},{"$f":"'3b'!U20","v":0},{"$f":"'3b'!V20","v":0},{"$f":"'3b'!W20","v":0},{"$f":"'3b'!X20","v":0},{"$f":"'3b'!Y20","v":0},{"$f":"'3b'!Z20","v":0},{"$f":"'3b'!AA20","v":0},{"$f":"'3b'!AB20","v":0},{"$f":"'3b'!AC20","v":0},{"$f":"'3b'!AD20","v":0},{"$f":"'3b'!AE20","v":0},{"$f":"'3b'!AF20","v":0},{"$f":"'3b'!AG20","v":0},{"$f":"'3b'!AH20","v":0},{"$f":"'3b'!AI20","v":0},{"$f":"'3b'!AJ20","v":0},{"$f":"'3b'!AK20","v":0},{"$f":"'3b'!AL20","v":0},{"$f":"'3b'!AM20","v":0},{"$f":"'3b'!AN20","v":0},{"$f":"'3b'!AO20","v":0},{"$f":"'3b'!AP20","v":0},{"$f":"'3b'!AQ20","v":0},{"$f":"'3b'!AR20","v":0},{"$f":"'3b'!AS20","v":0},{"$f":"'3b'!AT20","v":0},{"$f":"'3b'!AU20","v":0},{"$f":"'3b'!AV20","v":0},{"$f":"'3b'!AW20","v":0},{"$f":"'3b'!AX20","v":0},{"$f":"'3b'!AY20","v":0},{"$f":"'3b'!AZ20","v":0},{"$f":"'3b'!BA20","v":0},{"$f":"'3b'!BB20","v":0},{"$f":"'3b'!BC20","v":0},{"$f":"'3b'!BD20","v":0},{"$f":"'3b'!BE20","v":0}]
[{"$f":"'3b'!A21","v":"3b"},{"$f":"'3b'!B21","v":0},{"$f":"'3b'!C21","v":0},{"$f":"'3b'!D21","v":"lehrer19"},{"$f":"'3b'!E21","v":0},{"$f":"'3b'!F21","v":0},{"$f":"'3b'!G21","v":0},{"$f":"'3b'!H21","v":0},{"$f":"'3b'!I21","v":0},{"$f":"'3b'!J21","v":0},{"$f":"'3b'!K21","v":0},{"$f":"'3b'!L21","v":0},{"$f":"'3b'!M21","v":0},{"$f":"'3b'!N21","v":0},{"$f":"'3b'!O21","v":0},{"$f":"'3b'!P21","v":0},{"$f":"'3b'!Q21","v":0},{"$f":"'3b'!R21","v":0},{"$f":"'3b'!S21","v":0},{"$f":"'3b'!T21","v":0},{"$f":"'3b'!U21","v":0},{"$f":"'3b'!V21","v":0},{"$f":"'3b'!W21","v":0},{"$f":"'3b'!X21","v":0},{"$f":"'3b'!Y21","v":0},{"$f":"'3b'!Z21","v":0},{"$f":"'3b'!AA21","v":0},{"$f":"'3b'!AB21","v":0},{"$f":"'3b'!AC21","v":0},{"$f":"'3b'!AD21","v":0},{"$f":"'3b'!AE21","v":0},{"$f":"'3b'!AF21","v":0},{"$f":"'3b'!AG21","v":0},{"$f":"'3b'!AH21","v":0},{"$f":"'3b'!AI21","v":0},{"$f":"'3b'!AJ21","v":0},{"$f":"'3b'!AK21","v":0},{"$f":"'3b'!AL21","v":0},{"$f":"'3b'!AM21","v":0},{"$f":"'3b'!AN21","v":0},{"$f":"'3b'!AO21","v":0},{"$f":"'3b'!AP21","v":0},{"$f":"'3b'!AQ21","v":0},{"$f":"'3b'!AR21","v":0},{"$f":"'3b'!AS21","v":0},{"$f":"'3b'!AT21","v":0},{"$f":"'3b'!AU21","v":0},{"$f":"'3b'!AV21","v":0},{"$f":"'3b'!AW21","v":0},{"$f":"'3b'!AX21","v":0},{"$f":"'3b'!AY21","v":0},{"$f":"'3b'!AZ21","v":0},{"$f":"'3b'!BA21","v":0},{"$f":"'3b'!BB21","v":0},{"$f":"'3b'!BC21","v":0},{"$f":"'3b'!BD21","v":0},{"$f":"'3b'!BE21","v":0}]
[{"$f":"'3b'!A22","v":"3b"},{"$f":"'3b'!B22","v":0},{"$f":"'3b'!C22","v":0},{"$f":"'3b'!D22","v":"lehrer20"},{"$f":"'3b'!E22","v":0},{"$f":"'3b'!F22","v":0},{"$f":"'3b'!G22","v":0},{"$f":"'3b'!H22","v":0},{"$f":"'3b'!I22","v":0},{"$f":"'3b'!J22","v":0},{"$f":"'3b'!K22","v":0},{"$f":"'3b'!L22","v":0},{"$f":"'3b'!M22","v":0},{"$f":"'3b'!N22","v":0},{"$f":"'3b'!O22","v":0},{"$f":"'3b'!P22","v":0},{"$f":"'3b'!Q22","v":0},{"$f":"'3b'!R22","v":0},{"$f":"'3b'!S22","v":0},{"$f":"'3b'!T22","v":0},{"$f":"'3b'!U22","v":0},{"$f":"'3b'!V22","v":0},{"$f":"'3b'!W22","v":0},{"$f":"'3b'!X22","v":0},{"$f":"'3b'!Y22","v":0},{"$f":"'3b'!Z22","v":0},{"$f":"'3b'!AA22","v":0},{"$f":"'3b'!AB22","v":0},{"$f":"'3b'!AC22","v":0},{"$f":"'3b'!AD22","v":0},{"$f":"'3b'!AE22","v":0},{"$f":"'3b'!AF22","v":0},{"$f":"'3b'!AG22","v":0},{"$f":"'3b'!AH22","v":0},{"$f":"'3b'!AI22","v":0},{"$f":"'3b'!AJ22","v":0},{"$f":"'3b'!AK22","v":0},{"$f":"'3b'!AL22","v":0},{"$f":"'3b'!AM22","v":0},{"$f":"'3b'!AN22","v":0},{"$f":"'3b'!AO22","v":0},{"$f":"'3b'!AP22","v":0},{"$f":"'3b'!AQ22","v":0},{"$f":"'3b'!AR22","v":0},{"$f":"'3b'!AS22","v":0},{"$f":"'3b'!AT22","v":0},{"$f":"'3b'!AU22","v":0},{"$f":"'3b'!AV22","v":0},{"$f":"'3b'!AW22","v":0},{"$f":"'3b'!AX22","v":0},{"$f":"'3b'!AY22","v":0},{"$f":"'3b'!AZ22","v":0},{"$f":"'3b'!BA22","v":0},{"$f":"'3b'!BB22","v":0},{"$f":"'3b'!BC22","v":0},{"$f":"'3b'!BD22","v":0},{"$f":"'3b'!BE22","v":0}]
[{"$f":"'3b'!A23","v":"3b"},{"$f":"'3b'!B23","v":0},{"$f":"'3b'!C23","v":0},{"$f":"'3b'!D23","v":"lehrer21"},{"$f":"'3b'!E23","v":0},{"$f":"'3b'!F23","v":0},{"$f":"'3b'!G23","v":0},{"$f":"'3b'!H23","v":0},{"$f":"'3b'!I23","v":0},{"$f":"'3b'!J23","v":0},{"$f":"'3b'!K23","v":0},{"$f":"'3b'!L23","v":0},{"$f":"'3b'!M23","v":0},{"$f":"'3b'!N23","v":0},{"$f":"'3b'!O23","v":0},{"$f":"'3b'!P23","v":0},{"$f":"'3b'!Q23","v":0},{"$f":"'3b'!R23","v":0},{"$f":"'3b'!S23","v":0},{"$f":"'3b'!T23","v":0},{"$f":"'3b'!U23","v":0},{"$f":"'3b'!V23","v":0},{"$f":"'3b'!W23","v":0},{"$f":"'3b'!X23","v":0},{"$f":"'3b'!Y23","v":0},{"$f":"'3b'!Z23","v":0},{"$f":"'3b'!AA23","v":0},{"$f":"'3b'!AB23","v":0},{"$f":"'3b'!AC23","v":0},{"$f":"'3b'!AD23","v":0},{"$f":"'3b'!AE23","v":0},{"$f":"'3b'!AF23","v":0},{"$f":"'3b'!AG23","v":0},{"$f":"'3b'!AH23","v":0},{"$f":"'3b'!AI23","v":0},{"$f":"'3b'!AJ23","v":0},{"$f":"'3b'!AK23","v":0},{"$f":"'3b'!AL23","v":0},{"$f":"'3b'!AM23","v":0},{"$f":"'3b'!AN23","v":0},{"$f":"'3b'!AO23","v":0},{"$f":"'3b'!AP23","v":0},{"$f":"'3b'!AQ23","v":0},{"$f":"'3b'!AR23","v":0},{"$f":"'3b'!AS23","v":0},{"$f":"'3b'!AT23","v":0},{"$f":"'3b'!AU23","v":0},{"$f":"'3b'!AV23","v":0},{"$f":"'3b'!AW23","v":0},{"$f":"'3b'!AX23","v":0},{"$f":"'3b'!AY23","v":0},{"$f":"'3b'!AZ23","v":0},{"$f":"'3b'!BA23","v":0},{"$f":"'3b'!BB23","v":0},{"$f":"'3b'!BC23","v":0},{"$f":"'3b'!BD23","v":0},{"$f":"'3b'!BE23","v":0}]
[{"$f":"'3b'!A24","v":"3b"},{"$f":"'3b'!B24","v":0},{"$f":"'3b'!C24","v":0},{"$f":"'3b'!D24","v":"lehrer22"},{"$f":"'3b'!E24","v":0},{"$f":"'3b'!F24","v":0},{"$f":"'3b'!G24","v":0},{"$f":"'3b'!H24","v":0},{"$f":"'3b'!I24","v":0},{"$f":"'3b'!J24","v":0},{"$f":"'3b'!K24","v":0},{"$f":"'3b'!L24","v":0},{"$f":"'3b'!M24","v":0},{"$f":"'3b'!N24","v":0},{"$f":"'3b'!O24","v":0},{"$f":"'3b'!P24","v":0},{"$f":"'3b'!Q24","v":0},{"$f":"'3b'!R24","v":0},{"$f":"'3b'!S24","v":0},{"$f":"'3b'!T24","v":0},{"$f":"'3b'!U24","v":0},{"$f":"'3b'!V24","v":0},{"$f":"'3b'!W24","v":0},{"$f":"'3b'!X24","v":0},{"$f":"'3b'!Y24","v":0},{"$f":"'3b'!Z24","v":0},{"$f":"'3b'!AA24","v":0},{"$f":"'3b'!AB24","v":0},{"$f":"'3b'!AC24","v":0},{"$f":"'3b'!AD24","v":0},{"$f":"'3b'!AE24","v":0},{"$f":"'3b'!AF24","v":0},{"$f":"'3b'!AG24","v":0},{"$f":"'3b'!AH24","v":0},{"$f":"'3b'!AI24","v":0},{"$f":"'3b'!AJ24","v":0},{"$f":"'3b'!AK24","v":0},{"$f":"'3b'!AL24","v":0},{"$f":"'3b'!AM24","v":0},{"$f":"'3b'!AN24","v":0},{"$f":"'3b'!AO24","v":0},{"$f":"'3b'!AP24","v":0},{"$f":"'3b'!AQ24","v":0},{"$f":"'3b'!AR24","v":0},{"$f":"'3b'!AS24","v":0},{"$f":"'3b'!AT24","v":0},{"$f":"'3b'!AU24","v":0},{"$f":"'3b'!AV24","v":0},{"$f":"'3b'!AW24","v":0},{"$f":"'3b'!AX24","v":0},{"$f":"'3b'!AY24","v":0},{"$f":"'3b'!AZ24","v":0},{"$f":"'3b'!BA24","v":0},{"$f":"'3b'!BB24","v":0},{"$f":"'3b'!BC24","v":0},{"$f":"'3b'!BD24","v":0},{"$f":"'3b'!BE24","v":0}]
[{"$f":"'3b'!A25","v":"3b"},{"$f":"'3b'!B25","v":0},{"$f":"'3b'!C25","v":0},{"$f":"'3b'!D25","v":"lehrer23"},{"$f":"'3b'!E25","v":0},{"$f":"'3b'!F25","v":0},{"$f":"'3b'!G25","v":0},{"$f":"'3b'!H25","v":0},{"$f":"'3b'!I25","v":0},{"$f":"'3b'!J25","v":0},{"$f":"'3b'!K25","v":0},{"$f":"'3b'!L25","v":0},{"$f":"'3b'!M25","v":0},{"$f":"'3b'!N25","v":0},{"$f":"'3b'!O25","v":0},{"$f":"'3b'!P25","v":0},{"$f":"'3b'!Q25","v":0},{"$f":"'3b'!R25","v":0},{"$f":"'3b'!S25","v":0},{"$f":"'3b'!T25","v":0},{"$f":"'3b'!U25","v":0},{"$f":"'3b'!V25","v":0},{"$f":"'3b'!W25","v":0},{"$f":"'3b'!X25","v":0},{"$f":"'3b'!Y25","v":0},{"$f":"'3b'!Z25","v":0},{"$f":"'3b'!AA25","v":0},{"$f":"'3b'!AB25","v":0},{"$f":"'3b'!AC25","v":0},{"$f":"'3b'!AD25","v":0},{"$f":"'3b'!AE25","v":0},{"$f":"'3b'!AF25","v":0},{"$f":"'3b'!AG25","v":0},{"$f":"'3b'!AH25","v":0},{"$f":"'3b'!AI25","v":0},{"$f":"'3b'!AJ25","v":0},{"$f":"'3b'!AK25","v":0},{"$f":"'3b'!AL25","v":0},{"$f":"'3b'!AM25","v":0},{"$f":"'3b'!AN25","v":0},{"$f":"'3b'!AO25","v":0},{"$f":"'3b'!AP25","v":0},{"$f":"'3b'!AQ25","v":0},{"$f":"'3b'!AR25","v":0},{"$f":"'3b'!AS25","v":0},{"$f":"'3b'!AT25","v":0},{"$f":"'3b'!AU25","v":0},{"$f":"'3b'!AV25","v":0},{"$f":"'3b'!AW25","v":0},{"$f":"'3b'!AX25","v":0},{"$f":"'3b'!AY25","v":0},{"$f":"'3b'!AZ25","v":0},{"$f":"'3b'!BA25","v":0},{"$f":"'3b'!BB25","v":0},{"$f":"'3b'!BC25","v":0},{"$f":"'3b'!BD25","v":0},{"$f":"'3b'!BE25","v":0}]
[{"$f":"'3b'!A26","v":"3b"},{"$f":"'3b'!B26","v":0},{"$f":"'3b'!C26","v":0},{"$f":"'3b'!D26","v":"lehrer24"},{"$f":"'3b'!E26","v":0},{"$f":"'3b'!F26","v":0},{"$f":"'3b'!G26","v":0},{"$f":"'3b'!H26","v":0},{"$f":"'3b'!I26","v":0},{"$f":"'3b'!J26","v":0},{"$f":"'3b'!K26","v":0},{"$f":"'3b'!L26","v":0},{"$f":"'3b'!M26","v":0},{"$f":"'3b'!N26","v":0},{"$f":"'3b'!O26","v":0},{"$f":"'3b'!P26","v":0},{"$f":"'3b'!Q26","v":0},{"$f":"'3b'!R26","v":0},{"$f":"'3b'!S26","v":0},{"$f":"'3b'!T26","v":0},{"$f":"'3b'!U26","v":0},{"$f":"'3b'!V26","v":0},{"$f":"'3b'!W26","v":0},{"$f":"'3b'!X26","v":0},{"$f":"'3b'!Y26","v":0},{"$f":"'3b'!Z26","v":0},{"$f":"'3b'!AA26","v":0},{"$f":"'3b'!AB26","v":0},{"$f":"'3b'!AC26","v":0},{"$f":"'3b'!AD26","v":0},{"$f":"'3b'!AE26","v":0},{"$f":"'3b'!AF26","v":0},{"$f":"'3b'!AG26","v":0},{"$f":"'3b'!AH26","v":0},{"$f":"'3b'!AI26","v":0},{"$f":"'3b'!AJ26","v":0},{"$f":"'3b'!AK26","v":0},{"$f":"'3b'!AL26","v":0},{"$f":"'3b'!AM26","v":0},{"$f":"'3b'!AN26","v":0},{"$f":"'3b'!AO26","v":0},{"$f":"'3b'!AP26","v":0},{"$f":"'3b'!AQ26","v":0},{"$f":"'3b'!AR26","v":0},{"$f":"'3b'!AS26","v":0},{"$f":"'3b'!AT26","v":0},{"$f":"'3b'!AU26","v":0},{"$f":"'3b'!AV26","v":0},{"$f":"'3b'!AW26","v":0},{"$f":"'3b'!AX26","v":0},{"$f":"'3b'!AY26","v":0},{"$f":"'3b'!AZ26","v":0},{"$f":"'3b'!BA26","v":0},{"$f":"'3b'!BB26","v":0},{"$f":"'3b'!BC26","v":0},{"$f":"'3b'!BD26","v":0},{"$f":"'3b'!BE26","v":0}]
[{"$f":"'3b'!A27","v":"3b"},{"$f":"'3b'!B27","v":0},{"$f":"'3b'!C27","v":0},{"$f":"'3b'!D27","v":"lehrer25"},{"$f":"'3b'!E27","v":0},{"$f":"'3b'!F27","v":0},{"$f":"'3b'!G27","v":0},{"$f":"'3b'!H27","v":0},{"$f":"'3b'!I27","v":0},{"$f":"'3b'!J27","v":0},{"$f":"'3b'!K27","v":0},{"$f":"'3b'!L27","v":0},{"$f":"'3b'!M27","v":0},{"$f":"'3b'!N27","v":0},{"$f":"'3b'!O27","v":0},{"$f":"'3b'!P27","v":0},{"$f":"'3b'!Q27","v":0},{"$f":"'3b'!R27","v":0},{"$f":"'3b'!S27","v":0},{"$f":"'3b'!T27","v":0},{"$f":"'3b'!U27","v":0},{"$f":"'3b'!V27","v":0},{"$f":"'3b'!W27","v":0},{"$f":"'3b'!X27","v":0},{"$f":"'3b'!Y27","v":0},{"$f":"'3b'!Z27","v":0},{"$f":"'3b'!AA27","v":0},{"$f":"'3b'!AB27","v":0},{"$f":"'3b'!AC27","v":0},{"$f":"'3b'!AD27","v":0},{"$f":"'3b'!AE27","v":0},{"$f":"'3b'!AF27","v":0},{"$f":"'3b'!AG27","v":0},{"$f":"'3b'!AH27","v":0},{"$f":"'3b'!AI27","v":0},{"$f":"'3b'!AJ27","v":0},{"$f":"'3b'!AK27","v":0},{"$f":"'3b'!AL27","v":0},{"$f":"'3b'!AM27","v":0},{"$f":"'3b'!AN27","v":0},{"$f":"'3b'!AO27","v":0},{"$f":"'3b'!AP27","v":0},{"$f":"'3b'!AQ27","v":0},{"$f":"'3b'!AR27","v":0},{"$f":"'3b'!AS27","v":0},{"$f":"'3b'!AT27","v":0},{"$f":"'3b'!AU27","v":0},{"$f":"'3b'!AV27","v":0},{"$f":"'3b'!AW27","v":0},{"$f":"'3b'!AX27","v":0},{"$f":"'3b'!AY27","v":0},{"$f":"'3b'!AZ27","v":0},{"$f":"'3b'!BA27","v":0},{"$f":"'3b'!BB27","v":0},{"$f":"'3b'!BC27","v":0},{"$f":"'3b'!BD27","v":0},{"$f":"'3b'!BE27","v":0}]
[{"$f":"'3b'!A28","v":"3b"},{"$f":"'3b'!B28","v":0},{"$f":"'3b'!C28","v":0},{"$f":"'3b'!D28","v":"lehrer26"},{"$f":"'3b'!E28","v":0},{"$f":"'3b'!F28","v":0},{"$f":"'3b'!G28","v":0},{"$f":"'3b'!H28","v":0},{"$f":"'3b'!I28","v":0},{"$f":"'3b'!J28","v":0},{"$f":"'3b'!K28","v":0},{"$f":"'3b'!L28","v":0},{"$f":"'3b'!M28","v":0},{"$f":"'3b'!N28","v":0},{"$f":"'3b'!O28","v":0},{"$f":"'3b'!P28","v":0},{"$f":"'3b'!Q28","v":0},{"$f":"'3b'!R28","v":0},{"$f":"'3b'!S28","v":0},{"$f":"'3b'!T28","v":0},{"$f":"'3b'!U28","v":0},{"$f":"'3b'!V28","v":0},{"$f":"'3b'!W28","v":0},{"$f":"'3b'!X28","v":0},{"$f":"'3b'!Y28","v":0},{"$f":"'3b'!Z28","v":0},{"$f":"'3b'!AA28","v":0},{"$f":"'3b'!AB28","v":0},{"$f":"'3b'!AC28","v":0},{"$f":"'3b'!AD28","v":0},{"$f":"'3b'!AE28","v":0},{"$f":"'3b'!AF28","v":0},{"$f":"'3b'!AG28","v":0},{"$f":"'3b'!AH28","v":0},{"$f":"'3b'!AI28","v":0},{"$f":"'3b'!AJ28","v":0},{"$f":"'3b'!AK28","v":0},{"$f":"'3b'!AL28","v":0},{"$f":"'3b'!AM28","v":0},{"$f":"'3b'!AN28","v":0},{"$f":"'3b'!AO28","v":0},{"$f":"'3b'!AP28","v":0},{"$f":"'3b'!AQ28","v":0},{"$f":"'3b'!AR28","v":0},{"$f":"'3b'!AS28","v":0},{"$f":"'3b'!AT28","v":0},{"$f":"'3b'!AU28","v":0},{"$f":"'3b'!AV28","v":0},{"$f":"'3b'!AW28","v":0},{"$f":"'3b'!AX28","v":0},{"$f":"'3b'!AY28","v":0},{"$f":"'3b'!AZ28","v":0},{"$f":"'3b'!BA28","v":0},{"$f":"'3b'!BB28","v":0},{"$f":"'3b'!BC28","v":0},{"$f":"'3b'!BD28","v":0},{"$f":"'3b'!BE28","v":0}]
[{"$f":"'3b'!A29","v":"3b"},{"$f":"'3b'!B29","v":0},{"$f":"'3b'!C29","v":0},{"$f":"'3b'!D29","v":"lehrer27"},{"$f":"'3b'!E29","v":0},{"$f":"'3b'!F29","v":0},{"$f":"'3b'!G29","v":0},{"$f":"'3b'!H29","v":0},{"$f":"'3b'!I29","v":0},{"$f":"'3b'!J29","v":0},{"$f":"'3b'!K29","v":0},{"$f":"'3b'!L29","v":0},{"$f":"'3b'!M29","v":0},{"$f":"'3b'!N29","v":0},{"$f":"'3b'!O29","v":0},{"$f":"'3b'!P29","v":0},{"$f":"'3b'!Q29","v":0},{"$f":"'3b'!R29","v":0},{"$f":"'3b'!S29","v":0},{"$f":"'3b'!T29","v":0},{"$f":"'3b'!U29","v":0},{"$f":"'3b'!V29","v":0},{"$f":"'3b'!W29","v":0},{"$f":"'3b'!X29","v":0},{"$f":"'3b'!Y29","v":0},{"$f":"'3b'!Z29","v":0},{"$f":"'3b'!AA29","v":0},{"$f":"'3b'!AB29","v":0},{"$f":"'3b'!AC29","v":0},{"$f":"'3b'!AD29","v":0},{"$f":"'3b'!AE29","v":0},{"$f":"'3b'!AF29","v":0},{"$f":"'3b'!AG29","v":0},{"$f":"'3b'!AH29","v":0},{"$f":"'3b'!AI29","v":0},{"$f":"'3b'!AJ29","v":0},{"$f":"'3b'!AK29","v":0},{"$f":"'3b'!AL29","v":0},{"$f":"'3b'!AM29","v":0},{"$f":"'3b'!AN29","v":0},{"$f":"'3b'!AO29","v":0},{"$f":"'3b'!AP29","v":0},{"$f":"'3b'!AQ29","v":0},{"$f":"'3b'!AR29","v":0},{"$f":"'3b'!AS29","v":0},{"$f":"'3b'!AT29","v":0},{"$f":"'3b'!AU29","v":0},{"$f":"'3b'!AV29","v":0},{"$f":"'3b'!AW29","v":0},{"$f":"'3b'!AX29","v":0},{"$f":"'3b'!AY29","v":0},{"$f":"'3b'!AZ29","v":0},{"$f":"'3b'!BA29","v":0},{"$f":"'3b'!BB29","v":0},{"$f":"'3b'!BC29","v":0},{"$f":"'3b'!BD29","v":0},{"$f":"'3b'!BE29","v":0}]
[{"$f":"'3b'!A30","v":"3b"},{"$f":"'3b'!B30","v":0},{"$f":"'3b'!C30","v":0},{"$f":"'3b'!D30","v":"lehrer28"},{"$f":"'3b'!E30","v":0},{"$f":"'3b'!F30","v":0},{"$f":"'3b'!G30","v":0},{"$f":"'3b'!H30","v":0},{"$f":"'3b'!I30","v":0},{"$f":"'3b'!J30","v":0},{"$f":"'3b'!K30","v":0},{"$f":"'3b'!L30","v":0},{"$f":"'3b'!M30","v":0},{"$f":"'3b'!N30","v":0},{"$f":"'3b'!O30","v":0},{"$f":"'3b'!P30","v":0},{"$f":"'3b'!Q30","v":0},{"$f":"'3b'!R30","v":0},{"$f":"'3b'!S30","v":0},{"$f":"'3b'!T30","v":0},{"$f":"'3b'!U30","v":0},{"$f":"'3b'!V30","v":0},{"$f":"'3b'!W30","v":0},{"$f":"'3b'!X30","v":0},{"$f":"'3b'!Y30","v":0},{"$f":"'3b'!Z30","v":0},{"$f":"'3b'!AA30","v":0},{"$f":"'3b'!AB30","v":0},{"$f":"'3b'!AC30","v":0},{"$f":"'3b'!AD30","v":0},{"$f":"'3b'!AE30","v":0},{"$f":"'3b'!AF30","v":0},{"$f":"'3b'!AG30","v":0},{"$f":"'3b'!AH30","v":0},{"$f":"'3b'!AI30","v":0},{"$f":"'3b'!AJ30","v":0},{"$f":"'3b'!AK30","v":0},{"$f":"'3b'!AL30","v":0},{"$f":"'3b'!AM30","v":0},{"$f":"'3b'!AN30","v":0},{"$f":"'3b'!AO30","v":0},{"$f":"'3b'!AP30","v":0},{"$f":"'3b'!AQ30","v":0},{"$f":"'3b'!AR30","v":0},{"$f":"'3b'!AS30","v":0},{"$f":"'3b'!AT30","v":0},{"$f":"'3b'!AU30","v":0},{"$f":"'3b'!AV30","v":0},{"$f":"'3b'!AW30","v":0},{"$f":"'3b'!AX30","v":0},{"$f":"'3b'!AY30","v":0},{"$f":"'3b'!AZ30","v":0},{"$f":"'3b'!BA30","v":0},{"$f":"'3b'!BB30","v":0},{"$f":"'3b'!BC30","v":0},{"$f":"'3b'!BD30","v":0},{"$f":"'3b'!BE30","v":0}]
[{"$f":"'3b'!A31","v":"3b"},{"$f":"'3b'!B31","v":0},{"$f":"'3b'!C31","v":0},{"$f":"'3b'!D31","v":"lehrer29"},{"$f":"'3b'!E31","v":0},{"$f":"'3b'!F31","v":0},{"$f":"'3b'!G31","v":0},{"$f":"'3b'!H31","v":0},{"$f":"'3b'!I31","v":0},{"$f":"'3b'!J31","v":0},{"$f":"'3b'!K31","v":0},{"$f":"'3b'!L31","v":0},{"$f":"'3b'!M31","v":0},{"$f":"'3b'!N31","v":0},{"$f":"'3b'!O31","v":0},{"$f":"'3b'!P31","v":0},{"$f":"'3b'!Q31","v":0},{"$f":"'3b'!R31","v":0},{"$f":"'3b'!S31","v":0},{"$f":"'3b'!T31","v":0},{"$f":"'3b'!U31","v":0},{"$f":"'3b'!V31","v":0},{"$f":"'3b'!W31","v":0},{"$f":"'3b'!X31","v":0},{"$f":"'3b'!Y31","v":0},{"$f":"'3b'!Z31","v":0},{"$f":"'3b'!AA31","v":0},{"$f":"'3b'!AB31","v":0},{"$f":"'3b'!AC31","v":0},{"$f":"'3b'!AD31","v":0},{"$f":"'3b'!AE31","v":0},{"$f":"'3b'!AF31","v":0},{"$f":"'3b'!AG31","v":0},{"$f":"'3b'!AH31","v":0},{"$f":"'3b'!AI31","v":0},{"$f":"'3b'!AJ31","v":0},{"$f":"'3b'!AK31","v":0},{"$f":"'3b'!AL31","v":0},{"$f":"'3b'!AM31","v":0},{"$f":"'3b'!AN31","v":0},{"$f":"'3b'!AO31","v":0},{"$f":"'3b'!AP31","v":0},{"$f":"'3b'!AQ31","v":0},{"$f":"'3b'!AR31","v":0},{"$f":"'3b'!AS31","v":0},{"$f":"'3b'!AT31","v":0},{"$f":"'3b'!AU31","v":0},{"$f":"'3b'!AV31","v":0},{"$f":"'3b'!AW31","v":0},{"$f":"'3b'!AX31","v":0},{"$f":"'3b'!AY31","v":0},{"$f":"'3b'!AZ31","v":0},{"$f":"'3b'!BA31","v":0},{"$f":"'3b'!BB31","v":0},{"$f":"'3b'!BC31","v":0},{"$f":"'3b'!BD31","v":0},{"$f":"'3b'!BE31","v":0}]
[{"$f":"'3b'!A32","v":"3b"},{"$f":"'3b'!B32","v":0},{"$f":"'3b'!C32","v":0},{"$f":"'3b'!D32","v":"lehrer30"},{"$f":"'3b'!E32","v":0},{"$f":"'3b'!F32","v":0},{"$f":"'3b'!G32","v":0},{"$f":"'3b'!H32","v":0},{"$f":"'3b'!I32","v":0},{"$f":"'3b'!J32","v":0},{"$f":"'3b'!K32","v":0},{"$f":"'3b'!L32","v":0},{"$f":"'3b'!M32","v":0},{"$f":"'3b'!N32","v":0},{"$f":"'3b'!O32","v":0},{"$f":"'3b'!P32","v":0},{"$f":"'3b'!Q32","v":0},{"$f":"'3b'!R32","v":0},{"$f":"'3b'!S32","v":0},{"$f":"'3b'!T32","v":0},{"$f":"'3b'!U32","v":0},{"$f":"'3b'!V32","v":0},{"$f":"'3b'!W32","v":0},{"$f":"'3b'!X32","v":0},{"$f":"'3b'!Y32","v":0},{"$f":"'3b'!Z32","v":0},{"$f":"'3b'!AA32","v":0},{"$f":"'3b'!AB32","v":0},{"$f":"'3b'!AC32","v":0},{"$f":"'3b'!AD32","v":0},{"$f":"'3b'!AE32","v":0},{"$f":"'3b'!AF32","v":0},{"$f":"'3b'!AG32","v":0},{"$f":"'3b'!AH32","v":0},{"$f":"'3b'!AI32","v":0},{"$f":"'3b'!AJ32","v":0},{"$f":"'3b'!AK32","v":0},{"$f":"'3b'!AL32","v":0},{"$f":"'3b'!AM32","v":0},{"$f":"'3b'!AN32","v":0},{"$f":"'3b'!AO32","v":0},{"$f":"'3b'!AP32","v":0},{"$f":"'3b'!AQ32","v":0},{"$f":"'3b'!AR32","v":0},{"$f":"'3b'!AS32","v":0},{"$f":"'3b'!AT32","v":0},{"$f":"'3b'!AU32","v":0},{"$f":"'3b'!AV32","v":0},{"$f":"'3b'!AW32","v":0},{"$f":"'3b'!AX32","v":0},{"$f":"'3b'!AY32","v":0},{"$f":"'3b'!AZ32","v":0},{"$f":"'3b'!BA32","v":0},{"$f":"'3b'!BB32","v":0},{"$f":"'3b'!BC32","v":0},{"$f":"'3b'!BD32","v":0},{"$f":"'3b'!BE32","v":0}]
[{"$f":"'3b'!A33","v":"3b"},{"$f":"'3b'!B33","v":0},{"$f":"'3b'!C33","v":0},{"$f":"'3b'!D33","v":"lehrer31"},{"$f":"'3b'!E33","v":0},{"$f":"'3b'!F33","v":0},{"$f":"'3b'!G33","v":0},{"$f":"'3b'!H33","v":0},{"$f":"'3b'!I33","v":0},{"$f":"'3b'!J33","v":0},{"$f":"'3b'!K33","v":0},{"$f":"'3b'!L33","v":0},{"$f":"'3b'!M33","v":0},{"$f":"'3b'!N33","v":0},{"$f":"'3b'!O33","v":0},{"$f":"'3b'!P33","v":0},{"$f":"'3b'!Q33","v":0},{"$f":"'3b'!R33","v":0},{"$f":"'3b'!S33","v":0},{"$f":"'3b'!T33","v":0},{"$f":"'3b'!U33","v":0},{"$f":"'3b'!V33","v":0},{"$f":"'3b'!W33","v":0},{"$f":"'3b'!X33","v":0},{"$f":"'3b'!Y33","v":0},{"$f":"'3b'!Z33","v":0},{"$f":"'3b'!AA33","v":0},{"$f":"'3b'!AB33","v":0},{"$f":"'3b'!AC33","v":0},{"$f":"'3b'!AD33","v":0},{"$f":"'3b'!AE33","v":0},{"$f":"'3b'!AF33","v":0},{"$f":"'3b'!AG33","v":0},{"$f":"'3b'!AH33","v":0},{"$f":"'3b'!AI33","v":0},{"$f":"'3b'!AJ33","v":0},{"$f":"'3b'!AK33","v":0},{"$f":"'3b'!AL33","v":0},{"$f":"'3b'!AM33","v":0},{"$f":"'3b'!AN33","v":0},{"$f":"'3b'!AO33","v":0},{"$f":"'3b'!AP33","v":0},{"$f":"'3b'!AQ33","v":0},{"$f":"'3b'!AR33","v":0},{"$f":"'3b'!AS33","v":0},{"$f":"'3b'!AT33","v":0},{"$f":"'3b'!AU33","v":0},{"$f":"'3b'!AV33","v":0},{"$f":"'3b'!AW33","v":0},{"$f":"'3b'!AX33","v":0},{"$f":"'3b'!AY33","v":0},{"$f":"'3b'!AZ33","v":0},{"$f":"'3b'!BA33","v":0},{"$f":"'3b'!BB33","v":0},{"$f":"'3b'!BC33","v":0},{"$f":"'3b'!BD33","v":0},{"$f":"'3b'!BE33","v":0}]
[{"$f":"'3b'!A34","v":"3b"},{"$f":"'3b'!B34","v":0},{"$f":"'3b'!C34","v":0},{"$f":"'3b'!D34","v":"lehrer32"},{"$f":"'3b'!E34","v":0},{"$f":"'3b'!F34","v":0},{"$f":"'3b'!G34","v":0},{"$f":"'3b'!H34","v":0},{"$f":"'3b'!I34","v":0},{"$f":"'3b'!J34","v":0},{"$f":"'3b'!K34","v":0},{"$f":"'3b'!L34","v":0},{"$f":"'3b'!M34","v":0},{"$f":"'3b'!N34","v":0},{"$f":"'3b'!O34","v":0},{"$f":"'3b'!P34","v":0},{"$f":"'3b'!Q34","v":0},{"$f":"'3b'!R34","v":0},{"$f":"'3b'!S34","v":0},{"$f":"'3b'!T34","v":0},{"$f":"'3b'!U34","v":0},{"$f":"'3b'!V34","v":0},{"$f":"'3b'!W34","v":0},{"$f":"'3b'!X34","v":0},{"$f":"'3b'!Y34","v":0},{"$f":"'3b'!Z34","v":0},{"$f":"'3b'!AA34","v":0},{"$f":"'3b'!AB34","v":0},{"$f":"'3b'!AC34","v":0},{"$f":"'3b'!AD34","v":0},{"$f":"'3b'!AE34","v":0},{"$f":"'3b'!AF34","v":0},{"$f":"'3b'!AG34","v":0},{"$f":"'3b'!AH34","v":0},{"$f":"'3b'!AI34","v":0},{"$f":"'3b'!AJ34","v":0},{"$f":"'3b'!AK34","v":0},{"$f":"'3b'!AL34","v":0},{"$f":"'3b'!AM34","v":0},{"$f":"'3b'!AN34","v":0},{"$f":"'3b'!AO34","v":0},{"$f":"'3b'!AP34","v":0},{"$f":"'3b'!AQ34","v":0},{"$f":"'3b'!AR34","v":0},{"$f":"'3b'!AS34","v":0},{"$f":"'3b'!AT34","v":0},{"$f":"'3b'!AU34","v":0},{"$f":"'3b'!AV34","v":0},{"$f":"'3b'!AW34","v":0},{"$f":"'3b'!AX34","v":0},{"$f":"'3b'!AY34","v":0},{"$f":"'3b'!AZ34","v":0},{"$f":"'3b'!BA34","v":0},{"$f":"'3b'!BB34","v":0},{"$f":"'3b'!BC34","v":0},{"$f":"'3b'!BD34","v":0},{"$f":"'3b'!BE34","v":0}]
[{"$f":"'3b'!A35","v":"3b"},{"$f":"'3b'!B35","v":0},{"$f":"'3b'!C35","v":0},{"$f":"'3b'!D35","v":"lehrer33"},{"$f":"'3b'!E35","v":0},{"$f":"'3b'!F35","v":0},{"$f":"'3b'!G35","v":0},{"$f":"'3b'!H35","v":0},{"$f":"'3b'!I35","v":0},{"$f":"'3b'!J35","v":0},{"$f":"'3b'!K35","v":0},{"$f":"'3b'!L35","v":0},{"$f":"'3b'!M35","v":0},{"$f":"'3b'!N35","v":0},{"$f":"'3b'!O35","v":0},{"$f":"'3b'!P35","v":0},{"$f":"'3b'!Q35","v":0},{"$f":"'3b'!R35","v":0},{"$f":"'3b'!S35","v":0},{"$f":"'3b'!T35","v":0},{"$f":"'3b'!U35","v":0},{"$f":"'3b'!V35","v":0},{"$f":"'3b'!W35","v":0},{"$f":"'3b'!X35","v":0},{"$f":"'3b'!Y35","v":0},{"$f":"'3b'!Z35","v":0},{"$f":"'3b'!AA35","v":0},{"$f":"'3b'!AB35","v":0},{"$f":"'3b'!AC35","v":0},{"$f":"'3b'!AD35","v":0},{"$f":"'3b'!AE35","v":0},{"$f":"'3b'!AF35","v":0},{"$f":"'3b'!AG35","v":0},{"$f":"'3b'!AH35","v":0},{"$f":"'3b'!AI35","v":0},{"$f":"'3b'!AJ35","v":0},{"$f":"'3b'!AK35","v":0},{"$f":"'3b'!AL35","v":0},{"$f":"'3b'!AM35","v":0},{"$f":"'3b'!AN35","v":0},{"$f":"'3b'!AO35","v":0},{"$f":"'3b'!AP35","v":0},{"$f":"'3b'!AQ35","v":0},{"$f":"'3b'!AR35","v":0},{"$f":"'3b'!AS35","v":0},{"$f":"'3b'!AT35","v":0},{"$f":"'3b'!AU35","v":0},{"$f":"'3b'!AV35","v":0},{"$f":"'3b'!AW35","v":0},{"$f":"'3b'!AX35","v":0},{"$f":"'3b'!AY35","v":0},{"$f":"'3b'!AZ35","v":0},{"$f":"'3b'!BA35","v":0},{"$f":"'3b'!BB35","v":0},{"$f":"'3b'!BC35","v":0},{"$f":"'3b'!BD35","v":0},{"$f":"'3b'!BE35","v":0}]
[{"$f":"'3b'!A36","v":"3b"},{"$f":"'3b'!B36","v":0},{"$f":"'3b'!C36","v":0},{"$f":"'3b'!D36","v":"lehrer34"},{"$f":"'3b'!E36","v":0},{"$f":"'3b'!F36","v":0},{"$f":"'3b'!G36","v":0},{"$f":"'3b'!H36","v":0},{"$f":"'3b'!I36","v":0},{"$f":"'3b'!J36","v":0},{"$f":"'3b'!K36","v":0},{"$f":"'3b'!L36","v":0},{"$f":"'3b'!M36","v":0},{"$f":"'3b'!N36","v":0},{"$f":"'3b'!O36","v":0},{"$f":"'3b'!P36","v":0},{"$f":"'3b'!Q36","v":0},{"$f":"'3b'!R36","v":0},{"$f":"'3b'!S36","v":0},{"$f":"'3b'!T36","v":0},{"$f":"'3b'!U36","v":0},{"$f":"'3b'!V36","v":0},{"$f":"'3b'!W36","v":0},{"$f":"'3b'!X36","v":0},{"$f":"'3b'!Y36","v":0},{"$f":"'3b'!Z36","v":0},{"$f":"'3b'!AA36","v":0},{"$f":"'3b'!AB36","v":0},{"$f":"'3b'!AC36","v":0},{"$f":"'3b'!AD36","v":0},{"$f":"'3b'!AE36","v":0},{"$f":"'3b'!AF36","v":0},{"$f":"'3b'!AG36","v":0},{"$f":"'3b'!AH36","v":0},{"$f":"'3b'!AI36","v":0},{"$f":"'3b'!AJ36","v":0},{"$f":"'3b'!AK36","v":0},{"$f":"'3b'!AL36","v":0},{"$f":"'3b'!AM36","v":0},{"$f":"'3b'!AN36","v":0},{"$f":"'3b'!AO36","v":0},{"$f":"'3b'!AP36","v":0},{"$f":"'3b'!AQ36","v":0},{"$f":"'3b'!AR36","v":0},{"$f":"'3b'!AS36","v":0},{"$f":"'3b'!AT36","v":0},{"$f":"'3b'!AU36","v":0},{"$f":"'3b'!AV36","v":0},{"$f":"'3b'!AW36","v":0},{"$f":"'3b'!AX36","v":0},{"$f":"'3b'!AY36","v":0},{"$f":"'3b'!AZ36","v":0},{"$f":"'3b'!BA36","v":0},{"$f":"'3b'!BB36","v":0},{"$f":"'3b'!BC36","v":0},{"$f":"'3b'!BD36","v":0},{"$f":"'3b'!BE36","v":0}]
[{"$f":"'3b'!A37","v":"3b"},{"$f":"'3b'!B37","v":0},{"$f":"'3b'!C37","v":0},{"$f":"'3b'!D37","v":"lehrer35"},{"$f":"'3b'!E37","v":0},{"$f":"'3b'!F37","v":0},{"$f":"'3b'!G37","v":0},{"$f":"'3b'!H37","v":0},{"$f":"'3b'!I37","v":0},{"$f":"'3b'!J37","v":0},{"$f":"'3b'!K37","v":0},{"$f":"'3b'!L37","v":0},{"$f":"'3b'!M37","v":0},{"$f":"'3b'!N37","v":0},{"$f":"'3b'!O37","v":0},{"$f":"'3b'!P37","v":0},{"$f":"'3b'!Q37","v":0},{"$f":"'3b'!R37","v":0},{"$f":"'3b'!S37","v":0},{"$f":"'3b'!T37","v":0},{"$f":"'3b'!U37","v":0},{"$f":"'3b'!V37","v":0},{"$f":"'3b'!W37","v":0},{"$f":"'3b'!X37","v":0},{"$f":"'3b'!Y37","v":0},{"$f":"'3b'!Z37","v":0},{"$f":"'3b'!AA37","v":0},{"$f":"'3b'!AB37","v":0},{"$f":"'3b'!AC37","v":0},{"$f":"'3b'!AD37","v":0},{"$f":"'3b'!AE37","v":0},{"$f":"'3b'!AF37","v":0},{"$f":"'3b'!AG37","v":0},{"$f":"'3b'!AH37","v":0},{"$f":"'3b'!AI37","v":0},{"$f":"'3b'!AJ37","v":0},{"$f":"'3b'!AK37","v":0},{"$f":"'3b'!AL37","v":0},{"$f":"'3b'!AM37","v":0},{"$f":"'3b'!AN37","v":0},{"$f":"'3b'!AO37","v":0},{"$f":"'3b'!AP37","v":0},{"$f":"'3b'!AQ37","v":0},{"$f":"'3b'!AR37","v":0},{"$f":"'3b'!AS37","v":0},{"$f":"'3b'!AT37","v":0},{"$f":"'3b'!AU37","v":0},{"$f":"'3b'!AV37","v":0},{"$f":"'3b'!AW37","v":0},{"$f":"'3b'!AX37","v":0},{"$f":"'3b'!AY37","v":0},{"$f":"'3b'!AZ37","v":0},{"$f":"'3b'!BA37","v":0},{"$f":"'3b'!BB37","v":0},{"$f":"'3b'!BC37","v":0},{"$f":"'3b'!BD37","v":0},{"$f":"'3b'!BE37","v":0}]
[{"$f":"'3b'!A38","v":"3b"},{"$f":"'3b'!B38","v":0},{"$f":"'3b'!C38","v":0},{"$f":"'3b'!D38","v":"lehrer36"},{"$f":"'3b'!E38","v":0},{"$f":"'3b'!F38","v":0},{"$f":"'3b'!G38","v":0},{"$f":"'3b'!H38","v":0},{"$f":"'3b'!I38","v":0},{"$f":"'3b'!J38","v":0},{"$f":"'3b'!K38","v":0},{"$f":"'3b'!L38","v":0},{"$f":"'3b'!M38","v":0},{"$f":"'3b'!N38","v":0},{"$f":"'3b'!O38","v":0},{"$f":"'3b'!P38","v":0},{"$f":"'3b'!Q38","v":0},{"$f":"'3b'!R38","v":0},{"$f":"'3b'!S38","v":0},{"$f":"'3b'!T38","v":0},{"$f":"'3b'!U38","v":0},{"$f":"'3b'!V38","v":0},{"$f":"'3b'!W38","v":0},{"$f":"'3b'!X38","v":0},{"$f":"'3b'!Y38","v":0},{"$f":"'3b'!Z38","v":0},{"$f":"'3b'!AA38","v":0},{"$f":"'3b'!AB38","v":0},{"$f":"'3b'!AC38","v":0},{"$f":"'3b'!AD38","v":0},{"$f":"'3b'!AE38","v":0},{"$f":"'3b'!AF38","v":0},{"$f":"'3b'!AG38","v":0},{"$f":"'3b'!AH38","v":0},{"$f":"'3b'!AI38","v":0},{"$f":"'3b'!AJ38","v":0},{"$f":"'3b'!AK38","v":0},{"$f":"'3b'!AL38","v":0},{"$f":"'3b'!AM38","v":0},{"$f":"'3b'!AN38","v":0},{"$f":"'3b'!AO38","v":0},{"$f":"'3b'!AP38","v":0},{"$f":"'3b'!AQ38","v":0},{"$f":"'3b'!AR38","v":0},{"$f":"'3b'!AS38","v":0},{"$f":"'3b'!AT38","v":0},{"$f":"'3b'!AU38","v":0},{"$f":"'3b'!AV38","v":0},{"$f":"'3b'!AW38","v":0},{"$f":"'3b'!AX38","v":0},{"$f":"'3b'!AY38","v":0},{"$f":"'3b'!AZ38","v":0},{"$f":"'3b'!BA38","v":0},{"$f":"'3b'!BB38","v":0},{"$f":"'3b'!BC38","v":0},{"$f":"'3b'!BD38","v":0},{"$f":"'3b'!BE38","v":0}]
[{"$f":"'3b'!A39","v":"3b"},{"$f":"'3b'!B39","v":0},{"$f":"'3b'!C39","v":0},{"$f":"'3b'!D39","v":"lehrer37"},{"$f":"'3b'!E39","v":0},{"$f":"'3b'!F39","v":0},{"$f":"'3b'!G39","v":0},{"$f":"'3b'!H39","v":0},{"$f":"'3b'!I39","v":0},{"$f":"'3b'!J39","v":0},{"$f":"'3b'!K39","v":0},{"$f":"'3b'!L39","v":0},{"$f":"'3b'!M39","v":0},{"$f":"'3b'!N39","v":0},{"$f":"'3b'!O39","v":0},{"$f":"'3b'!P39","v":0},{"$f":"'3b'!Q39","v":0},{"$f":"'3b'!R39","v":0},{"$f":"'3b'!S39","v":0},{"$f":"'3b'!T39","v":0},{"$f":"'3b'!U39","v":0},{"$f":"'3b'!V39","v":0},{"$f":"'3b'!W39","v":0},{"$f":"'3b'!X39","v":0},{"$f":"'3b'!Y39","v":0},{"$f":"'3b'!Z39","v":0},{"$f":"'3b'!AA39","v":0},{"$f":"'3b'!AB39","v":0},{"$f":"'3b'!AC39","v":0},{"$f":"'3b'!AD39","v":0},{"$f":"'3b'!AE39","v":0},{"$f":"'3b'!AF39","v":0},{"$f":"'3b'!AG39","v":0},{"$f":"'3b'!AH39","v":0},{"$f":"'3b'!AI39","v":0},{"$f":"'3b'!AJ39","v":0},{"$f":"'3b'!AK39","v":0},{"$f":"'3b'!AL39","v":0},{"$f":"'3b'!AM39","v":0},{"$f":"'3b'!AN39","v":0},{"$f":"'3b'!AO39","v":0},{"$f":"'3b'!AP39","v":0},{"$f":"'3b'!AQ39","v":0},{"$f":"'3b'!AR39","v":0},{"$f":"'3b'!AS39","v":0},{"$f":"'3b'!AT39","v":0},{"$f":"'3b'!AU39","v":0},{"$f":"'3b'!AV39","v":0},{"$f":"'3b'!AW39","v":0},{"$f":"'3b'!AX39","v":0},{"$f":"'3b'!AY39","v":0},{"$f":"'3b'!AZ39","v":0},{"$f":"'3b'!BA39","v":0},{"$f":"'3b'!BB39","v":0},{"$f":"'3b'!BC39","v":0},{"$f":"'3b'!BD39","v":0},{"$f":"'3b'!BE39","v":0}]
[{"$f":"'3b'!A40","v":"3b"},{"$f":"'3b'!B40","v":0},{"$f":"'3b'!C40","v":0},{"$f":"'3b'!D40","v":"lehrer38"},{"$f":"'3b'!E40","v":0},{"$f":"'3b'!F40","v":0},{"$f":"'3b'!G40","v":0},{"$f":"'3b'!H40","v":0},{"$f":"'3b'!I40","v":0},{"$f":"'3b'!J40","v":0},{"$f":"'3b'!K40","v":0},{"$f":"'3b'!L40","v":0},{"$f":"'3b'!M40","v":0},{"$f":"'3b'!N40","v":0},{"$f":"'3b'!O40","v":0},{"$f":"'3b'!P40","v":0},{"$f":"'3b'!Q40","v":0},{"$f":"'3b'!R40","v":0},{"$f":"'3b'!S40","v":0},{"$f":"'3b'!T40","v":0},{"$f":"'3b'!U40","v":0},{"$f":"'3b'!V40","v":0},{"$f":"'3b'!W40","v":0},{"$f":"'3b'!X40","v":0},{"$f":"'3b'!Y40","v":0},{"$f":"'3b'!Z40","v":0},{"$f":"'3b'!AA40","v":0},{"$f":"'3b'!AB40","v":0},{"$f":"'3b'!AC40","v":0},{"$f":"'3b'!AD40","v":0},{"$f":"'3b'!AE40","v":0},{"$f":"'3b'!AF40","v":0},{"$f":"'3b'!AG40","v":0},{"$f":"'3b'!AH40","v":0},{"$f":"'3b'!AI40","v":0},{"$f":"'3b'!AJ40","v":0},{"$f":"'3b'!AK40","v":0},{"$f":"'3b'!AL40","v":0},{"$f":"'3b'!AM40","v":0},{"$f":"'3b'!AN40","v":0},{"$f":"'3b'!AO40","v":0},{"$f":"'3b'!AP40","v":0},{"$f":"'3b'!AQ40","v":0},{"$f":"'3b'!AR40","v":0},{"$f":"'3b'!AS40","v":0},{"$f":"'3b'!AT40","v":0},{"$f":"'3b'!AU40","v":0},{"$f":"'3b'!AV40","v":0},{"$f":"'3b'!AW40","v":0},{"$f":"'3b'!AX40","v":0},{"$f":"'3b'!AY40","v":0},{"$f":"'3b'!AZ40","v":0},{"$f":"'3b'!BA40","v":0},{"$f":"'3b'!BB40","v":0},{"$f":"'3b'!BC40","v":0},{"$f":"'3b'!BD40","v":0},{"$f":"'3b'!BE40","v":0}]
[{"$f":"'3b'!A41","v":"3b"},{"$f":"'3b'!B41","v":0},{"$f":"'3b'!C41","v":0},{"$f":"'3b'!D41","v":"lehrer39"},{"$f":"'3b'!E41","v":0},{"$f":"'3b'!F41","v":0},{"$f":"'3b'!G41","v":0},{"$f":"'3b'!H41","v":0},{"$f":"'3b'!I41","v":0},{"$f":"'3b'!J41","v":0},{"$f":"'3b'!K41","v":0},{"$f":"'3b'!L41","v":0},{"$f":"'3b'!M41","v":0},{"$f":"'3b'!N41","v":0},{"$f":"'3b'!O41","v":0},{"$f":"'3b'!P41","v":0},{"$f":"'3b'!Q41","v":0},{"$f":"'3b'!R41","v":0},{"$f":"'3b'!S41","v":0},{"$f":"'3b'!T41","v":0},{"$f":"'3b'!U41","v":0},{"$f":"'3b'!V41","v":0},{"$f":"'3b'!W41","v":0},{"$f":"'3b'!X41","v":0},{"$f":"'3b'!Y41","v":0},{"$f":"'3b'!Z41","v":0},{"$f":"'3b'!AA41","v":0},{"$f":"'3b'!AB41","v":0},{"$f":"'3b'!AC41","v":0},{"$f":"'3b'!AD41","v":0},{"$f":"'3b'!AE41","v":0},{"$f":"'3b'!AF41","v":0},{"$f":"'3b'!AG41","v":0},{"$f":"'3b'!AH41","v":0},{"$f":"'3b'!AI41","v":0},{"$f":"'3b'!AJ41","v":0},{"$f":"'3b'!AK41","v":0},{"$f":"'3b'!AL41","v":0},{"$f":"'3b'!AM41","v":0},{"$f":"'3b'!AN41","v":0},{"$f":"'3b'!AO41","v":0},{"$f":"'3b'!AP41","v":0},{"$f":"'3b'!AQ41","v":0},{"$f":"'3b'!AR41","v":0},{"$f":"'3b'!AS41","v":0},{"$f":"'3b'!AT41","v":0},{"$f":"'3b'!AU41","v":0},{"$f":"'3b'!AV41","v":0},{"$f":"'3b'!AW41","v":0},{"$f":"'3b'!AX41","v":0},{"$f":"'3b'!AY41","v":0},{"$f":"'3b'!AZ41","v":0},{"$f":"'3b'!BA41","v":0},{"$f":"'3b'!BB41","v":0},{"$f":"'3b'!BC41","v":0},{"$f":"'3b'!BD41","v":0},{"$f":"'3b'!BE41","v":0}]
[{"$f":"'3b'!A42","v":"3b"},{"$f":"'3b'!B42","v":0},{"$f":"'3b'!C42","v":0},{"$f":"'3b'!D42","v":"lehrer40"},{"$f":"'3b'!E42","v":0},{"$f":"'3b'!F42","v":0},{"$f":"'3b'!G42","v":0},{"$f":"'3b'!H42","v":0},{"$f":"'3b'!I42","v":0},{"$f":"'3b'!J42","v":0},{"$f":"'3b'!K42","v":0},{"$f":"'3b'!L42","v":0},{"$f":"'3b'!M42","v":0},{"$f":"'3b'!N42","v":0},{"$f":"'3b'!O42","v":0},{"$f":"'3b'!P42","v":0},{"$f":"'3b'!Q42","v":0},{"$f":"'3b'!R42","v":0},{"$f":"'3b'!S42","v":0},{"$f":"'3b'!T42","v":0},{"$f":"'3b'!U42","v":0},{"$f":"'3b'!V42","v":0},{"$f":"'3b'!W42","v":0},{"$f":"'3b'!X42","v":0},{"$f":"'3b'!Y42","v":0},{"$f":"'3b'!Z42","v":0},{"$f":"'3b'!AA42","v":0},{"$f":"'3b'!AB42","v":0},{"$f":"'3b'!AC42","v":0},{"$f":"'3b'!AD42","v":0},{"$f":"'3b'!AE42","v":0},{"$f":"'3b'!AF42","v":0},{"$f":"'3b'!AG42","v":0},{"$f":"'3b'!AH42","v":0},{"$f":"'3b'!AI42","v":0},{"$f":"'3b'!AJ42","v":0},{"$f":"'3b'!AK42","v":0},{"$f":"'3b'!AL42","v":0},{"$f":"'3b'!AM42","v":0},{"$f":"'3b'!AN42","v":0},{"$f":"'3b'!AO42","v":0},{"$f":"'3b'!AP42","v":0},{"$f":"'3b'!AQ42","v":0},{"$f":"'3b'!AR42","v":0},{"$f":"'3b'!AS42","v":0},{"$f":"'3b'!AT42","v":0},{"$f":"'3b'!AU42","v":0},{"$f":"'3b'!AV42","v":0},{"$f":"'3b'!AW42","v":0},{"$f":"'3b'!AX42","v":0},{"$f":"'3b'!AY42","v":0},{"$f":"'3b'!AZ42","v":0},{"$f":"'3b'!BA42","v":0},{"$f":"'3b'!BB42","v":0},{"$f":"'3b'!BC42","v":0},{"$f":"'3b'!BD42","v":0},{"$f":"'3b'!BE42","v":0}]
[{"$f":"'3b'!A43","v":"3b"},{"$f":"'3b'!B43","v":0},{"$f":"'3b'!C43","v":0},{"$f":"'3b'!D43","v":"lehrer41"},{"$f":"'3b'!E43","v":0},{"$f":"'3b'!F43","v":0},{"$f":"'3b'!G43","v":0},{"$f":"'3b'!H43","v":0},{"$f":"'3b'!I43","v":0},{"$f":"'3b'!J43","v":0},{"$f":"'3b'!K43","v":0},{"$f":"'3b'!L43","v":0},{"$f":"'3b'!M43","v":0},{"$f":"'3b'!N43","v":0},{"$f":"'3b'!O43","v":0},{"$f":"'3b'!P43","v":0},{"$f":"'3b'!Q43","v":0},{"$f":"'3b'!R43","v":0},{"$f":"'3b'!S43","v":0},{"$f":"'3b'!T43","v":0},{"$f":"'3b'!U43","v":0},{"$f":"'3b'!V43","v":0},{"$f":"'3b'!W43","v":0},{"$f":"'3b'!X43","v":0},{"$f":"'3b'!Y43","v":0},{"$f":"'3b'!Z43","v":0},{"$f":"'3b'!AA43","v":0},{"$f":"'3b'!AB43","v":0},{"$f":"'3b'!AC43","v":0},{"$f":"'3b'!AD43","v":0},{"$f":"'3b'!AE43","v":0},{"$f":"'3b'!AF43","v":0},{"$f":"'3b'!AG43","v":0},{"$f":"'3b'!AH43","v":0},{"$f":"'3b'!AI43","v":0},{"$f":"'3b'!AJ43","v":0},{"$f":"'3b'!AK43","v":0},{"$f":"'3b'!AL43","v":0},{"$f":"'3b'!AM43","v":0},{"$f":"'3b'!AN43","v":0},{"$f":"'3b'!AO43","v":0},{"$f":"'3b'!AP43","v":0},{"$f":"'3b'!AQ43","v":0},{"$f":"'3b'!AR43","v":0},{"$f":"'3b'!AS43","v":0},{"$f":"'3b'!AT43","v":0},{"$f":"'3b'!AU43","v":0},{"$f":"'3b'!AV43","v":0},{"$f":"'3b'!AW43","v":0},{"$f":"'3b'!AX43","v":0},{"$f":"'3b'!AY43","v":0},{"$f":"'3b'!AZ43","v":0},{"$f":"'3b'!BA43","v":0},{"$f":"'3b'!BB43","v":0},{"$f":"'3b'!BC43","v":0},{"$f":"'3b'!BD43","v":0},{"$f":"'3b'!BE43","v":0}]
[{"$f":"'3b'!A44","v":"3b"},{"$f":"'3b'!B44","v":0},{"$f":"'3b'!C44","v":0},{"$f":"'3b'!D44","v":"lehrer42"},{"$f":"'3b'!E44","v":0},{"$f":"'3b'!F44","v":0},{"$f":"'3b'!G44","v":0},{"$f":"'3b'!H44","v":0},{"$f":"'3b'!I44","v":0},{"$f":"'3b'!J44","v":0},{"$f":"'3b'!K44","v":0},{"$f":"'3b'!L44","v":0},{"$f":"'3b'!M44","v":0},{"$f":"'3b'!N44","v":0},{"$f":"'3b'!O44","v":0},{"$f":"'3b'!P44","v":0},{"$f":"'3b'!Q44","v":0},{"$f":"'3b'!R44","v":0},{"$f":"'3b'!S44","v":0},{"$f":"'3b'!T44","v":0},{"$f":"'3b'!U44","v":0},{"$f":"'3b'!V44","v":0},{"$f":"'3b'!W44","v":0},{"$f":"'3b'!X44","v":0},{"$f":"'3b'!Y44","v":0},{"$f":"'3b'!Z44","v":0},{"$f":"'3b'!AA44","v":0},{"$f":"'3b'!AB44","v":0},{"$f":"'3b'!AC44","v":0},{"$f":"'3b'!AD44","v":0},{"$f":"'3b'!AE44","v":0},{"$f":"'3b'!AF44","v":0},{"$f":"'3b'!AG44","v":0},{"$f":"'3b'!AH44","v":0},{"$f":"'3b'!AI44","v":0},{"$f":"'3b'!AJ44","v":0},{"$f":"'3b'!AK44","v":0},{"$f":"'3b'!AL44","v":0},{"$f":"'3b'!AM44","v":0},{"$f":"'3b'!AN44","v":0},{"$f":"'3b'!AO44","v":0},{"$f":"'3b'!AP44","v":0},{"$f":"'3b'!AQ44","v":0},{"$f":"'3b'!AR44","v":0},{"$f":"'3b'!AS44","v":0},{"$f":"'3b'!AT44","v":0},{"$f":"'3b'!AU44","v":0},{"$f":"'3b'!AV44","v":0},{"$f":"'3b'!AW44","v":0},{"$f":"'3b'!AX44","v":0},{"$f":"'3b'!AY44","v":0},{"$f":"'3b'!AZ44","v":0},{"$f":"'3b'!BA44","v":0},{"$f":"'3b'!BB44","v":0},{"$f":"'3b'!BC44","v":0},{"$f":"'3b'!BD44","v":0},{"$f":"'3b'!BE44","v":0}]
[{"$f":"'3b'!A45","v":"3b"},{"$f":"'3b'!B45","v":0},{"$f":"'3b'!C45","v":0},{"$f":"'3b'!D45","v":"lehrer43"},{"$f":"'3b'!E45","v":0},{"$f":"'3b'!F45","v":0},{"$f":"'3b'!G45","v":0},{"$f":"'3b'!H45","v":0},{"$f":"'3b'!I45","v":0},{"$f":"'3b'!J45","v":0},{"$f":"'3b'!K45","v":0},{"$f":"'3b'!L45","v":0},{"$f":"'3b'!M45","v":0},{"$f":"'3b'!N45","v":0},{"$f":"'3b'!O45","v":0},{"$f":"'3b'!P45","v":0},{"$f":"'3b'!Q45","v":0},{"$f":"'3b'!R45","v":0},{"$f":"'3b'!S45","v":0},{"$f":"'3b'!T45","v":0},{"$f":"'3b'!U45","v":0},{"$f":"'3b'!V45","v":0},{"$f":"'3b'!W45","v":0},{"$f":"'3b'!X45","v":0},{"$f":"'3b'!Y45","v":0},{"$f":"'3b'!Z45","v":0},{"$f":"'3b'!AA45","v":0},{"$f":"'3b'!AB45","v":0},{"$f":"'3b'!AC45","v":0},{"$f":"'3b'!AD45","v":0},{"$f":"'3b'!AE45","v":0},{"$f":"'3b'!AF45","v":0},{"$f":"'3b'!AG45","v":0},{"$f":"'3b'!AH45","v":0},{"$f":"'3b'!AI45","v":0},{"$f":"'3b'!AJ45","v":0},{"$f":"'3b'!AK45","v":0},{"$f":"'3b'!AL45","v":0},{"$f":"'3b'!AM45","v":0},{"$f":"'3b'!AN45","v":0},{"$f":"'3b'!AO45","v":0},{"$f":"'3b'!AP45","v":0},{"$f":"'3b'!AQ45","v":0},{"$f":"'3b'!AR45","v":0},{"$f":"'3b'!AS45","v":0},{"$f":"'3b'!AT45","v":0},{"$f":"'3b'!AU45","v":0},{"$f":"'3b'!AV45","v":0},{"$f":"'3b'!AW45","v":0},{"$f":"'3b'!AX45","v":0},{"$f":"'3b'!AY45","v":0},{"$f":"'3b'!AZ45","v":0},{"$f":"'3b'!BA45","v":0},{"$f":"'3b'!BB45","v":0},{"$f":"'3b'!BC45","v":0},{"$f":"'3b'!BD45","v":0},{"$f":"'3b'!BE45","v":0}]
[{"$f":"'3b'!A46","v":"3b"},{"$f":"'3b'!B46","v":0},{"$f":"'3b'!C46","v":0},{"$f":"'3b'!D46","v":"lehrer44"},{"$f":"'3b'!E46","v":0},{"$f":"'3b'!F46","v":0},{"$f":"'3b'!G46","v":0},{"$f":"'3b'!H46","v":0},{"$f":"'3b'!I46","v":0},{"$f":"'3b'!J46","v":0},{"$f":"'3b'!K46","v":0},{"$f":"'3b'!L46","v":0},{"$f":"'3b'!M46","v":0},{"$f":"'3b'!N46","v":0},{"$f":"'3b'!O46","v":0},{"$f":"'3b'!P46","v":0},{"$f":"'3b'!Q46","v":0},{"$f":"'3b'!R46","v":0},{"$f":"'3b'!S46","v":0},{"$f":"'3b'!T46","v":0},{"$f":"'3b'!U46","v":0},{"$f":"'3b'!V46","v":0},{"$f":"'3b'!W46","v":0},{"$f":"'3b'!X46","v":0},{"$f":"'3b'!Y46","v":0},{"$f":"'3b'!Z46","v":0},{"$f":"'3b'!AA46","v":0},{"$f":"'3b'!AB46","v":0},{"$f":"'3b'!AC46","v":0},{"$f":"'3b'!AD46","v":0},{"$f":"'3b'!AE46","v":0},{"$f":"'3b'!AF46","v":0},{"$f":"'3b'!AG46","v":0},{"$f":"'3b'!AH46","v":0},{"$f":"'3b'!AI46","v":0},{"$f":"'3b'!AJ46","v":0},{"$f":"'3b'!AK46","v":0},{"$f":"'3b'!AL46","v":0},{"$f":"'3b'!AM46","v":0},{"$f":"'3b'!AN46","v":0},{"$f":"'3b'!AO46","v":0},{"$f":"'3b'!AP46","v":0},{"$f":"'3b'!AQ46","v":0},{"$f":"'3b'!AR46","v":0},{"$f":"'3b'!AS46","v":0},{"$f":"'3b'!AT46","v":0},{"$f":"'3b'!AU46","v":0},{"$f":"'3b'!AV46","v":0},{"$f":"'3b'!AW46","v":0},{"$f":"'3b'!AX46","v":0},{"$f":"'3b'!AY46","v":0},{"$f":"'3b'!AZ46","v":0},{"$f":"'3b'!BA46","v":0},{"$f":"'3b'!BB46","v":0},{"$f":"'3b'!BC46","v":0},{"$f":"'3b'!BD46","v":0},{"$f":"'3b'!BE46","v":0}]
[{"$f":"'3b'!A47","v":"3b"},{"$f":"'3b'!B47","v":0},{"$f":"'3b'!C47","v":0},{"$f":"'3b'!D47","v":"lehrer45"},{"$f":"'3b'!E47","v":0},{"$f":"'3b'!F47","v":0},{"$f":"'3b'!G47","v":0},{"$f":"'3b'!H47","v":0},{"$f":"'3b'!I47","v":0},{"$f":"'3b'!J47","v":0},{"$f":"'3b'!K47","v":0},{"$f":"'3b'!L47","v":0},{"$f":"'3b'!M47","v":0},{"$f":"'3b'!N47","v":0},{"$f":"'3b'!O47","v":0},{"$f":"'3b'!P47","v":0},{"$f":"'3b'!Q47","v":0},{"$f":"'3b'!R47","v":0},{"$f":"'3b'!S47","v":0},{"$f":"'3b'!T47","v":0},{"$f":"'3b'!U47","v":0},{"$f":"'3b'!V47","v":0},{"$f":"'3b'!W47","v":0},{"$f":"'3b'!X47","v":0},{"$f":"'3b'!Y47","v":0},{"$f":"'3b'!Z47","v":0},{"$f":"'3b'!AA47","v":0},{"$f":"'3b'!AB47","v":0},{"$f":"'3b'!AC47","v":0},{"$f":"'3b'!AD47","v":0},{"$f":"'3b'!AE47","v":0},{"$f":"'3b'!AF47","v":0},{"$f":"'3b'!AG47","v":0},{"$f":"'3b'!AH47","v":0},{"$f":"'3b'!AI47","v":0},{"$f":"'3b'!AJ47","v":0},{"$f":"'3b'!AK47","v":0},{"$f":"'3b'!AL47","v":0},{"$f":"'3b'!AM47","v":0},{"$f":"'3b'!AN47","v":0},{"$f":"'3b'!AO47","v":0},{"$f":"'3b'!AP47","v":0},{"$f":"'3b'!AQ47","v":0},{"$f":"'3b'!AR47","v":0},{"$f":"'3b'!AS47","v":0},{"$f":"'3b'!AT47","v":0},{"$f":"'3b'!AU47","v":0},{"$f":"'3b'!AV47","v":0},{"$f":"'3b'!AW47","v":0},{"$f":"'3b'!AX47","v":0},{"$f":"'3b'!AY47","v":0},{"$f":"'3b'!AZ47","v":0},{"$f":"'3b'!BA47","v":0},{"$f":"'3b'!BB47","v":0},{"$f":"'3b'!BC47","v":0},{"$f":"'3b'!BD47","v":0},{"$f":"'3b'!BE47","v":0}]
[{"$f":"'3b'!A48","v":"3b"},{"$f":"'3b'!B48","v":0},{"$f":"'3b'!C48","v":0},{"$f":"'3b'!D48","v":"lehrer46"},{"$f":"'3b'!E48","v":0},{"$f":"'3b'!F48","v":0},{"$f":"'3b'!G48","v":0},{"$f":"'3b'!H48","v":0},{"$f":"'3b'!I48","v":0},{"$f":"'3b'!J48","v":0},{"$f":"'3b'!K48","v":0},{"$f":"'3b'!L48","v":0},{"$f":"'3b'!M48","v":0},{"$f":"'3b'!N48","v":0},{"$f":"'3b'!O48","v":0},{"$f":"'3b'!P48","v":0},{"$f":"'3b'!Q48","v":0},{"$f":"'3b'!R48","v":0},{"$f":"'3b'!S48","v":0},{"$f":"'3b'!T48","v":0},{"$f":"'3b'!U48","v":0},{"$f":"'3b'!V48","v":0},{"$f":"'3b'!W48","v":0},{"$f":"'3b'!X48","v":0},{"$f":"'3b'!Y48","v":0},{"$f":"'3b'!Z48","v":0},{"$f":"'3b'!AA48","v":0},{"$f":"'3b'!AB48","v":0},{"$f":"'3b'!AC48","v":0},{"$f":"'3b'!AD48","v":0},{"$f":"'3b'!AE48","v":0},{"$f":"'3b'!AF48","v":0},{"$f":"'3b'!AG48","v":0},{"$f":"'3b'!AH48","v":0},{"$f":"'3b'!AI48","v":0},{"$f":"'3b'!AJ48","v":0},{"$f":"'3b'!AK48","v":0},{"$f":"'3b'!AL48","v":0},{"$f":"'3b'!AM48","v":0},{"$f":"'3b'!AN48","v":0},{"$f":"'3b'!AO48","v":0},{"$f":"'3b'!AP48","v":0},{"$f":"'3b'!AQ48","v":0},{"$f":"'3b'!AR48","v":0},{"$f":"'3b'!AS48","v":0},{"$f":"'3b'!AT48","v":0},{"$f":"'3b'!AU48","v":0},{"$f":"'3b'!AV48","v":0},{"$f":"'3b'!AW48","v":0},{"$f":"'3b'!AX48","v":0},{"$f":"'3b'!AY48","v":0},{"$f":"'3b'!AZ48","v":0},{"$f":"'3b'!BA48","v":0},{"$f":"'3b'!BB48","v":0},{"$f":"'3b'!BC48","v":0},{"$f":"'3b'!BD48","v":0},{"$f":"'3b'!BE48","v":0}]
[{"$f":"'3b'!A49","v":"3b"},{"$f":"'3b'!B49","v":0},{"$f":"'3b'!C49","v":0},{"$f":"'3b'!D49","v":"lehrer47"},{"$f":"'3b'!E49","v":0},{"$f":"'3b'!F49","v":0},{"$f":"'3b'!G49","v":0},{"$f":"'3b'!H49","v":0},{"$f":"'3b'!I49","v":0},{"$f":"'3b'!J49","v":0},{"$f":"'3b'!K49","v":0},{"$f":"'3b'!L49","v":0},{"$f":"'3b'!M49","v":0},{"$f":"'3b'!N49","v":0},{"$f":"'3b'!O49","v":0},{"$f":"'3b'!P49","v":0},{"$f":"'3b'!Q49","v":0},{"$f":"'3b'!R49","v":0},{"$f":"'3b'!S49","v":0},{"$f":"'3b'!T49","v":0},{"$f":"'3b'!U49","v":0},{"$f":"'3b'!V49","v":0},{"$f":"'3b'!W49","v":0},{"$f":"'3b'!X49","v":0},{"$f":"'3b'!Y49","v":0},{"$f":"'3b'!Z49","v":0},{"$f":"'3b'!AA49","v":0},{"$f":"'3b'!AB49","v":0},{"$f":"'3b'!AC49","v":0},{"$f":"'3b'!AD49","v":0},{"$f":"'3b'!AE49","v":0},{"$f":"'3b'!AF49","v":0},{"$f":"'3b'!AG49","v":0},{"$f":"'3b'!AH49","v":0},{"$f":"'3b'!AI49","v":0},{"$f":"'3b'!AJ49","v":0},{"$f":"'3b'!AK49","v":0},{"$f":"'3b'!AL49","v":0},{"$f":"'3b'!AM49","v":0},{"$f":"'3b'!AN49","v":0},{"$f":"'3b'!AO49","v":0},{"$f":"'3b'!AP49","v":0},{"$f":"'3b'!AQ49","v":0},{"$f":"'3b'!AR49","v":0},{"$f":"'3b'!AS49","v":0},{"$f":"'3b'!AT49","v":0},{"$f":"'3b'!AU49","v":0},{"$f":"'3b'!AV49","v":0},{"$f":"'3b'!AW49","v":0},{"$f":"'3b'!AX49","v":0},{"$f":"'3b'!AY49","v":0},{"$f":"'3b'!AZ49","v":0},{"$f":"'3b'!BA49","v":0},{"$f":"'3b'!BB49","v":0},{"$f":"'3b'!BC49","v":0},{"$f":"'3b'!BD49","v":0},{"$f":"'3b'!BE49","v":0}]
[{"$f":"'3b'!A50","v":"3b"},{"$f":"'3b'!B50","v":0},{"$f":"'3b'!C50","v":0},{"$f":"'3b'!D50","v":"lehrer48"},{"$f":"'3b'!E50","v":0},{"$f":"'3b'!F50","v":0},{"$f":"'3b'!G50","v":0},{"$f":"'3b'!H50","v":0},{"$f":"'3b'!I50","v":0},{"$f":"'3b'!J50","v":0},{"$f":"'3b'!K50","v":0},{"$f":"'3b'!L50","v":0},{"$f":"'3b'!M50","v":0},{"$f":"'3b'!N50","v":0},{"$f":"'3b'!O50","v":0},{"$f":"'3b'!P50","v":0},{"$f":"'3b'!Q50","v":0},{"$f":"'3b'!R50","v":0},{"$f":"'3b'!S50","v":0},{"$f":"'3b'!T50","v":0},{"$f":"'3b'!U50","v":0},{"$f":"'3b'!V50","v":0},{"$f":"'3b'!W50","v":0},{"$f":"'3b'!X50","v":0},{"$f":"'3b'!Y50","v":0},{"$f":"'3b'!Z50","v":0},{"$f":"'3b'!AA50","v":0},{"$f":"'3b'!AB50","v":0},{"$f":"'3b'!AC50","v":0},{"$f":"'3b'!AD50","v":0},{"$f":"'3b'!AE50","v":0},{"$f":"'3b'!AF50","v":0},{"$f":"'3b'!AG50","v":0},{"$f":"'3b'!AH50","v":0},{"$f":"'3b'!AI50","v":0},{"$f":"'3b'!AJ50","v":0},{"$f":"'3b'!AK50","v":0},{"$f":"'3b'!AL50","v":0},{"$f":"'3b'!AM50","v":0},{"$f":"'3b'!AN50","v":0},{"$f":"'3b'!AO50","v":0},{"$f":"'3b'!AP50","v":0},{"$f":"'3b'!AQ50","v":0},{"$f":"'3b'!AR50","v":0},{"$f":"'3b'!AS50","v":0},{"$f":"'3b'!AT50","v":0},{"$f":"'3b'!AU50","v":0},{"$f":"'3b'!AV50","v":0},{"$f":"'3b'!AW50","v":0},{"$f":"'3b'!AX50","v":0},{"$f":"'3b'!AY50","v":0},{"$f":"'3b'!AZ50","v":0},{"$f":"'3b'!BA50","v":0},{"$f":"'3b'!BB50","v":0},{"$f":"'3b'!BC50","v":0},{"$f":"'3b'!BD50","v":0},{"$f":"'3b'!BE50","v":0}]
[{"$f":"'3c'!A3","v":"3c"},{"$f":"'3c'!B3","v":0},{"$f":"'3c'!C3","v":0},{"$f":"'3c'!D3","v":"lehrer01"},{"$f":"'3c'!E3","v":0},{"$f":"'3c'!F3","v":0},{"$f":"'3c'!G3","v":0},{"$f":"'3c'!H3","v":0},{"$f":"'3c'!I3","v":0},{"$f":"'3c'!J3","v":0},{"$f":"'3c'!K3","v":0},{"$f":"'3c'!L3","v":0},{"$f":"'3c'!M3","v":0},{"$f":"'3c'!N3","v":0},{"$f":"'3c'!O3","v":0},{"$f":"'3c'!P3","v":0},{"$f":"'3c'!Q3","v":0},{"$f":"'3c'!R3","v":0},{"$f":"'3c'!S3","v":0},{"$f":"'3c'!T3","v":0},{"$f":"'3c'!U3","v":0},{"$f":"'3c'!V3","v":0},{"$f":"'3c'!W3","v":0},{"$f":"'3c'!X3","v":0},{"$f":"'3c'!Y3","v":0},{"$f":"'3c'!Z3","v":0},{"$f":"'3c'!AA3","v":0},{"$f":"'3c'!AB3","v":0},{"$f":"'3c'!AC3","v":0},{"$f":"'3c'!AD3","v":0},{"$f":"'3c'!AE3","v":0},{"$f":"'3c'!AF3","v":0},{"$f":"'3c'!AG3","v":0},{"$f":"'3c'!AH3","v":0},{"$f":"'3c'!AI3","v":0},{"$f":"'3c'!AJ3","v":0},{"$f":"'3c'!AK3","v":0},{"$f":"'3c'!AL3","v":0},{"$f":"'3c'!AM3","v":0},{"$f":"'3c'!AN3","v":0},{"$f":"'3c'!AO3","v":0},{"$f":"'3c'!AP3","v":0},{"$f":"'3c'!AQ3","v":0},{"$f":"'3c'!AR3","v":0},{"$f":"'3c'!AS3","v":0},{"$f":"'3c'!AT3","v":0},{"$f":"'3c'!AU3","v":0},{"$f":"'3c'!AV3","v":0},{"$f":"'3c'!AW3","v":0},{"$f":"'3c'!AX3","v":0},{"$f":"'3c'!AY3","v":0},{"$f":"'3c'!AZ3","v":0},{"$f":"'3c'!BA3","v":0},{"$f":"'3c'!BB3","v":0},{"$f":"'3c'!BC3","v":0},{"$f":"'3c'!BD3","v":0},{"$f":"'3c'!BE3","v":0}]
[{"$f":"'3c'!A4","v":"3c"},{"$f":"'3c'!B4","v":0},{"$f":"'3c'!C4","v":0},{"$f":"'3c'!D4","v":"lehrer02"},{"$f":"'3c'!E4","v":0},{"$f":"'3c'!F4","v":0},{"$f":"'3c'!G4","v":0},{"$f":"'3c'!H4","v":0},{"$f":"'3c'!I4","v":0},{"$f":"'3c'!J4","v":0},{"$f":"'3c'!K4","v":0},{"$f":"'3c'!L4","v":0},{"$f":"'3c'!M4","v":0},{"$f":"'3c'!N4","v":0},{"$f":"'3c'!O4","v":0},{"$f":"'3c'!P4","v":0},{"$f":"'3c'!Q4","v":0},{"$f":"'3c'!R4","v":0},{"$f":"'3c'!S4","v":0},{"$f":"'3c'!T4","v":0},{"$f":"'3c'!U4","v":0},{"$f":"'3c'!V4","v":0},{"$f":"'3c'!W4","v":0},{"$f":"'3c'!X4","v":0},{"$f":"'3c'!Y4","v":0},{"$f":"'3c'!Z4","v":0},{"$f":"'3c'!AA4","v":0},{"$f":"'3c'!AB4","v":0},{"$f":"'3c'!AC4","v":0},{"$f":"'3c'!AD4","v":0},{"$f":"'3c'!AE4","v":0},{"$f":"'3c'!AF4","v":0},{"$f":"'3c'!AG4","v":0},{"$f":"'3c'!AH4","v":0},{"$f":"'3c'!AI4","v":0},{"$f":"'3c'!AJ4","v":0},{"$f":"'3c'!AK4","v":0},{"$f":"'3c'!AL4","v":0},{"$f":"'3c'!AM4","v":0},{"$f":"'3c'!AN4","v":0},{"$f":"'3c'!AO4","v":0},{"$f":"'3c'!AP4","v":0},{"$f":"'3c'!AQ4","v":0},{"$f":"'3c'!AR4","v":0},{"$f":"'3c'!AS4","v":0},{"$f":"'3c'!AT4","v":0},{"$f":"'3c'!AU4","v":0},{"$f":"'3c'!AV4","v":0},{"$f":"'3c'!AW4","v":0},{"$f":"'3c'!AX4","v":0},{"$f":"'3c'!AY4","v":0},{"$f":"'3c'!AZ4","v":0},{"$f":"'3c'!BA4","v":0},{"$f":"'3c'!BB4","v":0},{"$f":"'3c'!BC4","v":0},{"$f":"'3c'!BD4","v":0},{"$f":"'3c'!BE4","v":0}]
[{"$f":"'3c'!A5","v":"3c"},{"$f":"'3c'!B5","v":0},{"$f":"'3c'!C5","v":0},{"$f":"'3c'!D5","v":"lehrer03"},{"$f":"'3c'!E5","v":0},{"$f":"'3c'!F5","v":0},{"$f":"'3c'!G5","v":0},{"$f":"'3c'!H5","v":0},{"$f":"'3c'!I5","v":0},{"$f":"'3c'!J5","v":0},{"$f":"'3c'!K5","v":0},{"$f":"'3c'!L5","v":0},{"$f":"'3c'!M5","v":0},{"$f":"'3c'!N5","v":0},{"$f":"'3c'!O5","v":0},{"$f":"'3c'!P5","v":0},{"$f":"'3c'!Q5","v":0},{"$f":"'3c'!R5","v":0},{"$f":"'3c'!S5","v":0},{"$f":"'3c'!T5","v":0},{"$f":"'3c'!U5","v":0},{"$f":"'3c'!V5","v":0},{"$f":"'3c'!W5","v":0},{"$f":"'3c'!X5","v":0},{"$f":"'3c'!Y5","v":0},{"$f":"'3c'!Z5","v":0},{"$f":"'3c'!AA5","v":0},{"$f":"'3c'!AB5","v":0},{"$f":"'3c'!AC5","v":0},{"$f":"'3c'!AD5","v":0},{"$f":"'3c'!AE5","v":0},{"$f":"'3c'!AF5","v":0},{"$f":"'3c'!AG5","v":0},{"$f":"'3c'!AH5","v":0},{"$f":"'3c'!AI5","v":0},{"$f":"'3c'!AJ5","v":0},{"$f":"'3c'!AK5","v":0},{"$f":"'3c'!AL5","v":0},{"$f":"'3c'!AM5","v":0},{"$f":"'3c'!AN5","v":0},{"$f":"'3c'!AO5","v":0},{"$f":"'3c'!AP5","v":0},{"$f":"'3c'!AQ5","v":0},{"$f":"'3c'!AR5","v":0},{"$f":"'3c'!AS5","v":0},{"$f":"'3c'!AT5","v":0},{"$f":"'3c'!AU5","v":0},{"$f":"'3c'!AV5","v":0},{"$f":"'3c'!AW5","v":0},{"$f":"'3c'!AX5","v":0},{"$f":"'3c'!AY5","v":0},{"$f":"'3c'!AZ5","v":0},{"$f":"'3c'!BA5","v":0},{"$f":"'3c'!BB5","v":0},{"$f":"'3c'!BC5","v":0},{"$f":"'3c'!BD5","v":0},{"$f":"'3c'!BE5","v":0}]
[{"$f":"'3c'!A6","v":"3c"},{"$f":"'3c'!B6","v":0},{"$f":"'3c'!C6","v":0},{"$f":"'3c'!D6","v":"lehrer04"},{"$f":"'3c'!E6","v":0},{"$f":"'3c'!F6","v":0},{"$f":"'3c'!G6","v":0},{"$f":"'3c'!H6","v":0},{"$f":"'3c'!I6","v":0},{"$f":"'3c'!J6","v":0},{"$f":"'3c'!K6","v":0},{"$f":"'3c'!L6","v":0},{"$f":"'3c'!M6","v":0},{"$f":"'3c'!N6","v":0},{"$f":"'3c'!O6","v":0},{"$f":"'3c'!P6","v":0},{"$f":"'3c'!Q6","v":0},{"$f":"'3c'!R6","v":0},{"$f":"'3c'!S6","v":0},{"$f":"'3c'!T6","v":0},{"$f":"'3c'!U6","v":0},{"$f":"'3c'!V6","v":0},{"$f":"'3c'!W6","v":0},{"$f":"'3c'!X6","v":0},{"$f":"'3c'!Y6","v":0},{"$f":"'3c'!Z6","v":0},{"$f":"'3c'!AA6","v":0},{"$f":"'3c'!AB6","v":0},{"$f":"'3c'!AC6","v":0},{"$f":"'3c'!AD6","v":0},{"$f":"'3c'!AE6","v":0},{"$f":"'3c'!AF6","v":0},{"$f":"'3c'!AG6","v":0},{"$f":"'3c'!AH6","v":0},{"$f":"'3c'!AI6","v":0},{"$f":"'3c'!AJ6","v":0},{"$f":"'3c'!AK6","v":0},{"$f":"'3c'!AL6","v":0},{"$f":"'3c'!AM6","v":0},{"$f":"'3c'!AN6","v":0},{"$f":"'3c'!AO6","v":0},{"$f":"'3c'!AP6","v":0},{"$f":"'3c'!AQ6","v":0},{"$f":"'3c'!AR6","v":0},{"$f":"'3c'!AS6","v":0},{"$f":"'3c'!AT6","v":0},{"$f":"'3c'!AU6","v":0},{"$f":"'3c'!AV6","v":0},{"$f":"'3c'!AW6","v":0},{"$f":"'3c'!AX6","v":0},{"$f":"'3c'!AY6","v":0},{"$f":"'3c'!AZ6","v":0},{"$f":"'3c'!BA6","v":0},{"$f":"'3c'!BB6","v":0},{"$f":"'3c'!BC6","v":0},{"$f":"'3c'!BD6","v":0},{"$f":"'3c'!BE6","v":0}]
[{"$f":"'3c'!A7","v":"3c"},{"$f":"'3c'!B7","v":0},{"$f":"'3c'!C7","v":0},{"$f":"'3c'!D7","v":"lehrer05"},{"$f":"'3c'!E7","v":0},{"$f":"'3c'!F7","v":0},{"$f":"'3c'!G7","v":0},{"$f":"'3c'!H7","v":0},{"$f":"'3c'!I7","v":0},{"$f":"'3c'!J7","v":0},{"$f":"'3c'!K7","v":0},{"$f":"'3c'!L7","v":0},{"$f":"'3c'!M7","v":0},{"$f":"'3c'!N7","v":0},{"$f":"'3c'!O7","v":0},{"$f":"'3c'!P7","v":0},{"$f":"'3c'!Q7","v":0},{"$f":"'3c'!R7","v":0},{"$f":"'3c'!S7","v":0},{"$f":"'3c'!T7","v":0},{"$f":"'3c'!U7","v":0},{"$f":"'3c'!V7","v":0},{"$f":"'3c'!W7","v":0},{"$f":"'3c'!X7","v":0},{"$f":"'3c'!Y7","v":0},{"$f":"'3c'!Z7","v":0},{"$f":"'3c'!AA7","v":0},{"$f":"'3c'!AB7","v":0},{"$f":"'3c'!AC7","v":0},{"$f":"'3c'!AD7","v":0},{"$f":"'3c'!AE7","v":0},{"$f":"'3c'!AF7","v":0},{"$f":"'3c'!AG7","v":0},{"$f":"'3c'!AH7","v":0},{"$f":"'3c'!AI7","v":0},{"$f":"'3c'!AJ7","v":0},{"$f":"'3c'!AK7","v":0},{"$f":"'3c'!AL7","v":0},{"$f":"'3c'!AM7","v":0},{"$f":"'3c'!AN7","v":0},{"$f":"'3c'!AO7","v":0},{"$f":"'3c'!AP7","v":0},{"$f":"'3c'!AQ7","v":0},{"$f":"'3c'!AR7","v":0},{"$f":"'3c'!AS7","v":0},{"$f":"'3c'!AT7","v":0},{"$f":"'3c'!AU7","v":0},{"$f":"'3c'!AV7","v":0},{"$f":"'3c'!AW7","v":0},{"$f":"'3c'!AX7","v":0},{"$f":"'3c'!AY7","v":0},{"$f":"'3c'!AZ7","v":0},{"$f":"'3c'!BA7","v":0},{"$f":"'3c'!BB7","v":0},{"$f":"'3c'!BC7","v":0},{"$f":"'3c'!BD7","v":0},{"$f":"'3c'!BE7","v":0}]
[{"$f":"'3c'!A8","v":"3c"},{"$f":"'3c'!B8","v":0},{"$f":"'3c'!C8","v":0},{"$f":"'3c'!D8","v":"lehrer06"},{"$f":"'3c'!E8","v":0},{"$f":"'3c'!F8","v":0},{"$f":"'3c'!G8","v":0},{"$f":"'3c'!H8","v":0},{"$f":"'3c'!I8","v":0},{"$f":"'3c'!J8","v":0},{"$f":"'3c'!K8","v":0},{"$f":"'3c'!L8","v":0},{"$f":"'3c'!M8","v":0},{"$f":"'3c'!N8","v":0},{"$f":"'3c'!O8","v":0},{"$f":"'3c'!P8","v":0},{"$f":"'3c'!Q8","v":0},{"$f":"'3c'!R8","v":0},{"$f":"'3c'!S8","v":0},{"$f":"'3c'!T8","v":0},{"$f":"'3c'!U8","v":0},{"$f":"'3c'!V8","v":0},{"$f":"'3c'!W8","v":0},{"$f":"'3c'!X8","v":0},{"$f":"'3c'!Y8","v":0},{"$f":"'3c'!Z8","v":0},{"$f":"'3c'!AA8","v":0},{"$f":"'3c'!AB8","v":0},{"$f":"'3c'!AC8","v":0},{"$f":"'3c'!AD8","v":0},{"$f":"'3c'!AE8","v":0},{"$f":"'3c'!AF8","v":0},{"$f":"'3c'!AG8","v":0},{"$f":"'3c'!AH8","v":0},{"$f":"'3c'!AI8","v":0},{"$f":"'3c'!AJ8","v":0},{"$f":"'3c'!AK8","v":0},{"$f":"'3c'!AL8","v":0},{"$f":"'3c'!AM8","v":0},{"$f":"'3c'!AN8","v":0},{"$f":"'3c'!AO8","v":0},{"$f":"'3c'!AP8","v":0},{"$f":"'3c'!AQ8","v":0},{"$f":"'3c'!AR8","v":0},{"$f":"'3c'!AS8","v":0},{"$f":"'3c'!AT8","v":0},{"$f":"'3c'!AU8","v":0},{"$f":"'3c'!AV8","v":0},{"$f":"'3c'!AW8","v":0},{"$f":"'3c'!AX8","v":0},{"$f":"'3c'!AY8","v":0},{"$f":"'3c'!AZ8","v":0},{"$f":"'3c'!BA8","v":0},{"$f":"'3c'!BB8","v":0},{"$f":"'3c'!BC8","v":0},{"$f":"'3c'!BD8","v":0},{"$f":"'3c'!BE8","v":0}]
[{"$f":"'3c'!A9","v":"3c"},{"$f":"'3c'!B9","v":0},{"$f":"'3c'!C9","v":0},{"$f":"'3c'!D9","v":"lehrer07"},{"$f":"'3c'!E9","v":0},{"$f":"'3c'!F9","v":0},{"$f":"'3c'!G9","v":0},{"$f":"'3c'!H9","v":0},{"$f":"'3c'!I9","v":0},{"$f":"'3c'!J9","v":0},{"$f":"'3c'!K9","v":0},{"$f":"'3c'!L9","v":0},{"$f":"'3c'!M9","v":0},{"$f":"'3c'!N9","v":0},{"$f":"'3c'!O9","v":0},{"$f":"'3c'!P9","v":0},{"$f":"'3c'!Q9","v":0},{"$f":"'3c'!R9","v":0},{"$f":"'3c'!S9","v":0},{"$f":"'3c'!T9","v":0},{"$f":"'3c'!U9","v":0},{"$f":"'3c'!V9","v":0},{"$f":"'3c'!W9","v":0},{"$f":"'3c'!X9","v":0},{"$f":"'3c'!Y9","v":0},{"$f":"'3c'!Z9","v":0},{"$f":"'3c'!AA9","v":0},{"$f":"'3c'!AB9","v":0},{"$f":"'3c'!AC9","v":0},{"$f":"'3c'!AD9","v":0},{"$f":"'3c'!AE9","v":0},{"$f":"'3c'!AF9","v":0},{"$f":"'3c'!AG9","v":0},{"$f":"'3c'!AH9","v":0},{"$f":"'3c'!AI9","v":0},{"$f":"'3c'!AJ9","v":0},{"$f":"'3c'!AK9","v":0},{"$f":"'3c'!AL9","v":0},{"$f":"'3c'!AM9","v":0},{"$f":"'3c'!AN9","v":0},{"$f":"'3c'!AO9","v":0},{"$f":"'3c'!AP9","v":0},{"$f":"'3c'!AQ9","v":0},{"$f":"'3c'!AR9","v":0},{"$f":"'3c'!AS9","v":0},{"$f":"'3c'!AT9","v":0},{"$f":"'3c'!AU9","v":0},{"$f":"'3c'!AV9","v":0},{"$f":"'3c'!AW9","v":0},{"$f":"'3c'!AX9","v":0},{"$f":"'3c'!AY9","v":0},{"$f":"'3c'!AZ9","v":0},{"$f":"'3c'!BA9","v":0},{"$f":"'3c'!BB9","v":0},{"$f":"'3c'!BC9","v":0},{"$f":"'3c'!BD9","v":0},{"$f":"'3c'!BE9","v":0}]
[{"$f":"'3c'!A10","v":"3c"},{"$f":"'3c'!B10","v":0},{"$f":"'3c'!C10","v":0},{"$f":"'3c'!D10","v":"lehrer08"},{"$f":"'3c'!E10","v":0},{"$f":"'3c'!F10","v":0},{"$f":"'3c'!G10","v":0},{"$f":"'3c'!H10","v":0},{"$f":"'3c'!I10","v":0},{"$f":"'3c'!J10","v":0},{"$f":"'3c'!K10","v":0},{"$f":"'3c'!L10","v":0},{"$f":"'3c'!M10","v":0},{"$f":"'3c'!N10","v":0},{"$f":"'3c'!O10","v":0},{"$f":"'3c'!P10","v":0},{"$f":"'3c'!Q10","v":0},{"$f":"'3c'!R10","v":0},{"$f":"'3c'!S10","v":0},{"$f":"'3c'!T10","v":0},{"$f":"'3c'!U10","v":0},{"$f":"'3c'!V10","v":0},{"$f":"'3c'!W10","v":0},{"$f":"'3c'!X10","v":0},{"$f":"'3c'!Y10","v":0},{"$f":"'3c'!Z10","v":0},{"$f":"'3c'!AA10","v":0},{"$f":"'3c'!AB10","v":0},{"$f":"'3c'!AC10","v":0},{"$f":"'3c'!AD10","v":0},{"$f":"'3c'!AE10","v":0},{"$f":"'3c'!AF10","v":0},{"$f":"'3c'!AG10","v":0},{"$f":"'3c'!AH10","v":0},{"$f":"'3c'!AI10","v":0},{"$f":"'3c'!AJ10","v":0},{"$f":"'3c'!AK10","v":0},{"$f":"'3c'!AL10","v":0},{"$f":"'3c'!AM10","v":0},{"$f":"'3c'!AN10","v":0},{"$f":"'3c'!AO10","v":0},{"$f":"'3c'!AP10","v":0},{"$f":"'3c'!AQ10","v":0},{"$f":"'3c'!AR10","v":0},{"$f":"'3c'!AS10","v":0},{"$f":"'3c'!AT10","v":0},{"$f":"'3c'!AU10","v":0},{"$f":"'3c'!AV10","v":0},{"$f":"'3c'!AW10","v":0},{"$f":"'3c'!AX10","v":0},{"$f":"'3c'!AY10","v":0},{"$f":"'3c'!AZ10","v":0},{"$f":"'3c'!BA10","v":0},{"$f":"'3c'!BB10","v":0},{"$f":"'3c'!BC10","v":0},{"$f":"'3c'!BD10","v":0},{"$f":"'3c'!BE10","v":0}]
[{"$f":"'3c'!A11","v":"3c"},{"$f":"'3c'!B11","v":0},{"$f":"'3c'!C11","v":0},{"$f":"'3c'!D11","v":"lehrer09"},{"$f":"'3c'!E11","v":0},{"$f":"'3c'!F11","v":0},{"$f":"'3c'!G11","v":0},{"$f":"'3c'!H11","v":0},{"$f":"'3c'!I11","v":0},{"$f":"'3c'!J11","v":0},{"$f":"'3c'!K11","v":0},{"$f":"'3c'!L11","v":0},{"$f":"'3c'!M11","v":0},{"$f":"'3c'!N11","v":0},{"$f":"'3c'!O11","v":0},{"$f":"'3c'!P11","v":0},{"$f":"'3c'!Q11","v":0},{"$f":"'3c'!R11","v":0},{"$f":"'3c'!S11","v":0},{"$f":"'3c'!T11","v":0},{"$f":"'3c'!U11","v":0},{"$f":"'3c'!V11","v":0},{"$f":"'3c'!W11","v":0},{"$f":"'3c'!X11","v":0},{"$f":"'3c'!Y11","v":0},{"$f":"'3c'!Z11","v":0},{"$f":"'3c'!AA11","v":0},{"$f":"'3c'!AB11","v":0},{"$f":"'3c'!AC11","v":0},{"$f":"'3c'!AD11","v":0},{"$f":"'3c'!AE11","v":0},{"$f":"'3c'!AF11","v":0},{"$f":"'3c'!AG11","v":0},{"$f":"'3c'!AH11","v":0},{"$f":"'3c'!AI11","v":0},{"$f":"'3c'!AJ11","v":0},{"$f":"'3c'!AK11","v":0},{"$f":"'3c'!AL11","v":0},{"$f":"'3c'!AM11","v":0},{"$f":"'3c'!AN11","v":0},{"$f":"'3c'!AO11","v":0},{"$f":"'3c'!AP11","v":0},{"$f":"'3c'!AQ11","v":0},{"$f":"'3c'!AR11","v":0},{"$f":"'3c'!AS11","v":0},{"$f":"'3c'!AT11","v":0},{"$f":"'3c'!AU11","v":0},{"$f":"'3c'!AV11","v":0},{"$f":"'3c'!AW11","v":0},{"$f":"'3c'!AX11","v":0},{"$f":"'3c'!AY11","v":0},{"$f":"'3c'!AZ11","v":0},{"$f":"'3c'!BA11","v":0},{"$f":"'3c'!BB11","v":0},{"$f":"'3c'!BC11","v":0},{"$f":"'3c'!BD11","v":0},{"$f":"'3c'!BE11","v":0}]
[{"$f":"'3c'!A12","v":"3c"},{"$f":"'3c'!B12","v":0},{"$f":"'3c'!C12","v":0},{"$f":"'3c'!D12","v":"lehrer10"},{"$f":"'3c'!E12","v":0},{"$f":"'3c'!F12","v":0},{"$f":"'3c'!G12","v":0},{"$f":"'3c'!H12","v":0},{"$f":"'3c'!I12","v":0},{"$f":"'3c'!J12","v":0},{"$f":"'3c'!K12","v":0},{"$f":"'3c'!L12","v":0},{"$f":"'3c'!M12","v":0},{"$f":"'3c'!N12","v":0},{"$f":"'3c'!O12","v":0},{"$f":"'3c'!P12","v":0},{"$f":"'3c'!Q12","v":0},{"$f":"'3c'!R12","v":0},{"$f":"'3c'!S12","v":0},{"$f":"'3c'!T12","v":0},{"$f":"'3c'!U12","v":0},{"$f":"'3c'!V12","v":0},{"$f":"'3c'!W12","v":0},{"$f":"'3c'!X12","v":0},{"$f":"'3c'!Y12","v":0},{"$f":"'3c'!Z12","v":0},{"$f":"'3c'!AA12","v":0},{"$f":"'3c'!AB12","v":0},{"$f":"'3c'!AC12","v":0},{"$f":"'3c'!AD12","v":0},{"$f":"'3c'!AE12","v":0},{"$f":"'3c'!AF12","v":0},{"$f":"'3c'!AG12","v":0},{"$f":"'3c'!AH12","v":0},{"$f":"'3c'!AI12","v":0},{"$f":"'3c'!AJ12","v":0},{"$f":"'3c'!AK12","v":0},{"$f":"'3c'!AL12","v":0},{"$f":"'3c'!AM12","v":0},{"$f":"'3c'!AN12","v":0},{"$f":"'3c'!AO12","v":0},{"$f":"'3c'!AP12","v":0},{"$f":"'3c'!AQ12","v":0},{"$f":"'3c'!AR12","v":0},{"$f":"'3c'!AS12","v":0},{"$f":"'3c'!AT12","v":0},{"$f":"'3c'!AU12","v":0},{"$f":"'3c'!AV12","v":0},{"$f":"'3c'!AW12","v":0},{"$f":"'3c'!AX12","v":0},{"$f":"'3c'!AY12","v":0},{"$f":"'3c'!AZ12","v":0},{"$f":"'3c'!BA12","v":0},{"$f":"'3c'!BB12","v":0},{"$f":"'3c'!BC12","v":0},{"$f":"'3c'!BD12","v":0},{"$f":"'3c'!BE12","v":0}]
[{"$f":"'3c'!A13","v":"3c"},{"$f":"'3c'!B13","v":0},{"$f":"'3c'!C13","v":0},{"$f":"'3c'!D13","v":"lehrer11"},{"$f":"'3c'!E13","v":0},{"$f":"'3c'!F13","v":0},{"$f":"'3c'!G13","v":0},{"$f":"'3c'!H13","v":0},{"$f":"'3c'!I13","v":0},{"$f":"'3c'!J13","v":0},{"$f":"'3c'!K13","v":0},{"$f":"'3c'!L13","v":0},{"$f":"'3c'!M13","v":0},{"$f":"'3c'!N13","v":0},{"$f":"'3c'!O13","v":0},{"$f":"'3c'!P13","v":0},{"$f":"'3c'!Q13","v":0},{"$f":"'3c'!R13","v":0},{"$f":"'3c'!S13","v":0},{"$f":"'3c'!T13","v":0},{"$f":"'3c'!U13","v":0},{"$f":"'3c'!V13","v":0},{"$f":"'3c'!W13","v":0},{"$f":"'3c'!X13","v":0},{"$f":"'3c'!Y13","v":0},{"$f":"'3c'!Z13","v":0},{"$f":"'3c'!AA13","v":0},{"$f":"'3c'!AB13","v":0},{"$f":"'3c'!AC13","v":0},{"$f":"'3c'!AD13","v":0},{"$f":"'3c'!AE13","v":0},{"$f":"'3c'!AF13","v":0},{"$f":"'3c'!AG13","v":0},{"$f":"'3c'!AH13","v":0},{"$f":"'3c'!AI13","v":0},{"$f":"'3c'!AJ13","v":0},{"$f":"'3c'!AK13","v":0},{"$f":"'3c'!AL13","v":0},{"$f":"'3c'!AM13","v":0},{"$f":"'3c'!AN13","v":0},{"$f":"'3c'!AO13","v":0},{"$f":"'3c'!AP13","v":0},{"$f":"'3c'!AQ13","v":0},{"$f":"'3c'!AR13","v":0},{"$f":"'3c'!AS13","v":0},{"$f":"'3c'!AT13","v":0},{"$f":"'3c'!AU13","v":0},{"$f":"'3c'!AV13","v":0},{"$f":"'3c'!AW13","v":0},{"$f":"'3c'!AX13","v":0},{"$f":"'3c'!AY13","v":0},{"$f":"'3c'!AZ13","v":0},{"$f":"'3c'!BA13","v":0},{"$f":"'3c'!BB13","v":0},{"$f":"'3c'!BC13","v":0},{"$f":"'3c'!BD13","v":0},{"$f":"'3c'!BE13","v":0}]
[{"$f":"'3c'!A14","v":"3c"},{"$f":"'3c'!B14","v":0},{"$f":"'3c'!C14","v":0},{"$f":"'3c'!D14","v":"lehrer12"},{"$f":"'3c'!E14","v":0},{"$f":"'3c'!F14","v":0},{"$f":"'3c'!G14","v":0},{"$f":"'3c'!H14","v":0},{"$f":"'3c'!I14","v":0},{"$f":"'3c'!J14","v":0},{"$f":"'3c'!K14","v":0},{"$f":"'3c'!L14","v":0},{"$f":"'3c'!M14","v":0},{"$f":"'3c'!N14","v":0},{"$f":"'3c'!O14","v":0},{"$f":"'3c'!P14","v":0},{"$f":"'3c'!Q14","v":0},{"$f":"'3c'!R14","v":0},{"$f":"'3c'!S14","v":0},{"$f":"'3c'!T14","v":0},{"$f":"'3c'!U14","v":0},{"$f":"'3c'!V14","v":0},{"$f":"'3c'!W14","v":0},{"$f":"'3c'!X14","v":0},{"$f":"'3c'!Y14","v":0},{"$f":"'3c'!Z14","v":0},{"$f":"'3c'!AA14","v":0},{"$f":"'3c'!AB14","v":0},{"$f":"'3c'!AC14","v":0},{"$f":"'3c'!AD14","v":0},{"$f":"'3c'!AE14","v":0},{"$f":"'3c'!AF14","v":0},{"$f":"'3c'!AG14","v":0},{"$f":"'3c'!AH14","v":0},{"$f":"'3c'!AI14","v":0},{"$f":"'3c'!AJ14","v":0},{"$f":"'3c'!AK14","v":0},{"$f":"'3c'!AL14","v":0},{"$f":"'3c'!AM14","v":0},{"$f":"'3c'!AN14","v":0},{"$f":"'3c'!AO14","v":0},{"$f":"'3c'!AP14","v":0},{"$f":"'3c'!AQ14","v":0},{"$f":"'3c'!AR14","v":0},{"$f":"'3c'!AS14","v":0},{"$f":"'3c'!AT14","v":0},{"$f":"'3c'!AU14","v":0},{"$f":"'3c'!AV14","v":0},{"$f":"'3c'!AW14","v":0},{"$f":"'3c'!AX14","v":0},{"$f":"'3c'!AY14","v":0},{"$f":"'3c'!AZ14","v":0},{"$f":"'3c'!BA14","v":0},{"$f":"'3c'!BB14","v":0},{"$f":"'3c'!BC14","v":0},{"$f":"'3c'!BD14","v":0},{"$f":"'3c'!BE14","v":0}]
[{"$f":"'3c'!A15","v":"3c"},{"$f":"'3c'!B15","v":0},{"$f":"'3c'!C15","v":0},{"$f":"'3c'!D15","v":"lehrer13"},{"$f":"'3c'!E15","v":0},{"$f":"'3c'!F15","v":0},{"$f":"'3c'!G15","v":0},{"$f":"'3c'!H15","v":0},{"$f":"'3c'!I15","v":0},{"$f":"'3c'!J15","v":0},{"$f":"'3c'!K15","v":0},{"$f":"'3c'!L15","v":0},{"$f":"'3c'!M15","v":0},{"$f":"'3c'!N15","v":0},{"$f":"'3c'!O15","v":0},{"$f":"'3c'!P15","v":0},{"$f":"'3c'!Q15","v":0},{"$f":"'3c'!R15","v":0},{"$f":"'3c'!S15","v":0},{"$f":"'3c'!T15","v":0},{"$f":"'3c'!U15","v":0},{"$f":"'3c'!V15","v":0},{"$f":"'3c'!W15","v":0},{"$f":"'3c'!X15","v":0},{"$f":"'3c'!Y15","v":0},{"$f":"'3c'!Z15","v":0},{"$f":"'3c'!AA15","v":0},{"$f":"'3c'!AB15","v":0},{"$f":"'3c'!AC15","v":0},{"$f":"'3c'!AD15","v":0},{"$f":"'3c'!AE15","v":0},{"$f":"'3c'!AF15","v":0},{"$f":"'3c'!AG15","v":0},{"$f":"'3c'!AH15","v":0},{"$f":"'3c'!AI15","v":0},{"$f":"'3c'!AJ15","v":0},{"$f":"'3c'!AK15","v":0},{"$f":"'3c'!AL15","v":0},{"$f":"'3c'!AM15","v":0},{"$f":"'3c'!AN15","v":0},{"$f":"'3c'!AO15","v":0},{"$f":"'3c'!AP15","v":0},{"$f":"'3c'!AQ15","v":0},{"$f":"'3c'!AR15","v":0},{"$f":"'3c'!AS15","v":0},{"$f":"'3c'!AT15","v":0},{"$f":"'3c'!AU15","v":0},{"$f":"'3c'!AV15","v":0},{"$f":"'3c'!AW15","v":0},{"$f":"'3c'!AX15","v":0},{"$f":"'3c'!AY15","v":0},{"$f":"'3c'!AZ15","v":0},{"$f":"'3c'!BA15","v":0},{"$f":"'3c'!BB15","v":0},{"$f":"'3c'!BC15","v":0},{"$f":"'3c'!BD15","v":0},{"$f":"'3c'!BE15","v":0}]
[{"$f":"'3c'!A16","v":"3c"},{"$f":"'3c'!B16","v":0},{"$f":"'3c'!C16","v":0},{"$f":"'3c'!D16","v":"lehrer14"},{"$f":"'3c'!E16","v":0},{"$f":"'3c'!F16","v":0},{"$f":"'3c'!G16","v":0},{"$f":"'3c'!H16","v":0},{"$f":"'3c'!I16","v":0},{"$f":"'3c'!J16","v":0},{"$f":"'3c'!K16","v":0},{"$f":"'3c'!L16","v":0},{"$f":"'3c'!M16","v":0},{"$f":"'3c'!N16","v":0},{"$f":"'3c'!O16","v":0},{"$f":"'3c'!P16","v":0},{"$f":"'3c'!Q16","v":0},{"$f":"'3c'!R16","v":0},{"$f":"'3c'!S16","v":0},{"$f":"'3c'!T16","v":0},{"$f":"'3c'!U16","v":0},{"$f":"'3c'!V16","v":0},{"$f":"'3c'!W16","v":0},{"$f":"'3c'!X16","v":0},{"$f":"'3c'!Y16","v":0},{"$f":"'3c'!Z16","v":0},{"$f":"'3c'!AA16","v":0},{"$f":"'3c'!AB16","v":0},{"$f":"'3c'!AC16","v":0},{"$f":"'3c'!AD16","v":0},{"$f":"'3c'!AE16","v":0},{"$f":"'3c'!AF16","v":0},{"$f":"'3c'!AG16","v":0},{"$f":"'3c'!AH16","v":0},{"$f":"'3c'!AI16","v":0},{"$f":"'3c'!AJ16","v":0},{"$f":"'3c'!AK16","v":0},{"$f":"'3c'!AL16","v":0},{"$f":"'3c'!AM16","v":0},{"$f":"'3c'!AN16","v":0},{"$f":"'3c'!AO16","v":0},{"$f":"'3c'!AP16","v":0},{"$f":"'3c'!AQ16","v":0},{"$f":"'3c'!AR16","v":0},{"$f":"'3c'!AS16","v":0},{"$f":"'3c'!AT16","v":0},{"$f":"'3c'!AU16","v":0},{"$f":"'3c'!AV16","v":0},{"$f":"'3c'!AW16","v":0},{"$f":"'3c'!AX16","v":0},{"$f":"'3c'!AY16","v":0},{"$f":"'3c'!AZ16","v":0},{"$f":"'3c'!BA16","v":0},{"$f":"'3c'!BB16","v":0},{"$f":"'3c'!BC16","v":0},{"$f":"'3c'!BD16","v":0},{"$f":"'3c'!BE16","v":0}]
[{"$f":"'3c'!A17","v":"3c"},{"$f":"'3c'!B17","v":0},{"$f":"'3c'!C17","v":0},{"$f":"'3c'!D17","v":"lehrer15"},{"$f":"'3c'!E17","v":0},{"$f":"'3c'!F17","v":0},{"$f":"'3c'!G17","v":0},{"$f":"'3c'!H17","v":0},{"$f":"'3c'!I17","v":0},{"$f":"'3c'!J17","v":0},{"$f":"'3c'!K17","v":0},{"$f":"'3c'!L17","v":0},{"$f":"'3c'!M17","v":0},{"$f":"'3c'!N17","v":0},{"$f":"'3c'!O17","v":0},{"$f":"'3c'!P17","v":0},{"$f":"'3c'!Q17","v":0},{"$f":"'3c'!R17","v":0},{"$f":"'3c'!S17","v":0},{"$f":"'3c'!T17","v":0},{"$f":"'3c'!U17","v":0},{"$f":"'3c'!V17","v":0},{"$f":"'3c'!W17","v":0},{"$f":"'3c'!X17","v":0},{"$f":"'3c'!Y17","v":0},{"$f":"'3c'!Z17","v":0},{"$f":"'3c'!AA17","v":0},{"$f":"'3c'!AB17","v":0},{"$f":"'3c'!AC17","v":0},{"$f":"'3c'!AD17","v":0},{"$f":"'3c'!AE17","v":0},{"$f":"'3c'!AF17","v":0},{"$f":"'3c'!AG17","v":0},{"$f":"'3c'!AH17","v":0},{"$f":"'3c'!AI17","v":0},{"$f":"'3c'!AJ17","v":0},{"$f":"'3c'!AK17","v":0},{"$f":"'3c'!AL17","v":0},{"$f":"'3c'!AM17","v":0},{"$f":"'3c'!AN17","v":0},{"$f":"'3c'!AO17","v":0},{"$f":"'3c'!AP17","v":0},{"$f":"'3c'!AQ17","v":0},{"$f":"'3c'!AR17","v":0},{"$f":"'3c'!AS17","v":0},{"$f":"'3c'!AT17","v":0},{"$f":"'3c'!AU17","v":0},{"$f":"'3c'!AV17","v":0},{"$f":"'3c'!AW17","v":0},{"$f":"'3c'!AX17","v":0},{"$f":"'3c'!AY17","v":0},{"$f":"'3c'!AZ17","v":0},{"$f":"'3c'!BA17","v":0},{"$f":"'3c'!BB17","v":0},{"$f":"'3c'!BC17","v":0},{"$f":"'3c'!BD17","v":0},{"$f":"'3c'!BE17","v":0}]
[{"$f":"'3c'!A18","v":"3c"},{"$f":"'3c'!B18","v":0},{"$f":"'3c'!C18","v":0},{"$f":"'3c'!D18","v":"lehrer16"},{"$f":"'3c'!E18","v":0},{"$f":"'3c'!F18","v":0},{"$f":"'3c'!G18","v":0},{"$f":"'3c'!H18","v":0},{"$f":"'3c'!I18","v":0},{"$f":"'3c'!J18","v":0},{"$f":"'3c'!K18","v":0},{"$f":"'3c'!L18","v":0},{"$f":"'3c'!M18","v":0},{"$f":"'3c'!N18","v":0},{"$f":"'3c'!O18","v":0},{"$f":"'3c'!P18","v":0},{"$f":"'3c'!Q18","v":0},{"$f":"'3c'!R18","v":0},{"$f":"'3c'!S18","v":0},{"$f":"'3c'!T18","v":0},{"$f":"'3c'!U18","v":0},{"$f":"'3c'!V18","v":0},{"$f":"'3c'!W18","v":0},{"$f":"'3c'!X18","v":0},{"$f":"'3c'!Y18","v":0},{"$f":"'3c'!Z18","v":0},{"$f":"'3c'!AA18","v":0},{"$f":"'3c'!AB18","v":0},{"$f":"'3c'!AC18","v":0},{"$f":"'3c'!AD18","v":0},{"$f":"'3c'!AE18","v":0},{"$f":"'3c'!AF18","v":0},{"$f":"'3c'!AG18","v":0},{"$f":"'3c'!AH18","v":0},{"$f":"'3c'!AI18","v":0},{"$f":"'3c'!AJ18","v":0},{"$f":"'3c'!AK18","v":0},{"$f":"'3c'!AL18","v":0},{"$f":"'3c'!AM18","v":0},{"$f":"'3c'!AN18","v":0},{"$f":"'3c'!AO18","v":0},{"$f":"'3c'!AP18","v":0},{"$f":"'3c'!AQ18","v":0},{"$f":"'3c'!AR18","v":0},{"$f":"'3c'!AS18","v":0},{"$f":"'3c'!AT18","v":0},{"$f":"'3c'!AU18","v":0},{"$f":"'3c'!AV18","v":0},{"$f":"'3c'!AW18","v":0},{"$f":"'3c'!AX18","v":0},{"$f":"'3c'!AY18","v":0},{"$f":"'3c'!AZ18","v":0},{"$f":"'3c'!BA18","v":0},{"$f":"'3c'!BB18","v":0},{"$f":"'3c'!BC18","v":0},{"$f":"'3c'!BD18","v":0},{"$f":"'3c'!BE18","v":0}]
[{"$f":"'3c'!A19","v":"3c"},{"$f":"'3c'!B19","v":0},{"$f":"'3c'!C19","v":0},{"$f":"'3c'!D19","v":"lehrer17"},{"$f":"'3c'!E19","v":0},{"$f":"'3c'!F19","v":0},{"$f":"'3c'!G19","v":0},{"$f":"'3c'!H19","v":0},{"$f":"'3c'!I19","v":0},{"$f":"'3c'!J19","v":0},{"$f":"'3c'!K19","v":0},{"$f":"'3c'!L19","v":0},{"$f":"'3c'!M19","v":0},{"$f":"'3c'!N19","v":0},{"$f":"'3c'!O19","v":0},{"$f":"'3c'!P19","v":0},{"$f":"'3c'!Q19","v":0},{"$f":"'3c'!R19","v":0},{"$f":"'3c'!S19","v":0},{"$f":"'3c'!T19","v":0},{"$f":"'3c'!U19","v":0},{"$f":"'3c'!V19","v":0},{"$f":"'3c'!W19","v":0},{"$f":"'3c'!X19","v":0},{"$f":"'3c'!Y19","v":0},{"$f":"'3c'!Z19","v":0},{"$f":"'3c'!AA19","v":0},{"$f":"'3c'!AB19","v":0},{"$f":"'3c'!AC19","v":0},{"$f":"'3c'!AD19","v":0},{"$f":"'3c'!AE19","v":0},{"$f":"'3c'!AF19","v":0},{"$f":"'3c'!AG19","v":0},{"$f":"'3c'!AH19","v":0},{"$f":"'3c'!AI19","v":0},{"$f":"'3c'!AJ19","v":0},{"$f":"'3c'!AK19","v":0},{"$f":"'3c'!AL19","v":0},{"$f":"'3c'!AM19","v":0},{"$f":"'3c'!AN19","v":0},{"$f":"'3c'!AO19","v":0},{"$f":"'3c'!AP19","v":0},{"$f":"'3c'!AQ19","v":0},{"$f":"'3c'!AR19","v":0},{"$f":"'3c'!AS19","v":0},{"$f":"'3c'!AT19","v":0},{"$f":"'3c'!AU19","v":0},{"$f":"'3c'!AV19","v":0},{"$f":"'3c'!AW19","v":0},{"$f":"'3c'!AX19","v":0},{"$f":"'3c'!AY19","v":0},{"$f":"'3c'!AZ19","v":0},{"$f":"'3c'!BA19","v":0},{"$f":"'3c'!BB19","v":0},{"$f":"'3c'!BC19","v":0},{"$f":"'3c'!BD19","v":0},{"$f":"'3c'!BE19","v":0}]
[{"$f":"'3c'!A20","v":"3c"},{"$f":"'3c'!B20","v":0},{"$f":"'3c'!C20","v":0},{"$f":"'3c'!D20","v":"lehrer18"},{"$f":"'3c'!E20","v":0},{"$f":"'3c'!F20","v":0},{"$f":"'3c'!G20","v":0},{"$f":"'3c'!H20","v":0},{"$f":"'3c'!I20","v":0},{"$f":"'3c'!J20","v":0},{"$f":"'3c'!K20","v":0},{"$f":"'3c'!L20","v":0},{"$f":"'3c'!M20","v":0},{"$f":"'3c'!N20","v":0},{"$f":"'3c'!O20","v":0},{"$f":"'3c'!P20","v":0},{"$f":"'3c'!Q20","v":0},{"$f":"'3c'!R20","v":0},{"$f":"'3c'!S20","v":0},{"$f":"'3c'!T20","v":0},{"$f":"'3c'!U20","v":0},{"$f":"'3c'!V20","v":0},{"$f":"'3c'!W20","v":0},{"$f":"'3c'!X20","v":0},{"$f":"'3c'!Y20","v":0},{"$f":"'3c'!Z20","v":0},{"$f":"'3c'!AA20","v":0},{"$f":"'3c'!AB20","v":0},{"$f":"'3c'!AC20","v":0},{"$f":"'3c'!AD20","v":0},{"$f":"'3c'!AE20","v":0},{"$f":"'3c'!AF20","v":0},{"$f":"'3c'!AG20","v":0},{"$f":"'3c'!AH20","v":0},{"$f":"'3c'!AI20","v":0},{"$f":"'3c'!AJ20","v":0},{"$f":"'3c'!AK20","v":0},{"$f":"'3c'!AL20","v":0},{"$f":"'3c'!AM20","v":0},{"$f":"'3c'!AN20","v":0},{"$f":"'3c'!AO20","v":0},{"$f":"'3c'!AP20","v":0},{"$f":"'3c'!AQ20","v":0},{"$f":"'3c'!AR20","v":0},{"$f":"'3c'!AS20","v":0},{"$f":"'3c'!AT20","v":0},{"$f":"'3c'!AU20","v":0},{"$f":"'3c'!AV20","v":0},{"$f":"'3c'!AW20","v":0},{"$f":"'3c'!AX20","v":0},{"$f":"'3c'!AY20","v":0},{"$f":"'3c'!AZ20","v":0},{"$f":"'3c'!BA20","v":0},{"$f":"'3c'!BB20","v":0},{"$f":"'3c'!BC20","v":0},{"$f":"'3c'!BD20","v":0},{"$f":"'3c'!BE20","v":0}]
[{"$f":"'3c'!A21","v":"3c"},{"$f":"'3c'!B21","v":0},{"$f":"'3c'!C21","v":0},{"$f":"'3c'!D21","v":"lehrer19"},{"$f":"'3c'!E21","v":0},{"$f":"'3c'!F21","v":0},{"$f":"'3c'!G21","v":0},{"$f":"'3c'!H21","v":0},{"$f":"'3c'!I21","v":0},{"$f":"'3c'!J21","v":0},{"$f":"'3c'!K21","v":0},{"$f":"'3c'!L21","v":0},{"$f":"'3c'!M21","v":0},{"$f":"'3c'!N21","v":0},{"$f":"'3c'!O21","v":0},{"$f":"'3c'!P21","v":0},{"$f":"'3c'!Q21","v":0},{"$f":"'3c'!R21","v":0},{"$f":"'3c'!S21","v":0},{"$f":"'3c'!T21","v":0},{"$f":"'3c'!U21","v":0},{"$f":"'3c'!V21","v":0},{"$f":"'3c'!W21","v":0},{"$f":"'3c'!X21","v":0},{"$f":"'3c'!Y21","v":0},{"$f":"'3c'!Z21","v":0},{"$f":"'3c'!AA21","v":0},{"$f":"'3c'!AB21","v":0},{"$f":"'3c'!AC21","v":0},{"$f":"'3c'!AD21","v":0},{"$f":"'3c'!AE21","v":0},{"$f":"'3c'!AF21","v":0},{"$f":"'3c'!AG21","v":0},{"$f":"'3c'!AH21","v":0},{"$f":"'3c'!AI21","v":0},{"$f":"'3c'!AJ21","v":0},{"$f":"'3c'!AK21","v":0},{"$f":"'3c'!AL21","v":0},{"$f":"'3c'!AM21","v":0},{"$f":"'3c'!AN21","v":0},{"$f":"'3c'!AO21","v":0},{"$f":"'3c'!AP21","v":0},{"$f":"'3c'!AQ21","v":0},{"$f":"'3c'!AR21","v":0},{"$f":"'3c'!AS21","v":0},{"$f":"'3c'!AT21","v":0},{"$f":"'3c'!AU21","v":0},{"$f":"'3c'!AV21","v":0},{"$f":"'3c'!AW21","v":0},{"$f":"'3c'!AX21","v":0},{"$f":"'3c'!AY21","v":0},{"$f":"'3c'!AZ21","v":0},{"$f":"'3c'!BA21","v":0},{"$f":"'3c'!BB21","v":0},{"$f":"'3c'!BC21","v":0},{"$f":"'3c'!BD21","v":0},{"$f":"'3c'!BE21","v":0}]
[{"$f":"'3c'!A22","v":"3c"},{"$f":"'3c'!B22","v":0},{"$f":"'3c'!C22","v":0},{"$f":"'3c'!D22","v":"lehrer20"},{"$f":"'3c'!E22","v":0},{"$f":"'3c'!F22","v":0},{"$f":"'3c'!G22","v":0},{"$f":"'3c'!H22","v":0},{"$f":"'3c'!I22","v":0},{"$f":"'3c'!J22","v":0},{"$f":"'3c'!K22","v":0},{"$f":"'3c'!L22","v":0},{"$f":"'3c'!M22","v":0},{"$f":"'3c'!N22","v":0},{"$f":"'3c'!O22","v":0},{"$f":"'3c'!P22","v":0},{"$f":"'3c'!Q22","v":0},{"$f":"'3c'!R22","v":0},{"$f":"'3c'!S22","v":0},{"$f":"'3c'!T22","v":0},{"$f":"'3c'!U22","v":0},{"$f":"'3c'!V22","v":0},{"$f":"'3c'!W22","v":0},{"$f":"'3c'!X22","v":0},{"$f":"'3c'!Y22","v":0},{"$f":"'3c'!Z22","v":0},{"$f":"'3c'!AA22","v":0},{"$f":"'3c'!AB22","v":0},{"$f":"'3c'!AC22","v":0},{"$f":"'3c'!AD22","v":0},{"$f":"'3c'!AE22","v":0},{"$f":"'3c'!AF22","v":0},{"$f":"'3c'!AG22","v":0},{"$f":"'3c'!AH22","v":0},{"$f":"'3c'!AI22","v":0},{"$f":"'3c'!AJ22","v":0},{"$f":"'3c'!AK22","v":0},{"$f":"'3c'!AL22","v":0},{"$f":"'3c'!AM22","v":0},{"$f":"'3c'!AN22","v":0},{"$f":"'3c'!AO22","v":0},{"$f":"'3c'!AP22","v":0},{"$f":"'3c'!AQ22","v":0},{"$f":"'3c'!AR22","v":0},{"$f":"'3c'!AS22","v":0},{"$f":"'3c'!AT22","v":0},{"$f":"'3c'!AU22","v":0},{"$f":"'3c'!AV22","v":0},{"$f":"'3c'!AW22","v":0},{"$f":"'3c'!AX22","v":0},{"$f":"'3c'!AY22","v":0},{"$f":"'3c'!AZ22","v":0},{"$f":"'3c'!BA22","v":0},{"$f":"'3c'!BB22","v":0},{"$f":"'3c'!BC22","v":0},{"$f":"'3c'!BD22","v":0},{"$f":"'3c'!BE22","v":0}]
[{"$f":"'3c'!A23","v":"3c"},{"$f":"'3c'!B23","v":0},{"$f":"'3c'!C23","v":0},{"$f":"'3c'!D23","v":"lehrer21"},{"$f":"'3c'!E23","v":0},{"$f":"'3c'!F23","v":0},{"$f":"'3c'!G23","v":0},{"$f":"'3c'!H23","v":0},{"$f":"'3c'!I23","v":0},{"$f":"'3c'!J23","v":0},{"$f":"'3c'!K23","v":0},{"$f":"'3c'!L23","v":0},{"$f":"'3c'!M23","v":0},{"$f":"'3c'!N23","v":0},{"$f":"'3c'!O23","v":0},{"$f":"'3c'!P23","v":0},{"$f":"'3c'!Q23","v":0},{"$f":"'3c'!R23","v":0},{"$f":"'3c'!S23","v":0},{"$f":"'3c'!T23","v":0},{"$f":"'3c'!U23","v":0},{"$f":"'3c'!V23","v":0},{"$f":"'3c'!W23","v":0},{"$f":"'3c'!X23","v":0},{"$f":"'3c'!Y23","v":0},{"$f":"'3c'!Z23","v":0},{"$f":"'3c'!AA23","v":0},{"$f":"'3c'!AB23","v":0},{"$f":"'3c'!AC23","v":0},{"$f":"'3c'!AD23","v":0},{"$f":"'3c'!AE23","v":0},{"$f":"'3c'!AF23","v":0},{"$f":"'3c'!AG23","v":0},{"$f":"'3c'!AH23","v":0},{"$f":"'3c'!AI23","v":0},{"$f":"'3c'!AJ23","v":0},{"$f":"'3c'!AK23","v":0},{"$f":"'3c'!AL23","v":0},{"$f":"'3c'!AM23","v":0},{"$f":"'3c'!AN23","v":0},{"$f":"'3c'!AO23","v":0},{"$f":"'3c'!AP23","v":0},{"$f":"'3c'!AQ23","v":0},{"$f":"'3c'!AR23","v":0},{"$f":"'3c'!AS23","v":0},{"$f":"'3c'!AT23","v":0},{"$f":"'3c'!AU23","v":0},{"$f":"'3c'!AV23","v":0},{"$f":"'3c'!AW23","v":0},{"$f":"'3c'!AX23","v":0},{"$f":"'3c'!AY23","v":0},{"$f":"'3c'!AZ23","v":0},{"$f":"'3c'!BA23","v":0},{"$f":"'3c'!BB23","v":0},{"$f":"'3c'!BC23","v":0},{"$f":"'3c'!BD23","v":0},{"$f":"'3c'!BE23","v":0}]
[{"$f":"'3c'!A24","v":"3c"},{"$f":"'3c'!B24","v":0},{"$f":"'3c'!C24","v":0},{"$f":"'3c'!D24","v":"lehrer22"},{"$f":"'3c'!E24","v":0},{"$f":"'3c'!F24","v":0},{"$f":"'3c'!G24","v":0},{"$f":"'3c'!H24","v":0},{"$f":"'3c'!I24","v":0},{"$f":"'3c'!J24","v":0},{"$f":"'3c'!K24","v":0},{"$f":"'3c'!L24","v":0},{"$f":"'3c'!M24","v":0},{"$f":"'3c'!N24","v":0},{"$f":"'3c'!O24","v":0},{"$f":"'3c'!P24","v":0},{"$f":"'3c'!Q24","v":0},{"$f":"'3c'!R24","v":0},{"$f":"'3c'!S24","v":0},{"$f":"'3c'!T24","v":0},{"$f":"'3c'!U24","v":0},{"$f":"'3c'!V24","v":0},{"$f":"'3c'!W24","v":0},{"$f":"'3c'!X24","v":0},{"$f":"'3c'!Y24","v":0},{"$f":"'3c'!Z24","v":0},{"$f":"'3c'!AA24","v":0},{"$f":"'3c'!AB24","v":0},{"$f":"'3c'!AC24","v":0},{"$f":"'3c'!AD24","v":0},{"$f":"'3c'!AE24","v":0},{"$f":"'3c'!AF24","v":0},{"$f":"'3c'!AG24","v":0},{"$f":"'3c'!AH24","v":0},{"$f":"'3c'!AI24","v":0},{"$f":"'3c'!AJ24","v":0},{"$f":"'3c'!AK24","v":0},{"$f":"'3c'!AL24","v":0},{"$f":"'3c'!AM24","v":0},{"$f":"'3c'!AN24","v":0},{"$f":"'3c'!AO24","v":0},{"$f":"'3c'!AP24","v":0},{"$f":"'3c'!AQ24","v":0},{"$f":"'3c'!AR24","v":0},{"$f":"'3c'!AS24","v":0},{"$f":"'3c'!AT24","v":0},{"$f":"'3c'!AU24","v":0},{"$f":"'3c'!AV24","v":0},{"$f":"'3c'!AW24","v":0},{"$f":"'3c'!AX24","v":0},{"$f":"'3c'!AY24","v":0},{"$f":"'3c'!AZ24","v":0},{"$f":"'3c'!BA24","v":0},{"$f":"'3c'!BB24","v":0},{"$f":"'3c'!BC24","v":0},{"$f":"'3c'!BD24","v":0},{"$f":"'3c'!BE24","v":0}]
[{"$f":"'3c'!A25","v":"3c"},{"$f":"'3c'!B25","v":0},{"$f":"'3c'!C25","v":0},{"$f":"'3c'!D25","v":"lehrer23"},{"$f":"'3c'!E25","v":0},{"$f":"'3c'!F25","v":0},{"$f":"'3c'!G25","v":0},{"$f":"'3c'!H25","v":0},{"$f":"'3c'!I25","v":0},{"$f":"'3c'!J25","v":0},{"$f":"'3c'!K25","v":0},{"$f":"'3c'!L25","v":0},{"$f":"'3c'!M25","v":0},{"$f":"'3c'!N25","v":0},{"$f":"'3c'!O25","v":0},{"$f":"'3c'!P25","v":0},{"$f":"'3c'!Q25","v":0},{"$f":"'3c'!R25","v":0},{"$f":"'3c'!S25","v":0},{"$f":"'3c'!T25","v":0},{"$f":"'3c'!U25","v":0},{"$f":"'3c'!V25","v":0},{"$f":"'3c'!W25","v":0},{"$f":"'3c'!X25","v":0},{"$f":"'3c'!Y25","v":0},{"$f":"'3c'!Z25","v":0},{"$f":"'3c'!AA25","v":0},{"$f":"'3c'!AB25","v":0},{"$f":"'3c'!AC25","v":0},{"$f":"'3c'!AD25","v":0},{"$f":"'3c'!AE25","v":0},{"$f":"'3c'!AF25","v":0},{"$f":"'3c'!AG25","v":0},{"$f":"'3c'!AH25","v":0},{"$f":"'3c'!AI25","v":0},{"$f":"'3c'!AJ25","v":0},{"$f":"'3c'!AK25","v":0},{"$f":"'3c'!AL25","v":0},{"$f":"'3c'!AM25","v":0},{"$f":"'3c'!AN25","v":0},{"$f":"'3c'!AO25","v":0},{"$f":"'3c'!AP25","v":0},{"$f":"'3c'!AQ25","v":0},{"$f":"'3c'!AR25","v":0},{"$f":"'3c'!AS25","v":0},{"$f":"'3c'!AT25","v":0},{"$f":"'3c'!AU25","v":0},{"$f":"'3c'!AV25","v":0},{"$f":"'3c'!AW25","v":0},{"$f":"'3c'!AX25","v":0},{"$f":"'3c'!AY25","v":0},{"$f":"'3c'!AZ25","v":0},{"$f":"'3c'!BA25","v":0},{"$f":"'3c'!BB25","v":0},{"$f":"'3c'!BC25","v":0},{"$f":"'3c'!BD25","v":0},{"$f":"'3c'!BE25","v":0}]
[{"$f":"'3c'!A26","v":"3c"},{"$f":"'3c'!B26","v":0},{"$f":"'3c'!C26","v":0},{"$f":"'3c'!D26","v":"lehrer24"},{"$f":"'3c'!E26","v":0},{"$f":"'3c'!F26","v":0},{"$f":"'3c'!G26","v":0},{"$f":"'3c'!H26","v":0},{"$f":"'3c'!I26","v":0},{"$f":"'3c'!J26","v":0},{"$f":"'3c'!K26","v":0},{"$f":"'3c'!L26","v":0},{"$f":"'3c'!M26","v":0},{"$f":"'3c'!N26","v":0},{"$f":"'3c'!O26","v":0},{"$f":"'3c'!P26","v":0},{"$f":"'3c'!Q26","v":0},{"$f":"'3c'!R26","v":0},{"$f":"'3c'!S26","v":0},{"$f":"'3c'!T26","v":0},{"$f":"'3c'!U26","v":0},{"$f":"'3c'!V26","v":0},{"$f":"'3c'!W26","v":0},{"$f":"'3c'!X26","v":0},{"$f":"'3c'!Y26","v":0},{"$f":"'3c'!Z26","v":0},{"$f":"'3c'!AA26","v":0},{"$f":"'3c'!AB26","v":0},{"$f":"'3c'!AC26","v":0},{"$f":"'3c'!AD26","v":0},{"$f":"'3c'!AE26","v":0},{"$f":"'3c'!AF26","v":0},{"$f":"'3c'!AG26","v":0},{"$f":"'3c'!AH26","v":0},{"$f":"'3c'!AI26","v":0},{"$f":"'3c'!AJ26","v":0},{"$f":"'3c'!AK26","v":0},{"$f":"'3c'!AL26","v":0},{"$f":"'3c'!AM26","v":0},{"$f":"'3c'!AN26","v":0},{"$f":"'3c'!AO26","v":0},{"$f":"'3c'!AP26","v":0},{"$f":"'3c'!AQ26","v":0},{"$f":"'3c'!AR26","v":0},{"$f":"'3c'!AS26","v":0},{"$f":"'3c'!AT26","v":0},{"$f":"'3c'!AU26","v":0},{"$f":"'3c'!AV26","v":0},{"$f":"'3c'!AW26","v":0},{"$f":"'3c'!AX26","v":0},{"$f":"'3c'!AY26","v":0},{"$f":"'3c'!AZ26","v":0},{"$f":"'3c'!BA26","v":0},{"$f":"'3c'!BB26","v":0},{"$f":"'3c'!BC26","v":0},{"$f":"'3c'!BD26","v":0},{"$f":"'3c'!BE26","v":0}]
[{"$f":"'3c'!A27","v":"3c"},{"$f":"'3c'!B27","v":0},{"$f":"'3c'!C27","v":0},{"$f":"'3c'!D27","v":"lehrer25"},{"$f":"'3c'!E27","v":0},{"$f":"'3c'!F27","v":0},{"$f":"'3c'!G27","v":0},{"$f":"'3c'!H27","v":0},{"$f":"'3c'!I27","v":0},{"$f":"'3c'!J27","v":0},{"$f":"'3c'!K27","v":0},{"$f":"'3c'!L27","v":0},{"$f":"'3c'!M27","v":0},{"$f":"'3c'!N27","v":0},{"$f":"'3c'!O27","v":0},{"$f":"'3c'!P27","v":0},{"$f":"'3c'!Q27","v":0},{"$f":"'3c'!R27","v":0},{"$f":"'3c'!S27","v":0},{"$f":"'3c'!T27","v":0},{"$f":"'3c'!U27","v":0},{"$f":"'3c'!V27","v":0},{"$f":"'3c'!W27","v":0},{"$f":"'3c'!X27","v":0},{"$f":"'3c'!Y27","v":0},{"$f":"'3c'!Z27","v":0},{"$f":"'3c'!AA27","v":0},{"$f":"'3c'!AB27","v":0},{"$f":"'3c'!AC27","v":0},{"$f":"'3c'!AD27","v":0},{"$f":"'3c'!AE27","v":0},{"$f":"'3c'!AF27","v":0},{"$f":"'3c'!AG27","v":0},{"$f":"'3c'!AH27","v":0},{"$f":"'3c'!AI27","v":0},{"$f":"'3c'!AJ27","v":0},{"$f":"'3c'!AK27","v":0},{"$f":"'3c'!AL27","v":0},{"$f":"'3c'!AM27","v":0},{"$f":"'3c'!AN27","v":0},{"$f":"'3c'!AO27","v":0},{"$f":"'3c'!AP27","v":0},{"$f":"'3c'!AQ27","v":0},{"$f":"'3c'!AR27","v":0},{"$f":"'3c'!AS27","v":0},{"$f":"'3c'!AT27","v":0},{"$f":"'3c'!AU27","v":0},{"$f":"'3c'!AV27","v":0},{"$f":"'3c'!AW27","v":0},{"$f":"'3c'!AX27","v":0},{"$f":"'3c'!AY27","v":0},{"$f":"'3c'!AZ27","v":0},{"$f":"'3c'!BA27","v":0},{"$f":"'3c'!BB27","v":0},{"$f":"'3c'!BC27","v":0},{"$f":"'3c'!BD27","v":0},{"$f":"'3c'!BE27","v":0}]
[{"$f":"'3c'!A28","v":"3c"},{"$f":"'3c'!B28","v":0},{"$f":"'3c'!C28","v":0},{"$f":"'3c'!D28","v":"lehrer26"},{"$f":"'3c'!E28","v":0},{"$f":"'3c'!F28","v":0},{"$f":"'3c'!G28","v":0},{"$f":"'3c'!H28","v":0},{"$f":"'3c'!I28","v":0},{"$f":"'3c'!J28","v":0},{"$f":"'3c'!K28","v":0},{"$f":"'3c'!L28","v":0},{"$f":"'3c'!M28","v":0},{"$f":"'3c'!N28","v":0},{"$f":"'3c'!O28","v":0},{"$f":"'3c'!P28","v":0},{"$f":"'3c'!Q28","v":0},{"$f":"'3c'!R28","v":0},{"$f":"'3c'!S28","v":0},{"$f":"'3c'!T28","v":0},{"$f":"'3c'!U28","v":0},{"$f":"'3c'!V28","v":0},{"$f":"'3c'!W28","v":0},{"$f":"'3c'!X28","v":0},{"$f":"'3c'!Y28","v":0},{"$f":"'3c'!Z28","v":0},{"$f":"'3c'!AA28","v":0},{"$f":"'3c'!AB28","v":0},{"$f":"'3c'!AC28","v":0},{"$f":"'3c'!AD28","v":0},{"$f":"'3c'!AE28","v":0},{"$f":"'3c'!AF28","v":0},{"$f":"'3c'!AG28","v":0},{"$f":"'3c'!AH28","v":0},{"$f":"'3c'!AI28","v":0},{"$f":"'3c'!AJ28","v":0},{"$f":"'3c'!AK28","v":0},{"$f":"'3c'!AL28","v":0},{"$f":"'3c'!AM28","v":0},{"$f":"'3c'!AN28","v":0},{"$f":"'3c'!AO28","v":0},{"$f":"'3c'!AP28","v":0},{"$f":"'3c'!AQ28","v":0},{"$f":"'3c'!AR28","v":0},{"$f":"'3c'!AS28","v":0},{"$f":"'3c'!AT28","v":0},{"$f":"'3c'!AU28","v":0},{"$f":"'3c'!AV28","v":0},{"$f":"'3c'!AW28","v":0},{"$f":"'3c'!AX28","v":0},{"$f":"'3c'!AY28","v":0},{"$f":"'3c'!AZ28","v":0},{"$f":"'3c'!BA28","v":0},{"$f":"'3c'!BB28","v":0},{"$f":"'3c'!BC28","v":0},{"$f":"'3c'!BD28","v":0},{"$f":"'3c'!BE28","v":0}]
[{"$f":"'3c'!A29","v":"3c"},{"$f":"'3c'!B29","v":0},{"$f":"'3c'!C29","v":0},{"$f":"'3c'!D29","v":"lehrer27"},{"$f":"'3c'!E29","v":0},{"$f":"'3c'!F29","v":0},{"$f":"'3c'!G29","v":0},{"$f":"'3c'!H29","v":0},{"$f":"'3c'!I29","v":0},{"$f":"'3c'!J29","v":0},{"$f":"'3c'!K29","v":0},{"$f":"'3c'!L29","v":0},{"$f":"'3c'!M29","v":0},{"$f":"'3c'!N29","v":0},{"$f":"'3c'!O29","v":0},{"$f":"'3c'!P29","v":0},{"$f":"'3c'!Q29","v":0},{"$f":"'3c'!R29","v":0},{"$f":"'3c'!S29","v":0},{"$f":"'3c'!T29","v":0},{"$f":"'3c'!U29","v":0},{"$f":"'3c'!V29","v":0},{"$f":"'3c'!W29","v":0},{"$f":"'3c'!X29","v":0},{"$f":"'3c'!Y29","v":0},{"$f":"'3c'!Z29","v":0},{"$f":"'3c'!AA29","v":0},{"$f":"'3c'!AB29","v":0},{"$f":"'3c'!AC29","v":0},{"$f":"'3c'!AD29","v":0},{"$f":"'3c'!AE29","v":0},{"$f":"'3c'!AF29","v":0},{"$f":"'3c'!AG29","v":0},{"$f":"'3c'!AH29","v":0},{"$f":"'3c'!AI29","v":0},{"$f":"'3c'!AJ29","v":0},{"$f":"'3c'!AK29","v":0},{"$f":"'3c'!AL29","v":0},{"$f":"'3c'!AM29","v":0},{"$f":"'3c'!AN29","v":0},{"$f":"'3c'!AO29","v":0},{"$f":"'3c'!AP29","v":0},{"$f":"'3c'!AQ29","v":0},{"$f":"'3c'!AR29","v":0},{"$f":"'3c'!AS29","v":0},{"$f":"'3c'!AT29","v":0},{"$f":"'3c'!AU29","v":0},{"$f":"'3c'!AV29","v":0},{"$f":"'3c'!AW29","v":0},{"$f":"'3c'!AX29","v":0},{"$f":"'3c'!AY29","v":0},{"$f":"'3c'!AZ29","v":0},{"$f":"'3c'!BA29","v":0},{"$f":"'3c'!BB29","v":0},{"$f":"'3c'!BC29","v":0},{"$f":"'3c'!BD29","v":0},{"$f":"'3c'!BE29","v":0}]
[{"$f":"'3c'!A30","v":"3c"},{"$f":"'3c'!B30","v":0},{"$f":"'3c'!C30","v":0},{"$f":"'3c'!D30","v":"lehrer28"},{"$f":"'3c'!E30","v":0},{"$f":"'3c'!F30","v":0},{"$f":"'3c'!G30","v":0},{"$f":"'3c'!H30","v":0},{"$f":"'3c'!I30","v":0},{"$f":"'3c'!J30","v":0},{"$f":"'3c'!K30","v":0},{"$f":"'3c'!L30","v":0},{"$f":"'3c'!M30","v":0},{"$f":"'3c'!N30","v":0},{"$f":"'3c'!O30","v":0},{"$f":"'3c'!P30","v":0},{"$f":"'3c'!Q30","v":0},{"$f":"'3c'!R30","v":0},{"$f":"'3c'!S30","v":0},{"$f":"'3c'!T30","v":0},{"$f":"'3c'!U30","v":0},{"$f":"'3c'!V30","v":0},{"$f":"'3c'!W30","v":0},{"$f":"'3c'!X30","v":0},{"$f":"'3c'!Y30","v":0},{"$f":"'3c'!Z30","v":0},{"$f":"'3c'!AA30","v":0},{"$f":"'3c'!AB30","v":0},{"$f":"'3c'!AC30","v":0},{"$f":"'3c'!AD30","v":0},{"$f":"'3c'!AE30","v":0},{"$f":"'3c'!AF30","v":0},{"$f":"'3c'!AG30","v":0},{"$f":"'3c'!AH30","v":0},{"$f":"'3c'!AI30","v":0},{"$f":"'3c'!AJ30","v":0},{"$f":"'3c'!AK30","v":0},{"$f":"'3c'!AL30","v":0},{"$f":"'3c'!AM30","v":0},{"$f":"'3c'!AN30","v":0},{"$f":"'3c'!AO30","v":0},{"$f":"'3c'!AP30","v":0},{"$f":"'3c'!AQ30","v":0},{"$f":"'3c'!AR30","v":0},{"$f":"'3c'!AS30","v":0},{"$f":"'3c'!AT30","v":0},{"$f":"'3c'!AU30","v":0},{"$f":"'3c'!AV30","v":0},{"$f":"'3c'!AW30","v":0},{"$f":"'3c'!AX30","v":0},{"$f":"'3c'!AY30","v":0},{"$f":"'3c'!AZ30","v":0},{"$f":"'3c'!BA30","v":0},{"$f":"'3c'!BB30","v":0},{"$f":"'3c'!BC30","v":0},{"$f":"'3c'!BD30","v":0},{"$f":"'3c'!BE30","v":0}]
[{"$f":"'3c'!A31","v":"3c"},{"$f":"'3c'!B31","v":0},{"$f":"'3c'!C31","v":0},{"$f":"'3c'!D31","v":"lehrer29"},{"$f":"'3c'!E31","v":0},{"$f":"'3c'!F31","v":0},{"$f":"'3c'!G31","v":0},{"$f":"'3c'!H31","v":0},{"$f":"'3c'!I31","v":0},{"$f":"'3c'!J31","v":0},{"$f":"'3c'!K31","v":0},{"$f":"'3c'!L31","v":0},{"$f":"'3c'!M31","v":0},{"$f":"'3c'!N31","v":0},{"$f":"'3c'!O31","v":0},{"$f":"'3c'!P31","v":0},{"$f":"'3c'!Q31","v":0},{"$f":"'3c'!R31","v":0},{"$f":"'3c'!S31","v":0},{"$f":"'3c'!T31","v":0},{"$f":"'3c'!U31","v":0},{"$f":"'3c'!V31","v":0},{"$f":"'3c'!W31","v":0},{"$f":"'3c'!X31","v":0},{"$f":"'3c'!Y31","v":0},{"$f":"'3c'!Z31","v":0},{"$f":"'3c'!AA31","v":0},{"$f":"'3c'!AB31","v":0},{"$f":"'3c'!AC31","v":0},{"$f":"'3c'!AD31","v":0},{"$f":"'3c'!AE31","v":0},{"$f":"'3c'!AF31","v":0},{"$f":"'3c'!AG31","v":0},{"$f":"'3c'!AH31","v":0},{"$f":"'3c'!AI31","v":0},{"$f":"'3c'!AJ31","v":0},{"$f":"'3c'!AK31","v":0},{"$f":"'3c'!AL31","v":0},{"$f":"'3c'!AM31","v":0},{"$f":"'3c'!AN31","v":0},{"$f":"'3c'!AO31","v":0},{"$f":"'3c'!AP31","v":0},{"$f":"'3c'!AQ31","v":0},{"$f":"'3c'!AR31","v":0},{"$f":"'3c'!AS31","v":0},{"$f":"'3c'!AT31","v":0},{"$f":"'3c'!AU31","v":0},{"$f":"'3c'!AV31","v":0},{"$f":"'3c'!AW31","v":0},{"$f":"'3c'!AX31","v":0},{"$f":"'3c'!AY31","v":0},{"$f":"'3c'!AZ31","v":0},{"$f":"'3c'!BA31","v":0},{"$f":"'3c'!BB31","v":0},{"$f":"'3c'!BC31","v":0},{"$f":"'3c'!BD31","v":0},{"$f":"'3c'!BE31","v":0}]
[{"$f":"'3c'!A32","v":"3c"},{"$f":"'3c'!B32","v":0},{"$f":"'3c'!C32","v":0},{"$f":"'3c'!D32","v":"lehrer30"},{"$f":"'3c'!E32","v":0},{"$f":"'3c'!F32","v":0},{"$f":"'3c'!G32","v":0},{"$f":"'3c'!H32","v":0},{"$f":"'3c'!I32","v":0},{"$f":"'3c'!J32","v":0},{"$f":"'3c'!K32","v":0},{"$f":"'3c'!L32","v":0},{"$f":"'3c'!M32","v":0},{"$f":"'3c'!N32","v":0},{"$f":"'3c'!O32","v":0},{"$f":"'3c'!P32","v":0},{"$f":"'3c'!Q32","v":0},{"$f":"'3c'!R32","v":0},{"$f":"'3c'!S32","v":0},{"$f":"'3c'!T32","v":0},{"$f":"'3c'!U32","v":0},{"$f":"'3c'!V32","v":0},{"$f":"'3c'!W32","v":0},{"$f":"'3c'!X32","v":0},{"$f":"'3c'!Y32","v":0},{"$f":"'3c'!Z32","v":0},{"$f":"'3c'!AA32","v":0},{"$f":"'3c'!AB32","v":0},{"$f":"'3c'!AC32","v":0},{"$f":"'3c'!AD32","v":0},{"$f":"'3c'!AE32","v":0},{"$f":"'3c'!AF32","v":0},{"$f":"'3c'!AG32","v":0},{"$f":"'3c'!AH32","v":0},{"$f":"'3c'!AI32","v":0},{"$f":"'3c'!AJ32","v":0},{"$f":"'3c'!AK32","v":0},{"$f":"'3c'!AL32","v":0},{"$f":"'3c'!AM32","v":0},{"$f":"'3c'!AN32","v":0},{"$f":"'3c'!AO32","v":0},{"$f":"'3c'!AP32","v":0},{"$f":"'3c'!AQ32","v":0},{"$f":"'3c'!AR32","v":0},{"$f":"'3c'!AS32","v":0},{"$f":"'3c'!AT32","v":0},{"$f":"'3c'!AU32","v":0},{"$f":"'3c'!AV32","v":0},{"$f":"'3c'!AW32","v":0},{"$f":"'3c'!AX32","v":0},{"$f":"'3c'!AY32","v":0},{"$f":"'3c'!AZ32","v":0},{"$f":"'3c'!BA32","v":0},{"$f":"'3c'!BB32","v":0},{"$f":"'3c'!BC32","v":0},{"$f":"'3c'!BD32","v":0},{"$f":"'3c'!BE32","v":0}]
[{"$f":"'3c'!A33","v":"3c"},{"$f":"'3c'!B33","v":0},{"$f":"'3c'!C33","v":0},{"$f":"'3c'!D33","v":"lehrer31"},{"$f":"'3c'!E33","v":0},{"$f":"'3c'!F33","v":0},{"$f":"'3c'!G33","v":0},{"$f":"'3c'!H33","v":0},{"$f":"'3c'!I33","v":0},{"$f":"'3c'!J33","v":0},{"$f":"'3c'!K33","v":0},{"$f":"'3c'!L33","v":0},{"$f":"'3c'!M33","v":0},{"$f":"'3c'!N33","v":0},{"$f":"'3c'!O33","v":0},{"$f":"'3c'!P33","v":0},{"$f":"'3c'!Q33","v":0},{"$f":"'3c'!R33","v":0},{"$f":"'3c'!S33","v":0},{"$f":"'3c'!T33","v":0},{"$f":"'3c'!U33","v":0},{"$f":"'3c'!V33","v":0},{"$f":"'3c'!W33","v":0},{"$f":"'3c'!X33","v":0},{"$f":"'3c'!Y33","v":0},{"$f":"'3c'!Z33","v":0},{"$f":"'3c'!AA33","v":0},{"$f":"'3c'!AB33","v":0},{"$f":"'3c'!AC33","v":0},{"$f":"'3c'!AD33","v":0},{"$f":"'3c'!AE33","v":0},{"$f":"'3c'!AF33","v":0},{"$f":"'3c'!AG33","v":0},{"$f":"'3c'!AH33","v":0},{"$f":"'3c'!AI33","v":0},{"$f":"'3c'!AJ33","v":0},{"$f":"'3c'!AK33","v":0},{"$f":"'3c'!AL33","v":0},{"$f":"'3c'!AM33","v":0},{"$f":"'3c'!AN33","v":0},{"$f":"'3c'!AO33","v":0},{"$f":"'3c'!AP33","v":0},{"$f":"'3c'!AQ33","v":0},{"$f":"'3c'!AR33","v":0},{"$f":"'3c'!AS33","v":0},{"$f":"'3c'!AT33","v":0},{"$f":"'3c'!AU33","v":0},{"$f":"'3c'!AV33","v":0},{"$f":"'3c'!AW33","v":0},{"$f":"'3c'!AX33","v":0},{"$f":"'3c'!AY33","v":0},{"$f":"'3c'!AZ33","v":0},{"$f":"'3c'!BA33","v":0},{"$f":"'3c'!BB33","v":0},{"$f":"'3c'!BC33","v":0},{"$f":"'3c'!BD33","v":0},{"$f":"'3c'!BE33","v":0}]
[{"$f":"'3c'!A34","v":"3c"},{"$f":"'3c'!B34","v":0},{"$f":"'3c'!C34","v":0},{"$f":"'3c'!D34","v":"lehrer32"},{"$f":"'3c'!E34","v":0},{"$f":"'3c'!F34","v":0},{"$f":"'3c'!G34","v":0},{"$f":"'3c'!H34","v":0},{"$f":"'3c'!I34","v":0},{"$f":"'3c'!J34","v":0},{"$f":"'3c'!K34","v":0},{"$f":"'3c'!L34","v":0},{"$f":"'3c'!M34","v":0},{"$f":"'3c'!N34","v":0},{"$f":"'3c'!O34","v":0},{"$f":"'3c'!P34","v":0},{"$f":"'3c'!Q34","v":0},{"$f":"'3c'!R34","v":0},{"$f":"'3c'!S34","v":0},{"$f":"'3c'!T34","v":0},{"$f":"'3c'!U34","v":0},{"$f":"'3c'!V34","v":0},{"$f":"'3c'!W34","v":0},{"$f":"'3c'!X34","v":0},{"$f":"'3c'!Y34","v":0},{"$f":"'3c'!Z34","v":0},{"$f":"'3c'!AA34","v":0},{"$f":"'3c'!AB34","v":0},{"$f":"'3c'!AC34","v":0},{"$f":"'3c'!AD34","v":0},{"$f":"'3c'!AE34","v":0},{"$f":"'3c'!AF34","v":0},{"$f":"'3c'!AG34","v":0},{"$f":"'3c'!AH34","v":0},{"$f":"'3c'!AI34","v":0},{"$f":"'3c'!AJ34","v":0},{"$f":"'3c'!AK34","v":0},{"$f":"'3c'!AL34","v":0},{"$f":"'3c'!AM34","v":0},{"$f":"'3c'!AN34","v":0},{"$f":"'3c'!AO34","v":0},{"$f":"'3c'!AP34","v":0},{"$f":"'3c'!AQ34","v":0},{"$f":"'3c'!AR34","v":0},{"$f":"'3c'!AS34","v":0},{"$f":"'3c'!AT34","v":0},{"$f":"'3c'!AU34","v":0},{"$f":"'3c'!AV34","v":0},{"$f":"'3c'!AW34","v":0},{"$f":"'3c'!AX34","v":0},{"$f":"'3c'!AY34","v":0},{"$f":"'3c'!AZ34","v":0},{"$f":"'3c'!BA34","v":0},{"$f":"'3c'!BB34","v":0},{"$f":"'3c'!BC34","v":0},{"$f":"'3c'!BD34","v":0},{"$f":"'3c'!BE34","v":0}]
[{"$f":"'3c'!A35","v":"3c"},{"$f":"'3c'!B35","v":0},{"$f":"'3c'!C35","v":0},{"$f":"'3c'!D35","v":"lehrer33"},{"$f":"'3c'!E35","v":0},{"$f":"'3c'!F35","v":0},{"$f":"'3c'!G35","v":0},{"$f":"'3c'!H35","v":0},{"$f":"'3c'!I35","v":0},{"$f":"'3c'!J35","v":0},{"$f":"'3c'!K35","v":0},{"$f":"'3c'!L35","v":0},{"$f":"'3c'!M35","v":0},{"$f":"'3c'!N35","v":0},{"$f":"'3c'!O35","v":0},{"$f":"'3c'!P35","v":0},{"$f":"'3c'!Q35","v":0},{"$f":"'3c'!R35","v":0},{"$f":"'3c'!S35","v":0},{"$f":"'3c'!T35","v":0},{"$f":"'3c'!U35","v":0},{"$f":"'3c'!V35","v":0},{"$f":"'3c'!W35","v":0},{"$f":"'3c'!X35","v":0},{"$f":"'3c'!Y35","v":0},{"$f":"'3c'!Z35","v":0},{"$f":"'3c'!AA35","v":0},{"$f":"'3c'!AB35","v":0},{"$f":"'3c'!AC35","v":0},{"$f":"'3c'!AD35","v":0},{"$f":"'3c'!AE35","v":0},{"$f":"'3c'!AF35","v":0},{"$f":"'3c'!AG35","v":0},{"$f":"'3c'!AH35","v":0},{"$f":"'3c'!AI35","v":0},{"$f":"'3c'!AJ35","v":0},{"$f":"'3c'!AK35","v":0},{"$f":"'3c'!AL35","v":0},{"$f":"'3c'!AM35","v":0},{"$f":"'3c'!AN35","v":0},{"$f":"'3c'!AO35","v":0},{"$f":"'3c'!AP35","v":0},{"$f":"'3c'!AQ35","v":0},{"$f":"'3c'!AR35","v":0},{"$f":"'3c'!AS35","v":0},{"$f":"'3c'!AT35","v":0},{"$f":"'3c'!AU35","v":0},{"$f":"'3c'!AV35","v":0},{"$f":"'3c'!AW35","v":0},{"$f":"'3c'!AX35","v":0},{"$f":"'3c'!AY35","v":0},{"$f":"'3c'!AZ35","v":0},{"$f":"'3c'!BA35","v":0},{"$f":"'3c'!BB35","v":0},{"$f":"'3c'!BC35","v":0},{"$f":"'3c'!BD35","v":0},{"$f":"'3c'!BE35","v":0}]
[{"$f":"'3c'!A36","v":"3c"},{"$f":"'3c'!B36","v":0},{"$f":"'3c'!C36","v":0},{"$f":"'3c'!D36","v":"lehrer34"},{"$f":"'3c'!E36","v":0},{"$f":"'3c'!F36","v":0},{"$f":"'3c'!G36","v":0},{"$f":"'3c'!H36","v":0},{"$f":"'3c'!I36","v":0},{"$f":"'3c'!J36","v":0},{"$f":"'3c'!K36","v":0},{"$f":"'3c'!L36","v":0},{"$f":"'3c'!M36","v":0},{"$f":"'3c'!N36","v":0},{"$f":"'3c'!O36","v":0},{"$f":"'3c'!P36","v":0},{"$f":"'3c'!Q36","v":0},{"$f":"'3c'!R36","v":0},{"$f":"'3c'!S36","v":0},{"$f":"'3c'!T36","v":0},{"$f":"'3c'!U36","v":0},{"$f":"'3c'!V36","v":0},{"$f":"'3c'!W36","v":0},{"$f":"'3c'!X36","v":0},{"$f":"'3c'!Y36","v":0},{"$f":"'3c'!Z36","v":0},{"$f":"'3c'!AA36","v":0},{"$f":"'3c'!AB36","v":0},{"$f":"'3c'!AC36","v":0},{"$f":"'3c'!AD36","v":0},{"$f":"'3c'!AE36","v":0},{"$f":"'3c'!AF36","v":0},{"$f":"'3c'!AG36","v":0},{"$f":"'3c'!AH36","v":0},{"$f":"'3c'!AI36","v":0},{"$f":"'3c'!AJ36","v":0},{"$f":"'3c'!AK36","v":0},{"$f":"'3c'!AL36","v":0},{"$f":"'3c'!AM36","v":0},{"$f":"'3c'!AN36","v":0},{"$f":"'3c'!AO36","v":0},{"$f":"'3c'!AP36","v":0},{"$f":"'3c'!AQ36","v":0},{"$f":"'3c'!AR36","v":0},{"$f":"'3c'!AS36","v":0},{"$f":"'3c'!AT36","v":0},{"$f":"'3c'!AU36","v":0},{"$f":"'3c'!AV36","v":0},{"$f":"'3c'!AW36","v":0},{"$f":"'3c'!AX36","v":0},{"$f":"'3c'!AY36","v":0},{"$f":"'3c'!AZ36","v":0},{"$f":"'3c'!BA36","v":0},{"$f":"'3c'!BB36","v":0},{"$f":"'3c'!BC36","v":0},{"$f":"'3c'!BD36","v":0},{"$f":"'3c'!BE36","v":0}]
[{"$f":"'3c'!A37","v":"3c"},{"$f":"'3c'!B37","v":0},{"$f":"'3c'!C37","v":0},{"$f":"'3c'!D37","v":"lehrer35"},{"$f":"'3c'!E37","v":0},{"$f":"'3c'!F37","v":0},{"$f":"'3c'!G37","v":0},{"$f":"'3c'!H37","v":0},{"$f":"'3c'!I37","v":0},{"$f":"'3c'!J37","v":0},{"$f":"'3c'!K37","v":0},{"$f":"'3c'!L37","v":0},{"$f":"'3c'!M37","v":0},{"$f":"'3c'!N37","v":0},{"$f":"'3c'!O37","v":0},{"$f":"'3c'!P37","v":0},{"$f":"'3c'!Q37","v":0},{"$f":"'3c'!R37","v":0},{"$f":"'3c'!S37","v":0},{"$f":"'3c'!T37","v":0},{"$f":"'3c'!U37","v":0},{"$f":"'3c'!V37","v":0},{"$f":"'3c'!W37","v":0},{"$f":"'3c'!X37","v":0},{"$f":"'3c'!Y37","v":0},{"$f":"'3c'!Z37","v":0},{"$f":"'3c'!AA37","v":0},{"$f":"'3c'!AB37","v":0},{"$f":"'3c'!AC37","v":0},{"$f":"'3c'!AD37","v":0},{"$f":"'3c'!AE37","v":0},{"$f":"'3c'!AF37","v":0},{"$f":"'3c'!AG37","v":0},{"$f":"'3c'!AH37","v":0},{"$f":"'3c'!AI37","v":0},{"$f":"'3c'!AJ37","v":0},{"$f":"'3c'!AK37","v":0},{"$f":"'3c'!AL37","v":0},{"$f":"'3c'!AM37","v":0},{"$f":"'3c'!AN37","v":0},{"$f":"'3c'!AO37","v":0},{"$f":"'3c'!AP37","v":0},{"$f":"'3c'!AQ37","v":0},{"$f":"'3c'!AR37","v":0},{"$f":"'3c'!AS37","v":0},{"$f":"'3c'!AT37","v":0},{"$f":"'3c'!AU37","v":0},{"$f":"'3c'!AV37","v":0},{"$f":"'3c'!AW37","v":0},{"$f":"'3c'!AX37","v":0},{"$f":"'3c'!AY37","v":0},{"$f":"'3c'!AZ37","v":0},{"$f":"'3c'!BA37","v":0},{"$f":"'3c'!BB37","v":0},{"$f":"'3c'!BC37","v":0},{"$f":"'3c'!BD37","v":0},{"$f":"'3c'!BE37","v":0}]
[{"$f":"'3c'!A38","v":"3c"},{"$f":"'3c'!B38","v":0},{"$f":"'3c'!C38","v":0},{"$f":"'3c'!D38","v":"lehrer36"},{"$f":"'3c'!E38","v":0},{"$f":"'3c'!F38","v":0},{"$f":"'3c'!G38","v":0},{"$f":"'3c'!H38","v":0},{"$f":"'3c'!I38","v":0},{"$f":"'3c'!J38","v":0},{"$f":"'3c'!K38","v":0},{"$f":"'3c'!L38","v":0},{"$f":"'3c'!M38","v":0},{"$f":"'3c'!N38","v":0},{"$f":"'3c'!O38","v":0},{"$f":"'3c'!P38","v":0},{"$f":"'3c'!Q38","v":0},{"$f":"'3c'!R38","v":0},{"$f":"'3c'!S38","v":0},{"$f":"'3c'!T38","v":0},{"$f":"'3c'!U38","v":0},{"$f":"'3c'!V38","v":0},{"$f":"'3c'!W38","v":0},{"$f":"'3c'!X38","v":0},{"$f":"'3c'!Y38","v":0},{"$f":"'3c'!Z38","v":0},{"$f":"'3c'!AA38","v":0},{"$f":"'3c'!AB38","v":0},{"$f":"'3c'!AC38","v":0},{"$f":"'3c'!AD38","v":0},{"$f":"'3c'!AE38","v":0},{"$f":"'3c'!AF38","v":0},{"$f":"'3c'!AG38","v":0},{"$f":"'3c'!AH38","v":0},{"$f":"'3c'!AI38","v":0},{"$f":"'3c'!AJ38","v":0},{"$f":"'3c'!AK38","v":0},{"$f":"'3c'!AL38","v":0},{"$f":"'3c'!AM38","v":0},{"$f":"'3c'!AN38","v":0},{"$f":"'3c'!AO38","v":0},{"$f":"'3c'!AP38","v":0},{"$f":"'3c'!AQ38","v":0},{"$f":"'3c'!AR38","v":0},{"$f":"'3c'!AS38","v":0},{"$f":"'3c'!AT38","v":0},{"$f":"'3c'!AU38","v":0},{"$f":"'3c'!AV38","v":0},{"$f":"'3c'!AW38","v":0},{"$f":"'3c'!AX38","v":0},{"$f":"'3c'!AY38","v":0},{"$f":"'3c'!AZ38","v":0},{"$f":"'3c'!BA38","v":0},{"$f":"'3c'!BB38","v":0},{"$f":"'3c'!BC38","v":0},{"$f":"'3c'!BD38","v":0},{"$f":"'3c'!BE38","v":0}]
[{"$f":"'3c'!A39","v":"3c"},{"$f":"'3c'!B39","v":0},{"$f":"'3c'!C39","v":0},{"$f":"'3c'!D39","v":"lehrer37"},{"$f":"'3c'!E39","v":0},{"$f":"'3c'!F39","v":0},{"$f":"'3c'!G39","v":0},{"$f":"'3c'!H39","v":0},{"$f":"'3c'!I39","v":0},{"$f":"'3c'!J39","v":0},{"$f":"'3c'!K39","v":0},{"$f":"'3c'!L39","v":0},{"$f":"'3c'!M39","v":0},{"$f":"'3c'!N39","v":0},{"$f":"'3c'!O39","v":0},{"$f":"'3c'!P39","v":0},{"$f":"'3c'!Q39","v":0},{"$f":"'3c'!R39","v":0},{"$f":"'3c'!S39","v":0},{"$f":"'3c'!T39","v":0},{"$f":"'3c'!U39","v":0},{"$f":"'3c'!V39","v":0},{"$f":"'3c'!W39","v":0},{"$f":"'3c'!X39","v":0},{"$f":"'3c'!Y39","v":0},{"$f":"'3c'!Z39","v":0},{"$f":"'3c'!AA39","v":0},{"$f":"'3c'!AB39","v":0},{"$f":"'3c'!AC39","v":0},{"$f":"'3c'!AD39","v":0},{"$f":"'3c'!AE39","v":0},{"$f":"'3c'!AF39","v":0},{"$f":"'3c'!AG39","v":0},{"$f":"'3c'!AH39","v":0},{"$f":"'3c'!AI39","v":0},{"$f":"'3c'!AJ39","v":0},{"$f":"'3c'!AK39","v":0},{"$f":"'3c'!AL39","v":0},{"$f":"'3c'!AM39","v":0},{"$f":"'3c'!AN39","v":0},{"$f":"'3c'!AO39","v":0},{"$f":"'3c'!AP39","v":0},{"$f":"'3c'!AQ39","v":0},{"$f":"'3c'!AR39","v":0},{"$f":"'3c'!AS39","v":0},{"$f":"'3c'!AT39","v":0},{"$f":"'3c'!AU39","v":0},{"$f":"'3c'!AV39","v":0},{"$f":"'3c'!AW39","v":0},{"$f":"'3c'!AX39","v":0},{"$f":"'3c'!AY39","v":0},{"$f":"'3c'!AZ39","v":0},{"$f":"'3c'!BA39","v":0},{"$f":"'3c'!BB39","v":0},{"$f":"'3c'!BC39","v":0},{"$f":"'3c'!BD39","v":0},{"$f":"'3c'!BE39","v":0}]
[{"$f":"'3c'!A40","v":"3c"},{"$f":"'3c'!B40","v":0},{"$f":"'3c'!C40","v":0},{"$f":"'3c'!D40","v":"lehrer38"},{"$f":"'3c'!E40","v":0},{"$f":"'3c'!F40","v":0},{"$f":"'3c'!G40","v":0},{"$f":"'3c'!H40","v":0},{"$f":"'3c'!I40","v":0},{"$f":"'3c'!J40","v":0},{"$f":"'3c'!K40","v":0},{"$f":"'3c'!L40","v":0},{"$f":"'3c'!M40","v":0},{"$f":"'3c'!N40","v":0},{"$f":"'3c'!O40","v":0},{"$f":"'3c'!P40","v":0},{"$f":"'3c'!Q40","v":0},{"$f":"'3c'!R40","v":0},{"$f":"'3c'!S40","v":0},{"$f":"'3c'!T40","v":0},{"$f":"'3c'!U40","v":0},{"$f":"'3c'!V40","v":0},{"$f":"'3c'!W40","v":0},{"$f":"'3c'!X40","v":0},{"$f":"'3c'!Y40","v":0},{"$f":"'3c'!Z40","v":0},{"$f":"'3c'!AA40","v":0},{"$f":"'3c'!AB40","v":0},{"$f":"'3c'!AC40","v":0},{"$f":"'3c'!AD40","v":0},{"$f":"'3c'!AE40","v":0},{"$f":"'3c'!AF40","v":0},{"$f":"'3c'!AG40","v":0},{"$f":"'3c'!AH40","v":0},{"$f":"'3c'!AI40","v":0},{"$f":"'3c'!AJ40","v":0},{"$f":"'3c'!AK40","v":0},{"$f":"'3c'!AL40","v":0},{"$f":"'3c'!AM40","v":0},{"$f":"'3c'!AN40","v":0},{"$f":"'3c'!AO40","v":0},{"$f":"'3c'!AP40","v":0},{"$f":"'3c'!AQ40","v":0},{"$f":"'3c'!AR40","v":0},{"$f":"'3c'!AS40","v":0},{"$f":"'3c'!AT40","v":0},{"$f":"'3c'!AU40","v":0},{"$f":"'3c'!AV40","v":0},{"$f":"'3c'!AW40","v":0},{"$f":"'3c'!AX40","v":0},{"$f":"'3c'!AY40","v":0},{"$f":"'3c'!AZ40","v":0},{"$f":"'3c'!BA40","v":0},{"$f":"'3c'!BB40","v":0},{"$f":"'3c'!BC40","v":0},{"$f":"'3c'!BD40","v":0},{"$f":"'3c'!BE40","v":0}]
[{"$f":"'3c'!A41","v":"3c"},{"$f":"'3c'!B41","v":0},{"$f":"'3c'!C41","v":0},{"$f":"'3c'!D41","v":"lehrer39"},{"$f":"'3c'!E41","v":0},{"$f":"'3c'!F41","v":0},{"$f":"'3c'!G41","v":0},{"$f":"'3c'!H41","v":0},{"$f":"'3c'!I41","v":0},{"$f":"'3c'!J41","v":0},{"$f":"'3c'!K41","v":0},{"$f":"'3c'!L41","v":0},{"$f":"'3c'!M41","v":0},{"$f":"'3c'!N41","v":0},{"$f":"'3c'!O41","v":0},{"$f":"'3c'!P41","v":0},{"$f":"'3c'!Q41","v":0},{"$f":"'3c'!R41","v":0},{"$f":"'3c'!S41","v":0},{"$f":"'3c'!T41","v":0},{"$f":"'3c'!U41","v":0},{"$f":"'3c'!V41","v":0},{"$f":"'3c'!W41","v":0},{"$f":"'3c'!X41","v":0},{"$f":"'3c'!Y41","v":0},{"$f":"'3c'!Z41","v":0},{"$f":"'3c'!AA41","v":0},{"$f":"'3c'!AB41","v":0},{"$f":"'3c'!AC41","v":0},{"$f":"'3c'!AD41","v":0},{"$f":"'3c'!AE41","v":0},{"$f":"'3c'!AF41","v":0},{"$f":"'3c'!AG41","v":0},{"$f":"'3c'!AH41","v":0},{"$f":"'3c'!AI41","v":0},{"$f":"'3c'!AJ41","v":0},{"$f":"'3c'!AK41","v":0},{"$f":"'3c'!AL41","v":0},{"$f":"'3c'!AM41","v":0},{"$f":"'3c'!AN41","v":0},{"$f":"'3c'!AO41","v":0},{"$f":"'3c'!AP41","v":0},{"$f":"'3c'!AQ41","v":0},{"$f":"'3c'!AR41","v":0},{"$f":"'3c'!AS41","v":0},{"$f":"'3c'!AT41","v":0},{"$f":"'3c'!AU41","v":0},{"$f":"'3c'!AV41","v":0},{"$f":"'3c'!AW41","v":0},{"$f":"'3c'!AX41","v":0},{"$f":"'3c'!AY41","v":0},{"$f":"'3c'!AZ41","v":0},{"$f":"'3c'!BA41","v":0},{"$f":"'3c'!BB41","v":0},{"$f":"'3c'!BC41","v":0},{"$f":"'3c'!BD41","v":0},{"$f":"'3c'!BE41","v":0}]
[{"$f":"'3c'!A42","v":"3c"},{"$f":"'3c'!B42","v":0},{"$f":"'3c'!C42","v":0},{"$f":"'3c'!D42","v":"lehrer40"},{"$f":"'3c'!E42","v":0},{"$f":"'3c'!F42","v":0},{"$f":"'3c'!G42","v":0},{"$f":"'3c'!H42","v":0},{"$f":"'3c'!I42","v":0},{"$f":"'3c'!J42","v":0},{"$f":"'3c'!K42","v":0},{"$f":"'3c'!L42","v":0},{"$f":"'3c'!M42","v":0},{"$f":"'3c'!N42","v":0},{"$f":"'3c'!O42","v":0},{"$f":"'3c'!P42","v":0},{"$f":"'3c'!Q42","v":0},{"$f":"'3c'!R42","v":0},{"$f":"'3c'!S42","v":0},{"$f":"'3c'!T42","v":0},{"$f":"'3c'!U42","v":0},{"$f":"'3c'!V42","v":0},{"$f":"'3c'!W42","v":0},{"$f":"'3c'!X42","v":0},{"$f":"'3c'!Y42","v":0},{"$f":"'3c'!Z42","v":0},{"$f":"'3c'!AA42","v":0},{"$f":"'3c'!AB42","v":0},{"$f":"'3c'!AC42","v":0},{"$f":"'3c'!AD42","v":0},{"$f":"'3c'!AE42","v":0},{"$f":"'3c'!AF42","v":0},{"$f":"'3c'!AG42","v":0},{"$f":"'3c'!AH42","v":0},{"$f":"'3c'!AI42","v":0},{"$f":"'3c'!AJ42","v":0},{"$f":"'3c'!AK42","v":0},{"$f":"'3c'!AL42","v":0},{"$f":"'3c'!AM42","v":0},{"$f":"'3c'!AN42","v":0},{"$f":"'3c'!AO42","v":0},{"$f":"'3c'!AP42","v":0},{"$f":"'3c'!AQ42","v":0},{"$f":"'3c'!AR42","v":0},{"$f":"'3c'!AS42","v":0},{"$f":"'3c'!AT42","v":0},{"$f":"'3c'!AU42","v":0},{"$f":"'3c'!AV42","v":0},{"$f":"'3c'!AW42","v":0},{"$f":"'3c'!AX42","v":0},{"$f":"'3c'!AY42","v":0},{"$f":"'3c'!AZ42","v":0},{"$f":"'3c'!BA42","v":0},{"$f":"'3c'!BB42","v":0},{"$f":"'3c'!BC42","v":0},{"$f":"'3c'!BD42","v":0},{"$f":"'3c'!BE42","v":0}]
[{"$f":"'3c'!A43","v":"3c"},{"$f":"'3c'!B43","v":0},{"$f":"'3c'!C43","v":0},{"$f":"'3c'!D43","v":"lehrer41"},{"$f":"'3c'!E43","v":0},{"$f":"'3c'!F43","v":0},{"$f":"'3c'!G43","v":0},{"$f":"'3c'!H43","v":0},{"$f":"'3c'!I43","v":0},{"$f":"'3c'!J43","v":0},{"$f":"'3c'!K43","v":0},{"$f":"'3c'!L43","v":0},{"$f":"'3c'!M43","v":0},{"$f":"'3c'!N43","v":0},{"$f":"'3c'!O43","v":0},{"$f":"'3c'!P43","v":0},{"$f":"'3c'!Q43","v":0},{"$f":"'3c'!R43","v":0},{"$f":"'3c'!S43","v":0},{"$f":"'3c'!T43","v":0},{"$f":"'3c'!U43","v":0},{"$f":"'3c'!V43","v":0},{"$f":"'3c'!W43","v":0},{"$f":"'3c'!X43","v":0},{"$f":"'3c'!Y43","v":0},{"$f":"'3c'!Z43","v":0},{"$f":"'3c'!AA43","v":0},{"$f":"'3c'!AB43","v":0},{"$f":"'3c'!AC43","v":0},{"$f":"'3c'!AD43","v":0},{"$f":"'3c'!AE43","v":0},{"$f":"'3c'!AF43","v":0},{"$f":"'3c'!AG43","v":0},{"$f":"'3c'!AH43","v":0},{"$f":"'3c'!AI43","v":0},{"$f":"'3c'!AJ43","v":0},{"$f":"'3c'!AK43","v":0},{"$f":"'3c'!AL43","v":0},{"$f":"'3c'!AM43","v":0},{"$f":"'3c'!AN43","v":0},{"$f":"'3c'!AO43","v":0},{"$f":"'3c'!AP43","v":0},{"$f":"'3c'!AQ43","v":0},{"$f":"'3c'!AR43","v":0},{"$f":"'3c'!AS43","v":0},{"$f":"'3c'!AT43","v":0},{"$f":"'3c'!AU43","v":0},{"$f":"'3c'!AV43","v":0},{"$f":"'3c'!AW43","v":0},{"$f":"'3c'!AX43","v":0},{"$f":"'3c'!AY43","v":0},{"$f":"'3c'!AZ43","v":0},{"$f":"'3c'!BA43","v":0},{"$f":"'3c'!BB43","v":0},{"$f":"'3c'!BC43","v":0},{"$f":"'3c'!BD43","v":0},{"$f":"'3c'!BE43","v":0}]
[{"$f":"'3c'!A44","v":"3c"},{"$f":"'3c'!B44","v":0},{"$f":"'3c'!C44","v":0},{"$f":"'3c'!D44","v":"lehrer42"},{"$f":"'3c'!E44","v":0},{"$f":"'3c'!F44","v":0},{"$f":"'3c'!G44","v":0},{"$f":"'3c'!H44","v":0},{"$f":"'3c'!I44","v":0},{"$f":"'3c'!J44","v":0},{"$f":"'3c'!K44","v":0},{"$f":"'3c'!L44","v":0},{"$f":"'3c'!M44","v":0},{"$f":"'3c'!N44","v":0},{"$f":"'3c'!O44","v":0},{"$f":"'3c'!P44","v":0},{"$f":"'3c'!Q44","v":0},{"$f":"'3c'!R44","v":0},{"$f":"'3c'!S44","v":0},{"$f":"'3c'!T44","v":0},{"$f":"'3c'!U44","v":0},{"$f":"'3c'!V44","v":0},{"$f":"'3c'!W44","v":0},{"$f":"'3c'!X44","v":0},{"$f":"'3c'!Y44","v":0},{"$f":"'3c'!Z44","v":0},{"$f":"'3c'!AA44","v":0},{"$f":"'3c'!AB44","v":0},{"$f":"'3c'!AC44","v":0},{"$f":"'3c'!AD44","v":0},{"$f":"'3c'!AE44","v":0},{"$f":"'3c'!AF44","v":0},{"$f":"'3c'!AG44","v":0},{"$f":"'3c'!AH44","v":0},{"$f":"'3c'!AI44","v":0},{"$f":"'3c'!AJ44","v":0},{"$f":"'3c'!AK44","v":0},{"$f":"'3c'!AL44","v":0},{"$f":"'3c'!AM44","v":0},{"$f":"'3c'!AN44","v":0},{"$f":"'3c'!AO44","v":0},{"$f":"'3c'!AP44","v":0},{"$f":"'3c'!AQ44","v":0},{"$f":"'3c'!AR44","v":0},{"$f":"'3c'!AS44","v":0},{"$f":"'3c'!AT44","v":0},{"$f":"'3c'!AU44","v":0},{"$f":"'3c'!AV44","v":0},{"$f":"'3c'!AW44","v":0},{"$f":"'3c'!AX44","v":0},{"$f":"'3c'!AY44","v":0},{"$f":"'3c'!AZ44","v":0},{"$f":"'3c'!BA44","v":0},{"$f":"'3c'!BB44","v":0},{"$f":"'3c'!BC44","v":0},{"$f":"'3c'!BD44","v":0},{"$f":"'3c'!BE44","v":0}]
[{"$f":"'3c'!A45","v":"3c"},{"$f":"'3c'!B45","v":0},{"$f":"'3c'!C45","v":0},{"$f":"'3c'!D45","v":"lehrer43"},{"$f":"'3c'!E45","v":0},{"$f":"'3c'!F45","v":0},{"$f":"'3c'!G45","v":0},{"$f":"'3c'!H45","v":0},{"$f":"'3c'!I45","v":0},{"$f":"'3c'!J45","v":0},{"$f":"'3c'!K45","v":0},{"$f":"'3c'!L45","v":0},{"$f":"'3c'!M45","v":0},{"$f":"'3c'!N45","v":0},{"$f":"'3c'!O45","v":0},{"$f":"'3c'!P45","v":0},{"$f":"'3c'!Q45","v":0},{"$f":"'3c'!R45","v":0},{"$f":"'3c'!S45","v":0},{"$f":"'3c'!T45","v":0},{"$f":"'3c'!U45","v":0},{"$f":"'3c'!V45","v":0},{"$f":"'3c'!W45","v":0},{"$f":"'3c'!X45","v":0},{"$f":"'3c'!Y45","v":0},{"$f":"'3c'!Z45","v":0},{"$f":"'3c'!AA45","v":0},{"$f":"'3c'!AB45","v":0},{"$f":"'3c'!AC45","v":0},{"$f":"'3c'!AD45","v":0},{"$f":"'3c'!AE45","v":0},{"$f":"'3c'!AF45","v":0},{"$f":"'3c'!AG45","v":0},{"$f":"'3c'!AH45","v":0},{"$f":"'3c'!AI45","v":0},{"$f":"'3c'!AJ45","v":0},{"$f":"'3c'!AK45","v":0},{"$f":"'3c'!AL45","v":0},{"$f":"'3c'!AM45","v":0},{"$f":"'3c'!AN45","v":0},{"$f":"'3c'!AO45","v":0},{"$f":"'3c'!AP45","v":0},{"$f":"'3c'!AQ45","v":0},{"$f":"'3c'!AR45","v":0},{"$f":"'3c'!AS45","v":0},{"$f":"'3c'!AT45","v":0},{"$f":"'3c'!AU45","v":0},{"$f":"'3c'!AV45","v":0},{"$f":"'3c'!AW45","v":0},{"$f":"'3c'!AX45","v":0},{"$f":"'3c'!AY45","v":0},{"$f":"'3c'!AZ45","v":0},{"$f":"'3c'!BA45","v":0},{"$f":"'3c'!BB45","v":0},{"$f":"'3c'!BC45","v":0},{"$f":"'3c'!BD45","v":0},{"$f":"'3c'!BE45","v":0}]
[{"$f":"'3c'!A46","v":"3c"},{"$f":"'3c'!B46","v":0},{"$f":"'3c'!C46","v":0},{"$f":"'3c'!D46","v":"lehrer44"},{"$f":"'3c'!E46","v":0},{"$f":"'3c'!F46","v":0},{"$f":"'3c'!G46","v":0},{"$f":"'3c'!H46","v":0},{"$f":"'3c'!I46","v":0},{"$f":"'3c'!J46","v":0},{"$f":"'3c'!K46","v":0},{"$f":"'3c'!L46","v":0},{"$f":"'3c'!M46","v":0},{"$f":"'3c'!N46","v":0},{"$f":"'3c'!O46","v":0},{"$f":"'3c'!P46","v":0},{"$f":"'3c'!Q46","v":0},{"$f":"'3c'!R46","v":0},{"$f":"'3c'!S46","v":0},{"$f":"'3c'!T46","v":0},{"$f":"'3c'!U46","v":0},{"$f":"'3c'!V46","v":0},{"$f":"'3c'!W46","v":0},{"$f":"'3c'!X46","v":0},{"$f":"'3c'!Y46","v":0},{"$f":"'3c'!Z46","v":0},{"$f":"'3c'!AA46","v":0},{"$f":"'3c'!AB46","v":0},{"$f":"'3c'!AC46","v":0},{"$f":"'3c'!AD46","v":0},{"$f":"'3c'!AE46","v":0},{"$f":"'3c'!AF46","v":0},{"$f":"'3c'!AG46","v":0},{"$f":"'3c'!AH46","v":0},{"$f":"'3c'!AI46","v":0},{"$f":"'3c'!AJ46","v":0},{"$f":"'3c'!AK46","v":0},{"$f":"'3c'!AL46","v":0},{"$f":"'3c'!AM46","v":0},{"$f":"'3c'!AN46","v":0},{"$f":"'3c'!AO46","v":0},{"$f":"'3c'!AP46","v":0},{"$f":"'3c'!AQ46","v":0},{"$f":"'3c'!AR46","v":0},{"$f":"'3c'!AS46","v":0},{"$f":"'3c'!AT46","v":0},{"$f":"'3c'!AU46","v":0},{"$f":"'3c'!AV46","v":0},{"$f":"'3c'!AW46","v":0},{"$f":"'3c'!AX46","v":0},{"$f":"'3c'!AY46","v":0},{"$f":"'3c'!AZ46","v":0},{"$f":"'3c'!BA46","v":0},{"$f":"'3c'!BB46","v":0},{"$f":"'3c'!BC46","v":0},{"$f":"'3c'!BD46","v":0},{"$f":"'3c'!BE46","v":0}]
[{"$f":"'3c'!A47","v":"3c"},{"$f":"'3c'!B47","v":0},{"$f":"'3c'!C47","v":0},{"$f":"'3c'!D47","v":"lehrer45"},{"$f":"'3c'!E47","v":0},{"$f":"'3c'!F47","v":0},{"$f":"'3c'!G47","v":0},{"$f":"'3c'!H47","v":0},{"$f":"'3c'!I47","v":0},{"$f":"'3c'!J47","v":0},{"$f":"'3c'!K47","v":0},{"$f":"'3c'!L47","v":0},{"$f":"'3c'!M47","v":0},{"$f":"'3c'!N47","v":0},{"$f":"'3c'!O47","v":0},{"$f":"'3c'!P47","v":0},{"$f":"'3c'!Q47","v":0},{"$f":"'3c'!R47","v":0},{"$f":"'3c'!S47","v":0},{"$f":"'3c'!T47","v":0},{"$f":"'3c'!U47","v":0},{"$f":"'3c'!V47","v":0},{"$f":"'3c'!W47","v":0},{"$f":"'3c'!X47","v":0},{"$f":"'3c'!Y47","v":0},{"$f":"'3c'!Z47","v":0},{"$f":"'3c'!AA47","v":0},{"$f":"'3c'!AB47","v":0},{"$f":"'3c'!AC47","v":0},{"$f":"'3c'!AD47","v":0},{"$f":"'3c'!AE47","v":0},{"$f":"'3c'!AF47","v":0},{"$f":"'3c'!AG47","v":0},{"$f":"'3c'!AH47","v":0},{"$f":"'3c'!AI47","v":0},{"$f":"'3c'!AJ47","v":0},{"$f":"'3c'!AK47","v":0},{"$f":"'3c'!AL47","v":0},{"$f":"'3c'!AM47","v":0},{"$f":"'3c'!AN47","v":0},{"$f":"'3c'!AO47","v":0},{"$f":"'3c'!AP47","v":0},{"$f":"'3c'!AQ47","v":0},{"$f":"'3c'!AR47","v":0},{"$f":"'3c'!AS47","v":0},{"$f":"'3c'!AT47","v":0},{"$f":"'3c'!AU47","v":0},{"$f":"'3c'!AV47","v":0},{"$f":"'3c'!AW47","v":0},{"$f":"'3c'!AX47","v":0},{"$f":"'3c'!AY47","v":0},{"$f":"'3c'!AZ47","v":0},{"$f":"'3c'!BA47","v":0},{"$f":"'3c'!BB47","v":0},{"$f":"'3c'!BC47","v":0},{"$f":"'3c'!BD47","v":0},{"$f":"'3c'!BE47","v":0}]
[{"$f":"'3c'!A48","v":"3c"},{"$f":"'3c'!B48","v":0},{"$f":"'3c'!C48","v":0},{"$f":"'3c'!D48","v":"lehrer46"},{"$f":"'3c'!E48","v":0},{"$f":"'3c'!F48","v":0},{"$f":"'3c'!G48","v":0},{"$f":"'3c'!H48","v":0},{"$f":"'3c'!I48","v":0},{"$f":"'3c'!J48","v":0},{"$f":"'3c'!K48","v":0},{"$f":"'3c'!L48","v":0},{"$f":"'3c'!M48","v":0},{"$f":"'3c'!N48","v":0},{"$f":"'3c'!O48","v":0},{"$f":"'3c'!P48","v":0},{"$f":"'3c'!Q48","v":0},{"$f":"'3c'!R48","v":0},{"$f":"'3c'!S48","v":0},{"$f":"'3c'!T48","v":0},{"$f":"'3c'!U48","v":0},{"$f":"'3c'!V48","v":0},{"$f":"'3c'!W48","v":0},{"$f":"'3c'!X48","v":0},{"$f":"'3c'!Y48","v":0},{"$f":"'3c'!Z48","v":0},{"$f":"'3c'!AA48","v":0},{"$f":"'3c'!AB48","v":0},{"$f":"'3c'!AC48","v":0},{"$f":"'3c'!AD48","v":0},{"$f":"'3c'!AE48","v":0},{"$f":"'3c'!AF48","v":0},{"$f":"'3c'!AG48","v":0},{"$f":"'3c'!AH48","v":0},{"$f":"'3c'!AI48","v":0},{"$f":"'3c'!AJ48","v":0},{"$f":"'3c'!AK48","v":0},{"$f":"'3c'!AL48","v":0},{"$f":"'3c'!AM48","v":0},{"$f":"'3c'!AN48","v":0},{"$f":"'3c'!AO48","v":0},{"$f":"'3c'!AP48","v":0},{"$f":"'3c'!AQ48","v":0},{"$f":"'3c'!AR48","v":0},{"$f":"'3c'!AS48","v":0},{"$f":"'3c'!AT48","v":0},{"$f":"'3c'!AU48","v":0},{"$f":"'3c'!AV48","v":0},{"$f":"'3c'!AW48","v":0},{"$f":"'3c'!AX48","v":0},{"$f":"'3c'!AY48","v":0},{"$f":"'3c'!AZ48","v":0},{"$f":"'3c'!BA48","v":0},{"$f":"'3c'!BB48","v":0},{"$f":"'3c'!BC48","v":0},{"$f":"'3c'!BD48","v":0},{"$f":"'3c'!BE48","v":0}]
[{"$f":"'3c'!A49","v":"3c"},{"$f":"'3c'!B49","v":0},{"$f":"'3c'!C49","v":0},{"$f":"'3c'!D49","v":"lehrer47"},{"$f":"'3c'!E49","v":0},{"$f":"'3c'!F49","v":0},{"$f":"'3c'!G49","v":0},{"$f":"'3c'!H49","v":0},{"$f":"'3c'!I49","v":0},{"$f":"'3c'!J49","v":0},{"$f":"'3c'!K49","v":0},{"$f":"'3c'!L49","v":0},{"$f":"'3c'!M49","v":0},{"$f":"'3c'!N49","v":0},{"$f":"'3c'!O49","v":0},{"$f":"'3c'!P49","v":0},{"$f":"'3c'!Q49","v":0},{"$f":"'3c'!R49","v":0},{"$f":"'3c'!S49","v":0},{"$f":"'3c'!T49","v":0},{"$f":"'3c'!U49","v":0},{"$f":"'3c'!V49","v":0},{"$f":"'3c'!W49","v":0},{"$f":"'3c'!X49","v":0},{"$f":"'3c'!Y49","v":0},{"$f":"'3c'!Z49","v":0},{"$f":"'3c'!AA49","v":0},{"$f":"'3c'!AB49","v":0},{"$f":"'3c'!AC49","v":0},{"$f":"'3c'!AD49","v":0},{"$f":"'3c'!AE49","v":0},{"$f":"'3c'!AF49","v":0},{"$f":"'3c'!AG49","v":0},{"$f":"'3c'!AH49","v":0},{"$f":"'3c'!AI49","v":0},{"$f":"'3c'!AJ49","v":0},{"$f":"'3c'!AK49","v":0},{"$f":"'3c'!AL49","v":0},{"$f":"'3c'!AM49","v":0},{"$f":"'3c'!AN49","v":0},{"$f":"'3c'!AO49","v":0},{"$f":"'3c'!AP49","v":0},{"$f":"'3c'!AQ49","v":0},{"$f":"'3c'!AR49","v":0},{"$f":"'3c'!AS49","v":0},{"$f":"'3c'!AT49","v":0},{"$f":"'3c'!AU49","v":0},{"$f":"'3c'!AV49","v":0},{"$f":"'3c'!AW49","v":0},{"$f":"'3c'!AX49","v":0},{"$f":"'3c'!AY49","v":0},{"$f":"'3c'!AZ49","v":0},{"$f":"'3c'!BA49","v":0},{"$f":"'3c'!BB49","v":0},{"$f":"'3c'!BC49","v":0},{"$f":"'3c'!BD49","v":0},{"$f":"'3c'!BE49","v":0}]
[{"$f":"'3c'!A50","v":"3c"},{"$f":"'3c'!B50","v":0},{"$f":"'3c'!C50","v":0},{"$f":"'3c'!D50","v":"lehrer48"},{"$f":"'3c'!E50","v":0},{"$f":"'3c'!F50","v":0},{"$f":"'3c'!G50","v":0},{"$f":"'3c'!H50","v":0},{"$f":"'3c'!I50","v":0},{"$f":"'3c'!J50","v":0},{"$f":"'3c'!K50","v":0},{"$f":"'3c'!L50","v":0},{"$f":"'3c'!M50","v":0},{"$f":"'3c'!N50","v":0},{"$f":"'3c'!O50","v":0},{"$f":"'3c'!P50","v":0},{"$f":"'3c'!Q50","v":0},{"$f":"'3c'!R50","v":0},{"$f":"'3c'!S50","v":0},{"$f":"'3c'!T50","v":0},{"$f":"'3c'!U50","v":0},{"$f":"'3c'!V50","v":0},{"$f":"'3c'!W50","v":0},{"$f":"'3c'!X50","v":0},{"$f":"'3c'!Y50","v":0},{"$f":"'3c'!Z50","v":0},{"$f":"'3c'!AA50","v":0},{"$f":"'3c'!AB50","v":0},{"$f":"'3c'!AC50","v":0},{"$f":"'3c'!AD50","v":0},{"$f":"'3c'!AE50","v":0},{"$f":"'3c'!AF50","v":0},{"$f":"'3c'!AG50","v":0},{"$f":"'3c'!AH50","v":0},{"$f":"'3c'!AI50","v":0},{"$f":"'3c'!AJ50","v":0},{"$f":"'3c'!AK50","v":0},{"$f":"'3c'!AL50","v":0},{"$f":"'3c'!AM50","v":0},{"$f":"'3c'!AN50","v":0},{"$f":"'3c'!AO50","v":0},{"$f":"'3c'!AP50","v":0},{"$f":"'3c'!AQ50","v":0},{"$f":"'3c'!AR50","v":0},{"$f":"'3c'!AS50","v":0},{"$f":"'3c'!AT50","v":0},{"$f":"'3c'!AU50","v":0},{"$f":"'3c'!AV50","v":0},{"$f":"'3c'!AW50","v":0},{"$f":"'3c'!AX50","v":0},{"$f":"'3c'!AY50","v":0},{"$f":"'3c'!AZ50","v":0},{"$f":"'3c'!BA50","v":0},{"$f":"'3c'!BB50","v":0},{"$f":"'3c'!BC50","v":0},{"$f":"'3c'!BD50","v":0},{"$f":"'3c'!BE50","v":0}]
[{"$f":"'4a'!A3","v":"4a"},{"$f":"'4a'!B3","v":0},{"$f":"'4a'!C3","v":0},{"$f":"'4a'!D3","v":"lehrer01"},{"$f":"'4a'!E3","v":0},{"$f":"'4a'!F3","v":0},{"$f":"'4a'!G3","v":0},{"$f":"'4a'!H3","v":0},{"$f":"'4a'!I3","v":0},{"$f":"'4a'!J3","v":0},{"$f":"'4a'!K3","v":0},{"$f":"'4a'!L3","v":0},{"$f":"'4a'!M3","v":0},{"$f":"'4a'!N3","v":0},{"$f":"'4a'!O3","v":0},{"$f":"'4a'!P3","v":0},{"$f":"'4a'!Q3","v":0},{"$f":"'4a'!R3","v":0},{"$f":"'4a'!S3","v":0},{"$f":"'4a'!T3","v":0},{"$f":"'4a'!U3","v":0},{"$f":"'4a'!V3","v":0},{"$f":"'4a'!W3","v":0},{"$f":"'4a'!X3","v":0},{"$f":"'4a'!Y3","v":0},{"$f":"'4a'!Z3","v":0},{"$f":"'4a'!AA3","v":0},{"$f":"'4a'!AB3","v":0},{"$f":"'4a'!AC3","v":0},{"$f":"'4a'!AD3","v":0},{"$f":"'4a'!AE3","v":0},{"$f":"'4a'!AF3","v":0},{"$f":"'4a'!AG3","v":0},{"$f":"'4a'!AH3","v":0},{"$f":"'4a'!AI3","v":0},{"$f":"'4a'!AJ3","v":0},{"$f":"'4a'!AK3","v":0},{"$f":"'4a'!AL3","v":0},{"$f":"'4a'!AM3","v":0},{"$f":"'4a'!AN3","v":0},{"$f":"'4a'!AO3","v":0},{"$f":"'4a'!AP3","v":0},{"$f":"'4a'!AQ3","v":0},{"$f":"'4a'!AR3","v":0},{"$f":"'4a'!AS3","v":0},{"$f":"'4a'!AT3","v":0},{"$f":"'4a'!AU3","v":0},{"$f":"'4a'!AV3","v":0},{"$f":"'4a'!AW3","v":0},{"$f":"'4a'!AX3","v":0},{"$f":"'4a'!AY3","v":0},{"$f":"'4a'!AZ3","v":0},{"$f":"'4a'!BA3","v":0},{"$f":"'4a'!BB3","v":0},{"$f":"'4a'!BC3","v":0},{"$f":"'4a'!BD3","v":0},{"$f":"'4a'!BE3","v":0}]
[{"$f":"'4a'!A4","v":"4a"},{"$f":"'4a'!B4","v":0},{"$f":"'4a'!C4","v":0},{"$f":"'4a'!D4","v":"lehrer02"},{"$f":"'4a'!E4","v":0},{"$f":"'4a'!F4","v":0},{"$f":"'4a'!G4","v":0},{"$f":"'4a'!H4","v":0},{"$f":"'4a'!I4","v":0},{"$f":"'4a'!J4","v":0},{"$f":"'4a'!K4","v":0},{"$f":"'4a'!L4","v":0},{"$f":"'4a'!M4","v":0},{"$f":"'4a'!N4","v":0},{"$f":"'4a'!O4","v":0},{"$f":"'4a'!P4","v":0},{"$f":"'4a'!Q4","v":0},{"$f":"'4a'!R4","v":0},{"$f":"'4a'!S4","v":0},{"$f":"'4a'!T4","v":0},{"$f":"'4a'!U4","v":0},{"$f":"'4a'!V4","v":0},{"$f":"'4a'!W4","v":0},{"$f":"'4a'!X4","v":0},{"$f":"'4a'!Y4","v":0},{"$f":"'4a'!Z4","v":0},{"$f":"'4a'!AA4","v":0},{"$f":"'4a'!AB4","v":0},{"$f":"'4a'!AC4","v":0},{"$f":"'4a'!AD4","v":0},{"$f":"'4a'!AE4","v":0},{"$f":"'4a'!AF4","v":0},{"$f":"'4a'!AG4","v":0},{"$f":"'4a'!AH4","v":0},{"$f":"'4a'!AI4","v":0},{"$f":"'4a'!AJ4","v":0},{"$f":"'4a'!AK4","v":0},{"$f":"'4a'!AL4","v":0},{"$f":"'4a'!AM4","v":0},{"$f":"'4a'!AN4","v":0},{"$f":"'4a'!AO4","v":0},{"$f":"'4a'!AP4","v":0},{"$f":"'4a'!AQ4","v":0},{"$f":"'4a'!AR4","v":0},{"$f":"'4a'!AS4","v":0},{"$f":"'4a'!AT4","v":0},{"$f":"'4a'!AU4","v":0},{"$f":"'4a'!AV4","v":0},{"$f":"'4a'!AW4","v":0},{"$f":"'4a'!AX4","v":0},{"$f":"'4a'!AY4","v":0},{"$f":"'4a'!AZ4","v":0},{"$f":"'4a'!BA4","v":0},{"$f":"'4a'!BB4","v":0},{"$f":"'4a'!BC4","v":0},{"$f":"'4a'!BD4","v":0},{"$f":"'4a'!BE4","v":0}]
[{"$f":"'4a'!A5","v":"4a"},{"$f":"'4a'!B5","v":0},{"$f":"'4a'!C5","v":0},{"$f":"'4a'!D5","v":"lehrer03"},{"$f":"'4a'!E5","v":0},{"$f":"'4a'!F5","v":0},{"$f":"'4a'!G5","v":0},{"$f":"'4a'!H5","v":0},{"$f":"'4a'!I5","v":0},{"$f":"'4a'!J5","v":0},{"$f":"'4a'!K5","v":0},{"$f":"'4a'!L5","v":0},{"$f":"'4a'!M5","v":0},{"$f":"'4a'!N5","v":0},{"$f":"'4a'!O5","v":0},{"$f":"'4a'!P5","v":0},{"$f":"'4a'!Q5","v":0},{"$f":"'4a'!R5","v":0},{"$f":"'4a'!S5","v":0},{"$f":"'4a'!T5","v":0},{"$f":"'4a'!U5","v":0},{"$f":"'4a'!V5","v":0},{"$f":"'4a'!W5","v":0},{"$f":"'4a'!X5","v":0},{"$f":"'4a'!Y5","v":0},{"$f":"'4a'!Z5","v":0},{"$f":"'4a'!AA5","v":0},{"$f":"'4a'!AB5","v":0},{"$f":"'4a'!AC5","v":0},{"$f":"'4a'!AD5","v":0},{"$f":"'4a'!AE5","v":0},{"$f":"'4a'!AF5","v":0},{"$f":"'4a'!AG5","v":0},{"$f":"'4a'!AH5","v":0},{"$f":"'4a'!AI5","v":0},{"$f":"'4a'!AJ5","v":0},{"$f":"'4a'!AK5","v":0},{"$f":"'4a'!AL5","v":0},{"$f":"'4a'!AM5","v":0},{"$f":"'4a'!AN5","v":0},{"$f":"'4a'!AO5","v":0},{"$f":"'4a'!AP5","v":0},{"$f":"'4a'!AQ5","v":0},{"$f":"'4a'!AR5","v":0},{"$f":"'4a'!AS5","v":0},{"$f":"'4a'!AT5","v":0},{"$f":"'4a'!AU5","v":0},{"$f":"'4a'!AV5","v":0},{"$f":"'4a'!AW5","v":0},{"$f":"'4a'!AX5","v":0},{"$f":"'4a'!AY5","v":0},{"$f":"'4a'!AZ5","v":0},{"$f":"'4a'!BA5","v":0},{"$f":"'4a'!BB5","v":0},{"$f":"'4a'!BC5","v":0},{"$f":"'4a'!BD5","v":0},{"$f":"'4a'!BE5","v":0}]
[{"$f":"'4a'!A6","v":"4a"},{"$f":"'4a'!B6","v":0},{"$f":"'4a'!C6","v":0},{"$f":"'4a'!D6","v":"lehrer04"},{"$f":"'4a'!E6","v":0},{"$f":"'4a'!F6","v":0},{"$f":"'4a'!G6","v":0},{"$f":"'4a'!H6","v":0},{"$f":"'4a'!I6","v":0},{"$f":"'4a'!J6","v":0},{"$f":"'4a'!K6","v":0},{"$f":"'4a'!L6","v":0},{"$f":"'4a'!M6","v":0},{"$f":"'4a'!N6","v":0},{"$f":"'4a'!O6","v":0},{"$f":"'4a'!P6","v":0},{"$f":"'4a'!Q6","v":0},{"$f":"'4a'!R6","v":0},{"$f":"'4a'!S6","v":0},{"$f":"'4a'!T6","v":0},{"$f":"'4a'!U6","v":0},{"$f":"'4a'!V6","v":0},{"$f":"'4a'!W6","v":0},{"$f":"'4a'!X6","v":0},{"$f":"'4a'!Y6","v":0},{"$f":"'4a'!Z6","v":0},{"$f":"'4a'!AA6","v":0},{"$f":"'4a'!AB6","v":0},{"$f":"'4a'!AC6","v":0},{"$f":"'4a'!AD6","v":0},{"$f":"'4a'!AE6","v":0},{"$f":"'4a'!AF6","v":0},{"$f":"'4a'!AG6","v":0},{"$f":"'4a'!AH6","v":0},{"$f":"'4a'!AI6","v":0},{"$f":"'4a'!AJ6","v":0},{"$f":"'4a'!AK6","v":0},{"$f":"'4a'!AL6","v":0},{"$f":"'4a'!AM6","v":0},{"$f":"'4a'!AN6","v":0},{"$f":"'4a'!AO6","v":0},{"$f":"'4a'!AP6","v":0},{"$f":"'4a'!AQ6","v":0},{"$f":"'4a'!AR6","v":0},{"$f":"'4a'!AS6","v":0},{"$f":"'4a'!AT6","v":0},{"$f":"'4a'!AU6","v":0},{"$f":"'4a'!AV6","v":0},{"$f":"'4a'!AW6","v":0},{"$f":"'4a'!AX6","v":0},{"$f":"'4a'!AY6","v":0},{"$f":"'4a'!AZ6","v":0},{"$f":"'4a'!BA6","v":0},{"$f":"'4a'!BB6","v":0},{"$f":"'4a'!BC6","v":0},{"$f":"'4a'!BD6","v":0},{"$f":"'4a'!BE6","v":0}]
[{"$f":"'4a'!A7","v":"4a"},{"$f":"'4a'!B7","v":0},{"$f":"'4a'!C7","v":0},{"$f":"'4a'!D7","v":"lehrer05"},{"$f":"'4a'!E7","v":0},{"$f":"'4a'!F7","v":0},{"$f":"'4a'!G7","v":0},{"$f":"'4a'!H7","v":0},{"$f":"'4a'!I7","v":0},{"$f":"'4a'!J7","v":0},{"$f":"'4a'!K7","v":0},{"$f":"'4a'!L7","v":0},{"$f":"'4a'!M7","v":0},{"$f":"'4a'!N7","v":0},{"$f":"'4a'!O7","v":0},{"$f":"'4a'!P7","v":0},{"$f":"'4a'!Q7","v":0},{"$f":"'4a'!R7","v":0},{"$f":"'4a'!S7","v":0},{"$f":"'4a'!T7","v":0},{"$f":"'4a'!U7","v":0},{"$f":"'4a'!V7","v":0},{"$f":"'4a'!W7","v":0},{"$f":"'4a'!X7","v":0},{"$f":"'4a'!Y7","v":0},{"$f":"'4a'!Z7","v":0},{"$f":"'4a'!AA7","v":0},{"$f":"'4a'!AB7","v":0},{"$f":"'4a'!AC7","v":0},{"$f":"'4a'!AD7","v":0},{"$f":"'4a'!AE7","v":0},{"$f":"'4a'!AF7","v":0},{"$f":"'4a'!AG7","v":0},{"$f":"'4a'!AH7","v":0},{"$f":"'4a'!AI7","v":0},{"$f":"'4a'!AJ7","v":0},{"$f":"'4a'!AK7","v":0},{"$f":"'4a'!AL7","v":0},{"$f":"'4a'!AM7","v":0},{"$f":"'4a'!AN7","v":0},{"$f":"'4a'!AO7","v":0},{"$f":"'4a'!AP7","v":0},{"$f":"'4a'!AQ7","v":0},{"$f":"'4a'!AR7","v":0},{"$f":"'4a'!AS7","v":0},{"$f":"'4a'!AT7","v":0},{"$f":"'4a'!AU7","v":0},{"$f":"'4a'!AV7","v":0},{"$f":"'4a'!AW7","v":0},{"$f":"'4a'!AX7","v":0},{"$f":"'4a'!AY7","v":0},{"$f":"'4a'!AZ7","v":0},{"$f":"'4a'!BA7","v":0},{"$f":"'4a'!BB7","v":0},{"$f":"'4a'!BC7","v":0},{"$f":"'4a'!BD7","v":0},{"$f":"'4a'!BE7","v":0}]
[{"$f":"'4a'!A8","v":"4a"},{"$f":"'4a'!B8","v":0},{"$f":"'4a'!C8","v":0},{"$f":"'4a'!D8","v":"lehrer06"},{"$f":"'4a'!E8","v":0},{"$f":"'4a'!F8","v":0},{"$f":"'4a'!G8","v":0},{"$f":"'4a'!H8","v":0},{"$f":"'4a'!I8","v":0},{"$f":"'4a'!J8","v":0},{"$f":"'4a'!K8","v":0},{"$f":"'4a'!L8","v":0},{"$f":"'4a'!M8","v":0},{"$f":"'4a'!N8","v":0},{"$f":"'4a'!O8","v":0},{"$f":"'4a'!P8","v":0},{"$f":"'4a'!Q8","v":0},{"$f":"'4a'!R8","v":0},{"$f":"'4a'!S8","v":0},{"$f":"'4a'!T8","v":0},{"$f":"'4a'!U8","v":0},{"$f":"'4a'!V8","v":0},{"$f":"'4a'!W8","v":0},{"$f":"'4a'!X8","v":0},{"$f":"'4a'!Y8","v":0},{"$f":"'4a'!Z8","v":0},{"$f":"'4a'!AA8","v":0},{"$f":"'4a'!AB8","v":0},{"$f":"'4a'!AC8","v":0},{"$f":"'4a'!AD8","v":0},{"$f":"'4a'!AE8","v":0},{"$f":"'4a'!AF8","v":0},{"$f":"'4a'!AG8","v":0},{"$f":"'4a'!AH8","v":0},{"$f":"'4a'!AI8","v":0},{"$f":"'4a'!AJ8","v":0},{"$f":"'4a'!AK8","v":0},{"$f":"'4a'!AL8","v":0},{"$f":"'4a'!AM8","v":0},{"$f":"'4a'!AN8","v":0},{"$f":"'4a'!AO8","v":0},{"$f":"'4a'!AP8","v":0},{"$f":"'4a'!AQ8","v":0},{"$f":"'4a'!AR8","v":0},{"$f":"'4a'!AS8","v":0},{"$f":"'4a'!AT8","v":0},{"$f":"'4a'!AU8","v":0},{"$f":"'4a'!AV8","v":0},{"$f":"'4a'!AW8","v":0},{"$f":"'4a'!AX8","v":0},{"$f":"'4a'!AY8","v":0},{"$f":"'4a'!AZ8","v":0},{"$f":"'4a'!BA8","v":0},{"$f":"'4a'!BB8","v":0},{"$f":"'4a'!BC8","v":0},{"$f":"'4a'!BD8","v":0},{"$f":"'4a'!BE8","v":0}]
[{"$f":"'4a'!A9","v":"4a"},{"$f":"'4a'!B9","v":0},{"$f":"'4a'!C9","v":0},{"$f":"'4a'!D9","v":"lehrer07"},{"$f":"'4a'!E9","v":0},{"$f":"'4a'!F9","v":0},{"$f":"'4a'!G9","v":0},{"$f":"'4a'!H9","v":0},{"$f":"'4a'!I9","v":0},{"$f":"'4a'!J9","v":0},{"$f":"'4a'!K9","v":0},{"$f":"'4a'!L9","v":0},{"$f":"'4a'!M9","v":0},{"$f":"'4a'!N9","v":0},{"$f":"'4a'!O9","v":0},{"$f":"'4a'!P9","v":0},{"$f":"'4a'!Q9","v":0},{"$f":"'4a'!R9","v":0},{"$f":"'4a'!S9","v":0},{"$f":"'4a'!T9","v":0},{"$f":"'4a'!U9","v":0},{"$f":"'4a'!V9","v":0},{"$f":"'4a'!W9","v":0},{"$f":"'4a'!X9","v":0},{"$f":"'4a'!Y9","v":0},{"$f":"'4a'!Z9","v":0},{"$f":"'4a'!AA9","v":0},{"$f":"'4a'!AB9","v":0},{"$f":"'4a'!AC9","v":0},{"$f":"'4a'!AD9","v":0},{"$f":"'4a'!AE9","v":0},{"$f":"'4a'!AF9","v":0},{"$f":"'4a'!AG9","v":0},{"$f":"'4a'!AH9","v":0},{"$f":"'4a'!AI9","v":0},{"$f":"'4a'!AJ9","v":0},{"$f":"'4a'!AK9","v":0},{"$f":"'4a'!AL9","v":0},{"$f":"'4a'!AM9","v":0},{"$f":"'4a'!AN9","v":0},{"$f":"'4a'!AO9","v":0},{"$f":"'4a'!AP9","v":0},{"$f":"'4a'!AQ9","v":0},{"$f":"'4a'!AR9","v":0},{"$f":"'4a'!AS9","v":0},{"$f":"'4a'!AT9","v":0},{"$f":"'4a'!AU9","v":0},{"$f":"'4a'!AV9","v":0},{"$f":"'4a'!AW9","v":0},{"$f":"'4a'!AX9","v":0},{"$f":"'4a'!AY9","v":0},{"$f":"'4a'!AZ9","v":0},{"$f":"'4a'!BA9","v":0},{"$f":"'4a'!BB9","v":0},{"$f":"'4a'!BC9","v":0},{"$f":"'4a'!BD9","v":0},{"$f":"'4a'!BE9","v":0}]
[{"$f":"'4a'!A10","v":"4a"},{"$f":"'4a'!B10","v":0},{"$f":"'4a'!C10","v":0},{"$f":"'4a'!D10","v":"lehrer08"},{"$f":"'4a'!E10","v":0},{"$f":"'4a'!F10","v":0},{"$f":"'4a'!G10","v":0},{"$f":"'4a'!H10","v":0},{"$f":"'4a'!I10","v":0},{"$f":"'4a'!J10","v":0},{"$f":"'4a'!K10","v":0},{"$f":"'4a'!L10","v":0},{"$f":"'4a'!M10","v":0},{"$f":"'4a'!N10","v":0},{"$f":"'4a'!O10","v":0},{"$f":"'4a'!P10","v":0},{"$f":"'4a'!Q10","v":0},{"$f":"'4a'!R10","v":0},{"$f":"'4a'!S10","v":0},{"$f":"'4a'!T10","v":0},{"$f":"'4a'!U10","v":0},{"$f":"'4a'!V10","v":0},{"$f":"'4a'!W10","v":0},{"$f":"'4a'!X10","v":0},{"$f":"'4a'!Y10","v":0},{"$f":"'4a'!Z10","v":0},{"$f":"'4a'!AA10","v":0},{"$f":"'4a'!AB10","v":0},{"$f":"'4a'!AC10","v":0},{"$f":"'4a'!AD10","v":0},{"$f":"'4a'!AE10","v":0},{"$f":"'4a'!AF10","v":0},{"$f":"'4a'!AG10","v":0},{"$f":"'4a'!AH10","v":0},{"$f":"'4a'!AI10","v":0},{"$f":"'4a'!AJ10","v":0},{"$f":"'4a'!AK10","v":0},{"$f":"'4a'!AL10","v":0},{"$f":"'4a'!AM10","v":0},{"$f":"'4a'!AN10","v":0},{"$f":"'4a'!AO10","v":0},{"$f":"'4a'!AP10","v":0},{"$f":"'4a'!AQ10","v":0},{"$f":"'4a'!AR10","v":0},{"$f":"'4a'!AS10","v":0},{"$f":"'4a'!AT10","v":0},{"$f":"'4a'!AU10","v":0},{"$f":"'4a'!AV10","v":0},{"$f":"'4a'!AW10","v":0},{"$f":"'4a'!AX10","v":0},{"$f":"'4a'!AY10","v":0},{"$f":"'4a'!AZ10","v":0},{"$f":"'4a'!BA10","v":0},{"$f":"'4a'!BB10","v":0},{"$f":"'4a'!BC10","v":0},{"$f":"'4a'!BD10","v":0},{"$f":"'4a'!BE10","v":0}]
[{"$f":"'4a'!A11","v":"4a"},{"$f":"'4a'!B11","v":0},{"$f":"'4a'!C11","v":0},{"$f":"'4a'!D11","v":"lehrer09"},{"$f":"'4a'!E11","v":0},{"$f":"'4a'!F11","v":0},{"$f":"'4a'!G11","v":0},{"$f":"'4a'!H11","v":0},{"$f":"'4a'!I11","v":0},{"$f":"'4a'!J11","v":0},{"$f":"'4a'!K11","v":0},{"$f":"'4a'!L11","v":0},{"$f":"'4a'!M11","v":0},{"$f":"'4a'!N11","v":0},{"$f":"'4a'!O11","v":0},{"$f":"'4a'!P11","v":0},{"$f":"'4a'!Q11","v":0},{"$f":"'4a'!R11","v":0},{"$f":"'4a'!S11","v":0},{"$f":"'4a'!T11","v":0},{"$f":"'4a'!U11","v":0},{"$f":"'4a'!V11","v":0},{"$f":"'4a'!W11","v":0},{"$f":"'4a'!X11","v":0},{"$f":"'4a'!Y11","v":0},{"$f":"'4a'!Z11","v":0},{"$f":"'4a'!AA11","v":0},{"$f":"'4a'!AB11","v":0},{"$f":"'4a'!AC11","v":0},{"$f":"'4a'!AD11","v":0},{"$f":"'4a'!AE11","v":0},{"$f":"'4a'!AF11","v":0},{"$f":"'4a'!AG11","v":0},{"$f":"'4a'!AH11","v":0},{"$f":"'4a'!AI11","v":0},{"$f":"'4a'!AJ11","v":0},{"$f":"'4a'!AK11","v":0},{"$f":"'4a'!AL11","v":0},{"$f":"'4a'!AM11","v":0},{"$f":"'4a'!AN11","v":0},{"$f":"'4a'!AO11","v":0},{"$f":"'4a'!AP11","v":0},{"$f":"'4a'!AQ11","v":0},{"$f":"'4a'!AR11","v":0},{"$f":"'4a'!AS11","v":0},{"$f":"'4a'!AT11","v":0},{"$f":"'4a'!AU11","v":0},{"$f":"'4a'!AV11","v":0},{"$f":"'4a'!AW11","v":0},{"$f":"'4a'!AX11","v":0},{"$f":"'4a'!AY11","v":0},{"$f":"'4a'!AZ11","v":0},{"$f":"'4a'!BA11","v":0},{"$f":"'4a'!BB11","v":0},{"$f":"'4a'!BC11","v":0},{"$f":"'4a'!BD11","v":0},{"$f":"'4a'!BE11","v":0}]
[{"$f":"'4a'!A12","v":"4a"},{"$f":"'4a'!B12","v":0},{"$f":"'4a'!C12","v":0},{"$f":"'4a'!D12","v":"lehrer10"},{"$f":"'4a'!E12","v":0},{"$f":"'4a'!F12","v":0},{"$f":"'4a'!G12","v":0},{"$f":"'4a'!H12","v":0},{"$f":"'4a'!I12","v":0},{"$f":"'4a'!J12","v":0},{"$f":"'4a'!K12","v":0},{"$f":"'4a'!L12","v":0},{"$f":"'4a'!M12","v":0},{"$f":"'4a'!N12","v":0},{"$f":"'4a'!O12","v":0},{"$f":"'4a'!P12","v":0},{"$f":"'4a'!Q12","v":0},{"$f":"'4a'!R12","v":0},{"$f":"'4a'!S12","v":0},{"$f":"'4a'!T12","v":0},{"$f":"'4a'!U12","v":0},{"$f":"'4a'!V12","v":0},{"$f":"'4a'!W12","v":0},{"$f":"'4a'!X12","v":0},{"$f":"'4a'!Y12","v":0},{"$f":"'4a'!Z12","v":0},{"$f":"'4a'!AA12","v":0},{"$f":"'4a'!AB12","v":0},{"$f":"'4a'!AC12","v":0},{"$f":"'4a'!AD12","v":0},{"$f":"'4a'!AE12","v":0},{"$f":"'4a'!AF12","v":0},{"$f":"'4a'!AG12","v":0},{"$f":"'4a'!AH12","v":0},{"$f":"'4a'!AI12","v":0},{"$f":"'4a'!AJ12","v":0},{"$f":"'4a'!AK12","v":0},{"$f":"'4a'!AL12","v":0},{"$f":"'4a'!AM12","v":0},{"$f":"'4a'!AN12","v":0},{"$f":"'4a'!AO12","v":0},{"$f":"'4a'!AP12","v":0},{"$f":"'4a'!AQ12","v":0},{"$f":"'4a'!AR12","v":0},{"$f":"'4a'!AS12","v":0},{"$f":"'4a'!AT12","v":0},{"$f":"'4a'!AU12","v":0},{"$f":"'4a'!AV12","v":0},{"$f":"'4a'!AW12","v":0},{"$f":"'4a'!AX12","v":0},{"$f":"'4a'!AY12","v":0},{"$f":"'4a'!AZ12","v":0},{"$f":"'4a'!BA12","v":0},{"$f":"'4a'!BB12","v":0},{"$f":"'4a'!BC12","v":0},{"$f":"'4a'!BD12","v":0},{"$f":"'4a'!BE12","v":0}]
[{"$f":"'4a'!A13","v":"4a"},{"$f":"'4a'!B13","v":0},{"$f":"'4a'!C13","v":0},{"$f":"'4a'!D13","v":"lehrer11"},{"$f":"'4a'!E13","v":0},{"$f":"'4a'!F13","v":0},{"$f":"'4a'!G13","v":0},{"$f":"'4a'!H13","v":0},{"$f":"'4a'!I13","v":0},{"$f":"'4a'!J13","v":0},{"$f":"'4a'!K13","v":0},{"$f":"'4a'!L13","v":0},{"$f":"'4a'!M13","v":0},{"$f":"'4a'!N13","v":0},{"$f":"'4a'!O13","v":0},{"$f":"'4a'!P13","v":0},{"$f":"'4a'!Q13","v":0},{"$f":"'4a'!R13","v":0},{"$f":"'4a'!S13","v":0},{"$f":"'4a'!T13","v":0},{"$f":"'4a'!U13","v":0},{"$f":"'4a'!V13","v":0},{"$f":"'4a'!W13","v":0},{"$f":"'4a'!X13","v":0},{"$f":"'4a'!Y13","v":0},{"$f":"'4a'!Z13","v":0},{"$f":"'4a'!AA13","v":0},{"$f":"'4a'!AB13","v":0},{"$f":"'4a'!AC13","v":0},{"$f":"'4a'!AD13","v":0},{"$f":"'4a'!AE13","v":0},{"$f":"'4a'!AF13","v":0},{"$f":"'4a'!AG13","v":0},{"$f":"'4a'!AH13","v":0},{"$f":"'4a'!AI13","v":0},{"$f":"'4a'!AJ13","v":0},{"$f":"'4a'!AK13","v":0},{"$f":"'4a'!AL13","v":0},{"$f":"'4a'!AM13","v":0},{"$f":"'4a'!AN13","v":0},{"$f":"'4a'!AO13","v":0},{"$f":"'4a'!AP13","v":0},{"$f":"'4a'!AQ13","v":0},{"$f":"'4a'!AR13","v":0},{"$f":"'4a'!AS13","v":0},{"$f":"'4a'!AT13","v":0},{"$f":"'4a'!AU13","v":0},{"$f":"'4a'!AV13","v":0},{"$f":"'4a'!AW13","v":0},{"$f":"'4a'!AX13","v":0},{"$f":"'4a'!AY13","v":0},{"$f":"'4a'!AZ13","v":0},{"$f":"'4a'!BA13","v":0},{"$f":"'4a'!BB13","v":0},{"$f":"'4a'!BC13","v":0},{"$f":"'4a'!BD13","v":0},{"$f":"'4a'!BE13","v":0}]
[{"$f":"'4a'!A14","v":"4a"},{"$f":"'4a'!B14","v":0},{"$f":"'4a'!C14","v":0},{"$f":"'4a'!D14","v":"lehrer12"},{"$f":"'4a'!E14","v":0},{"$f":"'4a'!F14","v":0},{"$f":"'4a'!G14","v":0},{"$f":"'4a'!H14","v":0},{"$f":"'4a'!I14","v":0},{"$f":"'4a'!J14","v":0},{"$f":"'4a'!K14","v":0},{"$f":"'4a'!L14","v":0},{"$f":"'4a'!M14","v":0},{"$f":"'4a'!N14","v":0},{"$f":"'4a'!O14","v":0},{"$f":"'4a'!P14","v":0},{"$f":"'4a'!Q14","v":0},{"$f":"'4a'!R14","v":0},{"$f":"'4a'!S14","v":0},{"$f":"'4a'!T14","v":0},{"$f":"'4a'!U14","v":0},{"$f":"'4a'!V14","v":0},{"$f":"'4a'!W14","v":0},{"$f":"'4a'!X14","v":0},{"$f":"'4a'!Y14","v":0},{"$f":"'4a'!Z14","v":0},{"$f":"'4a'!AA14","v":0},{"$f":"'4a'!AB14","v":0},{"$f":"'4a'!AC14","v":0},{"$f":"'4a'!AD14","v":0},{"$f":"'4a'!AE14","v":0},{"$f":"'4a'!AF14","v":0},{"$f":"'4a'!AG14","v":0},{"$f":"'4a'!AH14","v":0},{"$f":"'4a'!AI14","v":0},{"$f":"'4a'!AJ14","v":0},{"$f":"'4a'!AK14","v":0},{"$f":"'4a'!AL14","v":0},{"$f":"'4a'!AM14","v":0},{"$f":"'4a'!AN14","v":0},{"$f":"'4a'!AO14","v":0},{"$f":"'4a'!AP14","v":0},{"$f":"'4a'!AQ14","v":0},{"$f":"'4a'!AR14","v":0},{"$f":"'4a'!AS14","v":0},{"$f":"'4a'!AT14","v":0},{"$f":"'4a'!AU14","v":0},{"$f":"'4a'!AV14","v":0},{"$f":"'4a'!AW14","v":0},{"$f":"'4a'!AX14","v":0},{"$f":"'4a'!AY14","v":0},{"$f":"'4a'!AZ14","v":0},{"$f":"'4a'!BA14","v":0},{"$f":"'4a'!BB14","v":0},{"$f":"'4a'!BC14","v":0},{"$f":"'4a'!BD14","v":0},{"$f":"'4a'!BE14","v":0}]
[{"$f":"'4a'!A15","v":"4a"},{"$f":"'4a'!B15","v":0},{"$f":"'4a'!C15","v":0},{"$f":"'4a'!D15","v":"lehrer13"},{"$f":"'4a'!E15","v":0},{"$f":"'4a'!F15","v":0},{"$f":"'4a'!G15","v":0},{"$f":"'4a'!H15","v":0},{"$f":"'4a'!I15","v":0},{"$f":"'4a'!J15","v":0},{"$f":"'4a'!K15","v":0},{"$f":"'4a'!L15","v":0},{"$f":"'4a'!M15","v":0},{"$f":"'4a'!N15","v":0},{"$f":"'4a'!O15","v":0},{"$f":"'4a'!P15","v":0},{"$f":"'4a'!Q15","v":0},{"$f":"'4a'!R15","v":0},{"$f":"'4a'!S15","v":0},{"$f":"'4a'!T15","v":0},{"$f":"'4a'!U15","v":0},{"$f":"'4a'!V15","v":0},{"$f":"'4a'!W15","v":0},{"$f":"'4a'!X15","v":0},{"$f":"'4a'!Y15","v":0},{"$f":"'4a'!Z15","v":0},{"$f":"'4a'!AA15","v":0},{"$f":"'4a'!AB15","v":0},{"$f":"'4a'!AC15","v":0},{"$f":"'4a'!AD15","v":0},{"$f":"'4a'!AE15","v":0},{"$f":"'4a'!AF15","v":0},{"$f":"'4a'!AG15","v":0},{"$f":"'4a'!AH15","v":0},{"$f":"'4a'!AI15","v":0},{"$f":"'4a'!AJ15","v":0},{"$f":"'4a'!AK15","v":0},{"$f":"'4a'!AL15","v":0},{"$f":"'4a'!AM15","v":0},{"$f":"'4a'!AN15","v":0},{"$f":"'4a'!AO15","v":0},{"$f":"'4a'!AP15","v":0},{"$f":"'4a'!AQ15","v":0},{"$f":"'4a'!AR15","v":0},{"$f":"'4a'!AS15","v":0},{"$f":"'4a'!AT15","v":0},{"$f":"'4a'!AU15","v":0},{"$f":"'4a'!AV15","v":0},{"$f":"'4a'!AW15","v":0},{"$f":"'4a'!AX15","v":0},{"$f":"'4a'!AY15","v":0},{"$f":"'4a'!AZ15","v":0},{"$f":"'4a'!BA15","v":0},{"$f":"'4a'!BB15","v":0},{"$f":"'4a'!BC15","v":0},{"$f":"'4a'!BD15","v":0},{"$f":"'4a'!BE15","v":0}]
[{"$f":"'4a'!A16","v":"4a"},{"$f":"'4a'!B16","v":0},{"$f":"'4a'!C16","v":0},{"$f":"'4a'!D16","v":"lehrer14"},{"$f":"'4a'!E16","v":0},{"$f":"'4a'!F16","v":0},{"$f":"'4a'!G16","v":0},{"$f":"'4a'!H16","v":0},{"$f":"'4a'!I16","v":0},{"$f":"'4a'!J16","v":0},{"$f":"'4a'!K16","v":0},{"$f":"'4a'!L16","v":0},{"$f":"'4a'!M16","v":0},{"$f":"'4a'!N16","v":0},{"$f":"'4a'!O16","v":0},{"$f":"'4a'!P16","v":0},{"$f":"'4a'!Q16","v":0},{"$f":"'4a'!R16","v":0},{"$f":"'4a'!S16","v":0},{"$f":"'4a'!T16","v":0},{"$f":"'4a'!U16","v":0},{"$f":"'4a'!V16","v":0},{"$f":"'4a'!W16","v":0},{"$f":"'4a'!X16","v":0},{"$f":"'4a'!Y16","v":0},{"$f":"'4a'!Z16","v":0},{"$f":"'4a'!AA16","v":0},{"$f":"'4a'!AB16","v":0},{"$f":"'4a'!AC16","v":0},{"$f":"'4a'!AD16","v":0},{"$f":"'4a'!AE16","v":0},{"$f":"'4a'!AF16","v":0},{"$f":"'4a'!AG16","v":0},{"$f":"'4a'!AH16","v":0},{"$f":"'4a'!AI16","v":0},{"$f":"'4a'!AJ16","v":0},{"$f":"'4a'!AK16","v":0},{"$f":"'4a'!AL16","v":0},{"$f":"'4a'!AM16","v":0},{"$f":"'4a'!AN16","v":0},{"$f":"'4a'!AO16","v":0},{"$f":"'4a'!AP16","v":0},{"$f":"'4a'!AQ16","v":0},{"$f":"'4a'!AR16","v":0},{"$f":"'4a'!AS16","v":0},{"$f":"'4a'!AT16","v":0},{"$f":"'4a'!AU16","v":0},{"$f":"'4a'!AV16","v":0},{"$f":"'4a'!AW16","v":0},{"$f":"'4a'!AX16","v":0},{"$f":"'4a'!AY16","v":0},{"$f":"'4a'!AZ16","v":0},{"$f":"'4a'!BA16","v":0},{"$f":"'4a'!BB16","v":0},{"$f":"'4a'!BC16","v":0},{"$f":"'4a'!BD16","v":0},{"$f":"'4a'!BE16","v":0}]
[{"$f":"'4a'!A17","v":"4a"},{"$f":"'4a'!B17","v":0},{"$f":"'4a'!C17","v":0},{"$f":"'4a'!D17","v":"lehrer15"},{"$f":"'4a'!E17","v":0},{"$f":"'4a'!F17","v":0},{"$f":"'4a'!G17","v":0},{"$f":"'4a'!H17","v":0},{"$f":"'4a'!I17","v":0},{"$f":"'4a'!J17","v":0},{"$f":"'4a'!K17","v":0},{"$f":"'4a'!L17","v":0},{"$f":"'4a'!M17","v":0},{"$f":"'4a'!N17","v":0},{"$f":"'4a'!O17","v":0},{"$f":"'4a'!P17","v":0},{"$f":"'4a'!Q17","v":0},{"$f":"'4a'!R17","v":0},{"$f":"'4a'!S17","v":0},{"$f":"'4a'!T17","v":0},{"$f":"'4a'!U17","v":0},{"$f":"'4a'!V17","v":0},{"$f":"'4a'!W17","v":0},{"$f":"'4a'!X17","v":0},{"$f":"'4a'!Y17","v":0},{"$f":"'4a'!Z17","v":0},{"$f":"'4a'!AA17","v":0},{"$f":"'4a'!AB17","v":0},{"$f":"'4a'!AC17","v":0},{"$f":"'4a'!AD17","v":0},{"$f":"'4a'!AE17","v":0},{"$f":"'4a'!AF17","v":0},{"$f":"'4a'!AG17","v":0},{"$f":"'4a'!AH17","v":0},{"$f":"'4a'!AI17","v":0},{"$f":"'4a'!AJ17","v":0},{"$f":"'4a'!AK17","v":0},{"$f":"'4a'!AL17","v":0},{"$f":"'4a'!AM17","v":0},{"$f":"'4a'!AN17","v":0},{"$f":"'4a'!AO17","v":0},{"$f":"'4a'!AP17","v":0},{"$f":"'4a'!AQ17","v":0},{"$f":"'4a'!AR17","v":0},{"$f":"'4a'!AS17","v":0},{"$f":"'4a'!AT17","v":0},{"$f":"'4a'!AU17","v":0},{"$f":"'4a'!AV17","v":0},{"$f":"'4a'!AW17","v":0},{"$f":"'4a'!AX17","v":0},{"$f":"'4a'!AY17","v":0},{"$f":"'4a'!AZ17","v":0},{"$f":"'4a'!BA17","v":0},{"$f":"'4a'!BB17","v":0},{"$f":"'4a'!BC17","v":0},{"$f":"'4a'!BD17","v":0},{"$f":"'4a'!BE17","v":0}]
[{"$f":"'4a'!A18","v":"4a"},{"$f":"'4a'!B18","v":0},{"$f":"'4a'!C18","v":0},{"$f":"'4a'!D18","v":"lehrer16"},{"$f":"'4a'!E18","v":0},{"$f":"'4a'!F18","v":0},{"$f":"'4a'!G18","v":0},{"$f":"'4a'!H18","v":0},{"$f":"'4a'!I18","v":0},{"$f":"'4a'!J18","v":0},{"$f":"'4a'!K18","v":0},{"$f":"'4a'!L18","v":0},{"$f":"'4a'!M18","v":0},{"$f":"'4a'!N18","v":0},{"$f":"'4a'!O18","v":0},{"$f":"'4a'!P18","v":0},{"$f":"'4a'!Q18","v":0},{"$f":"'4a'!R18","v":0},{"$f":"'4a'!S18","v":0},{"$f":"'4a'!T18","v":0},{"$f":"'4a'!U18","v":0},{"$f":"'4a'!V18","v":0},{"$f":"'4a'!W18","v":0},{"$f":"'4a'!X18","v":0},{"$f":"'4a'!Y18","v":0},{"$f":"'4a'!Z18","v":0},{"$f":"'4a'!AA18","v":0},{"$f":"'4a'!AB18","v":0},{"$f":"'4a'!AC18","v":0},{"$f":"'4a'!AD18","v":0},{"$f":"'4a'!AE18","v":0},{"$f":"'4a'!AF18","v":0},{"$f":"'4a'!AG18","v":0},{"$f":"'4a'!AH18","v":0},{"$f":"'4a'!AI18","v":0},{"$f":"'4a'!AJ18","v":0},{"$f":"'4a'!AK18","v":0},{"$f":"'4a'!AL18","v":0},{"$f":"'4a'!AM18","v":0},{"$f":"'4a'!AN18","v":0},{"$f":"'4a'!AO18","v":0},{"$f":"'4a'!AP18","v":0},{"$f":"'4a'!AQ18","v":0},{"$f":"'4a'!AR18","v":0},{"$f":"'4a'!AS18","v":0},{"$f":"'4a'!AT18","v":0},{"$f":"'4a'!AU18","v":0},{"$f":"'4a'!AV18","v":0},{"$f":"'4a'!AW18","v":0},{"$f":"'4a'!AX18","v":0},{"$f":"'4a'!AY18","v":0},{"$f":"'4a'!AZ18","v":0},{"$f":"'4a'!BA18","v":0},{"$f":"'4a'!BB18","v":0},{"$f":"'4a'!BC18","v":0},{"$f":"'4a'!BD18","v":0},{"$f":"'4a'!BE18","v":0}]
[{"$f":"'4a'!A19","v":"4a"},{"$f":"'4a'!B19","v":0},{"$f":"'4a'!C19","v":0},{"$f":"'4a'!D19","v":"lehrer17"},{"$f":"'4a'!E19","v":0},{"$f":"'4a'!F19","v":0},{"$f":"'4a'!G19","v":0},{"$f":"'4a'!H19","v":0},{"$f":"'4a'!I19","v":0},{"$f":"'4a'!J19","v":0},{"$f":"'4a'!K19","v":0},{"$f":"'4a'!L19","v":0},{"$f":"'4a'!M19","v":0},{"$f":"'4a'!N19","v":0},{"$f":"'4a'!O19","v":0},{"$f":"'4a'!P19","v":0},{"$f":"'4a'!Q19","v":0},{"$f":"'4a'!R19","v":0},{"$f":"'4a'!S19","v":0},{"$f":"'4a'!T19","v":0},{"$f":"'4a'!U19","v":0},{"$f":"'4a'!V19","v":0},{"$f":"'4a'!W19","v":0},{"$f":"'4a'!X19","v":0},{"$f":"'4a'!Y19","v":0},{"$f":"'4a'!Z19","v":0},{"$f":"'4a'!AA19","v":0},{"$f":"'4a'!AB19","v":0},{"$f":"'4a'!AC19","v":0},{"$f":"'4a'!AD19","v":0},{"$f":"'4a'!AE19","v":0},{"$f":"'4a'!AF19","v":0},{"$f":"'4a'!AG19","v":0},{"$f":"'4a'!AH19","v":0},{"$f":"'4a'!AI19","v":0},{"$f":"'4a'!AJ19","v":0},{"$f":"'4a'!AK19","v":0},{"$f":"'4a'!AL19","v":0},{"$f":"'4a'!AM19","v":0},{"$f":"'4a'!AN19","v":0},{"$f":"'4a'!AO19","v":0},{"$f":"'4a'!AP19","v":0},{"$f":"'4a'!AQ19","v":0},{"$f":"'4a'!AR19","v":0},{"$f":"'4a'!AS19","v":0},{"$f":"'4a'!AT19","v":0},{"$f":"'4a'!AU19","v":0},{"$f":"'4a'!AV19","v":0},{"$f":"'4a'!AW19","v":0},{"$f":"'4a'!AX19","v":0},{"$f":"'4a'!AY19","v":0},{"$f":"'4a'!AZ19","v":0},{"$f":"'4a'!BA19","v":0},{"$f":"'4a'!BB19","v":0},{"$f":"'4a'!BC19","v":0},{"$f":"'4a'!BD19","v":0},{"$f":"'4a'!BE19","v":0}]
[{"$f":"'4a'!A20","v":"4a"},{"$f":"'4a'!B20","v":0},{"$f":"'4a'!C20","v":0},{"$f":"'4a'!D20","v":"lehrer18"},{"$f":"'4a'!E20","v":0},{"$f":"'4a'!F20","v":0},{"$f":"'4a'!G20","v":0},{"$f":"'4a'!H20","v":0},{"$f":"'4a'!I20","v":0},{"$f":"'4a'!J20","v":0},{"$f":"'4a'!K20","v":0},{"$f":"'4a'!L20","v":0},{"$f":"'4a'!M20","v":0},{"$f":"'4a'!N20","v":0},{"$f":"'4a'!O20","v":0},{"$f":"'4a'!P20","v":0},{"$f":"'4a'!Q20","v":0},{"$f":"'4a'!R20","v":0},{"$f":"'4a'!S20","v":0},{"$f":"'4a'!T20","v":0},{"$f":"'4a'!U20","v":0},{"$f":"'4a'!V20","v":0},{"$f":"'4a'!W20","v":0},{"$f":"'4a'!X20","v":0},{"$f":"'4a'!Y20","v":0},{"$f":"'4a'!Z20","v":0},{"$f":"'4a'!AA20","v":0},{"$f":"'4a'!AB20","v":0},{"$f":"'4a'!AC20","v":0},{"$f":"'4a'!AD20","v":0},{"$f":"'4a'!AE20","v":0},{"$f":"'4a'!AF20","v":0},{"$f":"'4a'!AG20","v":0},{"$f":"'4a'!AH20","v":0},{"$f":"'4a'!AI20","v":0},{"$f":"'4a'!AJ20","v":0},{"$f":"'4a'!AK20","v":0},{"$f":"'4a'!AL20","v":0},{"$f":"'4a'!AM20","v":0},{"$f":"'4a'!AN20","v":0},{"$f":"'4a'!AO20","v":0},{"$f":"'4a'!AP20","v":0},{"$f":"'4a'!AQ20","v":0},{"$f":"'4a'!AR20","v":0},{"$f":"'4a'!AS20","v":0},{"$f":"'4a'!AT20","v":0},{"$f":"'4a'!AU20","v":0},{"$f":"'4a'!AV20","v":0},{"$f":"'4a'!AW20","v":0},{"$f":"'4a'!AX20","v":0},{"$f":"'4a'!AY20","v":0},{"$f":"'4a'!AZ20","v":0},{"$f":"'4a'!BA20","v":0},{"$f":"'4a'!BB20","v":0},{"$f":"'4a'!BC20","v":0},{"$f":"'4a'!BD20","v":0},{"$f":"'4a'!BE20","v":0}]
[{"$f":"'4a'!A21","v":"4a"},{"$f":"'4a'!B21","v":0},{"$f":"'4a'!C21","v":0},{"$f":"'4a'!D21","v":"lehrer19"},{"$f":"'4a'!E21","v":0},{"$f":"'4a'!F21","v":0},{"$f":"'4a'!G21","v":0},{"$f":"'4a'!H21","v":0},{"$f":"'4a'!I21","v":0},{"$f":"'4a'!J21","v":0},{"$f":"'4a'!K21","v":0},{"$f":"'4a'!L21","v":0},{"$f":"'4a'!M21","v":0},{"$f":"'4a'!N21","v":0},{"$f":"'4a'!O21","v":0},{"$f":"'4a'!P21","v":0},{"$f":"'4a'!Q21","v":0},{"$f":"'4a'!R21","v":0},{"$f":"'4a'!S21","v":0},{"$f":"'4a'!T21","v":0},{"$f":"'4a'!U21","v":0},{"$f":"'4a'!V21","v":0},{"$f":"'4a'!W21","v":0},{"$f":"'4a'!X21","v":0},{"$f":"'4a'!Y21","v":0},{"$f":"'4a'!Z21","v":0},{"$f":"'4a'!AA21","v":0},{"$f":"'4a'!AB21","v":0},{"$f":"'4a'!AC21","v":0},{"$f":"'4a'!AD21","v":0},{"$f":"'4a'!AE21","v":0},{"$f":"'4a'!AF21","v":0},{"$f":"'4a'!AG21","v":0},{"$f":"'4a'!AH21","v":0},{"$f":"'4a'!AI21","v":0},{"$f":"'4a'!AJ21","v":0},{"$f":"'4a'!AK21","v":0},{"$f":"'4a'!AL21","v":0},{"$f":"'4a'!AM21","v":0},{"$f":"'4a'!AN21","v":0},{"$f":"'4a'!AO21","v":0},{"$f":"'4a'!AP21","v":0},{"$f":"'4a'!AQ21","v":0},{"$f":"'4a'!AR21","v":0},{"$f":"'4a'!AS21","v":0},{"$f":"'4a'!AT21","v":0},{"$f":"'4a'!AU21","v":0},{"$f":"'4a'!AV21","v":0},{"$f":"'4a'!AW21","v":0},{"$f":"'4a'!AX21","v":0},{"$f":"'4a'!AY21","v":0},{"$f":"'4a'!AZ21","v":0},{"$f":"'4a'!BA21","v":0},{"$f":"'4a'!BB21","v":0},{"$f":"'4a'!BC21","v":0},{"$f":"'4a'!BD21","v":0},{"$f":"'4a'!BE21","v":0}]
[{"$f":"'4a'!A22","v":"4a"},{"$f":"'4a'!B22","v":0},{"$f":"'4a'!C22","v":0},{"$f":"'4a'!D22","v":"lehrer20"},{"$f":"'4a'!E22","v":0},{"$f":"'4a'!F22","v":0},{"$f":"'4a'!G22","v":0},{"$f":"'4a'!H22","v":0},{"$f":"'4a'!I22","v":0},{"$f":"'4a'!J22","v":0},{"$f":"'4a'!K22","v":0},{"$f":"'4a'!L22","v":0},{"$f":"'4a'!M22","v":0},{"$f":"'4a'!N22","v":0},{"$f":"'4a'!O22","v":0},{"$f":"'4a'!P22","v":0},{"$f":"'4a'!Q22","v":0},{"$f":"'4a'!R22","v":0},{"$f":"'4a'!S22","v":0},{"$f":"'4a'!T22","v":0},{"$f":"'4a'!U22","v":0},{"$f":"'4a'!V22","v":0},{"$f":"'4a'!W22","v":0},{"$f":"'4a'!X22","v":0},{"$f":"'4a'!Y22","v":0},{"$f":"'4a'!Z22","v":0},{"$f":"'4a'!AA22","v":0},{"$f":"'4a'!AB22","v":0},{"$f":"'4a'!AC22","v":0},{"$f":"'4a'!AD22","v":0},{"$f":"'4a'!AE22","v":0},{"$f":"'4a'!AF22","v":0},{"$f":"'4a'!AG22","v":0},{"$f":"'4a'!AH22","v":0},{"$f":"'4a'!AI22","v":0},{"$f":"'4a'!AJ22","v":0},{"$f":"'4a'!AK22","v":0},{"$f":"'4a'!AL22","v":0},{"$f":"'4a'!AM22","v":0},{"$f":"'4a'!AN22","v":0},{"$f":"'4a'!AO22","v":0},{"$f":"'4a'!AP22","v":0},{"$f":"'4a'!AQ22","v":0},{"$f":"'4a'!AR22","v":0},{"$f":"'4a'!AS22","v":0},{"$f":"'4a'!AT22","v":0},{"$f":"'4a'!AU22","v":0},{"$f":"'4a'!AV22","v":0},{"$f":"'4a'!AW22","v":0},{"$f":"'4a'!AX22","v":0},{"$f":"'4a'!AY22","v":0},{"$f":"'4a'!AZ22","v":0},{"$f":"'4a'!BA22","v":0},{"$f":"'4a'!BB22","v":0},{"$f":"'4a'!BC22","v":0},{"$f":"'4a'!BD22","v":0},{"$f":"'4a'!BE22","v":0}]
[{"$f":"'4a'!A23","v":"4a"},{"$f":"'4a'!B23","v":0},{"$f":"'4a'!C23","v":0},{"$f":"'4a'!D23","v":"lehrer21"},{"$f":"'4a'!E23","v":0},{"$f":"'4a'!F23","v":0},{"$f":"'4a'!G23","v":0},{"$f":"'4a'!H23","v":0},{"$f":"'4a'!I23","v":0},{"$f":"'4a'!J23","v":0},{"$f":"'4a'!K23","v":0},{"$f":"'4a'!L23","v":0},{"$f":"'4a'!M23","v":0},{"$f":"'4a'!N23","v":0},{"$f":"'4a'!O23","v":0},{"$f":"'4a'!P23","v":0},{"$f":"'4a'!Q23","v":0},{"$f":"'4a'!R23","v":0},{"$f":"'4a'!S23","v":0},{"$f":"'4a'!T23","v":0},{"$f":"'4a'!U23","v":0},{"$f":"'4a'!V23","v":0},{"$f":"'4a'!W23","v":0},{"$f":"'4a'!X23","v":0},{"$f":"'4a'!Y23","v":0},{"$f":"'4a'!Z23","v":0},{"$f":"'4a'!AA23","v":0},{"$f":"'4a'!AB23","v":0},{"$f":"'4a'!AC23","v":0},{"$f":"'4a'!AD23","v":0},{"$f":"'4a'!AE23","v":0},{"$f":"'4a'!AF23","v":0},{"$f":"'4a'!AG23","v":0},{"$f":"'4a'!AH23","v":0},{"$f":"'4a'!AI23","v":0},{"$f":"'4a'!AJ23","v":0},{"$f":"'4a'!AK23","v":0},{"$f":"'4a'!AL23","v":0},{"$f":"'4a'!AM23","v":0},{"$f":"'4a'!AN23","v":0},{"$f":"'4a'!AO23","v":0},{"$f":"'4a'!AP23","v":0},{"$f":"'4a'!AQ23","v":0},{"$f":"'4a'!AR23","v":0},{"$f":"'4a'!AS23","v":0},{"$f":"'4a'!AT23","v":0},{"$f":"'4a'!AU23","v":0},{"$f":"'4a'!AV23","v":0},{"$f":"'4a'!AW23","v":0},{"$f":"'4a'!AX23","v":0},{"$f":"'4a'!AY23","v":0},{"$f":"'4a'!AZ23","v":0},{"$f":"'4a'!BA23","v":0},{"$f":"'4a'!BB23","v":0},{"$f":"'4a'!BC23","v":0},{"$f":"'4a'!BD23","v":0},{"$f":"'4a'!BE23","v":0}]
[{"$f":"'4a'!A24","v":"4a"},{"$f":"'4a'!B24","v":0},{"$f":"'4a'!C24","v":0},{"$f":"'4a'!D24","v":"lehrer22"},{"$f":"'4a'!E24","v":0},{"$f":"'4a'!F24","v":0},{"$f":"'4a'!G24","v":0},{"$f":"'4a'!H24","v":0},{"$f":"'4a'!I24","v":0},{"$f":"'4a'!J24","v":0},{"$f":"'4a'!K24","v":0},{"$f":"'4a'!L24","v":0},{"$f":"'4a'!M24","v":0},{"$f":"'4a'!N24","v":0},{"$f":"'4a'!O24","v":0},{"$f":"'4a'!P24","v":0},{"$f":"'4a'!Q24","v":0},{"$f":"'4a'!R24","v":0},{"$f":"'4a'!S24","v":0},{"$f":"'4a'!T24","v":0},{"$f":"'4a'!U24","v":0},{"$f":"'4a'!V24","v":0},{"$f":"'4a'!W24","v":0},{"$f":"'4a'!X24","v":0},{"$f":"'4a'!Y24","v":0},{"$f":"'4a'!Z24","v":0},{"$f":"'4a'!AA24","v":0},{"$f":"'4a'!AB24","v":0},{"$f":"'4a'!AC24","v":0},{"$f":"'4a'!AD24","v":0},{"$f":"'4a'!AE24","v":0},{"$f":"'4a'!AF24","v":0},{"$f":"'4a'!AG24","v":0},{"$f":"'4a'!AH24","v":0},{"$f":"'4a'!AI24","v":0},{"$f":"'4a'!AJ24","v":0},{"$f":"'4a'!AK24","v":0},{"$f":"'4a'!AL24","v":0},{"$f":"'4a'!AM24","v":0},{"$f":"'4a'!AN24","v":0},{"$f":"'4a'!AO24","v":0},{"$f":"'4a'!AP24","v":0},{"$f":"'4a'!AQ24","v":0},{"$f":"'4a'!AR24","v":0},{"$f":"'4a'!AS24","v":0},{"$f":"'4a'!AT24","v":0},{"$f":"'4a'!AU24","v":0},{"$f":"'4a'!AV24","v":0},{"$f":"'4a'!AW24","v":0},{"$f":"'4a'!AX24","v":0},{"$f":"'4a'!AY24","v":0},{"$f":"'4a'!AZ24","v":0},{"$f":"'4a'!BA24","v":0},{"$f":"'4a'!BB24","v":0},{"$f":"'4a'!BC24","v":0},{"$f":"'4a'!BD24","v":0},{"$f":"'4a'!BE24","v":0}]
[{"$f":"'4a'!A25","v":"4a"},{"$f":"'4a'!B25","v":0},{"$f":"'4a'!C25","v":0},{"$f":"'4a'!D25","v":"lehrer23"},{"$f":"'4a'!E25","v":0},{"$f":"'4a'!F25","v":0},{"$f":"'4a'!G25","v":0},{"$f":"'4a'!H25","v":0},{"$f":"'4a'!I25","v":0},{"$f":"'4a'!J25","v":0},{"$f":"'4a'!K25","v":0},{"$f":"'4a'!L25","v":0},{"$f":"'4a'!M25","v":0},{"$f":"'4a'!N25","v":0},{"$f":"'4a'!O25","v":0},{"$f":"'4a'!P25","v":0},{"$f":"'4a'!Q25","v":0},{"$f":"'4a'!R25","v":0},{"$f":"'4a'!S25","v":0},{"$f":"'4a'!T25","v":0},{"$f":"'4a'!U25","v":0},{"$f":"'4a'!V25","v":0},{"$f":"'4a'!W25","v":0},{"$f":"'4a'!X25","v":0},{"$f":"'4a'!Y25","v":0},{"$f":"'4a'!Z25","v":0},{"$f":"'4a'!AA25","v":0},{"$f":"'4a'!AB25","v":0},{"$f":"'4a'!AC25","v":0},{"$f":"'4a'!AD25","v":0},{"$f":"'4a'!AE25","v":0},{"$f":"'4a'!AF25","v":0},{"$f":"'4a'!AG25","v":0},{"$f":"'4a'!AH25","v":0},{"$f":"'4a'!AI25","v":0},{"$f":"'4a'!AJ25","v":0},{"$f":"'4a'!AK25","v":0},{"$f":"'4a'!AL25","v":0},{"$f":"'4a'!AM25","v":0},{"$f":"'4a'!AN25","v":0},{"$f":"'4a'!AO25","v":0},{"$f":"'4a'!AP25","v":0},{"$f":"'4a'!AQ25","v":0},{"$f":"'4a'!AR25","v":0},{"$f":"'4a'!AS25","v":0},{"$f":"'4a'!AT25","v":0},{"$f":"'4a'!AU25","v":0},{"$f":"'4a'!AV25","v":0},{"$f":"'4a'!AW25","v":0},{"$f":"'4a'!AX25","v":0},{"$f":"'4a'!AY25","v":0},{"$f":"'4a'!AZ25","v":0},{"$f":"'4a'!BA25","v":0},{"$f":"'4a'!BB25","v":0},{"$f":"'4a'!BC25","v":0},{"$f":"'4a'!BD25","v":0},{"$f":"'4a'!BE25","v":0}]
[{"$f":"'4a'!A26","v":"4a"},{"$f":"'4a'!B26","v":0},{"$f":"'4a'!C26","v":0},{"$f":"'4a'!D26","v":"lehrer24"},{"$f":"'4a'!E26","v":0},{"$f":"'4a'!F26","v":0},{"$f":"'4a'!G26","v":0},{"$f":"'4a'!H26","v":0},{"$f":"'4a'!I26","v":0},{"$f":"'4a'!J26","v":0},{"$f":"'4a'!K26","v":0},{"$f":"'4a'!L26","v":0},{"$f":"'4a'!M26","v":0},{"$f":"'4a'!N26","v":0},{"$f":"'4a'!O26","v":0},{"$f":"'4a'!P26","v":0},{"$f":"'4a'!Q26","v":0},{"$f":"'4a'!R26","v":0},{"$f":"'4a'!S26","v":0},{"$f":"'4a'!T26","v":0},{"$f":"'4a'!U26","v":0},{"$f":"'4a'!V26","v":0},{"$f":"'4a'!W26","v":0},{"$f":"'4a'!X26","v":0},{"$f":"'4a'!Y26","v":0},{"$f":"'4a'!Z26","v":0},{"$f":"'4a'!AA26","v":0},{"$f":"'4a'!AB26","v":0},{"$f":"'4a'!AC26","v":0},{"$f":"'4a'!AD26","v":0},{"$f":"'4a'!AE26","v":0},{"$f":"'4a'!AF26","v":0},{"$f":"'4a'!AG26","v":0},{"$f":"'4a'!AH26","v":0},{"$f":"'4a'!AI26","v":0},{"$f":"'4a'!AJ26","v":0},{"$f":"'4a'!AK26","v":0},{"$f":"'4a'!AL26","v":0},{"$f":"'4a'!AM26","v":0},{"$f":"'4a'!AN26","v":0},{"$f":"'4a'!AO26","v":0},{"$f":"'4a'!AP26","v":0},{"$f":"'4a'!AQ26","v":0},{"$f":"'4a'!AR26","v":0},{"$f":"'4a'!AS26","v":0},{"$f":"'4a'!AT26","v":0},{"$f":"'4a'!AU26","v":0},{"$f":"'4a'!AV26","v":0},{"$f":"'4a'!AW26","v":0},{"$f":"'4a'!AX26","v":0},{"$f":"'4a'!AY26","v":0},{"$f":"'4a'!AZ26","v":0},{"$f":"'4a'!BA26","v":0},{"$f":"'4a'!BB26","v":0},{"$f":"'4a'!BC26","v":0},{"$f":"'4a'!BD26","v":0},{"$f":"'4a'!BE26","v":0}]
[{"$f":"'4a'!A27","v":"4a"},{"$f":"'4a'!B27","v":0},{"$f":"'4a'!C27","v":0},{"$f":"'4a'!D27","v":"lehrer25"},{"$f":"'4a'!E27","v":0},{"$f":"'4a'!F27","v":0},{"$f":"'4a'!G27","v":0},{"$f":"'4a'!H27","v":0},{"$f":"'4a'!I27","v":0},{"$f":"'4a'!J27","v":0},{"$f":"'4a'!K27","v":0},{"$f":"'4a'!L27","v":0},{"$f":"'4a'!M27","v":0},{"$f":"'4a'!N27","v":0},{"$f":"'4a'!O27","v":0},{"$f":"'4a'!P27","v":0},{"$f":"'4a'!Q27","v":0},{"$f":"'4a'!R27","v":0},{"$f":"'4a'!S27","v":0},{"$f":"'4a'!T27","v":0},{"$f":"'4a'!U27","v":0},{"$f":"'4a'!V27","v":0},{"$f":"'4a'!W27","v":0},{"$f":"'4a'!X27","v":0},{"$f":"'4a'!Y27","v":0},{"$f":"'4a'!Z27","v":0},{"$f":"'4a'!AA27","v":0},{"$f":"'4a'!AB27","v":0},{"$f":"'4a'!AC27","v":0},{"$f":"'4a'!AD27","v":0},{"$f":"'4a'!AE27","v":0},{"$f":"'4a'!AF27","v":0},{"$f":"'4a'!AG27","v":0},{"$f":"'4a'!AH27","v":0},{"$f":"'4a'!AI27","v":0},{"$f":"'4a'!AJ27","v":0},{"$f":"'4a'!AK27","v":0},{"$f":"'4a'!AL27","v":0},{"$f":"'4a'!AM27","v":0},{"$f":"'4a'!AN27","v":0},{"$f":"'4a'!AO27","v":0},{"$f":"'4a'!AP27","v":0},{"$f":"'4a'!AQ27","v":0},{"$f":"'4a'!AR27","v":0},{"$f":"'4a'!AS27","v":0},{"$f":"'4a'!AT27","v":0},{"$f":"'4a'!AU27","v":0},{"$f":"'4a'!AV27","v":0},{"$f":"'4a'!AW27","v":0},{"$f":"'4a'!AX27","v":0},{"$f":"'4a'!AY27","v":0},{"$f":"'4a'!AZ27","v":0},{"$f":"'4a'!BA27","v":0},{"$f":"'4a'!BB27","v":0},{"$f":"'4a'!BC27","v":0},{"$f":"'4a'!BD27","v":0},{"$f":"'4a'!BE27","v":0}]
[{"$f":"'4a'!A28","v":"4a"},{"$f":"'4a'!B28","v":0},{"$f":"'4a'!C28","v":0},{"$f":"'4a'!D28","v":"lehrer26"},{"$f":"'4a'!E28","v":0},{"$f":"'4a'!F28","v":0},{"$f":"'4a'!G28","v":0},{"$f":"'4a'!H28","v":0},{"$f":"'4a'!I28","v":0},{"$f":"'4a'!J28","v":0},{"$f":"'4a'!K28","v":0},{"$f":"'4a'!L28","v":0},{"$f":"'4a'!M28","v":0},{"$f":"'4a'!N28","v":0},{"$f":"'4a'!O28","v":0},{"$f":"'4a'!P28","v":0},{"$f":"'4a'!Q28","v":0},{"$f":"'4a'!R28","v":0},{"$f":"'4a'!S28","v":0},{"$f":"'4a'!T28","v":0},{"$f":"'4a'!U28","v":0},{"$f":"'4a'!V28","v":0},{"$f":"'4a'!W28","v":0},{"$f":"'4a'!X28","v":0},{"$f":"'4a'!Y28","v":0},{"$f":"'4a'!Z28","v":0},{"$f":"'4a'!AA28","v":0},{"$f":"'4a'!AB28","v":0},{"$f":"'4a'!AC28","v":0},{"$f":"'4a'!AD28","v":0},{"$f":"'4a'!AE28","v":0},{"$f":"'4a'!AF28","v":0},{"$f":"'4a'!AG28","v":0},{"$f":"'4a'!AH28","v":0},{"$f":"'4a'!AI28","v":0},{"$f":"'4a'!AJ28","v":0},{"$f":"'4a'!AK28","v":0},{"$f":"'4a'!AL28","v":0},{"$f":"'4a'!AM28","v":0},{"$f":"'4a'!AN28","v":0},{"$f":"'4a'!AO28","v":0},{"$f":"'4a'!AP28","v":0},{"$f":"'4a'!AQ28","v":0},{"$f":"'4a'!AR28","v":0},{"$f":"'4a'!AS28","v":0},{"$f":"'4a'!AT28","v":0},{"$f":"'4a'!AU28","v":0},{"$f":"'4a'!AV28","v":0},{"$f":"'4a'!AW28","v":0},{"$f":"'4a'!AX28","v":0},{"$f":"'4a'!AY28","v":0},{"$f":"'4a'!AZ28","v":0},{"$f":"'4a'!BA28","v":0},{"$f":"'4a'!BB28","v":0},{"$f":"'4a'!BC28","v":0},{"$f":"'4a'!BD28","v":0},{"$f":"'4a'!BE28","v":0}]
[{"$f":"'4a'!A29","v":"4a"},{"$f":"'4a'!B29","v":0},{"$f":"'4a'!C29","v":0},{"$f":"'4a'!D29","v":"lehrer27"},{"$f":"'4a'!E29","v":0},{"$f":"'4a'!F29","v":0},{"$f":"'4a'!G29","v":0},{"$f":"'4a'!H29","v":0},{"$f":"'4a'!I29","v":0},{"$f":"'4a'!J29","v":0},{"$f":"'4a'!K29","v":0},{"$f":"'4a'!L29","v":0},{"$f":"'4a'!M29","v":0},{"$f":"'4a'!N29","v":0},{"$f":"'4a'!O29","v":0},{"$f":"'4a'!P29","v":0},{"$f":"'4a'!Q29","v":0},{"$f":"'4a'!R29","v":0},{"$f":"'4a'!S29","v":0},{"$f":"'4a'!T29","v":0},{"$f":"'4a'!U29","v":0},{"$f":"'4a'!V29","v":0},{"$f":"'4a'!W29","v":0},{"$f":"'4a'!X29","v":0},{"$f":"'4a'!Y29","v":0},{"$f":"'4a'!Z29","v":0},{"$f":"'4a'!AA29","v":0},{"$f":"'4a'!AB29","v":0},{"$f":"'4a'!AC29","v":0},{"$f":"'4a'!AD29","v":0},{"$f":"'4a'!AE29","v":0},{"$f":"'4a'!AF29","v":0},{"$f":"'4a'!AG29","v":0},{"$f":"'4a'!AH29","v":0},{"$f":"'4a'!AI29","v":0},{"$f":"'4a'!AJ29","v":0},{"$f":"'4a'!AK29","v":0},{"$f":"'4a'!AL29","v":0},{"$f":"'4a'!AM29","v":0},{"$f":"'4a'!AN29","v":0},{"$f":"'4a'!AO29","v":0},{"$f":"'4a'!AP29","v":0},{"$f":"'4a'!AQ29","v":0},{"$f":"'4a'!AR29","v":0},{"$f":"'4a'!AS29","v":0},{"$f":"'4a'!AT29","v":0},{"$f":"'4a'!AU29","v":0},{"$f":"'4a'!AV29","v":0},{"$f":"'4a'!AW29","v":0},{"$f":"'4a'!AX29","v":0},{"$f":"'4a'!AY29","v":0},{"$f":"'4a'!AZ29","v":0},{"$f":"'4a'!BA29","v":0},{"$f":"'4a'!BB29","v":0},{"$f":"'4a'!BC29","v":0},{"$f":"'4a'!BD29","v":0},{"$f":"'4a'!BE29","v":0}]
[{"$f":"'4a'!A30","v":"4a"},{"$f":"'4a'!B30","v":0},{"$f":"'4a'!C30","v":0},{"$f":"'4a'!D30","v":"lehrer28"},{"$f":"'4a'!E30","v":0},{"$f":"'4a'!F30","v":0},{"$f":"'4a'!G30","v":0},{"$f":"'4a'!H30","v":0},{"$f":"'4a'!I30","v":0},{"$f":"'4a'!J30","v":0},{"$f":"'4a'!K30","v":0},{"$f":"'4a'!L30","v":0},{"$f":"'4a'!M30","v":0},{"$f":"'4a'!N30","v":0},{"$f":"'4a'!O30","v":0},{"$f":"'4a'!P30","v":0},{"$f":"'4a'!Q30","v":0},{"$f":"'4a'!R30","v":0},{"$f":"'4a'!S30","v":0},{"$f":"'4a'!T30","v":0},{"$f":"'4a'!U30","v":0},{"$f":"'4a'!V30","v":0},{"$f":"'4a'!W30","v":0},{"$f":"'4a'!X30","v":0},{"$f":"'4a'!Y30","v":0},{"$f":"'4a'!Z30","v":0},{"$f":"'4a'!AA30","v":0},{"$f":"'4a'!AB30","v":0},{"$f":"'4a'!AC30","v":0},{"$f":"'4a'!AD30","v":0},{"$f":"'4a'!AE30","v":0},{"$f":"'4a'!AF30","v":0},{"$f":"'4a'!AG30","v":0},{"$f":"'4a'!AH30","v":0},{"$f":"'4a'!AI30","v":0},{"$f":"'4a'!AJ30","v":0},{"$f":"'4a'!AK30","v":0},{"$f":"'4a'!AL30","v":0},{"$f":"'4a'!AM30","v":0},{"$f":"'4a'!AN30","v":0},{"$f":"'4a'!AO30","v":0},{"$f":"'4a'!AP30","v":0},{"$f":"'4a'!AQ30","v":0},{"$f":"'4a'!AR30","v":0},{"$f":"'4a'!AS30","v":0},{"$f":"'4a'!AT30","v":0},{"$f":"'4a'!AU30","v":0},{"$f":"'4a'!AV30","v":0},{"$f":"'4a'!AW30","v":0},{"$f":"'4a'!AX30","v":0},{"$f":"'4a'!AY30","v":0},{"$f":"'4a'!AZ30","v":0},{"$f":"'4a'!BA30","v":0},{"$f":"'4a'!BB30","v":0},{"$f":"'4a'!BC30","v":0},{"$f":"'4a'!BD30","v":0},{"$f":"'4a'!BE30","v":0}]
[{"$f":"'4a'!A31","v":"4a"},{"$f":"'4a'!B31","v":0},{"$f":"'4a'!C31","v":0},{"$f":"'4a'!D31","v":"lehrer29"},{"$f":"'4a'!E31","v":0},{"$f":"'4a'!F31","v":0},{"$f":"'4a'!G31","v":0},{"$f":"'4a'!H31","v":0},{"$f":"'4a'!I31","v":0},{"$f":"'4a'!J31","v":0},{"$f":"'4a'!K31","v":0},{"$f":"'4a'!L31","v":0},{"$f":"'4a'!M31","v":0},{"$f":"'4a'!N31","v":0},{"$f":"'4a'!O31","v":0},{"$f":"'4a'!P31","v":0},{"$f":"'4a'!Q31","v":0},{"$f":"'4a'!R31","v":0},{"$f":"'4a'!S31","v":0},{"$f":"'4a'!T31","v":0},{"$f":"'4a'!U31","v":0},{"$f":"'4a'!V31","v":0},{"$f":"'4a'!W31","v":0},{"$f":"'4a'!X31","v":0},{"$f":"'4a'!Y31","v":0},{"$f":"'4a'!Z31","v":0},{"$f":"'4a'!AA31","v":0},{"$f":"'4a'!AB31","v":0},{"$f":"'4a'!AC31","v":0},{"$f":"'4a'!AD31","v":0},{"$f":"'4a'!AE31","v":0},{"$f":"'4a'!AF31","v":0},{"$f":"'4a'!AG31","v":0},{"$f":"'4a'!AH31","v":0},{"$f":"'4a'!AI31","v":0},{"$f":"'4a'!AJ31","v":0},{"$f":"'4a'!AK31","v":0},{"$f":"'4a'!AL31","v":0},{"$f":"'4a'!AM31","v":0},{"$f":"'4a'!AN31","v":0},{"$f":"'4a'!AO31","v":0},{"$f":"'4a'!AP31","v":0},{"$f":"'4a'!AQ31","v":0},{"$f":"'4a'!AR31","v":0},{"$f":"'4a'!AS31","v":0},{"$f":"'4a'!AT31","v":0},{"$f":"'4a'!AU31","v":0},{"$f":"'4a'!AV31","v":0},{"$f":"'4a'!AW31","v":0},{"$f":"'4a'!AX31","v":0},{"$f":"'4a'!AY31","v":0},{"$f":"'4a'!AZ31","v":0},{"$f":"'4a'!BA31","v":0},{"$f":"'4a'!BB31","v":0},{"$f":"'4a'!BC31","v":0},{"$f":"'4a'!BD31","v":0},{"$f":"'4a'!BE31","v":0}]
[{"$f":"'4a'!A32","v":"4a"},{"$f":"'4a'!B32","v":0},{"$f":"'4a'!C32","v":0},{"$f":"'4a'!D32","v":"lehrer30"},{"$f":"'4a'!E32","v":0},{"$f":"'4a'!F32","v":0},{"$f":"'4a'!G32","v":0},{"$f":"'4a'!H32","v":0},{"$f":"'4a'!I32","v":0},{"$f":"'4a'!J32","v":0},{"$f":"'4a'!K32","v":0},{"$f":"'4a'!L32","v":0},{"$f":"'4a'!M32","v":0},{"$f":"'4a'!N32","v":0},{"$f":"'4a'!O32","v":0},{"$f":"'4a'!P32","v":0},{"$f":"'4a'!Q32","v":0},{"$f":"'4a'!R32","v":0},{"$f":"'4a'!S32","v":0},{"$f":"'4a'!T32","v":0},{"$f":"'4a'!U32","v":0},{"$f":"'4a'!V32","v":0},{"$f":"'4a'!W32","v":0},{"$f":"'4a'!X32","v":0},{"$f":"'4a'!Y32","v":0},{"$f":"'4a'!Z32","v":0},{"$f":"'4a'!AA32","v":0},{"$f":"'4a'!AB32","v":0},{"$f":"'4a'!AC32","v":0},{"$f":"'4a'!AD32","v":0},{"$f":"'4a'!AE32","v":0},{"$f":"'4a'!AF32","v":0},{"$f":"'4a'!AG32","v":0},{"$f":"'4a'!AH32","v":0},{"$f":"'4a'!AI32","v":0},{"$f":"'4a'!AJ32","v":0},{"$f":"'4a'!AK32","v":0},{"$f":"'4a'!AL32","v":0},{"$f":"'4a'!AM32","v":0},{"$f":"'4a'!AN32","v":0},{"$f":"'4a'!AO32","v":0},{"$f":"'4a'!AP32","v":0},{"$f":"'4a'!AQ32","v":0},{"$f":"'4a'!AR32","v":0},{"$f":"'4a'!AS32","v":0},{"$f":"'4a'!AT32","v":0},{"$f":"'4a'!AU32","v":0},{"$f":"'4a'!AV32","v":0},{"$f":"'4a'!AW32","v":0},{"$f":"'4a'!AX32","v":0},{"$f":"'4a'!AY32","v":0},{"$f":"'4a'!AZ32","v":0},{"$f":"'4a'!BA32","v":0},{"$f":"'4a'!BB32","v":0},{"$f":"'4a'!BC32","v":0},{"$f":"'4a'!BD32","v":0},{"$f":"'4a'!BE32","v":0}]
[{"$f":"'4a'!A33","v":"4a"},{"$f":"'4a'!B33","v":0},{"$f":"'4a'!C33","v":0},{"$f":"'4a'!D33","v":"lehrer31"},{"$f":"'4a'!E33","v":0},{"$f":"'4a'!F33","v":0},{"$f":"'4a'!G33","v":0},{"$f":"'4a'!H33","v":0},{"$f":"'4a'!I33","v":0},{"$f":"'4a'!J33","v":0},{"$f":"'4a'!K33","v":0},{"$f":"'4a'!L33","v":0},{"$f":"'4a'!M33","v":0},{"$f":"'4a'!N33","v":0},{"$f":"'4a'!O33","v":0},{"$f":"'4a'!P33","v":0},{"$f":"'4a'!Q33","v":0},{"$f":"'4a'!R33","v":0},{"$f":"'4a'!S33","v":0},{"$f":"'4a'!T33","v":0},{"$f":"'4a'!U33","v":0},{"$f":"'4a'!V33","v":0},{"$f":"'4a'!W33","v":0},{"$f":"'4a'!X33","v":0},{"$f":"'4a'!Y33","v":0},{"$f":"'4a'!Z33","v":0},{"$f":"'4a'!AA33","v":0},{"$f":"'4a'!AB33","v":0},{"$f":"'4a'!AC33","v":0},{"$f":"'4a'!AD33","v":0},{"$f":"'4a'!AE33","v":0},{"$f":"'4a'!AF33","v":0},{"$f":"'4a'!AG33","v":0},{"$f":"'4a'!AH33","v":0},{"$f":"'4a'!AI33","v":0},{"$f":"'4a'!AJ33","v":0},{"$f":"'4a'!AK33","v":0},{"$f":"'4a'!AL33","v":0},{"$f":"'4a'!AM33","v":0},{"$f":"'4a'!AN33","v":0},{"$f":"'4a'!AO33","v":0},{"$f":"'4a'!AP33","v":0},{"$f":"'4a'!AQ33","v":0},{"$f":"'4a'!AR33","v":0},{"$f":"'4a'!AS33","v":0},{"$f":"'4a'!AT33","v":0},{"$f":"'4a'!AU33","v":0},{"$f":"'4a'!AV33","v":0},{"$f":"'4a'!AW33","v":0},{"$f":"'4a'!AX33","v":0},{"$f":"'4a'!AY33","v":0},{"$f":"'4a'!AZ33","v":0},{"$f":"'4a'!BA33","v":0},{"$f":"'4a'!BB33","v":0},{"$f":"'4a'!BC33","v":0},{"$f":"'4a'!BD33","v":0},{"$f":"'4a'!BE33","v":0}]
[{"$f":"'4a'!A34","v":"4a"},{"$f":"'4a'!B34","v":0},{"$f":"'4a'!C34","v":0},{"$f":"'4a'!D34","v":"lehrer32"},{"$f":"'4a'!E34","v":0},{"$f":"'4a'!F34","v":0},{"$f":"'4a'!G34","v":0},{"$f":"'4a'!H34","v":0},{"$f":"'4a'!I34","v":0},{"$f":"'4a'!J34","v":0},{"$f":"'4a'!K34","v":0},{"$f":"'4a'!L34","v":0},{"$f":"'4a'!M34","v":0},{"$f":"'4a'!N34","v":0},{"$f":"'4a'!O34","v":0},{"$f":"'4a'!P34","v":0},{"$f":"'4a'!Q34","v":0},{"$f":"'4a'!R34","v":0},{"$f":"'4a'!S34","v":0},{"$f":"'4a'!T34","v":0},{"$f":"'4a'!U34","v":0},{"$f":"'4a'!V34","v":0},{"$f":"'4a'!W34","v":0},{"$f":"'4a'!X34","v":0},{"$f":"'4a'!Y34","v":0},{"$f":"'4a'!Z34","v":0},{"$f":"'4a'!AA34","v":0},{"$f":"'4a'!AB34","v":0},{"$f":"'4a'!AC34","v":0},{"$f":"'4a'!AD34","v":0},{"$f":"'4a'!AE34","v":0},{"$f":"'4a'!AF34","v":0},{"$f":"'4a'!AG34","v":0},{"$f":"'4a'!AH34","v":0},{"$f":"'4a'!AI34","v":0},{"$f":"'4a'!AJ34","v":0},{"$f":"'4a'!AK34","v":0},{"$f":"'4a'!AL34","v":0},{"$f":"'4a'!AM34","v":0},{"$f":"'4a'!AN34","v":0},{"$f":"'4a'!AO34","v":0},{"$f":"'4a'!AP34","v":0},{"$f":"'4a'!AQ34","v":0},{"$f":"'4a'!AR34","v":0},{"$f":"'4a'!AS34","v":0},{"$f":"'4a'!AT34","v":0},{"$f":"'4a'!AU34","v":0},{"$f":"'4a'!AV34","v":0},{"$f":"'4a'!AW34","v":0},{"$f":"'4a'!AX34","v":0},{"$f":"'4a'!AY34","v":0},{"$f":"'4a'!AZ34","v":0},{"$f":"'4a'!BA34","v":0},{"$f":"'4a'!BB34","v":0},{"$f":"'4a'!BC34","v":0},{"$f":"'4a'!BD34","v":0},{"$f":"'4a'!BE34","v":0}]
[{"$f":"'4a'!A35","v":"4a"},{"$f":"'4a'!B35","v":0},{"$f":"'4a'!C35","v":0},{"$f":"'4a'!D35","v":"lehrer33"},{"$f":"'4a'!E35","v":0},{"$f":"'4a'!F35","v":0},{"$f":"'4a'!G35","v":0},{"$f":"'4a'!H35","v":0},{"$f":"'4a'!I35","v":0},{"$f":"'4a'!J35","v":0},{"$f":"'4a'!K35","v":0},{"$f":"'4a'!L35","v":0},{"$f":"'4a'!M35","v":0},{"$f":"'4a'!N35","v":0},{"$f":"'4a'!O35","v":0},{"$f":"'4a'!P35","v":0},{"$f":"'4a'!Q35","v":0},{"$f":"'4a'!R35","v":0},{"$f":"'4a'!S35","v":0},{"$f":"'4a'!T35","v":0},{"$f":"'4a'!U35","v":0},{"$f":"'4a'!V35","v":0},{"$f":"'4a'!W35","v":0},{"$f":"'4a'!X35","v":0},{"$f":"'4a'!Y35","v":0},{"$f":"'4a'!Z35","v":0},{"$f":"'4a'!AA35","v":0},{"$f":"'4a'!AB35","v":0},{"$f":"'4a'!AC35","v":0},{"$f":"'4a'!AD35","v":0},{"$f":"'4a'!AE35","v":0},{"$f":"'4a'!AF35","v":0},{"$f":"'4a'!AG35","v":0},{"$f":"'4a'!AH35","v":0},{"$f":"'4a'!AI35","v":0},{"$f":"'4a'!AJ35","v":0},{"$f":"'4a'!AK35","v":0},{"$f":"'4a'!AL35","v":0},{"$f":"'4a'!AM35","v":0},{"$f":"'4a'!AN35","v":0},{"$f":"'4a'!AO35","v":0},{"$f":"'4a'!AP35","v":0},{"$f":"'4a'!AQ35","v":0},{"$f":"'4a'!AR35","v":0},{"$f":"'4a'!AS35","v":0},{"$f":"'4a'!AT35","v":0},{"$f":"'4a'!AU35","v":0},{"$f":"'4a'!AV35","v":0},{"$f":"'4a'!AW35","v":0},{"$f":"'4a'!AX35","v":0},{"$f":"'4a'!AY35","v":0},{"$f":"'4a'!AZ35","v":0},{"$f":"'4a'!BA35","v":0},{"$f":"'4a'!BB35","v":0},{"$f":"'4a'!BC35","v":0},{"$f":"'4a'!BD35","v":0},{"$f":"'4a'!BE35","v":0}]
[{"$f":"'4a'!A36","v":"4a"},{"$f":"'4a'!B36","v":0},{"$f":"'4a'!C36","v":0},{"$f":"'4a'!D36","v":"lehrer34"},{"$f":"'4a'!E36","v":0},{"$f":"'4a'!F36","v":0},{"$f":"'4a'!G36","v":0},{"$f":"'4a'!H36","v":0},{"$f":"'4a'!I36","v":0},{"$f":"'4a'!J36","v":0},{"$f":"'4a'!K36","v":0},{"$f":"'4a'!L36","v":0},{"$f":"'4a'!M36","v":0},{"$f":"'4a'!N36","v":0},{"$f":"'4a'!O36","v":0},{"$f":"'4a'!P36","v":0},{"$f":"'4a'!Q36","v":0},{"$f":"'4a'!R36","v":0},{"$f":"'4a'!S36","v":0},{"$f":"'4a'!T36","v":0},{"$f":"'4a'!U36","v":0},{"$f":"'4a'!V36","v":0},{"$f":"'4a'!W36","v":0},{"$f":"'4a'!X36","v":0},{"$f":"'4a'!Y36","v":0},{"$f":"'4a'!Z36","v":0},{"$f":"'4a'!AA36","v":0},{"$f":"'4a'!AB36","v":0},{"$f":"'4a'!AC36","v":0},{"$f":"'4a'!AD36","v":0},{"$f":"'4a'!AE36","v":0},{"$f":"'4a'!AF36","v":0},{"$f":"'4a'!AG36","v":0},{"$f":"'4a'!AH36","v":0},{"$f":"'4a'!AI36","v":0},{"$f":"'4a'!AJ36","v":0},{"$f":"'4a'!AK36","v":0},{"$f":"'4a'!AL36","v":0},{"$f":"'4a'!AM36","v":0},{"$f":"'4a'!AN36","v":0},{"$f":"'4a'!AO36","v":0},{"$f":"'4a'!AP36","v":0},{"$f":"'4a'!AQ36","v":0},{"$f":"'4a'!AR36","v":0},{"$f":"'4a'!AS36","v":0},{"$f":"'4a'!AT36","v":0},{"$f":"'4a'!AU36","v":0},{"$f":"'4a'!AV36","v":0},{"$f":"'4a'!AW36","v":0},{"$f":"'4a'!AX36","v":0},{"$f":"'4a'!AY36","v":0},{"$f":"'4a'!AZ36","v":0},{"$f":"'4a'!BA36","v":0},{"$f":"'4a'!BB36","v":0},{"$f":"'4a'!BC36","v":0},{"$f":"'4a'!BD36","v":0},{"$f":"'4a'!BE36","v":0}]
[{"$f":"'4a'!A37","v":"4a"},{"$f":"'4a'!B37","v":0},{"$f":"'4a'!C37","v":0},{"$f":"'4a'!D37","v":"lehrer35"},{"$f":"'4a'!E37","v":0},{"$f":"'4a'!F37","v":0},{"$f":"'4a'!G37","v":0},{"$f":"'4a'!H37","v":0},{"$f":"'4a'!I37","v":0},{"$f":"'4a'!J37","v":0},{"$f":"'4a'!K37","v":0},{"$f":"'4a'!L37","v":0},{"$f":"'4a'!M37","v":0},{"$f":"'4a'!N37","v":0},{"$f":"'4a'!O37","v":0},{"$f":"'4a'!P37","v":0},{"$f":"'4a'!Q37","v":0},{"$f":"'4a'!R37","v":0},{"$f":"'4a'!S37","v":0},{"$f":"'4a'!T37","v":0},{"$f":"'4a'!U37","v":0},{"$f":"'4a'!V37","v":0},{"$f":"'4a'!W37","v":0},{"$f":"'4a'!X37","v":0},{"$f":"'4a'!Y37","v":0},{"$f":"'4a'!Z37","v":0},{"$f":"'4a'!AA37","v":0},{"$f":"'4a'!AB37","v":0},{"$f":"'4a'!AC37","v":0},{"$f":"'4a'!AD37","v":0},{"$f":"'4a'!AE37","v":0},{"$f":"'4a'!AF37","v":0},{"$f":"'4a'!AG37","v":0},{"$f":"'4a'!AH37","v":0},{"$f":"'4a'!AI37","v":0},{"$f":"'4a'!AJ37","v":0},{"$f":"'4a'!AK37","v":0},{"$f":"'4a'!AL37","v":0},{"$f":"'4a'!AM37","v":0},{"$f":"'4a'!AN37","v":0},{"$f":"'4a'!AO37","v":0},{"$f":"'4a'!AP37","v":0},{"$f":"'4a'!AQ37","v":0},{"$f":"'4a'!AR37","v":0},{"$f":"'4a'!AS37","v":0},{"$f":"'4a'!AT37","v":0},{"$f":"'4a'!AU37","v":0},{"$f":"'4a'!AV37","v":0},{"$f":"'4a'!AW37","v":0},{"$f":"'4a'!AX37","v":0},{"$f":"'4a'!AY37","v":0},{"$f":"'4a'!AZ37","v":0},{"$f":"'4a'!BA37","v":0},{"$f":"'4a'!BB37","v":0},{"$f":"'4a'!BC37","v":0},{"$f":"'4a'!BD37","v":0},{"$f":"'4a'!BE37","v":0}]
[{"$f":"'4a'!A38","v":"4a"},{"$f":"'4a'!B38","v":0},{"$f":"'4a'!C38","v":0},{"$f":"'4a'!D38","v":"lehrer36"},{"$f":"'4a'!E38","v":0},{"$f":"'4a'!F38","v":0},{"$f":"'4a'!G38","v":0},{"$f":"'4a'!H38","v":0},{"$f":"'4a'!I38","v":0},{"$f":"'4a'!J38","v":0},{"$f":"'4a'!K38","v":0},{"$f":"'4a'!L38","v":0},{"$f":"'4a'!M38","v":0},{"$f":"'4a'!N38","v":0},{"$f":"'4a'!O38","v":0},{"$f":"'4a'!P38","v":0},{"$f":"'4a'!Q38","v":0},{"$f":"'4a'!R38","v":0},{"$f":"'4a'!S38","v":0},{"$f":"'4a'!T38","v":0},{"$f":"'4a'!U38","v":0},{"$f":"'4a'!V38","v":0},{"$f":"'4a'!W38","v":0},{"$f":"'4a'!X38","v":0},{"$f":"'4a'!Y38","v":0},{"$f":"'4a'!Z38","v":0},{"$f":"'4a'!AA38","v":0},{"$f":"'4a'!AB38","v":0},{"$f":"'4a'!AC38","v":0},{"$f":"'4a'!AD38","v":0},{"$f":"'4a'!AE38","v":0},{"$f":"'4a'!AF38","v":0},{"$f":"'4a'!AG38","v":0},{"$f":"'4a'!AH38","v":0},{"$f":"'4a'!AI38","v":0},{"$f":"'4a'!AJ38","v":0},{"$f":"'4a'!AK38","v":0},{"$f":"'4a'!AL38","v":0},{"$f":"'4a'!AM38","v":0},{"$f":"'4a'!AN38","v":0},{"$f":"'4a'!AO38","v":0},{"$f":"'4a'!AP38","v":0},{"$f":"'4a'!AQ38","v":0},{"$f":"'4a'!AR38","v":0},{"$f":"'4a'!AS38","v":0},{"$f":"'4a'!AT38","v":0},{"$f":"'4a'!AU38","v":0},{"$f":"'4a'!AV38","v":0},{"$f":"'4a'!AW38","v":0},{"$f":"'4a'!AX38","v":0},{"$f":"'4a'!AY38","v":0},{"$f":"'4a'!AZ38","v":0},{"$f":"'4a'!BA38","v":0},{"$f":"'4a'!BB38","v":0},{"$f":"'4a'!BC38","v":0},{"$f":"'4a'!BD38","v":0},{"$f":"'4a'!BE38","v":0}]
[{"$f":"'4a'!A39","v":"4a"},{"$f":"'4a'!B39","v":0},{"$f":"'4a'!C39","v":0},{"$f":"'4a'!D39","v":"lehrer37"},{"$f":"'4a'!E39","v":0},{"$f":"'4a'!F39","v":0},{"$f":"'4a'!G39","v":0},{"$f":"'4a'!H39","v":0},{"$f":"'4a'!I39","v":0},{"$f":"'4a'!J39","v":0},{"$f":"'4a'!K39","v":0},{"$f":"'4a'!L39","v":0},{"$f":"'4a'!M39","v":0},{"$f":"'4a'!N39","v":0},{"$f":"'4a'!O39","v":0},{"$f":"'4a'!P39","v":0},{"$f":"'4a'!Q39","v":0},{"$f":"'4a'!R39","v":0},{"$f":"'4a'!S39","v":0},{"$f":"'4a'!T39","v":0},{"$f":"'4a'!U39","v":0},{"$f":"'4a'!V39","v":0},{"$f":"'4a'!W39","v":0},{"$f":"'4a'!X39","v":0},{"$f":"'4a'!Y39","v":0},{"$f":"'4a'!Z39","v":0},{"$f":"'4a'!AA39","v":0},{"$f":"'4a'!AB39","v":0},{"$f":"'4a'!AC39","v":0},{"$f":"'4a'!AD39","v":0},{"$f":"'4a'!AE39","v":0},{"$f":"'4a'!AF39","v":0},{"$f":"'4a'!AG39","v":0},{"$f":"'4a'!AH39","v":0},{"$f":"'4a'!AI39","v":0},{"$f":"'4a'!AJ39","v":0},{"$f":"'4a'!AK39","v":0},{"$f":"'4a'!AL39","v":0},{"$f":"'4a'!AM39","v":0},{"$f":"'4a'!AN39","v":0},{"$f":"'4a'!AO39","v":0},{"$f":"'4a'!AP39","v":0},{"$f":"'4a'!AQ39","v":0},{"$f":"'4a'!AR39","v":0},{"$f":"'4a'!AS39","v":0},{"$f":"'4a'!AT39","v":0},{"$f":"'4a'!AU39","v":0},{"$f":"'4a'!AV39","v":0},{"$f":"'4a'!AW39","v":0},{"$f":"'4a'!AX39","v":0},{"$f":"'4a'!AY39","v":0},{"$f":"'4a'!AZ39","v":0},{"$f":"'4a'!BA39","v":0},{"$f":"'4a'!BB39","v":0},{"$f":"'4a'!BC39","v":0},{"$f":"'4a'!BD39","v":0},{"$f":"'4a'!BE39","v":0}]
[{"$f":"'4a'!A40","v":"4a"},{"$f":"'4a'!B40","v":0},{"$f":"'4a'!C40","v":0},{"$f":"'4a'!D40","v":"lehrer38"},{"$f":"'4a'!E40","v":0},{"$f":"'4a'!F40","v":0},{"$f":"'4a'!G40","v":0},{"$f":"'4a'!H40","v":0},{"$f":"'4a'!I40","v":0},{"$f":"'4a'!J40","v":0},{"$f":"'4a'!K40","v":0},{"$f":"'4a'!L40","v":0},{"$f":"'4a'!M40","v":0},{"$f":"'4a'!N40","v":0},{"$f":"'4a'!O40","v":0},{"$f":"'4a'!P40","v":0},{"$f":"'4a'!Q40","v":0},{"$f":"'4a'!R40","v":0},{"$f":"'4a'!S40","v":0},{"$f":"'4a'!T40","v":0},{"$f":"'4a'!U40","v":0},{"$f":"'4a'!V40","v":0},{"$f":"'4a'!W40","v":0},{"$f":"'4a'!X40","v":0},{"$f":"'4a'!Y40","v":0},{"$f":"'4a'!Z40","v":0},{"$f":"'4a'!AA40","v":0},{"$f":"'4a'!AB40","v":0},{"$f":"'4a'!AC40","v":0},{"$f":"'4a'!AD40","v":0},{"$f":"'4a'!AE40","v":0},{"$f":"'4a'!AF40","v":0},{"$f":"'4a'!AG40","v":0},{"$f":"'4a'!AH40","v":0},{"$f":"'4a'!AI40","v":0},{"$f":"'4a'!AJ40","v":0},{"$f":"'4a'!AK40","v":0},{"$f":"'4a'!AL40","v":0},{"$f":"'4a'!AM40","v":0},{"$f":"'4a'!AN40","v":0},{"$f":"'4a'!AO40","v":0},{"$f":"'4a'!AP40","v":0},{"$f":"'4a'!AQ40","v":0},{"$f":"'4a'!AR40","v":0},{"$f":"'4a'!AS40","v":0},{"$f":"'4a'!AT40","v":0},{"$f":"'4a'!AU40","v":0},{"$f":"'4a'!AV40","v":0},{"$f":"'4a'!AW40","v":0},{"$f":"'4a'!AX40","v":0},{"$f":"'4a'!AY40","v":0},{"$f":"'4a'!AZ40","v":0},{"$f":"'4a'!BA40","v":0},{"$f":"'4a'!BB40","v":0},{"$f":"'4a'!BC40","v":0},{"$f":"'4a'!BD40","v":0},{"$f":"'4a'!BE40","v":0}]
[{"$f":"'4a'!A41","v":"4a"},{"$f":"'4a'!B41","v":0},{"$f":"'4a'!C41","v":0},{"$f":"'4a'!D41","v":"lehrer39"},{"$f":"'4a'!E41","v":0},{"$f":"'4a'!F41","v":0},{"$f":"'4a'!G41","v":0},{"$f":"'4a'!H41","v":0},{"$f":"'4a'!I41","v":0},{"$f":"'4a'!J41","v":0},{"$f":"'4a'!K41","v":0},{"$f":"'4a'!L41","v":0},{"$f":"'4a'!M41","v":0},{"$f":"'4a'!N41","v":0},{"$f":"'4a'!O41","v":0},{"$f":"'4a'!P41","v":0},{"$f":"'4a'!Q41","v":0},{"$f":"'4a'!R41","v":0},{"$f":"'4a'!S41","v":0},{"$f":"'4a'!T41","v":0},{"$f":"'4a'!U41","v":0},{"$f":"'4a'!V41","v":0},{"$f":"'4a'!W41","v":0},{"$f":"'4a'!X41","v":0},{"$f":"'4a'!Y41","v":0},{"$f":"'4a'!Z41","v":0},{"$f":"'4a'!AA41","v":0},{"$f":"'4a'!AB41","v":0},{"$f":"'4a'!AC41","v":0},{"$f":"'4a'!AD41","v":0},{"$f":"'4a'!AE41","v":0},{"$f":"'4a'!AF41","v":0},{"$f":"'4a'!AG41","v":0},{"$f":"'4a'!AH41","v":0},{"$f":"'4a'!AI41","v":0},{"$f":"'4a'!AJ41","v":0},{"$f":"'4a'!AK41","v":0},{"$f":"'4a'!AL41","v":0},{"$f":"'4a'!AM41","v":0},{"$f":"'4a'!AN41","v":0},{"$f":"'4a'!AO41","v":0},{"$f":"'4a'!AP41","v":0},{"$f":"'4a'!AQ41","v":0},{"$f":"'4a'!AR41","v":0},{"$f":"'4a'!AS41","v":0},{"$f":"'4a'!AT41","v":0},{"$f":"'4a'!AU41","v":0},{"$f":"'4a'!AV41","v":0},{"$f":"'4a'!AW41","v":0},{"$f":"'4a'!AX41","v":0},{"$f":"'4a'!AY41","v":0},{"$f":"'4a'!AZ41","v":0},{"$f":"'4a'!BA41","v":0},{"$f":"'4a'!BB41","v":0},{"$f":"'4a'!BC41","v":0},{"$f":"'4a'!BD41","v":0},{"$f":"'4a'!BE41","v":0}]
[{"$f":"'4a'!A42","v":"4a"},{"$f":"'4a'!B42","v":0},{"$f":"'4a'!C42","v":0},{"$f":"'4a'!D42","v":"lehrer40"},{"$f":"'4a'!E42","v":0},{"$f":"'4a'!F42","v":0},{"$f":"'4a'!G42","v":0},{"$f":"'4a'!H42","v":0},{"$f":"'4a'!I42","v":0},{"$f":"'4a'!J42","v":0},{"$f":"'4a'!K42","v":0},{"$f":"'4a'!L42","v":0},{"$f":"'4a'!M42","v":0},{"$f":"'4a'!N42","v":0},{"$f":"'4a'!O42","v":0},{"$f":"'4a'!P42","v":0},{"$f":"'4a'!Q42","v":0},{"$f":"'4a'!R42","v":0},{"$f":"'4a'!S42","v":0},{"$f":"'4a'!T42","v":0},{"$f":"'4a'!U42","v":0},{"$f":"'4a'!V42","v":0},{"$f":"'4a'!W42","v":0},{"$f":"'4a'!X42","v":0},{"$f":"'4a'!Y42","v":0},{"$f":"'4a'!Z42","v":0},{"$f":"'4a'!AA42","v":0},{"$f":"'4a'!AB42","v":0},{"$f":"'4a'!AC42","v":0},{"$f":"'4a'!AD42","v":0},{"$f":"'4a'!AE42","v":0},{"$f":"'4a'!AF42","v":0},{"$f":"'4a'!AG42","v":0},{"$f":"'4a'!AH42","v":0},{"$f":"'4a'!AI42","v":0},{"$f":"'4a'!AJ42","v":0},{"$f":"'4a'!AK42","v":0},{"$f":"'4a'!AL42","v":0},{"$f":"'4a'!AM42","v":0},{"$f":"'4a'!AN42","v":0},{"$f":"'4a'!AO42","v":0},{"$f":"'4a'!AP42","v":0},{"$f":"'4a'!AQ42","v":0},{"$f":"'4a'!AR42","v":0},{"$f":"'4a'!AS42","v":0},{"$f":"'4a'!AT42","v":0},{"$f":"'4a'!AU42","v":0},{"$f":"'4a'!AV42","v":0},{"$f":"'4a'!AW42","v":0},{"$f":"'4a'!AX42","v":0},{"$f":"'4a'!AY42","v":0},{"$f":"'4a'!AZ42","v":0},{"$f":"'4a'!BA42","v":0},{"$f":"'4a'!BB42","v":0},{"$f":"'4a'!BC42","v":0},{"$f":"'4a'!BD42","v":0},{"$f":"'4a'!BE42","v":0}]
[{"$f":"'4a'!A43","v":"4a"},{"$f":"'4a'!B43","v":0},{"$f":"'4a'!C43","v":0},{"$f":"'4a'!D43","v":"lehrer41"},{"$f":"'4a'!E43","v":0},{"$f":"'4a'!F43","v":0},{"$f":"'4a'!G43","v":0},{"$f":"'4a'!H43","v":0},{"$f":"'4a'!I43","v":0},{"$f":"'4a'!J43","v":0},{"$f":"'4a'!K43","v":0},{"$f":"'4a'!L43","v":0},{"$f":"'4a'!M43","v":0},{"$f":"'4a'!N43","v":0},{"$f":"'4a'!O43","v":0},{"$f":"'4a'!P43","v":0},{"$f":"'4a'!Q43","v":0},{"$f":"'4a'!R43","v":0},{"$f":"'4a'!S43","v":0},{"$f":"'4a'!T43","v":0},{"$f":"'4a'!U43","v":0},{"$f":"'4a'!V43","v":0},{"$f":"'4a'!W43","v":0},{"$f":"'4a'!X43","v":0},{"$f":"'4a'!Y43","v":0},{"$f":"'4a'!Z43","v":0},{"$f":"'4a'!AA43","v":0},{"$f":"'4a'!AB43","v":0},{"$f":"'4a'!AC43","v":0},{"$f":"'4a'!AD43","v":0},{"$f":"'4a'!AE43","v":0},{"$f":"'4a'!AF43","v":0},{"$f":"'4a'!AG43","v":0},{"$f":"'4a'!AH43","v":0},{"$f":"'4a'!AI43","v":0},{"$f":"'4a'!AJ43","v":0},{"$f":"'4a'!AK43","v":0},{"$f":"'4a'!AL43","v":0},{"$f":"'4a'!AM43","v":0},{"$f":"'4a'!AN43","v":0},{"$f":"'4a'!AO43","v":0},{"$f":"'4a'!AP43","v":0},{"$f":"'4a'!AQ43","v":0},{"$f":"'4a'!AR43","v":0},{"$f":"'4a'!AS43","v":0},{"$f":"'4a'!AT43","v":0},{"$f":"'4a'!AU43","v":0},{"$f":"'4a'!AV43","v":0},{"$f":"'4a'!AW43","v":0},{"$f":"'4a'!AX43","v":0},{"$f":"'4a'!AY43","v":0},{"$f":"'4a'!AZ43","v":0},{"$f":"'4a'!BA43","v":0},{"$f":"'4a'!BB43","v":0},{"$f":"'4a'!BC43","v":0},{"$f":"'4a'!BD43","v":0},{"$f":"'4a'!BE43","v":0}]
[{"$f":"'4a'!A44","v":"4a"},{"$f":"'4a'!B44","v":0},{"$f":"'4a'!C44","v":0},{"$f":"'4a'!D44","v":"lehrer42"},{"$f":"'4a'!E44","v":0},{"$f":"'4a'!F44","v":0},{"$f":"'4a'!G44","v":0},{"$f":"'4a'!H44","v":0},{"$f":"'4a'!I44","v":0},{"$f":"'4a'!J44","v":0},{"$f":"'4a'!K44","v":0},{"$f":"'4a'!L44","v":0},{"$f":"'4a'!M44","v":0},{"$f":"'4a'!N44","v":0},{"$f":"'4a'!O44","v":0},{"$f":"'4a'!P44","v":0},{"$f":"'4a'!Q44","v":0},{"$f":"'4a'!R44","v":0},{"$f":"'4a'!S44","v":0},{"$f":"'4a'!T44","v":0},{"$f":"'4a'!U44","v":0},{"$f":"'4a'!V44","v":0},{"$f":"'4a'!W44","v":0},{"$f":"'4a'!X44","v":0},{"$f":"'4a'!Y44","v":0},{"$f":"'4a'!Z44","v":0},{"$f":"'4a'!AA44","v":0},{"$f":"'4a'!AB44","v":0},{"$f":"'4a'!AC44","v":0},{"$f":"'4a'!AD44","v":0},{"$f":"'4a'!AE44","v":0},{"$f":"'4a'!AF44","v":0},{"$f":"'4a'!AG44","v":0},{"$f":"'4a'!AH44","v":0},{"$f":"'4a'!AI44","v":0},{"$f":"'4a'!AJ44","v":0},{"$f":"'4a'!AK44","v":0},{"$f":"'4a'!AL44","v":0},{"$f":"'4a'!AM44","v":0},{"$f":"'4a'!AN44","v":0},{"$f":"'4a'!AO44","v":0},{"$f":"'4a'!AP44","v":0},{"$f":"'4a'!AQ44","v":0},{"$f":"'4a'!AR44","v":0},{"$f":"'4a'!AS44","v":0},{"$f":"'4a'!AT44","v":0},{"$f":"'4a'!AU44","v":0},{"$f":"'4a'!AV44","v":0},{"$f":"'4a'!AW44","v":0},{"$f":"'4a'!AX44","v":0},{"$f":"'4a'!AY44","v":0},{"$f":"'4a'!AZ44","v":0},{"$f":"'4a'!BA44","v":0},{"$f":"'4a'!BB44","v":0},{"$f":"'4a'!BC44","v":0},{"$f":"'4a'!BD44","v":0},{"$f":"'4a'!BE44","v":0}]
[{"$f":"'4a'!A45","v":"4a"},{"$f":"'4a'!B45","v":0},{"$f":"'4a'!C45","v":0},{"$f":"'4a'!D45","v":"lehrer43"},{"$f":"'4a'!E45","v":0},{"$f":"'4a'!F45","v":0},{"$f":"'4a'!G45","v":0},{"$f":"'4a'!H45","v":0},{"$f":"'4a'!I45","v":0},{"$f":"'4a'!J45","v":0},{"$f":"'4a'!K45","v":0},{"$f":"'4a'!L45","v":0},{"$f":"'4a'!M45","v":0},{"$f":"'4a'!N45","v":0},{"$f":"'4a'!O45","v":0},{"$f":"'4a'!P45","v":0},{"$f":"'4a'!Q45","v":0},{"$f":"'4a'!R45","v":0},{"$f":"'4a'!S45","v":0},{"$f":"'4a'!T45","v":0},{"$f":"'4a'!U45","v":0},{"$f":"'4a'!V45","v":0},{"$f":"'4a'!W45","v":0},{"$f":"'4a'!X45","v":0},{"$f":"'4a'!Y45","v":0},{"$f":"'4a'!Z45","v":0},{"$f":"'4a'!AA45","v":0},{"$f":"'4a'!AB45","v":0},{"$f":"'4a'!AC45","v":0},{"$f":"'4a'!AD45","v":0},{"$f":"'4a'!AE45","v":0},{"$f":"'4a'!AF45","v":0},{"$f":"'4a'!AG45","v":0},{"$f":"'4a'!AH45","v":0},{"$f":"'4a'!AI45","v":0},{"$f":"'4a'!AJ45","v":0},{"$f":"'4a'!AK45","v":0},{"$f":"'4a'!AL45","v":0},{"$f":"'4a'!AM45","v":0},{"$f":"'4a'!AN45","v":0},{"$f":"'4a'!AO45","v":0},{"$f":"'4a'!AP45","v":0},{"$f":"'4a'!AQ45","v":0},{"$f":"'4a'!AR45","v":0},{"$f":"'4a'!AS45","v":0},{"$f":"'4a'!AT45","v":0},{"$f":"'4a'!AU45","v":0},{"$f":"'4a'!AV45","v":0},{"$f":"'4a'!AW45","v":0},{"$f":"'4a'!AX45","v":0},{"$f":"'4a'!AY45","v":0},{"$f":"'4a'!AZ45","v":0},{"$f":"'4a'!BA45","v":0},{"$f":"'4a'!BB45","v":0},{"$f":"'4a'!BC45","v":0},{"$f":"'4a'!BD45","v":0},{"$f":"'4a'!BE45","v":0}]
[{"$f":"'4a'!A46","v":"4a"},{"$f":"'4a'!B46","v":0},{"$f":"'4a'!C46","v":0},{"$f":"'4a'!D46","v":"lehrer44"},{"$f":"'4a'!E46","v":0},{"$f":"'4a'!F46","v":0},{"$f":"'4a'!G46","v":0},{"$f":"'4a'!H46","v":0},{"$f":"'4a'!I46","v":0},{"$f":"'4a'!J46","v":0},{"$f":"'4a'!K46","v":0},{"$f":"'4a'!L46","v":0},{"$f":"'4a'!M46","v":0},{"$f":"'4a'!N46","v":0},{"$f":"'4a'!O46","v":0},{"$f":"'4a'!P46","v":0},{"$f":"'4a'!Q46","v":0},{"$f":"'4a'!R46","v":0},{"$f":"'4a'!S46","v":0},{"$f":"'4a'!T46","v":0},{"$f":"'4a'!U46","v":0},{"$f":"'4a'!V46","v":0},{"$f":"'4a'!W46","v":0},{"$f":"'4a'!X46","v":0},{"$f":"'4a'!Y46","v":0},{"$f":"'4a'!Z46","v":0},{"$f":"'4a'!AA46","v":0},{"$f":"'4a'!AB46","v":0},{"$f":"'4a'!AC46","v":0},{"$f":"'4a'!AD46","v":0},{"$f":"'4a'!AE46","v":0},{"$f":"'4a'!AF46","v":0},{"$f":"'4a'!AG46","v":0},{"$f":"'4a'!AH46","v":0},{"$f":"'4a'!AI46","v":0},{"$f":"'4a'!AJ46","v":0},{"$f":"'4a'!AK46","v":0},{"$f":"'4a'!AL46","v":0},{"$f":"'4a'!AM46","v":0},{"$f":"'4a'!AN46","v":0},{"$f":"'4a'!AO46","v":0},{"$f":"'4a'!AP46","v":0},{"$f":"'4a'!AQ46","v":0},{"$f":"'4a'!AR46","v":0},{"$f":"'4a'!AS46","v":0},{"$f":"'4a'!AT46","v":0},{"$f":"'4a'!AU46","v":0},{"$f":"'4a'!AV46","v":0},{"$f":"'4a'!AW46","v":0},{"$f":"'4a'!AX46","v":0},{"$f":"'4a'!AY46","v":0},{"$f":"'4a'!AZ46","v":0},{"$f":"'4a'!BA46","v":0},{"$f":"'4a'!BB46","v":0},{"$f":"'4a'!BC46","v":0},{"$f":"'4a'!BD46","v":0},{"$f":"'4a'!BE46","v":0}]
[{"$f":"'4a'!A47","v":"4a"},{"$f":"'4a'!B47","v":0},{"$f":"'4a'!C47","v":0},{"$f":"'4a'!D47","v":"lehrer45"},{"$f":"'4a'!E47","v":0},{"$f":"'4a'!F47","v":0},{"$f":"'4a'!G47","v":0},{"$f":"'4a'!H47","v":0},{"$f":"'4a'!I47","v":0},{"$f":"'4a'!J47","v":0},{"$f":"'4a'!K47","v":0},{"$f":"'4a'!L47","v":0},{"$f":"'4a'!M47","v":0},{"$f":"'4a'!N47","v":0},{"$f":"'4a'!O47","v":0},{"$f":"'4a'!P47","v":0},{"$f":"'4a'!Q47","v":0},{"$f":"'4a'!R47","v":0},{"$f":"'4a'!S47","v":0},{"$f":"'4a'!T47","v":0},{"$f":"'4a'!U47","v":0},{"$f":"'4a'!V47","v":0},{"$f":"'4a'!W47","v":0},{"$f":"'4a'!X47","v":0},{"$f":"'4a'!Y47","v":0},{"$f":"'4a'!Z47","v":0},{"$f":"'4a'!AA47","v":0},{"$f":"'4a'!AB47","v":0},{"$f":"'4a'!AC47","v":0},{"$f":"'4a'!AD47","v":0},{"$f":"'4a'!AE47","v":0},{"$f":"'4a'!AF47","v":0},{"$f":"'4a'!AG47","v":0},{"$f":"'4a'!AH47","v":0},{"$f":"'4a'!AI47","v":0},{"$f":"'4a'!AJ47","v":0},{"$f":"'4a'!AK47","v":0},{"$f":"'4a'!AL47","v":0},{"$f":"'4a'!AM47","v":0},{"$f":"'4a'!AN47","v":0},{"$f":"'4a'!AO47","v":0},{"$f":"'4a'!AP47","v":0},{"$f":"'4a'!AQ47","v":0},{"$f":"'4a'!AR47","v":0},{"$f":"'4a'!AS47","v":0},{"$f":"'4a'!AT47","v":0},{"$f":"'4a'!AU47","v":0},{"$f":"'4a'!AV47","v":0},{"$f":"'4a'!AW47","v":0},{"$f":"'4a'!AX47","v":0},{"$f":"'4a'!AY47","v":0},{"$f":"'4a'!AZ47","v":0},{"$f":"'4a'!BA47","v":0},{"$f":"'4a'!BB47","v":0},{"$f":"'4a'!BC47","v":0},{"$f":"'4a'!BD47","v":0},{"$f":"'4a'!BE47","v":0}]
[{"$f":"'4a'!A48","v":"4a"},{"$f":"'4a'!B48","v":0},{"$f":"'4a'!C48","v":0},{"$f":"'4a'!D48","v":"lehrer46"},{"$f":"'4a'!E48","v":0},{"$f":"'4a'!F48","v":0},{"$f":"'4a'!G48","v":0},{"$f":"'4a'!H48","v":0},{"$f":"'4a'!I48","v":0},{"$f":"'4a'!J48","v":0},{"$f":"'4a'!K48","v":0},{"$f":"'4a'!L48","v":0},{"$f":"'4a'!M48","v":0},{"$f":"'4a'!N48","v":0},{"$f":"'4a'!O48","v":0},{"$f":"'4a'!P48","v":0},{"$f":"'4a'!Q48","v":0},{"$f":"'4a'!R48","v":0},{"$f":"'4a'!S48","v":0},{"$f":"'4a'!T48","v":0},{"$f":"'4a'!U48","v":0},{"$f":"'4a'!V48","v":0},{"$f":"'4a'!W48","v":0},{"$f":"'4a'!X48","v":0},{"$f":"'4a'!Y48","v":0},{"$f":"'4a'!Z48","v":0},{"$f":"'4a'!AA48","v":0},{"$f":"'4a'!AB48","v":0},{"$f":"'4a'!AC48","v":0},{"$f":"'4a'!AD48","v":0},{"$f":"'4a'!AE48","v":0},{"$f":"'4a'!AF48","v":0},{"$f":"'4a'!AG48","v":0},{"$f":"'4a'!AH48","v":0},{"$f":"'4a'!AI48","v":0},{"$f":"'4a'!AJ48","v":0},{"$f":"'4a'!AK48","v":0},{"$f":"'4a'!AL48","v":0},{"$f":"'4a'!AM48","v":0},{"$f":"'4a'!AN48","v":0},{"$f":"'4a'!AO48","v":0},{"$f":"'4a'!AP48","v":0},{"$f":"'4a'!AQ48","v":0},{"$f":"'4a'!AR48","v":0},{"$f":"'4a'!AS48","v":0},{"$f":"'4a'!AT48","v":0},{"$f":"'4a'!AU48","v":0},{"$f":"'4a'!AV48","v":0},{"$f":"'4a'!AW48","v":0},{"$f":"'4a'!AX48","v":0},{"$f":"'4a'!AY48","v":0},{"$f":"'4a'!AZ48","v":0},{"$f":"'4a'!BA48","v":0},{"$f":"'4a'!BB48","v":0},{"$f":"'4a'!BC48","v":0},{"$f":"'4a'!BD48","v":0},{"$f":"'4a'!BE48","v":0}]
[{"$f":"'4a'!A49","v":"4a"},{"$f":"'4a'!B49","v":0},{"$f":"'4a'!C49","v":0},{"$f":"'4a'!D49","v":"lehrer47"},{"$f":"'4a'!E49","v":0},{"$f":"'4a'!F49","v":0},{"$f":"'4a'!G49","v":0},{"$f":"'4a'!H49","v":0},{"$f":"'4a'!I49","v":0},{"$f":"'4a'!J49","v":0},{"$f":"'4a'!K49","v":0},{"$f":"'4a'!L49","v":0},{"$f":"'4a'!M49","v":0},{"$f":"'4a'!N49","v":0},{"$f":"'4a'!O49","v":0},{"$f":"'4a'!P49","v":0},{"$f":"'4a'!Q49","v":0},{"$f":"'4a'!R49","v":0},{"$f":"'4a'!S49","v":0},{"$f":"'4a'!T49","v":0},{"$f":"'4a'!U49","v":0},{"$f":"'4a'!V49","v":0},{"$f":"'4a'!W49","v":0},{"$f":"'4a'!X49","v":0},{"$f":"'4a'!Y49","v":0},{"$f":"'4a'!Z49","v":0},{"$f":"'4a'!AA49","v":0},{"$f":"'4a'!AB49","v":0},{"$f":"'4a'!AC49","v":0},{"$f":"'4a'!AD49","v":0},{"$f":"'4a'!AE49","v":0},{"$f":"'4a'!AF49","v":0},{"$f":"'4a'!AG49","v":0},{"$f":"'4a'!AH49","v":0},{"$f":"'4a'!AI49","v":0},{"$f":"'4a'!AJ49","v":0},{"$f":"'4a'!AK49","v":0},{"$f":"'4a'!AL49","v":0},{"$f":"'4a'!AM49","v":0},{"$f":"'4a'!AN49","v":0},{"$f":"'4a'!AO49","v":0},{"$f":"'4a'!AP49","v":0},{"$f":"'4a'!AQ49","v":0},{"$f":"'4a'!AR49","v":0},{"$f":"'4a'!AS49","v":0},{"$f":"'4a'!AT49","v":0},{"$f":"'4a'!AU49","v":0},{"$f":"'4a'!AV49","v":0},{"$f":"'4a'!AW49","v":0},{"$f":"'4a'!AX49","v":0},{"$f":"'4a'!AY49","v":0},{"$f":"'4a'!AZ49","v":0},{"$f":"'4a'!BA49","v":0},{"$f":"'4a'!BB49","v":0},{"$f":"'4a'!BC49","v":0},{"$f":"'4a'!BD49","v":0},{"$f":"'4a'!BE49","v":0}]
[{"$f":"'4a'!A50","v":"4a"},{"$f":"'4a'!B50","v":0},{"$f":"'4a'!C50","v":0},{"$f":"'4a'!D50","v":"lehrer48"},{"$f":"'4a'!E50","v":0},{"$f":"'4a'!F50","v":0},{"$f":"'4a'!G50","v":0},{"$f":"'4a'!H50","v":0},{"$f":"'4a'!I50","v":0},{"$f":"'4a'!J50","v":0},{"$f":"'4a'!K50","v":0},{"$f":"'4a'!L50","v":0},{"$f":"'4a'!M50","v":0},{"$f":"'4a'!N50","v":0},{"$f":"'4a'!O50","v":0},{"$f":"'4a'!P50","v":0},{"$f":"'4a'!Q50","v":0},{"$f":"'4a'!R50","v":0},{"$f":"'4a'!S50","v":0},{"$f":"'4a'!T50","v":0},{"$f":"'4a'!U50","v":0},{"$f":"'4a'!V50","v":0},{"$f":"'4a'!W50","v":0},{"$f":"'4a'!X50","v":0},{"$f":"'4a'!Y50","v":0},{"$f":"'4a'!Z50","v":0},{"$f":"'4a'!AA50","v":0},{"$f":"'4a'!AB50","v":0},{"$f":"'4a'!AC50","v":0},{"$f":"'4a'!AD50","v":0},{"$f":"'4a'!AE50","v":0},{"$f":"'4a'!AF50","v":0},{"$f":"'4a'!AG50","v":0},{"$f":"'4a'!AH50","v":0},{"$f":"'4a'!AI50","v":0},{"$f":"'4a'!AJ50","v":0},{"$f":"'4a'!AK50","v":0},{"$f":"'4a'!AL50","v":0},{"$f":"'4a'!AM50","v":0},{"$f":"'4a'!AN50","v":0},{"$f":"'4a'!AO50","v":0},{"$f":"'4a'!AP50","v":0},{"$f":"'4a'!AQ50","v":0},{"$f":"'4a'!AR50","v":0},{"$f":"'4a'!AS50","v":0},{"$f":"'4a'!AT50","v":0},{"$f":"'4a'!AU50","v":0},{"$f":"'4a'!AV50","v":0},{"$f":"'4a'!AW50","v":0},{"$f":"'4a'!AX50","v":0},{"$f":"'4a'!AY50","v":0},{"$f":"'4a'!AZ50","v":0},{"$f":"'4a'!BA50","v":0},{"$f":"'4a'!BB50","v":0},{"$f":"'4a'!BC50","v":0},{"$f":"'4a'!BD50","v":0},{"$f":"'4a'!BE50","v":0}]
[{"$f":"'4b'!A3","v":"4b"},{"$f":"'4b'!B3","v":0},{"$f":"'4b'!C3","v":0},{"$f":"'4b'!D3","v":"lehrer01"},{"$f":"'4b'!E3","v":0},{"$f":"'4b'!F3","v":0},{"$f":"'4b'!G3","v":0},{"$f":"'4b'!H3","v":0},{"$f":"'4b'!I3","v":0},{"$f":"'4b'!J3","v":0},{"$f":"'4b'!K3","v":0},{"$f":"'4b'!L3","v":0},{"$f":"'4b'!M3","v":0},{"$f":"'4b'!N3","v":0},{"$f":"'4b'!O3","v":0},{"$f":"'4b'!P3","v":0},{"$f":"'4b'!Q3","v":0},{"$f":"'4b'!R3","v":0},{"$f":"'4b'!S3","v":0},{"$f":"'4b'!T3","v":0},{"$f":"'4b'!U3","v":0},{"$f":"'4b'!V3","v":0},{"$f":"'4b'!W3","v":0},{"$f":"'4b'!X3","v":0},{"$f":"'4b'!Y3","v":0},{"$f":"'4b'!Z3","v":0},{"$f":"'4b'!AA3","v":0},{"$f":"'4b'!AB3","v":0},{"$f":"'4b'!AC3","v":0},{"$f":"'4b'!AD3","v":0},{"$f":"'4b'!AE3","v":0},{"$f":"'4b'!AF3","v":0},{"$f":"'4b'!AG3","v":0},{"$f":"'4b'!AH3","v":0},{"$f":"'4b'!AI3","v":0},{"$f":"'4b'!AJ3","v":0},{"$f":"'4b'!AK3","v":0},{"$f":"'4b'!AL3","v":0},{"$f":"'4b'!AM3","v":0},{"$f":"'4b'!AN3","v":0},{"$f":"'4b'!AO3","v":0},{"$f":"'4b'!AP3","v":0},{"$f":"'4b'!AQ3","v":0},{"$f":"'4b'!AR3","v":0},{"$f":"'4b'!AS3","v":0},{"$f":"'4b'!AT3","v":0},{"$f":"'4b'!AU3","v":0},{"$f":"'4b'!AV3","v":0},{"$f":"'4b'!AW3","v":0},{"$f":"'4b'!AX3","v":0},{"$f":"'4b'!AY3","v":0},{"$f":"'4b'!AZ3","v":0},{"$f":"'4b'!BA3","v":0},{"$f":"'4b'!BB3","v":0},{"$f":"'4b'!BC3","v":0},{"$f":"'4b'!BD3","v":0},{"$f":"'4b'!BE3","v":0}]
[{"$f":"'4b'!A4","v":"4b"},{"$f":"'4b'!B4","v":0},{"$f":"'4b'!C4","v":0},{"$f":"'4b'!D4","v":"lehrer02"},{"$f":"'4b'!E4","v":0},{"$f":"'4b'!F4","v":0},{"$f":"'4b'!G4","v":0},{"$f":"'4b'!H4","v":0},{"$f":"'4b'!I4","v":0},{"$f":"'4b'!J4","v":0},{"$f":"'4b'!K4","v":0},{"$f":"'4b'!L4","v":0},{"$f":"'4b'!M4","v":0},{"$f":"'4b'!N4","v":0},{"$f":"'4b'!O4","v":0},{"$f":"'4b'!P4","v":0},{"$f":"'4b'!Q4","v":0},{"$f":"'4b'!R4","v":0},{"$f":"'4b'!S4","v":0},{"$f":"'4b'!T4","v":0},{"$f":"'4b'!U4","v":0},{"$f":"'4b'!V4","v":0},{"$f":"'4b'!W4","v":0},{"$f":"'4b'!X4","v":0},{"$f":"'4b'!Y4","v":0},{"$f":"'4b'!Z4","v":0},{"$f":"'4b'!AA4","v":0},{"$f":"'4b'!AB4","v":0},{"$f":"'4b'!AC4","v":0},{"$f":"'4b'!AD4","v":0},{"$f":"'4b'!AE4","v":0},{"$f":"'4b'!AF4","v":0},{"$f":"'4b'!AG4","v":0},{"$f":"'4b'!AH4","v":0},{"$f":"'4b'!AI4","v":0},{"$f":"'4b'!AJ4","v":0},{"$f":"'4b'!AK4","v":0},{"$f":"'4b'!AL4","v":0},{"$f":"'4b'!AM4","v":0},{"$f":"'4b'!AN4","v":0},{"$f":"'4b'!AO4","v":0},{"$f":"'4b'!AP4","v":0},{"$f":"'4b'!AQ4","v":0},{"$f":"'4b'!AR4","v":0},{"$f":"'4b'!AS4","v":0},{"$f":"'4b'!AT4","v":0},{"$f":"'4b'!AU4","v":0},{"$f":"'4b'!AV4","v":0},{"$f":"'4b'!AW4","v":0},{"$f":"'4b'!AX4","v":0},{"$f":"'4b'!AY4","v":0},{"$f":"'4b'!AZ4","v":0},{"$f":"'4b'!BA4","v":0},{"$f":"'4b'!BB4","v":0},{"$f":"'4b'!BC4","v":0},{"$f":"'4b'!BD4","v":0},{"$f":"'4b'!BE4","v":0}]
[{"$f":"'4b'!A5","v":"4b"},{"$f":"'4b'!B5","v":0},{"$f":"'4b'!C5","v":0},{"$f":"'4b'!D5","v":"lehrer03"},{"$f":"'4b'!E5","v":0},{"$f":"'4b'!F5","v":0},{"$f":"'4b'!G5","v":0},{"$f":"'4b'!H5","v":0},{"$f":"'4b'!I5","v":0},{"$f":"'4b'!J5","v":0},{"$f":"'4b'!K5","v":0},{"$f":"'4b'!L5","v":0},{"$f":"'4b'!M5","v":0},{"$f":"'4b'!N5","v":0},{"$f":"'4b'!O5","v":0},{"$f":"'4b'!P5","v":0},{"$f":"'4b'!Q5","v":0},{"$f":"'4b'!R5","v":0},{"$f":"'4b'!S5","v":0},{"$f":"'4b'!T5","v":0},{"$f":"'4b'!U5","v":0},{"$f":"'4b'!V5","v":0},{"$f":"'4b'!W5","v":0},{"$f":"'4b'!X5","v":0},{"$f":"'4b'!Y5","v":0},{"$f":"'4b'!Z5","v":0},{"$f":"'4b'!AA5","v":0},{"$f":"'4b'!AB5","v":0},{"$f":"'4b'!AC5","v":0},{"$f":"'4b'!AD5","v":0},{"$f":"'4b'!AE5","v":0},{"$f":"'4b'!AF5","v":0},{"$f":"'4b'!AG5","v":0},{"$f":"'4b'!AH5","v":0},{"$f":"'4b'!AI5","v":0},{"$f":"'4b'!AJ5","v":0},{"$f":"'4b'!AK5","v":0},{"$f":"'4b'!AL5","v":0},{"$f":"'4b'!AM5","v":0},{"$f":"'4b'!AN5","v":0},{"$f":"'4b'!AO5","v":0},{"$f":"'4b'!AP5","v":0},{"$f":"'4b'!AQ5","v":0},{"$f":"'4b'!AR5","v":0},{"$f":"'4b'!AS5","v":0},{"$f":"'4b'!AT5","v":0},{"$f":"'4b'!AU5","v":0},{"$f":"'4b'!AV5","v":0},{"$f":"'4b'!AW5","v":0},{"$f":"'4b'!AX5","v":0},{"$f":"'4b'!AY5","v":0},{"$f":"'4b'!AZ5","v":0},{"$f":"'4b'!BA5","v":0},{"$f":"'4b'!BB5","v":0},{"$f":"'4b'!BC5","v":0},{"$f":"'4b'!BD5","v":0},{"$f":"'4b'!BE5","v":0}]
[{"$f":"'4b'!A6","v":"4b"},{"$f":"'4b'!B6","v":0},{"$f":"'4b'!C6","v":0},{"$f":"'4b'!D6","v":"lehrer04"},{"$f":"'4b'!E6","v":0},{"$f":"'4b'!F6","v":0},{"$f":"'4b'!G6","v":0},{"$f":"'4b'!H6","v":0},{"$f":"'4b'!I6","v":0},{"$f":"'4b'!J6","v":0},{"$f":"'4b'!K6","v":0},{"$f":"'4b'!L6","v":0},{"$f":"'4b'!M6","v":0},{"$f":"'4b'!N6","v":0},{"$f":"'4b'!O6","v":0},{"$f":"'4b'!P6","v":0},{"$f":"'4b'!Q6","v":0},{"$f":"'4b'!R6","v":0},{"$f":"'4b'!S6","v":0},{"$f":"'4b'!T6","v":0},{"$f":"'4b'!U6","v":0},{"$f":"'4b'!V6","v":0},{"$f":"'4b'!W6","v":0},{"$f":"'4b'!X6","v":0},{"$f":"'4b'!Y6","v":0},{"$f":"'4b'!Z6","v":0},{"$f":"'4b'!AA6","v":0},{"$f":"'4b'!AB6","v":0},{"$f":"'4b'!AC6","v":0},{"$f":"'4b'!AD6","v":0},{"$f":"'4b'!AE6","v":0},{"$f":"'4b'!AF6","v":0},{"$f":"'4b'!AG6","v":0},{"$f":"'4b'!AH6","v":0},{"$f":"'4b'!AI6","v":0},{"$f":"'4b'!AJ6","v":0},{"$f":"'4b'!AK6","v":0},{"$f":"'4b'!AL6","v":0},{"$f":"'4b'!AM6","v":0},{"$f":"'4b'!AN6","v":0},{"$f":"'4b'!AO6","v":0},{"$f":"'4b'!AP6","v":0},{"$f":"'4b'!AQ6","v":0},{"$f":"'4b'!AR6","v":0},{"$f":"'4b'!AS6","v":0},{"$f":"'4b'!AT6","v":0},{"$f":"'4b'!AU6","v":0},{"$f":"'4b'!AV6","v":0},{"$f":"'4b'!AW6","v":0},{"$f":"'4b'!AX6","v":0},{"$f":"'4b'!AY6","v":0},{"$f":"'4b'!AZ6","v":0},{"$f":"'4b'!BA6","v":0},{"$f":"'4b'!BB6","v":0},{"$f":"'4b'!BC6","v":0},{"$f":"'4b'!BD6","v":0},{"$f":"'4b'!BE6","v":0}]
[{"$f":"'4b'!A7","v":"4b"},{"$f":"'4b'!B7","v":0},{"$f":"'4b'!C7","v":0},{"$f":"'4b'!D7","v":"lehrer05"},{"$f":"'4b'!E7","v":0},{"$f":"'4b'!F7","v":0},{"$f":"'4b'!G7","v":0},{"$f":"'4b'!H7","v":0},{"$f":"'4b'!I7","v":0},{"$f":"'4b'!J7","v":0},{"$f":"'4b'!K7","v":0},{"$f":"'4b'!L7","v":0},{"$f":"'4b'!M7","v":0},{"$f":"'4b'!N7","v":0},{"$f":"'4b'!O7","v":0},{"$f":"'4b'!P7","v":0},{"$f":"'4b'!Q7","v":0},{"$f":"'4b'!R7","v":0},{"$f":"'4b'!S7","v":0},{"$f":"'4b'!T7","v":0},{"$f":"'4b'!U7","v":0},{"$f":"'4b'!V7","v":0},{"$f":"'4b'!W7","v":0},{"$f":"'4b'!X7","v":0},{"$f":"'4b'!Y7","v":0},{"$f":"'4b'!Z7","v":0},{"$f":"'4b'!AA7","v":0},{"$f":"'4b'!AB7","v":0},{"$f":"'4b'!AC7","v":0},{"$f":"'4b'!AD7","v":0},{"$f":"'4b'!AE7","v":0},{"$f":"'4b'!AF7","v":0},{"$f":"'4b'!AG7","v":0},{"$f":"'4b'!AH7","v":0},{"$f":"'4b'!AI7","v":0},{"$f":"'4b'!AJ7","v":0},{"$f":"'4b'!AK7","v":0},{"$f":"'4b'!AL7","v":0},{"$f":"'4b'!AM7","v":0},{"$f":"'4b'!AN7","v":0},{"$f":"'4b'!AO7","v":0},{"$f":"'4b'!AP7","v":0},{"$f":"'4b'!AQ7","v":0},{"$f":"'4b'!AR7","v":0},{"$f":"'4b'!AS7","v":0},{"$f":"'4b'!AT7","v":0},{"$f":"'4b'!AU7","v":0},{"$f":"'4b'!AV7","v":0},{"$f":"'4b'!AW7","v":0},{"$f":"'4b'!AX7","v":0},{"$f":"'4b'!AY7","v":0},{"$f":"'4b'!AZ7","v":0},{"$f":"'4b'!BA7","v":0},{"$f":"'4b'!BB7","v":0},{"$f":"'4b'!BC7","v":0},{"$f":"'4b'!BD7","v":0},{"$f":"'4b'!BE7","v":0}]
[{"$f":"'4b'!A8","v":"4b"},{"$f":"'4b'!B8","v":0},{"$f":"'4b'!C8","v":0},{"$f":"'4b'!D8","v":"lehrer06"},{"$f":"'4b'!E8","v":0},{"$f":"'4b'!F8","v":0},{"$f":"'4b'!G8","v":0},{"$f":"'4b'!H8","v":0},{"$f":"'4b'!I8","v":0},{"$f":"'4b'!J8","v":0},{"$f":"'4b'!K8","v":0},{"$f":"'4b'!L8","v":0},{"$f":"'4b'!M8","v":0},{"$f":"'4b'!N8","v":0},{"$f":"'4b'!O8","v":0},{"$f":"'4b'!P8","v":0},{"$f":"'4b'!Q8","v":0},{"$f":"'4b'!R8","v":0},{"$f":"'4b'!S8","v":0},{"$f":"'4b'!T8","v":0},{"$f":"'4b'!U8","v":0},{"$f":"'4b'!V8","v":0},{"$f":"'4b'!W8","v":0},{"$f":"'4b'!X8","v":0},{"$f":"'4b'!Y8","v":0},{"$f":"'4b'!Z8","v":0},{"$f":"'4b'!AA8","v":0},{"$f":"'4b'!AB8","v":0},{"$f":"'4b'!AC8","v":0},{"$f":"'4b'!AD8","v":0},{"$f":"'4b'!AE8","v":0},{"$f":"'4b'!AF8","v":0},{"$f":"'4b'!AG8","v":0},{"$f":"'4b'!AH8","v":0},{"$f":"'4b'!AI8","v":0},{"$f":"'4b'!AJ8","v":0},{"$f":"'4b'!AK8","v":0},{"$f":"'4b'!AL8","v":0},{"$f":"'4b'!AM8","v":0},{"$f":"'4b'!AN8","v":0},{"$f":"'4b'!AO8","v":0},{"$f":"'4b'!AP8","v":0},{"$f":"'4b'!AQ8","v":0},{"$f":"'4b'!AR8","v":0},{"$f":"'4b'!AS8","v":0},{"$f":"'4b'!AT8","v":0},{"$f":"'4b'!AU8","v":0},{"$f":"'4b'!AV8","v":0},{"$f":"'4b'!AW8","v":0},{"$f":"'4b'!AX8","v":0},{"$f":"'4b'!AY8","v":0},{"$f":"'4b'!AZ8","v":0},{"$f":"'4b'!BA8","v":0},{"$f":"'4b'!BB8","v":0},{"$f":"'4b'!BC8","v":0},{"$f":"'4b'!BD8","v":0},{"$f":"'4b'!BE8","v":0}]
[{"$f":"'4b'!A9","v":"4b"},{"$f":"'4b'!B9","v":0},{"$f":"'4b'!C9","v":0},{"$f":"'4b'!D9","v":"lehrer07"},{"$f":"'4b'!E9","v":0},{"$f":"'4b'!F9","v":0},{"$f":"'4b'!G9","v":0},{"$f":"'4b'!H9","v":0},{"$f":"'4b'!I9","v":0},{"$f":"'4b'!J9","v":0},{"$f":"'4b'!K9","v":0},{"$f":"'4b'!L9","v":0},{"$f":"'4b'!M9","v":0},{"$f":"'4b'!N9","v":0},{"$f":"'4b'!O9","v":0},{"$f":"'4b'!P9","v":0},{"$f":"'4b'!Q9","v":0},{"$f":"'4b'!R9","v":0},{"$f":"'4b'!S9","v":0},{"$f":"'4b'!T9","v":0},{"$f":"'4b'!U9","v":0},{"$f":"'4b'!V9","v":0},{"$f":"'4b'!W9","v":0},{"$f":"'4b'!X9","v":0},{"$f":"'4b'!Y9","v":0},{"$f":"'4b'!Z9","v":0},{"$f":"'4b'!AA9","v":0},{"$f":"'4b'!AB9","v":0},{"$f":"'4b'!AC9","v":0},{"$f":"'4b'!AD9","v":0},{"$f":"'4b'!AE9","v":0},{"$f":"'4b'!AF9","v":0},{"$f":"'4b'!AG9","v":0},{"$f":"'4b'!AH9","v":0},{"$f":"'4b'!AI9","v":0},{"$f":"'4b'!AJ9","v":0},{"$f":"'4b'!AK9","v":0},{"$f":"'4b'!AL9","v":0},{"$f":"'4b'!AM9","v":0},{"$f":"'4b'!AN9","v":0},{"$f":"'4b'!AO9","v":0},{"$f":"'4b'!AP9","v":0},{"$f":"'4b'!AQ9","v":0},{"$f":"'4b'!AR9","v":0},{"$f":"'4b'!AS9","v":0},{"$f":"'4b'!AT9","v":0},{"$f":"'4b'!AU9","v":0},{"$f":"'4b'!AV9","v":0},{"$f":"'4b'!AW9","v":0},{"$f":"'4b'!AX9","v":0},{"$f":"'4b'!AY9","v":0},{"$f":"'4b'!AZ9","v":0},{"$f":"'4b'!BA9","v":0},{"$f":"'4b'!BB9","v":0},{"$f":"'4b'!BC9","v":0},{"$f":"'4b'!BD9","v":0},{"$f":"'4b'!BE9","v":0}]
[{"$f":"'4b'!A10","v":"4b"},{"$f":"'4b'!B10","v":0},{"$f":"'4b'!C10","v":0},{"$f":"'4b'!D10","v":"lehrer08"},{"$f":"'4b'!E10","v":0},{"$f":"'4b'!F10","v":0},{"$f":"'4b'!G10","v":0},{"$f":"'4b'!H10","v":0},{"$f":"'4b'!I10","v":0},{"$f":"'4b'!J10","v":0},{"$f":"'4b'!K10","v":0},{"$f":"'4b'!L10","v":0},{"$f":"'4b'!M10","v":0},{"$f":"'4b'!N10","v":0},{"$f":"'4b'!O10","v":0},{"$f":"'4b'!P10","v":0},{"$f":"'4b'!Q10","v":0},{"$f":"'4b'!R10","v":0},{"$f":"'4b'!S10","v":0},{"$f":"'4b'!T10","v":0},{"$f":"'4b'!U10","v":0},{"$f":"'4b'!V10","v":0},{"$f":"'4b'!W10","v":0},{"$f":"'4b'!X10","v":0},{"$f":"'4b'!Y10","v":0},{"$f":"'4b'!Z10","v":0},{"$f":"'4b'!AA10","v":0},{"$f":"'4b'!AB10","v":0},{"$f":"'4b'!AC10","v":0},{"$f":"'4b'!AD10","v":0},{"$f":"'4b'!AE10","v":0},{"$f":"'4b'!AF10","v":0},{"$f":"'4b'!AG10","v":0},{"$f":"'4b'!AH10","v":0},{"$f":"'4b'!AI10","v":0},{"$f":"'4b'!AJ10","v":0},{"$f":"'4b'!AK10","v":0},{"$f":"'4b'!AL10","v":0},{"$f":"'4b'!AM10","v":0},{"$f":"'4b'!AN10","v":0},{"$f":"'4b'!AO10","v":0},{"$f":"'4b'!AP10","v":0},{"$f":"'4b'!AQ10","v":0},{"$f":"'4b'!AR10","v":0},{"$f":"'4b'!AS10","v":0},{"$f":"'4b'!AT10","v":0},{"$f":"'4b'!AU10","v":0},{"$f":"'4b'!AV10","v":0},{"$f":"'4b'!AW10","v":0},{"$f":"'4b'!AX10","v":0},{"$f":"'4b'!AY10","v":0},{"$f":"'4b'!AZ10","v":0},{"$f":"'4b'!BA10","v":0},{"$f":"'4b'!BB10","v":0},{"$f":"'4b'!BC10","v":0},{"$f":"'4b'!BD10","v":0},{"$f":"'4b'!BE10","v":0}]
[{"$f":"'4b'!A11","v":"4b"},{"$f":"'4b'!B11","v":0},{"$f":"'4b'!C11","v":0},{"$f":"'4b'!D11","v":"lehrer09"},{"$f":"'4b'!E11","v":0},{"$f":"'4b'!F11","v":0},{"$f":"'4b'!G11","v":0},{"$f":"'4b'!H11","v":0},{"$f":"'4b'!I11","v":0},{"$f":"'4b'!J11","v":0},{"$f":"'4b'!K11","v":0},{"$f":"'4b'!L11","v":0},{"$f":"'4b'!M11","v":0},{"$f":"'4b'!N11","v":0},{"$f":"'4b'!O11","v":0},{"$f":"'4b'!P11","v":0},{"$f":"'4b'!Q11","v":0},{"$f":"'4b'!R11","v":0},{"$f":"'4b'!S11","v":0},{"$f":"'4b'!T11","v":0},{"$f":"'4b'!U11","v":0},{"$f":"'4b'!V11","v":0},{"$f":"'4b'!W11","v":0},{"$f":"'4b'!X11","v":0},{"$f":"'4b'!Y11","v":0},{"$f":"'4b'!Z11","v":0},{"$f":"'4b'!AA11","v":0},{"$f":"'4b'!AB11","v":0},{"$f":"'4b'!AC11","v":0},{"$f":"'4b'!AD11","v":0},{"$f":"'4b'!AE11","v":0},{"$f":"'4b'!AF11","v":0},{"$f":"'4b'!AG11","v":0},{"$f":"'4b'!AH11","v":0},{"$f":"'4b'!AI11","v":0},{"$f":"'4b'!AJ11","v":0},{"$f":"'4b'!AK11","v":0},{"$f":"'4b'!AL11","v":0},{"$f":"'4b'!AM11","v":0},{"$f":"'4b'!AN11","v":0},{"$f":"'4b'!AO11","v":0},{"$f":"'4b'!AP11","v":0},{"$f":"'4b'!AQ11","v":0},{"$f":"'4b'!AR11","v":0},{"$f":"'4b'!AS11","v":0},{"$f":"'4b'!AT11","v":0},{"$f":"'4b'!AU11","v":0},{"$f":"'4b'!AV11","v":0},{"$f":"'4b'!AW11","v":0},{"$f":"'4b'!AX11","v":0},{"$f":"'4b'!AY11","v":0},{"$f":"'4b'!AZ11","v":0},{"$f":"'4b'!BA11","v":0},{"$f":"'4b'!BB11","v":0},{"$f":"'4b'!BC11","v":0},{"$f":"'4b'!BD11","v":0},{"$f":"'4b'!BE11","v":0}]
[{"$f":"'4b'!A12","v":"4b"},{"$f":"'4b'!B12","v":0},{"$f":"'4b'!C12","v":0},{"$f":"'4b'!D12","v":"lehrer10"},{"$f":"'4b'!E12","v":0},{"$f":"'4b'!F12","v":0},{"$f":"'4b'!G12","v":0},{"$f":"'4b'!H12","v":0},{"$f":"'4b'!I12","v":0},{"$f":"'4b'!J12","v":0},{"$f":"'4b'!K12","v":0},{"$f":"'4b'!L12","v":0},{"$f":"'4b'!M12","v":0},{"$f":"'4b'!N12","v":0},{"$f":"'4b'!O12","v":0},{"$f":"'4b'!P12","v":0},{"$f":"'4b'!Q12","v":0},{"$f":"'4b'!R12","v":0},{"$f":"'4b'!S12","v":0},{"$f":"'4b'!T12","v":0},{"$f":"'4b'!U12","v":0},{"$f":"'4b'!V12","v":0},{"$f":"'4b'!W12","v":0},{"$f":"'4b'!X12","v":0},{"$f":"'4b'!Y12","v":0},{"$f":"'4b'!Z12","v":0},{"$f":"'4b'!AA12","v":0},{"$f":"'4b'!AB12","v":0},{"$f":"'4b'!AC12","v":0},{"$f":"'4b'!AD12","v":0},{"$f":"'4b'!AE12","v":0},{"$f":"'4b'!AF12","v":0},{"$f":"'4b'!AG12","v":0},{"$f":"'4b'!AH12","v":0},{"$f":"'4b'!AI12","v":0},{"$f":"'4b'!AJ12","v":0},{"$f":"'4b'!AK12","v":0},{"$f":"'4b'!AL12","v":0},{"$f":"'4b'!AM12","v":0},{"$f":"'4b'!AN12","v":0},{"$f":"'4b'!AO12","v":0},{"$f":"'4b'!AP12","v":0},{"$f":"'4b'!AQ12","v":0},{"$f":"'4b'!AR12","v":0},{"$f":"'4b'!AS12","v":0},{"$f":"'4b'!AT12","v":0},{"$f":"'4b'!AU12","v":0},{"$f":"'4b'!AV12","v":0},{"$f":"'4b'!AW12","v":0},{"$f":"'4b'!AX12","v":0},{"$f":"'4b'!AY12","v":0},{"$f":"'4b'!AZ12","v":0},{"$f":"'4b'!BA12","v":0},{"$f":"'4b'!BB12","v":0},{"$f":"'4b'!BC12","v":0},{"$f":"'4b'!BD12","v":0},{"$f":"'4b'!BE12","v":0}]
[{"$f":"'4b'!A13","v":"4b"},{"$f":"'4b'!B13","v":0},{"$f":"'4b'!C13","v":0},{"$f":"'4b'!D13","v":"lehrer11"},{"$f":"'4b'!E13","v":0},{"$f":"'4b'!F13","v":0},{"$f":"'4b'!G13","v":0},{"$f":"'4b'!H13","v":0},{"$f":"'4b'!I13","v":0},{"$f":"'4b'!J13","v":0},{"$f":"'4b'!K13","v":0},{"$f":"'4b'!L13","v":0},{"$f":"'4b'!M13","v":0},{"$f":"'4b'!N13","v":0},{"$f":"'4b'!O13","v":0},{"$f":"'4b'!P13","v":0},{"$f":"'4b'!Q13","v":0},{"$f":"'4b'!R13","v":0},{"$f":"'4b'!S13","v":0},{"$f":"'4b'!T13","v":0},{"$f":"'4b'!U13","v":0},{"$f":"'4b'!V13","v":0},{"$f":"'4b'!W13","v":0},{"$f":"'4b'!X13","v":0},{"$f":"'4b'!Y13","v":0},{"$f":"'4b'!Z13","v":0},{"$f":"'4b'!AA13","v":0},{"$f":"'4b'!AB13","v":0},{"$f":"'4b'!AC13","v":0},{"$f":"'4b'!AD13","v":0},{"$f":"'4b'!AE13","v":0},{"$f":"'4b'!AF13","v":0},{"$f":"'4b'!AG13","v":0},{"$f":"'4b'!AH13","v":0},{"$f":"'4b'!AI13","v":0},{"$f":"'4b'!AJ13","v":0},{"$f":"'4b'!AK13","v":0},{"$f":"'4b'!AL13","v":0},{"$f":"'4b'!AM13","v":0},{"$f":"'4b'!AN13","v":0},{"$f":"'4b'!AO13","v":0},{"$f":"'4b'!AP13","v":0},{"$f":"'4b'!AQ13","v":0},{"$f":"'4b'!AR13","v":0},{"$f":"'4b'!AS13","v":0},{"$f":"'4b'!AT13","v":0},{"$f":"'4b'!AU13","v":0},{"$f":"'4b'!AV13","v":0},{"$f":"'4b'!AW13","v":0},{"$f":"'4b'!AX13","v":0},{"$f":"'4b'!AY13","v":0},{"$f":"'4b'!AZ13","v":0},{"$f":"'4b'!BA13","v":0},{"$f":"'4b'!BB13","v":0},{"$f":"'4b'!BC13","v":0},{"$f":"'4b'!BD13","v":0},{"$f":"'4b'!BE13","v":0}]
[{"$f":"'4b'!A14","v":"4b"},{"$f":"'4b'!B14","v":0},{"$f":"'4b'!C14","v":0},{"$f":"'4b'!D14","v":"lehrer12"},{"$f":"'4b'!E14","v":0},{"$f":"'4b'!F14","v":0},{"$f":"'4b'!G14","v":0},{"$f":"'4b'!H14","v":0},{"$f":"'4b'!I14","v":0},{"$f":"'4b'!J14","v":0},{"$f":"'4b'!K14","v":0},{"$f":"'4b'!L14","v":0},{"$f":"'4b'!M14","v":0},{"$f":"'4b'!N14","v":0},{"$f":"'4b'!O14","v":0},{"$f":"'4b'!P14","v":0},{"$f":"'4b'!Q14","v":0},{"$f":"'4b'!R14","v":0},{"$f":"'4b'!S14","v":0},{"$f":"'4b'!T14","v":0},{"$f":"'4b'!U14","v":0},{"$f":"'4b'!V14","v":0},{"$f":"'4b'!W14","v":0},{"$f":"'4b'!X14","v":0},{"$f":"'4b'!Y14","v":0},{"$f":"'4b'!Z14","v":0},{"$f":"'4b'!AA14","v":0},{"$f":"'4b'!AB14","v":0},{"$f":"'4b'!AC14","v":0},{"$f":"'4b'!AD14","v":0},{"$f":"'4b'!AE14","v":0},{"$f":"'4b'!AF14","v":0},{"$f":"'4b'!AG14","v":0},{"$f":"'4b'!AH14","v":0},{"$f":"'4b'!AI14","v":0},{"$f":"'4b'!AJ14","v":0},{"$f":"'4b'!AK14","v":0},{"$f":"'4b'!AL14","v":0},{"$f":"'4b'!AM14","v":0},{"$f":"'4b'!AN14","v":0},{"$f":"'4b'!AO14","v":0},{"$f":"'4b'!AP14","v":0},{"$f":"'4b'!AQ14","v":0},{"$f":"'4b'!AR14","v":0},{"$f":"'4b'!AS14","v":0},{"$f":"'4b'!AT14","v":0},{"$f":"'4b'!AU14","v":0},{"$f":"'4b'!AV14","v":0},{"$f":"'4b'!AW14","v":0},{"$f":"'4b'!AX14","v":0},{"$f":"'4b'!AY14","v":0},{"$f":"'4b'!AZ14","v":0},{"$f":"'4b'!BA14","v":0},{"$f":"'4b'!BB14","v":0},{"$f":"'4b'!BC14","v":0},{"$f":"'4b'!BD14","v":0},{"$f":"'4b'!BE14","v":0}]
[{"$f":"'4b'!A15","v":"4b"},{"$f":"'4b'!B15","v":0},{"$f":"'4b'!C15","v":0},{"$f":"'4b'!D15","v":"lehrer13"},{"$f":"'4b'!E15","v":0},{"$f":"'4b'!F15","v":0},{"$f":"'4b'!G15","v":0},{"$f":"'4b'!H15","v":0},{"$f":"'4b'!I15","v":0},{"$f":"'4b'!J15","v":0},{"$f":"'4b'!K15","v":0},{"$f":"'4b'!L15","v":0},{"$f":"'4b'!M15","v":0},{"$f":"'4b'!N15","v":0},{"$f":"'4b'!O15","v":0},{"$f":"'4b'!P15","v":0},{"$f":"'4b'!Q15","v":0},{"$f":"'4b'!R15","v":0},{"$f":"'4b'!S15","v":0},{"$f":"'4b'!T15","v":0},{"$f":"'4b'!U15","v":0},{"$f":"'4b'!V15","v":0},{"$f":"'4b'!W15","v":0},{"$f":"'4b'!X15","v":0},{"$f":"'4b'!Y15","v":0},{"$f":"'4b'!Z15","v":0},{"$f":"'4b'!AA15","v":0},{"$f":"'4b'!AB15","v":0},{"$f":"'4b'!AC15","v":0},{"$f":"'4b'!AD15","v":0},{"$f":"'4b'!AE15","v":0},{"$f":"'4b'!AF15","v":0},{"$f":"'4b'!AG15","v":0},{"$f":"'4b'!AH15","v":0},{"$f":"'4b'!AI15","v":0},{"$f":"'4b'!AJ15","v":0},{"$f":"'4b'!AK15","v":0},{"$f":"'4b'!AL15","v":0},{"$f":"'4b'!AM15","v":0},{"$f":"'4b'!AN15","v":0},{"$f":"'4b'!AO15","v":0},{"$f":"'4b'!AP15","v":0},{"$f":"'4b'!AQ15","v":0},{"$f":"'4b'!AR15","v":0},{"$f":"'4b'!AS15","v":0},{"$f":"'4b'!AT15","v":0},{"$f":"'4b'!AU15","v":0},{"$f":"'4b'!AV15","v":0},{"$f":"'4b'!AW15","v":0},{"$f":"'4b'!AX15","v":0},{"$f":"'4b'!AY15","v":0},{"$f":"'4b'!AZ15","v":0},{"$f":"'4b'!BA15","v":0},{"$f":"'4b'!BB15","v":0},{"$f":"'4b'!BC15","v":0},{"$f":"'4b'!BD15","v":0},{"$f":"'4b'!BE15","v":0}]
[{"$f":"'4b'!A16","v":"4b"},{"$f":"'4b'!B16","v":0},{"$f":"'4b'!C16","v":0},{"$f":"'4b'!D16","v":"lehrer14"},{"$f":"'4b'!E16","v":0},{"$f":"'4b'!F16","v":0},{"$f":"'4b'!G16","v":0},{"$f":"'4b'!H16","v":0},{"$f":"'4b'!I16","v":0},{"$f":"'4b'!J16","v":0},{"$f":"'4b'!K16","v":0},{"$f":"'4b'!L16","v":0},{"$f":"'4b'!M16","v":0},{"$f":"'4b'!N16","v":0},{"$f":"'4b'!O16","v":0},{"$f":"'4b'!P16","v":0},{"$f":"'4b'!Q16","v":0},{"$f":"'4b'!R16","v":0},{"$f":"'4b'!S16","v":0},{"$f":"'4b'!T16","v":0},{"$f":"'4b'!U16","v":0},{"$f":"'4b'!V16","v":0},{"$f":"'4b'!W16","v":0},{"$f":"'4b'!X16","v":0},{"$f":"'4b'!Y16","v":0},{"$f":"'4b'!Z16","v":0},{"$f":"'4b'!AA16","v":0},{"$f":"'4b'!AB16","v":0},{"$f":"'4b'!AC16","v":0},{"$f":"'4b'!AD16","v":0},{"$f":"'4b'!AE16","v":0},{"$f":"'4b'!AF16","v":0},{"$f":"'4b'!AG16","v":0},{"$f":"'4b'!AH16","v":0},{"$f":"'4b'!AI16","v":0},{"$f":"'4b'!AJ16","v":0},{"$f":"'4b'!AK16","v":0},{"$f":"'4b'!AL16","v":0},{"$f":"'4b'!AM16","v":0},{"$f":"'4b'!AN16","v":0},{"$f":"'4b'!AO16","v":0},{"$f":"'4b'!AP16","v":0},{"$f":"'4b'!AQ16","v":0},{"$f":"'4b'!AR16","v":0},{"$f":"'4b'!AS16","v":0},{"$f":"'4b'!AT16","v":0},{"$f":"'4b'!AU16","v":0},{"$f":"'4b'!AV16","v":0},{"$f":"'4b'!AW16","v":0},{"$f":"'4b'!AX16","v":0},{"$f":"'4b'!AY16","v":0},{"$f":"'4b'!AZ16","v":0},{"$f":"'4b'!BA16","v":0},{"$f":"'4b'!BB16","v":0},{"$f":"'4b'!BC16","v":0},{"$f":"'4b'!BD16","v":0},{"$f":"'4b'!BE16","v":0}]
[{"$f":"'4b'!A17","v":"4b"},{"$f":"'4b'!B17","v":0},{"$f":"'4b'!C17","v":0},{"$f":"'4b'!D17","v":"lehrer15"},{"$f":"'4b'!E17","v":0},{"$f":"'4b'!F17","v":0},{"$f":"'4b'!G17","v":0},{"$f":"'4b'!H17","v":0},{"$f":"'4b'!I17","v":0},{"$f":"'4b'!J17","v":0},{"$f":"'4b'!K17","v":0},{"$f":"'4b'!L17","v":0},{"$f":"'4b'!M17","v":0},{"$f":"'4b'!N17","v":0},{"$f":"'4b'!O17","v":0},{"$f":"'4b'!P17","v":0},{"$f":"'4b'!Q17","v":0},{"$f":"'4b'!R17","v":0},{"$f":"'4b'!S17","v":0},{"$f":"'4b'!T17","v":0},{"$f":"'4b'!U17","v":0},{"$f":"'4b'!V17","v":0},{"$f":"'4b'!W17","v":0},{"$f":"'4b'!X17","v":0},{"$f":"'4b'!Y17","v":0},{"$f":"'4b'!Z17","v":0},{"$f":"'4b'!AA17","v":0},{"$f":"'4b'!AB17","v":0},{"$f":"'4b'!AC17","v":0},{"$f":"'4b'!AD17","v":0},{"$f":"'4b'!AE17","v":0},{"$f":"'4b'!AF17","v":0},{"$f":"'4b'!AG17","v":0},{"$f":"'4b'!AH17","v":0},{"$f":"'4b'!AI17","v":0},{"$f":"'4b'!AJ17","v":0},{"$f":"'4b'!AK17","v":0},{"$f":"'4b'!AL17","v":0},{"$f":"'4b'!AM17","v":0},{"$f":"'4b'!AN17","v":0},{"$f":"'4b'!AO17","v":0},{"$f":"'4b'!AP17","v":0},{"$f":"'4b'!AQ17","v":0},{"$f":"'4b'!AR17","v":0},{"$f":"'4b'!AS17","v":0},{"$f":"'4b'!AT17","v":0},{"$f":"'4b'!AU17","v":0},{"$f":"'4b'!AV17","v":0},{"$f":"'4b'!AW17","v":0},{"$f":"'4b'!AX17","v":0},{"$f":"'4b'!AY17","v":0},{"$f":"'4b'!AZ17","v":0},{"$f":"'4b'!BA17","v":0},{"$f":"'4b'!BB17","v":0},{"$f":"'4b'!BC17","v":0},{"$f":"'4b'!BD17","v":0},{"$f":"'4b'!BE17","v":0}]
[{"$f":"'4b'!A18","v":"4b"},{"$f":"'4b'!B18","v":0},{"$f":"'4b'!C18","v":0},{"$f":"'4b'!D18","v":"lehrer16"},{"$f":"'4b'!E18","v":0},{"$f":"'4b'!F18","v":0},{"$f":"'4b'!G18","v":0},{"$f":"'4b'!H18","v":0},{"$f":"'4b'!I18","v":0},{"$f":"'4b'!J18","v":0},{"$f":"'4b'!K18","v":0},{"$f":"'4b'!L18","v":0},{"$f":"'4b'!M18","v":0},{"$f":"'4b'!N18","v":0},{"$f":"'4b'!O18","v":0},{"$f":"'4b'!P18","v":0},{"$f":"'4b'!Q18","v":0},{"$f":"'4b'!R18","v":0},{"$f":"'4b'!S18","v":0},{"$f":"'4b'!T18","v":0},{"$f":"'4b'!U18","v":0},{"$f":"'4b'!V18","v":0},{"$f":"'4b'!W18","v":0},{"$f":"'4b'!X18","v":0},{"$f":"'4b'!Y18","v":0},{"$f":"'4b'!Z18","v":0},{"$f":"'4b'!AA18","v":0},{"$f":"'4b'!AB18","v":0},{"$f":"'4b'!AC18","v":0},{"$f":"'4b'!AD18","v":0},{"$f":"'4b'!AE18","v":0},{"$f":"'4b'!AF18","v":0},{"$f":"'4b'!AG18","v":0},{"$f":"'4b'!AH18","v":0},{"$f":"'4b'!AI18","v":0},{"$f":"'4b'!AJ18","v":0},{"$f":"'4b'!AK18","v":0},{"$f":"'4b'!AL18","v":0},{"$f":"'4b'!AM18","v":0},{"$f":"'4b'!AN18","v":0},{"$f":"'4b'!AO18","v":0},{"$f":"'4b'!AP18","v":0},{"$f":"'4b'!AQ18","v":0},{"$f":"'4b'!AR18","v":0},{"$f":"'4b'!AS18","v":0},{"$f":"'4b'!AT18","v":0},{"$f":"'4b'!AU18","v":0},{"$f":"'4b'!AV18","v":0},{"$f":"'4b'!AW18","v":0},{"$f":"'4b'!AX18","v":0},{"$f":"'4b'!AY18","v":0},{"$f":"'4b'!AZ18","v":0},{"$f":"'4b'!BA18","v":0},{"$f":"'4b'!BB18","v":0},{"$f":"'4b'!BC18","v":0},{"$f":"'4b'!BD18","v":0},{"$f":"'4b'!BE18","v":0}]
[{"$f":"'4b'!A19","v":"4b"},{"$f":"'4b'!B19","v":0},{"$f":"'4b'!C19","v":0},{"$f":"'4b'!D19","v":"lehrer17"},{"$f":"'4b'!E19","v":0},{"$f":"'4b'!F19","v":0},{"$f":"'4b'!G19","v":0},{"$f":"'4b'!H19","v":0},{"$f":"'4b'!I19","v":0},{"$f":"'4b'!J19","v":0},{"$f":"'4b'!K19","v":0},{"$f":"'4b'!L19","v":0},{"$f":"'4b'!M19","v":0},{"$f":"'4b'!N19","v":0},{"$f":"'4b'!O19","v":0},{"$f":"'4b'!P19","v":0},{"$f":"'4b'!Q19","v":0},{"$f":"'4b'!R19","v":0},{"$f":"'4b'!S19","v":0},{"$f":"'4b'!T19","v":0},{"$f":"'4b'!U19","v":0},{"$f":"'4b'!V19","v":0},{"$f":"'4b'!W19","v":0},{"$f":"'4b'!X19","v":0},{"$f":"'4b'!Y19","v":0},{"$f":"'4b'!Z19","v":0},{"$f":"'4b'!AA19","v":0},{"$f":"'4b'!AB19","v":0},{"$f":"'4b'!AC19","v":0},{"$f":"'4b'!AD19","v":0},{"$f":"'4b'!AE19","v":0},{"$f":"'4b'!AF19","v":0},{"$f":"'4b'!AG19","v":0},{"$f":"'4b'!AH19","v":0},{"$f":"'4b'!AI19","v":0},{"$f":"'4b'!AJ19","v":0},{"$f":"'4b'!AK19","v":0},{"$f":"'4b'!AL19","v":0},{"$f":"'4b'!AM19","v":0},{"$f":"'4b'!AN19","v":0},{"$f":"'4b'!AO19","v":0},{"$f":"'4b'!AP19","v":0},{"$f":"'4b'!AQ19","v":0},{"$f":"'4b'!AR19","v":0},{"$f":"'4b'!AS19","v":0},{"$f":"'4b'!AT19","v":0},{"$f":"'4b'!AU19","v":0},{"$f":"'4b'!AV19","v":0},{"$f":"'4b'!AW19","v":0},{"$f":"'4b'!AX19","v":0},{"$f":"'4b'!AY19","v":0},{"$f":"'4b'!AZ19","v":0},{"$f":"'4b'!BA19","v":0},{"$f":"'4b'!BB19","v":0},{"$f":"'4b'!BC19","v":0},{"$f":"'4b'!BD19","v":0},{"$f":"'4b'!BE19","v":0}]
[{"$f":"'4b'!A20","v":"4b"},{"$f":"'4b'!B20","v":0},{"$f":"'4b'!C20","v":0},{"$f":"'4b'!D20","v":"lehrer18"},{"$f":"'4b'!E20","v":0},{"$f":"'4b'!F20","v":0},{"$f":"'4b'!G20","v":0},{"$f":"'4b'!H20","v":0},{"$f":"'4b'!I20","v":0},{"$f":"'4b'!J20","v":0},{"$f":"'4b'!K20","v":0},{"$f":"'4b'!L20","v":0},{"$f":"'4b'!M20","v":0},{"$f":"'4b'!N20","v":0},{"$f":"'4b'!O20","v":0},{"$f":"'4b'!P20","v":0},{"$f":"'4b'!Q20","v":0},{"$f":"'4b'!R20","v":0},{"$f":"'4b'!S20","v":0},{"$f":"'4b'!T20","v":0},{"$f":"'4b'!U20","v":0},{"$f":"'4b'!V20","v":0},{"$f":"'4b'!W20","v":0},{"$f":"'4b'!X20","v":0},{"$f":"'4b'!Y20","v":0},{"$f":"'4b'!Z20","v":0},{"$f":"'4b'!AA20","v":0},{"$f":"'4b'!AB20","v":0},{"$f":"'4b'!AC20","v":0},{"$f":"'4b'!AD20","v":0},{"$f":"'4b'!AE20","v":0},{"$f":"'4b'!AF20","v":0},{"$f":"'4b'!AG20","v":0},{"$f":"'4b'!AH20","v":0},{"$f":"'4b'!AI20","v":0},{"$f":"'4b'!AJ20","v":0},{"$f":"'4b'!AK20","v":0},{"$f":"'4b'!AL20","v":0},{"$f":"'4b'!AM20","v":0},{"$f":"'4b'!AN20","v":0},{"$f":"'4b'!AO20","v":0},{"$f":"'4b'!AP20","v":0},{"$f":"'4b'!AQ20","v":0},{"$f":"'4b'!AR20","v":0},{"$f":"'4b'!AS20","v":0},{"$f":"'4b'!AT20","v":0},{"$f":"'4b'!AU20","v":0},{"$f":"'4b'!AV20","v":0},{"$f":"'4b'!AW20","v":0},{"$f":"'4b'!AX20","v":0},{"$f":"'4b'!AY20","v":0},{"$f":"'4b'!AZ20","v":0},{"$f":"'4b'!BA20","v":0},{"$f":"'4b'!BB20","v":0},{"$f":"'4b'!BC20","v":0},{"$f":"'4b'!BD20","v":0},{"$f":"'4b'!BE20","v":0}]
[{"$f":"'4b'!A21","v":"4b"},{"$f":"'4b'!B21","v":0},{"$f":"'4b'!C21","v":0},{"$f":"'4b'!D21","v":"lehrer19"},{"$f":"'4b'!E21","v":0},{"$f":"'4b'!F21","v":0},{"$f":"'4b'!G21","v":0},{"$f":"'4b'!H21","v":0},{"$f":"'4b'!I21","v":0},{"$f":"'4b'!J21","v":0},{"$f":"'4b'!K21","v":0},{"$f":"'4b'!L21","v":0},{"$f":"'4b'!M21","v":0},{"$f":"'4b'!N21","v":0},{"$f":"'4b'!O21","v":0},{"$f":"'4b'!P21","v":0},{"$f":"'4b'!Q21","v":0},{"$f":"'4b'!R21","v":0},{"$f":"'4b'!S21","v":0},{"$f":"'4b'!T21","v":0},{"$f":"'4b'!U21","v":0},{"$f":"'4b'!V21","v":0},{"$f":"'4b'!W21","v":0},{"$f":"'4b'!X21","v":0},{"$f":"'4b'!Y21","v":0},{"$f":"'4b'!Z21","v":0},{"$f":"'4b'!AA21","v":0},{"$f":"'4b'!AB21","v":0},{"$f":"'4b'!AC21","v":0},{"$f":"'4b'!AD21","v":0},{"$f":"'4b'!AE21","v":0},{"$f":"'4b'!AF21","v":0},{"$f":"'4b'!AG21","v":0},{"$f":"'4b'!AH21","v":0},{"$f":"'4b'!AI21","v":0},{"$f":"'4b'!AJ21","v":0},{"$f":"'4b'!AK21","v":0},{"$f":"'4b'!AL21","v":0},{"$f":"'4b'!AM21","v":0},{"$f":"'4b'!AN21","v":0},{"$f":"'4b'!AO21","v":0},{"$f":"'4b'!AP21","v":0},{"$f":"'4b'!AQ21","v":0},{"$f":"'4b'!AR21","v":0},{"$f":"'4b'!AS21","v":0},{"$f":"'4b'!AT21","v":0},{"$f":"'4b'!AU21","v":0},{"$f":"'4b'!AV21","v":0},{"$f":"'4b'!AW21","v":0},{"$f":"'4b'!AX21","v":0},{"$f":"'4b'!AY21","v":0},{"$f":"'4b'!AZ21","v":0},{"$f":"'4b'!BA21","v":0},{"$f":"'4b'!BB21","v":0},{"$f":"'4b'!BC21","v":0},{"$f":"'4b'!BD21","v":0},{"$f":"'4b'!BE21","v":0}]
[{"$f":"'4b'!A22","v":"4b"},{"$f":"'4b'!B22","v":0},{"$f":"'4b'!C22","v":0},{"$f":"'4b'!D22","v":"lehrer20"},{"$f":"'4b'!E22","v":0},{"$f":"'4b'!F22","v":0},{"$f":"'4b'!G22","v":0},{"$f":"'4b'!H22","v":0},{"$f":"'4b'!I22","v":0},{"$f":"'4b'!J22","v":0},{"$f":"'4b'!K22","v":0},{"$f":"'4b'!L22","v":0},{"$f":"'4b'!M22","v":0},{"$f":"'4b'!N22","v":0},{"$f":"'4b'!O22","v":0},{"$f":"'4b'!P22","v":0},{"$f":"'4b'!Q22","v":0},{"$f":"'4b'!R22","v":0},{"$f":"'4b'!S22","v":0},{"$f":"'4b'!T22","v":0},{"$f":"'4b'!U22","v":0},{"$f":"'4b'!V22","v":0},{"$f":"'4b'!W22","v":0},{"$f":"'4b'!X22","v":0},{"$f":"'4b'!Y22","v":0},{"$f":"'4b'!Z22","v":0},{"$f":"'4b'!AA22","v":0},{"$f":"'4b'!AB22","v":0},{"$f":"'4b'!AC22","v":0},{"$f":"'4b'!AD22","v":0},{"$f":"'4b'!AE22","v":0},{"$f":"'4b'!AF22","v":0},{"$f":"'4b'!AG22","v":0},{"$f":"'4b'!AH22","v":0},{"$f":"'4b'!AI22","v":0},{"$f":"'4b'!AJ22","v":0},{"$f":"'4b'!AK22","v":0},{"$f":"'4b'!AL22","v":0},{"$f":"'4b'!AM22","v":0},{"$f":"'4b'!AN22","v":0},{"$f":"'4b'!AO22","v":0},{"$f":"'4b'!AP22","v":0},{"$f":"'4b'!AQ22","v":0},{"$f":"'4b'!AR22","v":0},{"$f":"'4b'!AS22","v":0},{"$f":"'4b'!AT22","v":0},{"$f":"'4b'!AU22","v":0},{"$f":"'4b'!AV22","v":0},{"$f":"'4b'!AW22","v":0},{"$f":"'4b'!AX22","v":0},{"$f":"'4b'!AY22","v":0},{"$f":"'4b'!AZ22","v":0},{"$f":"'4b'!BA22","v":0},{"$f":"'4b'!BB22","v":0},{"$f":"'4b'!BC22","v":0},{"$f":"'4b'!BD22","v":0},{"$f":"'4b'!BE22","v":0}]
[{"$f":"'4b'!A23","v":"4b"},{"$f":"'4b'!B23","v":0},{"$f":"'4b'!C23","v":0},{"$f":"'4b'!D23","v":"lehrer21"},{"$f":"'4b'!E23","v":0},{"$f":"'4b'!F23","v":0},{"$f":"'4b'!G23","v":0},{"$f":"'4b'!H23","v":0},{"$f":"'4b'!I23","v":0},{"$f":"'4b'!J23","v":0},{"$f":"'4b'!K23","v":0},{"$f":"'4b'!L23","v":0},{"$f":"'4b'!M23","v":0},{"$f":"'4b'!N23","v":0},{"$f":"'4b'!O23","v":0},{"$f":"'4b'!P23","v":0},{"$f":"'4b'!Q23","v":0},{"$f":"'4b'!R23","v":0},{"$f":"'4b'!S23","v":0},{"$f":"'4b'!T23","v":0},{"$f":"'4b'!U23","v":0},{"$f":"'4b'!V23","v":0},{"$f":"'4b'!W23","v":0},{"$f":"'4b'!X23","v":0},{"$f":"'4b'!Y23","v":0},{"$f":"'4b'!Z23","v":0},{"$f":"'4b'!AA23","v":0},{"$f":"'4b'!AB23","v":0},{"$f":"'4b'!AC23","v":0},{"$f":"'4b'!AD23","v":0},{"$f":"'4b'!AE23","v":0},{"$f":"'4b'!AF23","v":0},{"$f":"'4b'!AG23","v":0},{"$f":"'4b'!AH23","v":0},{"$f":"'4b'!AI23","v":0},{"$f":"'4b'!AJ23","v":0},{"$f":"'4b'!AK23","v":0},{"$f":"'4b'!AL23","v":0},{"$f":"'4b'!AM23","v":0},{"$f":"'4b'!AN23","v":0},{"$f":"'4b'!AO23","v":0},{"$f":"'4b'!AP23","v":0},{"$f":"'4b'!AQ23","v":0},{"$f":"'4b'!AR23","v":0},{"$f":"'4b'!AS23","v":0},{"$f":"'4b'!AT23","v":0},{"$f":"'4b'!AU23","v":0},{"$f":"'4b'!AV23","v":0},{"$f":"'4b'!AW23","v":0},{"$f":"'4b'!AX23","v":0},{"$f":"'4b'!AY23","v":0},{"$f":"'4b'!AZ23","v":0},{"$f":"'4b'!BA23","v":0},{"$f":"'4b'!BB23","v":0},{"$f":"'4b'!BC23","v":0},{"$f":"'4b'!BD23","v":0},{"$f":"'4b'!BE23","v":0}]
[{"$f":"'4b'!A24","v":"4b"},{"$f":"'4b'!B24","v":0},{"$f":"'4b'!C24","v":0},{"$f":"'4b'!D24","v":"lehrer22"},{"$f":"'4b'!E24","v":0},{"$f":"'4b'!F24","v":0},{"$f":"'4b'!G24","v":0},{"$f":"'4b'!H24","v":0},{"$f":"'4b'!I24","v":0},{"$f":"'4b'!J24","v":0},{"$f":"'4b'!K24","v":0},{"$f":"'4b'!L24","v":0},{"$f":"'4b'!M24","v":0},{"$f":"'4b'!N24","v":0},{"$f":"'4b'!O24","v":0},{"$f":"'4b'!P24","v":0},{"$f":"'4b'!Q24","v":0},{"$f":"'4b'!R24","v":0},{"$f":"'4b'!S24","v":0},{"$f":"'4b'!T24","v":0},{"$f":"'4b'!U24","v":0},{"$f":"'4b'!V24","v":0},{"$f":"'4b'!W24","v":0},{"$f":"'4b'!X24","v":0},{"$f":"'4b'!Y24","v":0},{"$f":"'4b'!Z24","v":0},{"$f":"'4b'!AA24","v":0},{"$f":"'4b'!AB24","v":0},{"$f":"'4b'!AC24","v":0},{"$f":"'4b'!AD24","v":0},{"$f":"'4b'!AE24","v":0},{"$f":"'4b'!AF24","v":0},{"$f":"'4b'!AG24","v":0},{"$f":"'4b'!AH24","v":0},{"$f":"'4b'!AI24","v":0},{"$f":"'4b'!AJ24","v":0},{"$f":"'4b'!AK24","v":0},{"$f":"'4b'!AL24","v":0},{"$f":"'4b'!AM24","v":0},{"$f":"'4b'!AN24","v":0},{"$f":"'4b'!AO24","v":0},{"$f":"'4b'!AP24","v":0},{"$f":"'4b'!AQ24","v":0},{"$f":"'4b'!AR24","v":0},{"$f":"'4b'!AS24","v":0},{"$f":"'4b'!AT24","v":0},{"$f":"'4b'!AU24","v":0},{"$f":"'4b'!AV24","v":0},{"$f":"'4b'!AW24","v":0},{"$f":"'4b'!AX24","v":0},{"$f":"'4b'!AY24","v":0},{"$f":"'4b'!AZ24","v":0},{"$f":"'4b'!BA24","v":0},{"$f":"'4b'!BB24","v":0},{"$f":"'4b'!BC24","v":0},{"$f":"'4b'!BD24","v":0},{"$f":"'4b'!BE24","v":0}]
[{"$f":"'4b'!A25","v":"4b"},{"$f":"'4b'!B25","v":0},{"$f":"'4b'!C25","v":0},{"$f":"'4b'!D25","v":"lehrer23"},{"$f":"'4b'!E25","v":0},{"$f":"'4b'!F25","v":0},{"$f":"'4b'!G25","v":0},{"$f":"'4b'!H25","v":0},{"$f":"'4b'!I25","v":0},{"$f":"'4b'!J25","v":0},{"$f":"'4b'!K25","v":0},{"$f":"'4b'!L25","v":0},{"$f":"'4b'!M25","v":0},{"$f":"'4b'!N25","v":0},{"$f":"'4b'!O25","v":0},{"$f":"'4b'!P25","v":0},{"$f":"'4b'!Q25","v":0},{"$f":"'4b'!R25","v":0},{"$f":"'4b'!S25","v":0},{"$f":"'4b'!T25","v":0},{"$f":"'4b'!U25","v":0},{"$f":"'4b'!V25","v":0},{"$f":"'4b'!W25","v":0},{"$f":"'4b'!X25","v":0},{"$f":"'4b'!Y25","v":0},{"$f":"'4b'!Z25","v":0},{"$f":"'4b'!AA25","v":0},{"$f":"'4b'!AB25","v":0},{"$f":"'4b'!AC25","v":0},{"$f":"'4b'!AD25","v":0},{"$f":"'4b'!AE25","v":0},{"$f":"'4b'!AF25","v":0},{"$f":"'4b'!AG25","v":0},{"$f":"'4b'!AH25","v":0},{"$f":"'4b'!AI25","v":0},{"$f":"'4b'!AJ25","v":0},{"$f":"'4b'!AK25","v":0},{"$f":"'4b'!AL25","v":0},{"$f":"'4b'!AM25","v":0},{"$f":"'4b'!AN25","v":0},{"$f":"'4b'!AO25","v":0},{"$f":"'4b'!AP25","v":0},{"$f":"'4b'!AQ25","v":0},{"$f":"'4b'!AR25","v":0},{"$f":"'4b'!AS25","v":0},{"$f":"'4b'!AT25","v":0},{"$f":"'4b'!AU25","v":0},{"$f":"'4b'!AV25","v":0},{"$f":"'4b'!AW25","v":0},{"$f":"'4b'!AX25","v":0},{"$f":"'4b'!AY25","v":0},{"$f":"'4b'!AZ25","v":0},{"$f":"'4b'!BA25","v":0},{"$f":"'4b'!BB25","v":0},{"$f":"'4b'!BC25","v":0},{"$f":"'4b'!BD25","v":0},{"$f":"'4b'!BE25","v":0}]
[{"$f":"'4b'!A26","v":"4b"},{"$f":"'4b'!B26","v":0},{"$f":"'4b'!C26","v":0},{"$f":"'4b'!D26","v":"lehrer24"},{"$f":"'4b'!E26","v":0},{"$f":"'4b'!F26","v":0},{"$f":"'4b'!G26","v":0},{"$f":"'4b'!H26","v":0},{"$f":"'4b'!I26","v":0},{"$f":"'4b'!J26","v":0},{"$f":"'4b'!K26","v":0},{"$f":"'4b'!L26","v":0},{"$f":"'4b'!M26","v":0},{"$f":"'4b'!N26","v":0},{"$f":"'4b'!O26","v":0},{"$f":"'4b'!P26","v":0},{"$f":"'4b'!Q26","v":0},{"$f":"'4b'!R26","v":0},{"$f":"'4b'!S26","v":0},{"$f":"'4b'!T26","v":0},{"$f":"'4b'!U26","v":0},{"$f":"'4b'!V26","v":0},{"$f":"'4b'!W26","v":0},{"$f":"'4b'!X26","v":0},{"$f":"'4b'!Y26","v":0},{"$f":"'4b'!Z26","v":0},{"$f":"'4b'!AA26","v":0},{"$f":"'4b'!AB26","v":0},{"$f":"'4b'!AC26","v":0},{"$f":"'4b'!AD26","v":0},{"$f":"'4b'!AE26","v":0},{"$f":"'4b'!AF26","v":0},{"$f":"'4b'!AG26","v":0},{"$f":"'4b'!AH26","v":0},{"$f":"'4b'!AI26","v":0},{"$f":"'4b'!AJ26","v":0},{"$f":"'4b'!AK26","v":0},{"$f":"'4b'!AL26","v":0},{"$f":"'4b'!AM26","v":0},{"$f":"'4b'!AN26","v":0},{"$f":"'4b'!AO26","v":0},{"$f":"'4b'!AP26","v":0},{"$f":"'4b'!AQ26","v":0},{"$f":"'4b'!AR26","v":0},{"$f":"'4b'!AS26","v":0},{"$f":"'4b'!AT26","v":0},{"$f":"'4b'!AU26","v":0},{"$f":"'4b'!AV26","v":0},{"$f":"'4b'!AW26","v":0},{"$f":"'4b'!AX26","v":0},{"$f":"'4b'!AY26","v":0},{"$f":"'4b'!AZ26","v":0},{"$f":"'4b'!BA26","v":0},{"$f":"'4b'!BB26","v":0},{"$f":"'4b'!BC26","v":0},{"$f":"'4b'!BD26","v":0},{"$f":"'4b'!BE26","v":0}]
[{"$f":"'4b'!A27","v":"4b"},{"$f":"'4b'!B27","v":0},{"$f":"'4b'!C27","v":0},{"$f":"'4b'!D27","v":"lehrer25"},{"$f":"'4b'!E27","v":0},{"$f":"'4b'!F27","v":0},{"$f":"'4b'!G27","v":0},{"$f":"'4b'!H27","v":0},{"$f":"'4b'!I27","v":0},{"$f":"'4b'!J27","v":0},{"$f":"'4b'!K27","v":0},{"$f":"'4b'!L27","v":0},{"$f":"'4b'!M27","v":0},{"$f":"'4b'!N27","v":0},{"$f":"'4b'!O27","v":0},{"$f":"'4b'!P27","v":0},{"$f":"'4b'!Q27","v":0},{"$f":"'4b'!R27","v":0},{"$f":"'4b'!S27","v":0},{"$f":"'4b'!T27","v":0},{"$f":"'4b'!U27","v":0},{"$f":"'4b'!V27","v":0},{"$f":"'4b'!W27","v":0},{"$f":"'4b'!X27","v":0},{"$f":"'4b'!Y27","v":0},{"$f":"'4b'!Z27","v":0},{"$f":"'4b'!AA27","v":0},{"$f":"'4b'!AB27","v":0},{"$f":"'4b'!AC27","v":0},{"$f":"'4b'!AD27","v":0},{"$f":"'4b'!AE27","v":0},{"$f":"'4b'!AF27","v":0},{"$f":"'4b'!AG27","v":0},{"$f":"'4b'!AH27","v":0},{"$f":"'4b'!AI27","v":0},{"$f":"'4b'!AJ27","v":0},{"$f":"'4b'!AK27","v":0},{"$f":"'4b'!AL27","v":0},{"$f":"'4b'!AM27","v":0},{"$f":"'4b'!AN27","v":0},{"$f":"'4b'!AO27","v":0},{"$f":"'4b'!AP27","v":0},{"$f":"'4b'!AQ27","v":0},{"$f":"'4b'!AR27","v":0},{"$f":"'4b'!AS27","v":0},{"$f":"'4b'!AT27","v":0},{"$f":"'4b'!AU27","v":0},{"$f":"'4b'!AV27","v":0},{"$f":"'4b'!AW27","v":0},{"$f":"'4b'!AX27","v":0},{"$f":"'4b'!AY27","v":0},{"$f":"'4b'!AZ27","v":0},{"$f":"'4b'!BA27","v":0},{"$f":"'4b'!BB27","v":0},{"$f":"'4b'!BC27","v":0},{"$f":"'4b'!BD27","v":0},{"$f":"'4b'!BE27","v":0}]
[{"$f":"'4b'!A28","v":"4b"},{"$f":"'4b'!B28","v":0},{"$f":"'4b'!C28","v":0},{"$f":"'4b'!D28","v":"lehrer26"},{"$f":"'4b'!E28","v":0},{"$f":"'4b'!F28","v":0},{"$f":"'4b'!G28","v":0},{"$f":"'4b'!H28","v":0},{"$f":"'4b'!I28","v":0},{"$f":"'4b'!J28","v":0},{"$f":"'4b'!K28","v":0},{"$f":"'4b'!L28","v":0},{"$f":"'4b'!M28","v":0},{"$f":"'4b'!N28","v":0},{"$f":"'4b'!O28","v":0},{"$f":"'4b'!P28","v":0},{"$f":"'4b'!Q28","v":0},{"$f":"'4b'!R28","v":0},{"$f":"'4b'!S28","v":0},{"$f":"'4b'!T28","v":0},{"$f":"'4b'!U28","v":0},{"$f":"'4b'!V28","v":0},{"$f":"'4b'!W28","v":0},{"$f":"'4b'!X28","v":0},{"$f":"'4b'!Y28","v":0},{"$f":"'4b'!Z28","v":0},{"$f":"'4b'!AA28","v":0},{"$f":"'4b'!AB28","v":0},{"$f":"'4b'!AC28","v":0},{"$f":"'4b'!AD28","v":0},{"$f":"'4b'!AE28","v":0},{"$f":"'4b'!AF28","v":0},{"$f":"'4b'!AG28","v":0},{"$f":"'4b'!AH28","v":0},{"$f":"'4b'!AI28","v":0},{"$f":"'4b'!AJ28","v":0},{"$f":"'4b'!AK28","v":0},{"$f":"'4b'!AL28","v":0},{"$f":"'4b'!AM28","v":0},{"$f":"'4b'!AN28","v":0},{"$f":"'4b'!AO28","v":0},{"$f":"'4b'!AP28","v":0},{"$f":"'4b'!AQ28","v":0},{"$f":"'4b'!AR28","v":0},{"$f":"'4b'!AS28","v":0},{"$f":"'4b'!AT28","v":0},{"$f":"'4b'!AU28","v":0},{"$f":"'4b'!AV28","v":0},{"$f":"'4b'!AW28","v":0},{"$f":"'4b'!AX28","v":0},{"$f":"'4b'!AY28","v":0},{"$f":"'4b'!AZ28","v":0},{"$f":"'4b'!BA28","v":0},{"$f":"'4b'!BB28","v":0},{"$f":"'4b'!BC28","v":0},{"$f":"'4b'!BD28","v":0},{"$f":"'4b'!BE28","v":0}]
[{"$f":"'4b'!A29","v":"4b"},{"$f":"'4b'!B29","v":0},{"$f":"'4b'!C29","v":0},{"$f":"'4b'!D29","v":"lehrer27"},{"$f":"'4b'!E29","v":0},{"$f":"'4b'!F29","v":0},{"$f":"'4b'!G29","v":0},{"$f":"'4b'!H29","v":0},{"$f":"'4b'!I29","v":0},{"$f":"'4b'!J29","v":0},{"$f":"'4b'!K29","v":0},{"$f":"'4b'!L29","v":0},{"$f":"'4b'!M29","v":0},{"$f":"'4b'!N29","v":0},{"$f":"'4b'!O29","v":0},{"$f":"'4b'!P29","v":0},{"$f":"'4b'!Q29","v":0},{"$f":"'4b'!R29","v":0},{"$f":"'4b'!S29","v":0},{"$f":"'4b'!T29","v":0},{"$f":"'4b'!U29","v":0},{"$f":"'4b'!V29","v":0},{"$f":"'4b'!W29","v":0},{"$f":"'4b'!X29","v":0},{"$f":"'4b'!Y29","v":0},{"$f":"'4b'!Z29","v":0},{"$f":"'4b'!AA29","v":0},{"$f":"'4b'!AB29","v":0},{"$f":"'4b'!AC29","v":0},{"$f":"'4b'!AD29","v":0},{"$f":"'4b'!AE29","v":0},{"$f":"'4b'!AF29","v":0},{"$f":"'4b'!AG29","v":0},{"$f":"'4b'!AH29","v":0},{"$f":"'4b'!AI29","v":0},{"$f":"'4b'!AJ29","v":0},{"$f":"'4b'!AK29","v":0},{"$f":"'4b'!AL29","v":0},{"$f":"'4b'!AM29","v":0},{"$f":"'4b'!AN29","v":0},{"$f":"'4b'!AO29","v":0},{"$f":"'4b'!AP29","v":0},{"$f":"'4b'!AQ29","v":0},{"$f":"'4b'!AR29","v":0},{"$f":"'4b'!AS29","v":0},{"$f":"'4b'!AT29","v":0},{"$f":"'4b'!AU29","v":0},{"$f":"'4b'!AV29","v":0},{"$f":"'4b'!AW29","v":0},{"$f":"'4b'!AX29","v":0},{"$f":"'4b'!AY29","v":0},{"$f":"'4b'!AZ29","v":0},{"$f":"'4b'!BA29","v":0},{"$f":"'4b'!BB29","v":0},{"$f":"'4b'!BC29","v":0},{"$f":"'4b'!BD29","v":0},{"$f":"'4b'!BE29","v":0}]
[{"$f":"'4b'!A30","v":"4b"},{"$f":"'4b'!B30","v":0},{"$f":"'4b'!C30","v":0},{"$f":"'4b'!D30","v":"lehrer28"},{"$f":"'4b'!E30","v":0},{"$f":"'4b'!F30","v":0},{"$f":"'4b'!G30","v":0},{"$f":"'4b'!H30","v":0},{"$f":"'4b'!I30","v":0},{"$f":"'4b'!J30","v":0},{"$f":"'4b'!K30","v":0},{"$f":"'4b'!L30","v":0},{"$f":"'4b'!M30","v":0},{"$f":"'4b'!N30","v":0},{"$f":"'4b'!O30","v":0},{"$f":"'4b'!P30","v":0},{"$f":"'4b'!Q30","v":0},{"$f":"'4b'!R30","v":0},{"$f":"'4b'!S30","v":0},{"$f":"'4b'!T30","v":0},{"$f":"'4b'!U30","v":0},{"$f":"'4b'!V30","v":0},{"$f":"'4b'!W30","v":0},{"$f":"'4b'!X30","v":0},{"$f":"'4b'!Y30","v":0},{"$f":"'4b'!Z30","v":0},{"$f":"'4b'!AA30","v":0},{"$f":"'4b'!AB30","v":0},{"$f":"'4b'!AC30","v":0},{"$f":"'4b'!AD30","v":0},{"$f":"'4b'!AE30","v":0},{"$f":"'4b'!AF30","v":0},{"$f":"'4b'!AG30","v":0},{"$f":"'4b'!AH30","v":0},{"$f":"'4b'!AI30","v":0},{"$f":"'4b'!AJ30","v":0},{"$f":"'4b'!AK30","v":0},{"$f":"'4b'!AL30","v":0},{"$f":"'4b'!AM30","v":0},{"$f":"'4b'!AN30","v":0},{"$f":"'4b'!AO30","v":0},{"$f":"'4b'!AP30","v":0},{"$f":"'4b'!AQ30","v":0},{"$f":"'4b'!AR30","v":0},{"$f":"'4b'!AS30","v":0},{"$f":"'4b'!AT30","v":0},{"$f":"'4b'!AU30","v":0},{"$f":"'4b'!AV30","v":0},{"$f":"'4b'!AW30","v":0},{"$f":"'4b'!AX30","v":0},{"$f":"'4b'!AY30","v":0},{"$f":"'4b'!AZ30","v":0},{"$f":"'4b'!BA30","v":0},{"$f":"'4b'!BB30","v":0},{"$f":"'4b'!BC30","v":0},{"$f":"'4b'!BD30","v":0},{"$f":"'4b'!BE30","v":0}]
[{"$f":"'4b'!A31","v":"4b"},{"$f":"'4b'!B31","v":0},{"$f":"'4b'!C31","v":0},{"$f":"'4b'!D31","v":"lehrer29"},{"$f":"'4b'!E31","v":0},{"$f":"'4b'!F31","v":0},{"$f":"'4b'!G31","v":0},{"$f":"'4b'!H31","v":0},{"$f":"'4b'!I31","v":0},{"$f":"'4b'!J31","v":0},{"$f":"'4b'!K31","v":0},{"$f":"'4b'!L31","v":0},{"$f":"'4b'!M31","v":0},{"$f":"'4b'!N31","v":0},{"$f":"'4b'!O31","v":0},{"$f":"'4b'!P31","v":0},{"$f":"'4b'!Q31","v":0},{"$f":"'4b'!R31","v":0},{"$f":"'4b'!S31","v":0},{"$f":"'4b'!T31","v":0},{"$f":"'4b'!U31","v":0},{"$f":"'4b'!V31","v":0},{"$f":"'4b'!W31","v":0},{"$f":"'4b'!X31","v":0},{"$f":"'4b'!Y31","v":0},{"$f":"'4b'!Z31","v":0},{"$f":"'4b'!AA31","v":0},{"$f":"'4b'!AB31","v":0},{"$f":"'4b'!AC31","v":0},{"$f":"'4b'!AD31","v":0},{"$f":"'4b'!AE31","v":0},{"$f":"'4b'!AF31","v":0},{"$f":"'4b'!AG31","v":0},{"$f":"'4b'!AH31","v":0},{"$f":"'4b'!AI31","v":0},{"$f":"'4b'!AJ31","v":0},{"$f":"'4b'!AK31","v":0},{"$f":"'4b'!AL31","v":0},{"$f":"'4b'!AM31","v":0},{"$f":"'4b'!AN31","v":0},{"$f":"'4b'!AO31","v":0},{"$f":"'4b'!AP31","v":0},{"$f":"'4b'!AQ31","v":0},{"$f":"'4b'!AR31","v":0},{"$f":"'4b'!AS31","v":0},{"$f":"'4b'!AT31","v":0},{"$f":"'4b'!AU31","v":0},{"$f":"'4b'!AV31","v":0},{"$f":"'4b'!AW31","v":0},{"$f":"'4b'!AX31","v":0},{"$f":"'4b'!AY31","v":0},{"$f":"'4b'!AZ31","v":0},{"$f":"'4b'!BA31","v":0},{"$f":"'4b'!BB31","v":0},{"$f":"'4b'!BC31","v":0},{"$f":"'4b'!BD31","v":0},{"$f":"'4b'!BE31","v":0}]
[{"$f":"'4b'!A32","v":"4b"},{"$f":"'4b'!B32","v":0},{"$f":"'4b'!C32","v":0},{"$f":"'4b'!D32","v":"lehrer30"},{"$f":"'4b'!E32","v":0},{"$f":"'4b'!F32","v":0},{"$f":"'4b'!G32","v":0},{"$f":"'4b'!H32","v":0},{"$f":"'4b'!I32","v":0},{"$f":"'4b'!J32","v":0},{"$f":"'4b'!K32","v":0},{"$f":"'4b'!L32","v":0},{"$f":"'4b'!M32","v":0},{"$f":"'4b'!N32","v":0},{"$f":"'4b'!O32","v":0},{"$f":"'4b'!P32","v":0},{"$f":"'4b'!Q32","v":0},{"$f":"'4b'!R32","v":0},{"$f":"'4b'!S32","v":0},{"$f":"'4b'!T32","v":0},{"$f":"'4b'!U32","v":0},{"$f":"'4b'!V32","v":0},{"$f":"'4b'!W32","v":0},{"$f":"'4b'!X32","v":0},{"$f":"'4b'!Y32","v":0},{"$f":"'4b'!Z32","v":0},{"$f":"'4b'!AA32","v":0},{"$f":"'4b'!AB32","v":0},{"$f":"'4b'!AC32","v":0},{"$f":"'4b'!AD32","v":0},{"$f":"'4b'!AE32","v":0},{"$f":"'4b'!AF32","v":0},{"$f":"'4b'!AG32","v":0},{"$f":"'4b'!AH32","v":0},{"$f":"'4b'!AI32","v":0},{"$f":"'4b'!AJ32","v":0},{"$f":"'4b'!AK32","v":0},{"$f":"'4b'!AL32","v":0},{"$f":"'4b'!AM32","v":0},{"$f":"'4b'!AN32","v":0},{"$f":"'4b'!AO32","v":0},{"$f":"'4b'!AP32","v":0},{"$f":"'4b'!AQ32","v":0},{"$f":"'4b'!AR32","v":0},{"$f":"'4b'!AS32","v":0},{"$f":"'4b'!AT32","v":0},{"$f":"'4b'!AU32","v":0},{"$f":"'4b'!AV32","v":0},{"$f":"'4b'!AW32","v":0},{"$f":"'4b'!AX32","v":0},{"$f":"'4b'!AY32","v":0},{"$f":"'4b'!AZ32","v":0},{"$f":"'4b'!BA32","v":0},{"$f":"'4b'!BB32","v":0},{"$f":"'4b'!BC32","v":0},{"$f":"'4b'!BD32","v":0},{"$f":"'4b'!BE32","v":0}]
[{"$f":"'4b'!A33","v":"4b"},{"$f":"'4b'!B33","v":0},{"$f":"'4b'!C33","v":0},{"$f":"'4b'!D33","v":"lehrer31"},{"$f":"'4b'!E33","v":0},{"$f":"'4b'!F33","v":0},{"$f":"'4b'!G33","v":0},{"$f":"'4b'!H33","v":0},{"$f":"'4b'!I33","v":0},{"$f":"'4b'!J33","v":0},{"$f":"'4b'!K33","v":0},{"$f":"'4b'!L33","v":0},{"$f":"'4b'!M33","v":0},{"$f":"'4b'!N33","v":0},{"$f":"'4b'!O33","v":0},{"$f":"'4b'!P33","v":0},{"$f":"'4b'!Q33","v":0},{"$f":"'4b'!R33","v":0},{"$f":"'4b'!S33","v":0},{"$f":"'4b'!T33","v":0},{"$f":"'4b'!U33","v":0},{"$f":"'4b'!V33","v":0},{"$f":"'4b'!W33","v":0},{"$f":"'4b'!X33","v":0},{"$f":"'4b'!Y33","v":0},{"$f":"'4b'!Z33","v":0},{"$f":"'4b'!AA33","v":0},{"$f":"'4b'!AB33","v":0},{"$f":"'4b'!AC33","v":0},{"$f":"'4b'!AD33","v":0},{"$f":"'4b'!AE33","v":0},{"$f":"'4b'!AF33","v":0},{"$f":"'4b'!AG33","v":0},{"$f":"'4b'!AH33","v":0},{"$f":"'4b'!AI33","v":0},{"$f":"'4b'!AJ33","v":0},{"$f":"'4b'!AK33","v":0},{"$f":"'4b'!AL33","v":0},{"$f":"'4b'!AM33","v":0},{"$f":"'4b'!AN33","v":0},{"$f":"'4b'!AO33","v":0},{"$f":"'4b'!AP33","v":0},{"$f":"'4b'!AQ33","v":0},{"$f":"'4b'!AR33","v":0},{"$f":"'4b'!AS33","v":0},{"$f":"'4b'!AT33","v":0},{"$f":"'4b'!AU33","v":0},{"$f":"'4b'!AV33","v":0},{"$f":"'4b'!AW33","v":0},{"$f":"'4b'!AX33","v":0},{"$f":"'4b'!AY33","v":0},{"$f":"'4b'!AZ33","v":0},{"$f":"'4b'!BA33","v":0},{"$f":"'4b'!BB33","v":0},{"$f":"'4b'!BC33","v":0},{"$f":"'4b'!BD33","v":0},{"$f":"'4b'!BE33","v":0}]
[{"$f":"'4b'!A34","v":"4b"},{"$f":"'4b'!B34","v":0},{"$f":"'4b'!C34","v":0},{"$f":"'4b'!D34","v":"lehrer32"},{"$f":"'4b'!E34","v":0},{"$f":"'4b'!F34","v":0},{"$f":"'4b'!G34","v":0},{"$f":"'4b'!H34","v":0},{"$f":"'4b'!I34","v":0},{"$f":"'4b'!J34","v":0},{"$f":"'4b'!K34","v":0},{"$f":"'4b'!L34","v":0},{"$f":"'4b'!M34","v":0},{"$f":"'4b'!N34","v":0},{"$f":"'4b'!O34","v":0},{"$f":"'4b'!P34","v":0},{"$f":"'4b'!Q34","v":0},{"$f":"'4b'!R34","v":0},{"$f":"'4b'!S34","v":0},{"$f":"'4b'!T34","v":0},{"$f":"'4b'!U34","v":0},{"$f":"'4b'!V34","v":0},{"$f":"'4b'!W34","v":0},{"$f":"'4b'!X34","v":0},{"$f":"'4b'!Y34","v":0},{"$f":"'4b'!Z34","v":0},{"$f":"'4b'!AA34","v":0},{"$f":"'4b'!AB34","v":0},{"$f":"'4b'!AC34","v":0},{"$f":"'4b'!AD34","v":0},{"$f":"'4b'!AE34","v":0},{"$f":"'4b'!AF34","v":0},{"$f":"'4b'!AG34","v":0},{"$f":"'4b'!AH34","v":0},{"$f":"'4b'!AI34","v":0},{"$f":"'4b'!AJ34","v":0},{"$f":"'4b'!AK34","v":0},{"$f":"'4b'!AL34","v":0},{"$f":"'4b'!AM34","v":0},{"$f":"'4b'!AN34","v":0},{"$f":"'4b'!AO34","v":0},{"$f":"'4b'!AP34","v":0},{"$f":"'4b'!AQ34","v":0},{"$f":"'4b'!AR34","v":0},{"$f":"'4b'!AS34","v":0},{"$f":"'4b'!AT34","v":0},{"$f":"'4b'!AU34","v":0},{"$f":"'4b'!AV34","v":0},{"$f":"'4b'!AW34","v":0},{"$f":"'4b'!AX34","v":0},{"$f":"'4b'!AY34","v":0},{"$f":"'4b'!AZ34","v":0},{"$f":"'4b'!BA34","v":0},{"$f":"'4b'!BB34","v":0},{"$f":"'4b'!BC34","v":0},{"$f":"'4b'!BD34","v":0},{"$f":"'4b'!BE34","v":0}]
[{"$f":"'4b'!A35","v":"4b"},{"$f":"'4b'!B35","v":0},{"$f":"'4b'!C35","v":0},{"$f":"'4b'!D35","v":"lehrer33"},{"$f":"'4b'!E35","v":0},{"$f":"'4b'!F35","v":0},{"$f":"'4b'!G35","v":0},{"$f":"'4b'!H35","v":0},{"$f":"'4b'!I35","v":0},{"$f":"'4b'!J35","v":0},{"$f":"'4b'!K35","v":0},{"$f":"'4b'!L35","v":0},{"$f":"'4b'!M35","v":0},{"$f":"'4b'!N35","v":0},{"$f":"'4b'!O35","v":0},{"$f":"'4b'!P35","v":0},{"$f":"'4b'!Q35","v":0},{"$f":"'4b'!R35","v":0},{"$f":"'4b'!S35","v":0},{"$f":"'4b'!T35","v":0},{"$f":"'4b'!U35","v":0},{"$f":"'4b'!V35","v":0},{"$f":"'4b'!W35","v":0},{"$f":"'4b'!X35","v":0},{"$f":"'4b'!Y35","v":0},{"$f":"'4b'!Z35","v":0},{"$f":"'4b'!AA35","v":0},{"$f":"'4b'!AB35","v":0},{"$f":"'4b'!AC35","v":0},{"$f":"'4b'!AD35","v":0},{"$f":"'4b'!AE35","v":0},{"$f":"'4b'!AF35","v":0},{"$f":"'4b'!AG35","v":0},{"$f":"'4b'!AH35","v":0},{"$f":"'4b'!AI35","v":0},{"$f":"'4b'!AJ35","v":0},{"$f":"'4b'!AK35","v":0},{"$f":"'4b'!AL35","v":0},{"$f":"'4b'!AM35","v":0},{"$f":"'4b'!AN35","v":0},{"$f":"'4b'!AO35","v":0},{"$f":"'4b'!AP35","v":0},{"$f":"'4b'!AQ35","v":0},{"$f":"'4b'!AR35","v":0},{"$f":"'4b'!AS35","v":0},{"$f":"'4b'!AT35","v":0},{"$f":"'4b'!AU35","v":0},{"$f":"'4b'!AV35","v":0},{"$f":"'4b'!AW35","v":0},{"$f":"'4b'!AX35","v":0},{"$f":"'4b'!AY35","v":0},{"$f":"'4b'!AZ35","v":0},{"$f":"'4b'!BA35","v":0},{"$f":"'4b'!BB35","v":0},{"$f":"'4b'!BC35","v":0},{"$f":"'4b'!BD35","v":0},{"$f":"'4b'!BE35","v":0}]
[{"$f":"'4b'!A36","v":"4b"},{"$f":"'4b'!B36","v":0},{"$f":"'4b'!C36","v":0},{"$f":"'4b'!D36","v":"lehrer34"},{"$f":"'4b'!E36","v":0},{"$f":"'4b'!F36","v":0},{"$f":"'4b'!G36","v":0},{"$f":"'4b'!H36","v":0},{"$f":"'4b'!I36","v":0},{"$f":"'4b'!J36","v":0},{"$f":"'4b'!K36","v":0},{"$f":"'4b'!L36","v":0},{"$f":"'4b'!M36","v":0},{"$f":"'4b'!N36","v":0},{"$f":"'4b'!O36","v":0},{"$f":"'4b'!P36","v":0},{"$f":"'4b'!Q36","v":0},{"$f":"'4b'!R36","v":0},{"$f":"'4b'!S36","v":0},{"$f":"'4b'!T36","v":0},{"$f":"'4b'!U36","v":0},{"$f":"'4b'!V36","v":0},{"$f":"'4b'!W36","v":0},{"$f":"'4b'!X36","v":0},{"$f":"'4b'!Y36","v":0},{"$f":"'4b'!Z36","v":0},{"$f":"'4b'!AA36","v":0},{"$f":"'4b'!AB36","v":0},{"$f":"'4b'!AC36","v":0},{"$f":"'4b'!AD36","v":0},{"$f":"'4b'!AE36","v":0},{"$f":"'4b'!AF36","v":0},{"$f":"'4b'!AG36","v":0},{"$f":"'4b'!AH36","v":0},{"$f":"'4b'!AI36","v":0},{"$f":"'4b'!AJ36","v":0},{"$f":"'4b'!AK36","v":0},{"$f":"'4b'!AL36","v":0},{"$f":"'4b'!AM36","v":0},{"$f":"'4b'!AN36","v":0},{"$f":"'4b'!AO36","v":0},{"$f":"'4b'!AP36","v":0},{"$f":"'4b'!AQ36","v":0},{"$f":"'4b'!AR36","v":0},{"$f":"'4b'!AS36","v":0},{"$f":"'4b'!AT36","v":0},{"$f":"'4b'!AU36","v":0},{"$f":"'4b'!AV36","v":0},{"$f":"'4b'!AW36","v":0},{"$f":"'4b'!AX36","v":0},{"$f":"'4b'!AY36","v":0},{"$f":"'4b'!AZ36","v":0},{"$f":"'4b'!BA36","v":0},{"$f":"'4b'!BB36","v":0},{"$f":"'4b'!BC36","v":0},{"$f":"'4b'!BD36","v":0},{"$f":"'4b'!BE36","v":0}]
[{"$f":"'4b'!A37","v":"4b"},{"$f":"'4b'!B37","v":0},{"$f":"'4b'!C37","v":0},{"$f":"'4b'!D37","v":"lehrer35"},{"$f":"'4b'!E37","v":0},{"$f":"'4b'!F37","v":0},{"$f":"'4b'!G37","v":0},{"$f":"'4b'!H37","v":0},{"$f":"'4b'!I37","v":0},{"$f":"'4b'!J37","v":0},{"$f":"'4b'!K37","v":0},{"$f":"'4b'!L37","v":0},{"$f":"'4b'!M37","v":0},{"$f":"'4b'!N37","v":0},{"$f":"'4b'!O37","v":0},{"$f":"'4b'!P37","v":0},{"$f":"'4b'!Q37","v":0},{"$f":"'4b'!R37","v":0},{"$f":"'4b'!S37","v":0},{"$f":"'4b'!T37","v":0},{"$f":"'4b'!U37","v":0},{"$f":"'4b'!V37","v":0},{"$f":"'4b'!W37","v":0},{"$f":"'4b'!X37","v":0},{"$f":"'4b'!Y37","v":0},{"$f":"'4b'!Z37","v":0},{"$f":"'4b'!AA37","v":0},{"$f":"'4b'!AB37","v":0},{"$f":"'4b'!AC37","v":0},{"$f":"'4b'!AD37","v":0},{"$f":"'4b'!AE37","v":0},{"$f":"'4b'!AF37","v":0},{"$f":"'4b'!AG37","v":0},{"$f":"'4b'!AH37","v":0},{"$f":"'4b'!AI37","v":0},{"$f":"'4b'!AJ37","v":0},{"$f":"'4b'!AK37","v":0},{"$f":"'4b'!AL37","v":0},{"$f":"'4b'!AM37","v":0},{"$f":"'4b'!AN37","v":0},{"$f":"'4b'!AO37","v":0},{"$f":"'4b'!AP37","v":0},{"$f":"'4b'!AQ37","v":0},{"$f":"'4b'!AR37","v":0},{"$f":"'4b'!AS37","v":0},{"$f":"'4b'!AT37","v":0},{"$f":"'4b'!AU37","v":0},{"$f":"'4b'!AV37","v":0},{"$f":"'4b'!AW37","v":0},{"$f":"'4b'!AX37","v":0},{"$f":"'4b'!AY37","v":0},{"$f":"'4b'!AZ37","v":0},{"$f":"'4b'!BA37","v":0},{"$f":"'4b'!BB37","v":0},{"$f":"'4b'!BC37","v":0},{"$f":"'4b'!BD37","v":0},{"$f":"'4b'!BE37","v":0}]
[{"$f":"'4b'!A38","v":"4b"},{"$f":"'4b'!B38","v":0},{"$f":"'4b'!C38","v":0},{"$f":"'4b'!D38","v":"lehrer36"},{"$f":"'4b'!E38","v":0},{"$f":"'4b'!F38","v":0},{"$f":"'4b'!G38","v":0},{"$f":"'4b'!H38","v":0},{"$f":"'4b'!I38","v":0},{"$f":"'4b'!J38","v":0},{"$f":"'4b'!K38","v":0},{"$f":"'4b'!L38","v":0},{"$f":"'4b'!M38","v":0},{"$f":"'4b'!N38","v":0},{"$f":"'4b'!O38","v":0},{"$f":"'4b'!P38","v":0},{"$f":"'4b'!Q38","v":0},{"$f":"'4b'!R38","v":0},{"$f":"'4b'!S38","v":0},{"$f":"'4b'!T38","v":0},{"$f":"'4b'!U38","v":0},{"$f":"'4b'!V38","v":0},{"$f":"'4b'!W38","v":0},{"$f":"'4b'!X38","v":0},{"$f":"'4b'!Y38","v":0},{"$f":"'4b'!Z38","v":0},{"$f":"'4b'!AA38","v":0},{"$f":"'4b'!AB38","v":0},{"$f":"'4b'!AC38","v":0},{"$f":"'4b'!AD38","v":0},{"$f":"'4b'!AE38","v":0},{"$f":"'4b'!AF38","v":0},{"$f":"'4b'!AG38","v":0},{"$f":"'4b'!AH38","v":0},{"$f":"'4b'!AI38","v":0},{"$f":"'4b'!AJ38","v":0},{"$f":"'4b'!AK38","v":0},{"$f":"'4b'!AL38","v":0},{"$f":"'4b'!AM38","v":0},{"$f":"'4b'!AN38","v":0},{"$f":"'4b'!AO38","v":0},{"$f":"'4b'!AP38","v":0},{"$f":"'4b'!AQ38","v":0},{"$f":"'4b'!AR38","v":0},{"$f":"'4b'!AS38","v":0},{"$f":"'4b'!AT38","v":0},{"$f":"'4b'!AU38","v":0},{"$f":"'4b'!AV38","v":0},{"$f":"'4b'!AW38","v":0},{"$f":"'4b'!AX38","v":0},{"$f":"'4b'!AY38","v":0},{"$f":"'4b'!AZ38","v":0},{"$f":"'4b'!BA38","v":0},{"$f":"'4b'!BB38","v":0},{"$f":"'4b'!BC38","v":0},{"$f":"'4b'!BD38","v":0},{"$f":"'4b'!BE38","v":0}]
[{"$f":"'4b'!A39","v":"4b"},{"$f":"'4b'!B39","v":0},{"$f":"'4b'!C39","v":0},{"$f":"'4b'!D39","v":"lehrer37"},{"$f":"'4b'!E39","v":0},{"$f":"'4b'!F39","v":0},{"$f":"'4b'!G39","v":0},{"$f":"'4b'!H39","v":0},{"$f":"'4b'!I39","v":0},{"$f":"'4b'!J39","v":0},{"$f":"'4b'!K39","v":0},{"$f":"'4b'!L39","v":0},{"$f":"'4b'!M39","v":0},{"$f":"'4b'!N39","v":0},{"$f":"'4b'!O39","v":0},{"$f":"'4b'!P39","v":0},{"$f":"'4b'!Q39","v":0},{"$f":"'4b'!R39","v":0},{"$f":"'4b'!S39","v":0},{"$f":"'4b'!T39","v":0},{"$f":"'4b'!U39","v":0},{"$f":"'4b'!V39","v":0},{"$f":"'4b'!W39","v":0},{"$f":"'4b'!X39","v":0},{"$f":"'4b'!Y39","v":0},{"$f":"'4b'!Z39","v":0},{"$f":"'4b'!AA39","v":0},{"$f":"'4b'!AB39","v":0},{"$f":"'4b'!AC39","v":0},{"$f":"'4b'!AD39","v":0},{"$f":"'4b'!AE39","v":0},{"$f":"'4b'!AF39","v":0},{"$f":"'4b'!AG39","v":0},{"$f":"'4b'!AH39","v":0},{"$f":"'4b'!AI39","v":0},{"$f":"'4b'!AJ39","v":0},{"$f":"'4b'!AK39","v":0},{"$f":"'4b'!AL39","v":0},{"$f":"'4b'!AM39","v":0},{"$f":"'4b'!AN39","v":0},{"$f":"'4b'!AO39","v":0},{"$f":"'4b'!AP39","v":0},{"$f":"'4b'!AQ39","v":0},{"$f":"'4b'!AR39","v":0},{"$f":"'4b'!AS39","v":0},{"$f":"'4b'!AT39","v":0},{"$f":"'4b'!AU39","v":0},{"$f":"'4b'!AV39","v":0},{"$f":"'4b'!AW39","v":0},{"$f":"'4b'!AX39","v":0},{"$f":"'4b'!AY39","v":0},{"$f":"'4b'!AZ39","v":0},{"$f":"'4b'!BA39","v":0},{"$f":"'4b'!BB39","v":0},{"$f":"'4b'!BC39","v":0},{"$f":"'4b'!BD39","v":0},{"$f":"'4b'!BE39","v":0}]
[{"$f":"'4b'!A40","v":"4b"},{"$f":"'4b'!B40","v":0},{"$f":"'4b'!C40","v":0},{"$f":"'4b'!D40","v":"lehrer38"},{"$f":"'4b'!E40","v":0},{"$f":"'4b'!F40","v":0},{"$f":"'4b'!G40","v":0},{"$f":"'4b'!H40","v":0},{"$f":"'4b'!I40","v":0},{"$f":"'4b'!J40","v":0},{"$f":"'4b'!K40","v":0},{"$f":"'4b'!L40","v":0},{"$f":"'4b'!M40","v":0},{"$f":"'4b'!N40","v":0},{"$f":"'4b'!O40","v":0},{"$f":"'4b'!P40","v":0},{"$f":"'4b'!Q40","v":0},{"$f":"'4b'!R40","v":0},{"$f":"'4b'!S40","v":0},{"$f":"'4b'!T40","v":0},{"$f":"'4b'!U40","v":0},{"$f":"'4b'!V40","v":0},{"$f":"'4b'!W40","v":0},{"$f":"'4b'!X40","v":0},{"$f":"'4b'!Y40","v":0},{"$f":"'4b'!Z40","v":0},{"$f":"'4b'!AA40","v":0},{"$f":"'4b'!AB40","v":0},{"$f":"'4b'!AC40","v":0},{"$f":"'4b'!AD40","v":0},{"$f":"'4b'!AE40","v":0},{"$f":"'4b'!AF40","v":0},{"$f":"'4b'!AG40","v":0},{"$f":"'4b'!AH40","v":0},{"$f":"'4b'!AI40","v":0},{"$f":"'4b'!AJ40","v":0},{"$f":"'4b'!AK40","v":0},{"$f":"'4b'!AL40","v":0},{"$f":"'4b'!AM40","v":0},{"$f":"'4b'!AN40","v":0},{"$f":"'4b'!AO40","v":0},{"$f":"'4b'!AP40","v":0},{"$f":"'4b'!AQ40","v":0},{"$f":"'4b'!AR40","v":0},{"$f":"'4b'!AS40","v":0},{"$f":"'4b'!AT40","v":0},{"$f":"'4b'!AU40","v":0},{"$f":"'4b'!AV40","v":0},{"$f":"'4b'!AW40","v":0},{"$f":"'4b'!AX40","v":0},{"$f":"'4b'!AY40","v":0},{"$f":"'4b'!AZ40","v":0},{"$f":"'4b'!BA40","v":0},{"$f":"'4b'!BB40","v":0},{"$f":"'4b'!BC40","v":0},{"$f":"'4b'!BD40","v":0},{"$f":"'4b'!BE40","v":0}]
[{"$f":"'4b'!A41","v":"4b"},{"$f":"'4b'!B41","v":0},{"$f":"'4b'!C41","v":0},{"$f":"'4b'!D41","v":"lehrer39"},{"$f":"'4b'!E41","v":0},{"$f":"'4b'!F41","v":0},{"$f":"'4b'!G41","v":0},{"$f":"'4b'!H41","v":0},{"$f":"'4b'!I41","v":0},{"$f":"'4b'!J41","v":0},{"$f":"'4b'!K41","v":0},{"$f":"'4b'!L41","v":0},{"$f":"'4b'!M41","v":0},{"$f":"'4b'!N41","v":0},{"$f":"'4b'!O41","v":0},{"$f":"'4b'!P41","v":0},{"$f":"'4b'!Q41","v":0},{"$f":"'4b'!R41","v":0},{"$f":"'4b'!S41","v":0},{"$f":"'4b'!T41","v":0},{"$f":"'4b'!U41","v":0},{"$f":"'4b'!V41","v":0},{"$f":"'4b'!W41","v":0},{"$f":"'4b'!X41","v":0},{"$f":"'4b'!Y41","v":0},{"$f":"'4b'!Z41","v":0},{"$f":"'4b'!AA41","v":0},{"$f":"'4b'!AB41","v":0},{"$f":"'4b'!AC41","v":0},{"$f":"'4b'!AD41","v":0},{"$f":"'4b'!AE41","v":0},{"$f":"'4b'!AF41","v":0},{"$f":"'4b'!AG41","v":0},{"$f":"'4b'!AH41","v":0},{"$f":"'4b'!AI41","v":0},{"$f":"'4b'!AJ41","v":0},{"$f":"'4b'!AK41","v":0},{"$f":"'4b'!AL41","v":0},{"$f":"'4b'!AM41","v":0},{"$f":"'4b'!AN41","v":0},{"$f":"'4b'!AO41","v":0},{"$f":"'4b'!AP41","v":0},{"$f":"'4b'!AQ41","v":0},{"$f":"'4b'!AR41","v":0},{"$f":"'4b'!AS41","v":0},{"$f":"'4b'!AT41","v":0},{"$f":"'4b'!AU41","v":0},{"$f":"'4b'!AV41","v":0},{"$f":"'4b'!AW41","v":0},{"$f":"'4b'!AX41","v":0},{"$f":"'4b'!AY41","v":0},{"$f":"'4b'!AZ41","v":0},{"$f":"'4b'!BA41","v":0},{"$f":"'4b'!BB41","v":0},{"$f":"'4b'!BC41","v":0},{"$f":"'4b'!BD41","v":0},{"$f":"'4b'!BE41","v":0}]
[{"$f":"'4b'!A42","v":"4b"},{"$f":"'4b'!B42","v":0},{"$f":"'4b'!C42","v":0},{"$f":"'4b'!D42","v":"lehrer40"},{"$f":"'4b'!E42","v":0},{"$f":"'4b'!F42","v":0},{"$f":"'4b'!G42","v":0},{"$f":"'4b'!H42","v":0},{"$f":"'4b'!I42","v":0},{"$f":"'4b'!J42","v":0},{"$f":"'4b'!K42","v":0},{"$f":"'4b'!L42","v":0},{"$f":"'4b'!M42","v":0},{"$f":"'4b'!N42","v":0},{"$f":"'4b'!O42","v":0},{"$f":"'4b'!P42","v":0},{"$f":"'4b'!Q42","v":0},{"$f":"'4b'!R42","v":0},{"$f":"'4b'!S42","v":0},{"$f":"'4b'!T42","v":0},{"$f":"'4b'!U42","v":0},{"$f":"'4b'!V42","v":0},{"$f":"'4b'!W42","v":0},{"$f":"'4b'!X42","v":0},{"$f":"'4b'!Y42","v":0},{"$f":"'4b'!Z42","v":0},{"$f":"'4b'!AA42","v":0},{"$f":"'4b'!AB42","v":0},{"$f":"'4b'!AC42","v":0},{"$f":"'4b'!AD42","v":0},{"$f":"'4b'!AE42","v":0},{"$f":"'4b'!AF42","v":0},{"$f":"'4b'!AG42","v":0},{"$f":"'4b'!AH42","v":0},{"$f":"'4b'!AI42","v":0},{"$f":"'4b'!AJ42","v":0},{"$f":"'4b'!AK42","v":0},{"$f":"'4b'!AL42","v":0},{"$f":"'4b'!AM42","v":0},{"$f":"'4b'!AN42","v":0},{"$f":"'4b'!AO42","v":0},{"$f":"'4b'!AP42","v":0},{"$f":"'4b'!AQ42","v":0},{"$f":"'4b'!AR42","v":0},{"$f":"'4b'!AS42","v":0},{"$f":"'4b'!AT42","v":0},{"$f":"'4b'!AU42","v":0},{"$f":"'4b'!AV42","v":0},{"$f":"'4b'!AW42","v":0},{"$f":"'4b'!AX42","v":0},{"$f":"'4b'!AY42","v":0},{"$f":"'4b'!AZ42","v":0},{"$f":"'4b'!BA42","v":0},{"$f":"'4b'!BB42","v":0},{"$f":"'4b'!BC42","v":0},{"$f":"'4b'!BD42","v":0},{"$f":"'4b'!BE42","v":0}]
[{"$f":"'4b'!A43","v":"4b"},{"$f":"'4b'!B43","v":0},{"$f":"'4b'!C43","v":0},{"$f":"'4b'!D43","v":"lehrer41"},{"$f":"'4b'!E43","v":0},{"$f":"'4b'!F43","v":0},{"$f":"'4b'!G43","v":0},{"$f":"'4b'!H43","v":0},{"$f":"'4b'!I43","v":0},{"$f":"'4b'!J43","v":0},{"$f":"'4b'!K43","v":0},{"$f":"'4b'!L43","v":0},{"$f":"'4b'!M43","v":0},{"$f":"'4b'!N43","v":0},{"$f":"'4b'!O43","v":0},{"$f":"'4b'!P43","v":0},{"$f":"'4b'!Q43","v":0},{"$f":"'4b'!R43","v":0},{"$f":"'4b'!S43","v":0},{"$f":"'4b'!T43","v":0},{"$f":"'4b'!U43","v":0},{"$f":"'4b'!V43","v":0},{"$f":"'4b'!W43","v":0},{"$f":"'4b'!X43","v":0},{"$f":"'4b'!Y43","v":0},{"$f":"'4b'!Z43","v":0},{"$f":"'4b'!AA43","v":0},{"$f":"'4b'!AB43","v":0},{"$f":"'4b'!AC43","v":0},{"$f":"'4b'!AD43","v":0},{"$f":"'4b'!AE43","v":0},{"$f":"'4b'!AF43","v":0},{"$f":"'4b'!AG43","v":0},{"$f":"'4b'!AH43","v":0},{"$f":"'4b'!AI43","v":0},{"$f":"'4b'!AJ43","v":0},{"$f":"'4b'!AK43","v":0},{"$f":"'4b'!AL43","v":0},{"$f":"'4b'!AM43","v":0},{"$f":"'4b'!AN43","v":0},{"$f":"'4b'!AO43","v":0},{"$f":"'4b'!AP43","v":0},{"$f":"'4b'!AQ43","v":0},{"$f":"'4b'!AR43","v":0},{"$f":"'4b'!AS43","v":0},{"$f":"'4b'!AT43","v":0},{"$f":"'4b'!AU43","v":0},{"$f":"'4b'!AV43","v":0},{"$f":"'4b'!AW43","v":0},{"$f":"'4b'!AX43","v":0},{"$f":"'4b'!AY43","v":0},{"$f":"'4b'!AZ43","v":0},{"$f":"'4b'!BA43","v":0},{"$f":"'4b'!BB43","v":0},{"$f":"'4b'!BC43","v":0},{"$f":"'4b'!BD43","v":0},{"$f":"'4b'!BE43","v":0}]
[{"$f":"'4b'!A44","v":"4b"},{"$f":"'4b'!B44","v":0},{"$f":"'4b'!C44","v":0},{"$f":"'4b'!D44","v":"lehrer42"},{"$f":"'4b'!E44","v":0},{"$f":"'4b'!F44","v":0},{"$f":"'4b'!G44","v":0},{"$f":"'4b'!H44","v":0},{"$f":"'4b'!I44","v":0},{"$f":"'4b'!J44","v":0},{"$f":"'4b'!K44","v":0},{"$f":"'4b'!L44","v":0},{"$f":"'4b'!M44","v":0},{"$f":"'4b'!N44","v":0},{"$f":"'4b'!O44","v":0},{"$f":"'4b'!P44","v":0},{"$f":"'4b'!Q44","v":0},{"$f":"'4b'!R44","v":0},{"$f":"'4b'!S44","v":0},{"$f":"'4b'!T44","v":0},{"$f":"'4b'!U44","v":0},{"$f":"'4b'!V44","v":0},{"$f":"'4b'!W44","v":0},{"$f":"'4b'!X44","v":0},{"$f":"'4b'!Y44","v":0},{"$f":"'4b'!Z44","v":0},{"$f":"'4b'!AA44","v":0},{"$f":"'4b'!AB44","v":0},{"$f":"'4b'!AC44","v":0},{"$f":"'4b'!AD44","v":0},{"$f":"'4b'!AE44","v":0},{"$f":"'4b'!AF44","v":0},{"$f":"'4b'!AG44","v":0},{"$f":"'4b'!AH44","v":0},{"$f":"'4b'!AI44","v":0},{"$f":"'4b'!AJ44","v":0},{"$f":"'4b'!AK44","v":0},{"$f":"'4b'!AL44","v":0},{"$f":"'4b'!AM44","v":0},{"$f":"'4b'!AN44","v":0},{"$f":"'4b'!AO44","v":0},{"$f":"'4b'!AP44","v":0},{"$f":"'4b'!AQ44","v":0},{"$f":"'4b'!AR44","v":0},{"$f":"'4b'!AS44","v":0},{"$f":"'4b'!AT44","v":0},{"$f":"'4b'!AU44","v":0},{"$f":"'4b'!AV44","v":0},{"$f":"'4b'!AW44","v":0},{"$f":"'4b'!AX44","v":0},{"$f":"'4b'!AY44","v":0},{"$f":"'4b'!AZ44","v":0},{"$f":"'4b'!BA44","v":0},{"$f":"'4b'!BB44","v":0},{"$f":"'4b'!BC44","v":0},{"$f":"'4b'!BD44","v":0},{"$f":"'4b'!BE44","v":0}]
[{"$f":"'4b'!A45","v":"4b"},{"$f":"'4b'!B45","v":0},{"$f":"'4b'!C45","v":0},{"$f":"'4b'!D45","v":"lehrer43"},{"$f":"'4b'!E45","v":0},{"$f":"'4b'!F45","v":0},{"$f":"'4b'!G45","v":0},{"$f":"'4b'!H45","v":0},{"$f":"'4b'!I45","v":0},{"$f":"'4b'!J45","v":0},{"$f":"'4b'!K45","v":0},{"$f":"'4b'!L45","v":0},{"$f":"'4b'!M45","v":0},{"$f":"'4b'!N45","v":0},{"$f":"'4b'!O45","v":0},{"$f":"'4b'!P45","v":0},{"$f":"'4b'!Q45","v":0},{"$f":"'4b'!R45","v":0},{"$f":"'4b'!S45","v":0},{"$f":"'4b'!T45","v":0},{"$f":"'4b'!U45","v":0},{"$f":"'4b'!V45","v":0},{"$f":"'4b'!W45","v":0},{"$f":"'4b'!X45","v":0},{"$f":"'4b'!Y45","v":0},{"$f":"'4b'!Z45","v":0},{"$f":"'4b'!AA45","v":0},{"$f":"'4b'!AB45","v":0},{"$f":"'4b'!AC45","v":0},{"$f":"'4b'!AD45","v":0},{"$f":"'4b'!AE45","v":0},{"$f":"'4b'!AF45","v":0},{"$f":"'4b'!AG45","v":0},{"$f":"'4b'!AH45","v":0},{"$f":"'4b'!AI45","v":0},{"$f":"'4b'!AJ45","v":0},{"$f":"'4b'!AK45","v":0},{"$f":"'4b'!AL45","v":0},{"$f":"'4b'!AM45","v":0},{"$f":"'4b'!AN45","v":0},{"$f":"'4b'!AO45","v":0},{"$f":"'4b'!AP45","v":0},{"$f":"'4b'!AQ45","v":0},{"$f":"'4b'!AR45","v":0},{"$f":"'4b'!AS45","v":0},{"$f":"'4b'!AT45","v":0},{"$f":"'4b'!AU45","v":0},{"$f":"'4b'!AV45","v":0},{"$f":"'4b'!AW45","v":0},{"$f":"'4b'!AX45","v":0},{"$f":"'4b'!AY45","v":0},{"$f":"'4b'!AZ45","v":0},{"$f":"'4b'!BA45","v":0},{"$f":"'4b'!BB45","v":0},{"$f":"'4b'!BC45","v":0},{"$f":"'4b'!BD45","v":0},{"$f":"'4b'!BE45","v":0}]
[{"$f":"'4b'!A46","v":"4b"},{"$f":"'4b'!B46","v":0},{"$f":"'4b'!C46","v":0},{"$f":"'4b'!D46","v":"lehrer44"},{"$f":"'4b'!E46","v":0},{"$f":"'4b'!F46","v":0},{"$f":"'4b'!G46","v":0},{"$f":"'4b'!H46","v":0},{"$f":"'4b'!I46","v":0},{"$f":"'4b'!J46","v":0},{"$f":"'4b'!K46","v":0},{"$f":"'4b'!L46","v":0},{"$f":"'4b'!M46","v":0},{"$f":"'4b'!N46","v":0},{"$f":"'4b'!O46","v":0},{"$f":"'4b'!P46","v":0},{"$f":"'4b'!Q46","v":0},{"$f":"'4b'!R46","v":0},{"$f":"'4b'!S46","v":0},{"$f":"'4b'!T46","v":0},{"$f":"'4b'!U46","v":0},{"$f":"'4b'!V46","v":0},{"$f":"'4b'!W46","v":0},{"$f":"'4b'!X46","v":0},{"$f":"'4b'!Y46","v":0},{"$f":"'4b'!Z46","v":0},{"$f":"'4b'!AA46","v":0},{"$f":"'4b'!AB46","v":0},{"$f":"'4b'!AC46","v":0},{"$f":"'4b'!AD46","v":0},{"$f":"'4b'!AE46","v":0},{"$f":"'4b'!AF46","v":0},{"$f":"'4b'!AG46","v":0},{"$f":"'4b'!AH46","v":0},{"$f":"'4b'!AI46","v":0},{"$f":"'4b'!AJ46","v":0},{"$f":"'4b'!AK46","v":0},{"$f":"'4b'!AL46","v":0},{"$f":"'4b'!AM46","v":0},{"$f":"'4b'!AN46","v":0},{"$f":"'4b'!AO46","v":0},{"$f":"'4b'!AP46","v":0},{"$f":"'4b'!AQ46","v":0},{"$f":"'4b'!AR46","v":0},{"$f":"'4b'!AS46","v":0},{"$f":"'4b'!AT46","v":0},{"$f":"'4b'!AU46","v":0},{"$f":"'4b'!AV46","v":0},{"$f":"'4b'!AW46","v":0},{"$f":"'4b'!AX46","v":0},{"$f":"'4b'!AY46","v":0},{"$f":"'4b'!AZ46","v":0},{"$f":"'4b'!BA46","v":0},{"$f":"'4b'!BB46","v":0},{"$f":"'4b'!BC46","v":0},{"$f":"'4b'!BD46","v":0},{"$f":"'4b'!BE46","v":0}]
[{"$f":"'4b'!A47","v":"4b"},{"$f":"'4b'!B47","v":0},{"$f":"'4b'!C47","v":0},{"$f":"'4b'!D47","v":"lehrer45"},{"$f":"'4b'!E47","v":0},{"$f":"'4b'!F47","v":0},{"$f":"'4b'!G47","v":0},{"$f":"'4b'!H47","v":0},{"$f":"'4b'!I47","v":0},{"$f":"'4b'!J47","v":0},{"$f":"'4b'!K47","v":0},{"$f":"'4b'!L47","v":0},{"$f":"'4b'!M47","v":0},{"$f":"'4b'!N47","v":0},{"$f":"'4b'!O47","v":0},{"$f":"'4b'!P47","v":0},{"$f":"'4b'!Q47","v":0},{"$f":"'4b'!R47","v":0},{"$f":"'4b'!S47","v":0},{"$f":"'4b'!T47","v":0},{"$f":"'4b'!U47","v":0},{"$f":"'4b'!V47","v":0},{"$f":"'4b'!W47","v":0},{"$f":"'4b'!X47","v":0},{"$f":"'4b'!Y47","v":0},{"$f":"'4b'!Z47","v":0},{"$f":"'4b'!AA47","v":0},{"$f":"'4b'!AB47","v":0},{"$f":"'4b'!AC47","v":0},{"$f":"'4b'!AD47","v":0},{"$f":"'4b'!AE47","v":0},{"$f":"'4b'!AF47","v":0},{"$f":"'4b'!AG47","v":0},{"$f":"'4b'!AH47","v":0},{"$f":"'4b'!AI47","v":0},{"$f":"'4b'!AJ47","v":0},{"$f":"'4b'!AK47","v":0},{"$f":"'4b'!AL47","v":0},{"$f":"'4b'!AM47","v":0},{"$f":"'4b'!AN47","v":0},{"$f":"'4b'!AO47","v":0},{"$f":"'4b'!AP47","v":0},{"$f":"'4b'!AQ47","v":0},{"$f":"'4b'!AR47","v":0},{"$f":"'4b'!AS47","v":0},{"$f":"'4b'!AT47","v":0},{"$f":"'4b'!AU47","v":0},{"$f":"'4b'!AV47","v":0},{"$f":"'4b'!AW47","v":0},{"$f":"'4b'!AX47","v":0},{"$f":"'4b'!AY47","v":0},{"$f":"'4b'!AZ47","v":0},{"$f":"'4b'!BA47","v":0},{"$f":"'4b'!BB47","v":0},{"$f":"'4b'!BC47","v":0},{"$f":"'4b'!BD47","v":0},{"$f":"'4b'!BE47","v":0}]
[{"$f":"'4b'!A48","v":"4b"},{"$f":"'4b'!B48","v":0},{"$f":"'4b'!C48","v":0},{"$f":"'4b'!D48","v":"lehrer46"},{"$f":"'4b'!E48","v":0},{"$f":"'4b'!F48","v":0},{"$f":"'4b'!G48","v":0},{"$f":"'4b'!H48","v":0},{"$f":"'4b'!I48","v":0},{"$f":"'4b'!J48","v":0},{"$f":"'4b'!K48","v":0},{"$f":"'4b'!L48","v":0},{"$f":"'4b'!M48","v":0},{"$f":"'4b'!N48","v":0},{"$f":"'4b'!O48","v":0},{"$f":"'4b'!P48","v":0},{"$f":"'4b'!Q48","v":0},{"$f":"'4b'!R48","v":0},{"$f":"'4b'!S48","v":0},{"$f":"'4b'!T48","v":0},{"$f":"'4b'!U48","v":0},{"$f":"'4b'!V48","v":0},{"$f":"'4b'!W48","v":0},{"$f":"'4b'!X48","v":0},{"$f":"'4b'!Y48","v":0},{"$f":"'4b'!Z48","v":0},{"$f":"'4b'!AA48","v":0},{"$f":"'4b'!AB48","v":0},{"$f":"'4b'!AC48","v":0},{"$f":"'4b'!AD48","v":0},{"$f":"'4b'!AE48","v":0},{"$f":"'4b'!AF48","v":0},{"$f":"'4b'!AG48","v":0},{"$f":"'4b'!AH48","v":0},{"$f":"'4b'!AI48","v":0},{"$f":"'4b'!AJ48","v":0},{"$f":"'4b'!AK48","v":0},{"$f":"'4b'!AL48","v":0},{"$f":"'4b'!AM48","v":0},{"$f":"'4b'!AN48","v":0},{"$f":"'4b'!AO48","v":0},{"$f":"'4b'!AP48","v":0},{"$f":"'4b'!AQ48","v":0},{"$f":"'4b'!AR48","v":0},{"$f":"'4b'!AS48","v":0},{"$f":"'4b'!AT48","v":0},{"$f":"'4b'!AU48","v":0},{"$f":"'4b'!AV48","v":0},{"$f":"'4b'!AW48","v":0},{"$f":"'4b'!AX48","v":0},{"$f":"'4b'!AY48","v":0},{"$f":"'4b'!AZ48","v":0},{"$f":"'4b'!BA48","v":0},{"$f":"'4b'!BB48","v":0},{"$f":"'4b'!BC48","v":0},{"$f":"'4b'!BD48","v":0},{"$f":"'4b'!BE48","v":0}]
[{"$f":"'4b'!A49","v":"4b"},{"$f":"'4b'!B49","v":0},{"$f":"'4b'!C49","v":0},{"$f":"'4b'!D49","v":"lehrer47"},{"$f":"'4b'!E49","v":0},{"$f":"'4b'!F49","v":0},{"$f":"'4b'!G49","v":0},{"$f":"'4b'!H49","v":0},{"$f":"'4b'!I49","v":0},{"$f":"'4b'!J49","v":0},{"$f":"'4b'!K49","v":0},{"$f":"'4b'!L49","v":0},{"$f":"'4b'!M49","v":0},{"$f":"'4b'!N49","v":0},{"$f":"'4b'!O49","v":0},{"$f":"'4b'!P49","v":0},{"$f":"'4b'!Q49","v":0},{"$f":"'4b'!R49","v":0},{"$f":"'4b'!S49","v":0},{"$f":"'4b'!T49","v":0},{"$f":"'4b'!U49","v":0},{"$f":"'4b'!V49","v":0},{"$f":"'4b'!W49","v":0},{"$f":"'4b'!X49","v":0},{"$f":"'4b'!Y49","v":0},{"$f":"'4b'!Z49","v":0},{"$f":"'4b'!AA49","v":0},{"$f":"'4b'!AB49","v":0},{"$f":"'4b'!AC49","v":0},{"$f":"'4b'!AD49","v":0},{"$f":"'4b'!AE49","v":0},{"$f":"'4b'!AF49","v":0},{"$f":"'4b'!AG49","v":0},{"$f":"'4b'!AH49","v":0},{"$f":"'4b'!AI49","v":0},{"$f":"'4b'!AJ49","v":0},{"$f":"'4b'!AK49","v":0},{"$f":"'4b'!AL49","v":0},{"$f":"'4b'!AM49","v":0},{"$f":"'4b'!AN49","v":0},{"$f":"'4b'!AO49","v":0},{"$f":"'4b'!AP49","v":0},{"$f":"'4b'!AQ49","v":0},{"$f":"'4b'!AR49","v":0},{"$f":"'4b'!AS49","v":0},{"$f":"'4b'!AT49","v":0},{"$f":"'4b'!AU49","v":0},{"$f":"'4b'!AV49","v":0},{"$f":"'4b'!AW49","v":0},{"$f":"'4b'!AX49","v":0},{"$f":"'4b'!AY49","v":0},{"$f":"'4b'!AZ49","v":0},{"$f":"'4b'!BA49","v":0},{"$f":"'4b'!BB49","v":0},{"$f":"'4b'!BC49","v":0},{"$f":"'4b'!BD49","v":0},{"$f":"'4b'!BE49","v":0}]
[{"$f":"'4b'!A50","v":"4b"},{"$f":"'4b'!B50","v":0},{"$f":"'4b'!C50","v":0},{"$f":"'4b'!D50","v":"lehrer48"},{"$f":"'4b'!E50","v":0},{"$f":"'4b'!F50","v":0},{"$f":"'4b'!G50","v":0},{"$f":"'4b'!H50","v":0},{"$f":"'4b'!I50","v":0},{"$f":"'4b'!J50","v":0},{"$f":"'4b'!K50","v":0},{"$f":"'4b'!L50","v":0},{"$f":"'4b'!M50","v":0},{"$f":"'4b'!N50","v":0},{"$f":"'4b'!O50","v":0},{"$f":"'4b'!P50","v":0},{"$f":"'4b'!Q50","v":0},{"$f":"'4b'!R50","v":0},{"$f":"'4b'!S50","v":0},{"$f":"'4b'!T50","v":0},{"$f":"'4b'!U50","v":0},{"$f":"'4b'!V50","v":0},{"$f":"'4b'!W50","v":0},{"$f":"'4b'!X50","v":0},{"$f":"'4b'!Y50","v":0},{"$f":"'4b'!Z50","v":0},{"$f":"'4b'!AA50","v":0},{"$f":"'4b'!AB50","v":0},{"$f":"'4b'!AC50","v":0},{"$f":"'4b'!AD50","v":0},{"$f":"'4b'!AE50","v":0},{"$f":"'4b'!AF50","v":0},{"$f":"'4b'!AG50","v":0},{"$f":"'4b'!AH50","v":0},{"$f":"'4b'!AI50","v":0},{"$f":"'4b'!AJ50","v":0},{"$f":"'4b'!AK50","v":0},{"$f":"'4b'!AL50","v":0},{"$f":"'4b'!AM50","v":0},{"$f":"'4b'!AN50","v":0},{"$f":"'4b'!AO50","v":0},{"$f":"'4b'!AP50","v":0},{"$f":"'4b'!AQ50","v":0},{"$f":"'4b'!AR50","v":0},{"$f":"'4b'!AS50","v":0},{"$f":"'4b'!AT50","v":0},{"$f":"'4b'!AU50","v":0},{"$f":"'4b'!AV50","v":0},{"$f":"'4b'!AW50","v":0},{"$f":"'4b'!AX50","v":0},{"$f":"'4b'!AY50","v":0},{"$f":"'4b'!AZ50","v":0},{"$f":"'4b'!BA50","v":0},{"$f":"'4b'!BB50","v":0},{"$f":"'4b'!BC50","v":0},{"$f":"'4b'!BD50","v":0},{"$f":"'4b'!BE50","v":0}]
[{"$f":"'3a'!A3","v":"3a"},{"$f":"'3a'!B3","v":0},{"$f":"'3a'!C3","v":0},{"$f":"'3a'!D3","v":"lehrer01"},{"$f":"'3a'!E3","v":0},{"$f":"'3a'!F3","v":0},{"$f":"'3a'!G3","v":0},{"$f":"'3a'!H3","v":0},{"$f":"'3a'!I3","v":0},{"$f":"'3a'!J3","v":0},{"$f":"'3a'!K3","v":0},{"$f":"'3a'!L3","v":0},{"$f":"'3a'!M3","v":0},{"$f":"'3a'!N3","v":0},{"$f":"'3a'!O3","v":0},{"$f":"'3a'!P3","v":0},{"$f":"'3a'!Q3","v":0},{"$f":"'3a'!R3","v":0},{"$f":"'3a'!S3","v":0},{"$f":"'3a'!T3","v":0},{"$f":"'3a'!U3","v":0},{"$f":"'3a'!V3","v":0},{"$f":"'3a'!W3","v":0},{"$f":"'3a'!X3","v":0},{"$f":"'3a'!Y3","v":0},{"$f":"'3a'!Z3","v":0},{"$f":"'3a'!AA3","v":0},{"$f":"'3a'!AB3","v":0},{"$f":"'3a'!AC3","v":0},{"$f":"'3a'!AD3","v":0},{"$f":"'3a'!AE3","v":0},{"$f":"'3a'!AF3","v":0},{"$f":"'3a'!AG3","v":0},{"$f":"'3a'!AH3","v":0},{"$f":"'3a'!AI3","v":0},{"$f":"'3a'!AJ3","v":0},{"$f":"'3a'!AK3","v":0},{"$f":"'3a'!AL3","v":0},{"$f":"'3a'!AM3","v":0},{"$f":"'3a'!AN3","v":0},{"$f":"'3a'!AO3","v":0},{"$f":"'3a'!AP3","v":0},{"$f":"'3a'!AQ3","v":0},{"$f":"'3a'!AR3","v":0},{"$f":"'3a'!AS3","v":0},{"$f":"'3a'!AT3","v":0},{"$f":"'3a'!AU3","v":0},{"$f":"'3a'!AV3","v":0},{"$f":"'3a'!AW3","v":0},{"$f":"'3a'!AX3","v":0},{"$f":"'3a'!AY3","v":0},{"$f":"'3a'!AZ3","v":0},{"$f":"'3a'!BA3","v":0},{"$f":"'3a'!BB3","v":0},{"$f":"'3a'!BC3","v":0},{"$f":"'3a'!BD3","v":0},{"$f":"'3a'!BE3","v":0}]
[{"$f":"'3a'!A4","v":"3a"},{"$f":"'3a'!B4","v":0},{"$f":"'3a'!C4","v":0},{"$f":"'3a'!D4","v":"lehrer02"},{"$f":"'3a'!E4","v":0},{"$f":"'3a'!F4","v":0},{"$f":"'3a'!G4","v":0},{"$f":"'3a'!H4","v":0},{"$f":"'3a'!I4","v":0},{"$f":"'3a'!J4","v":0},{"$f":"'3a'!K4","v":0},{"$f":"'3a'!L4","v":0},{"$f":"'3a'!M4","v":0},{"$f":"'3a'!N4","v":0},{"$f":"'3a'!O4","v":0},{"$f":"'3a'!P4","v":0},{"$f":"'3a'!Q4","v":0},{"$f":"'3a'!R4","v":0},{"$f":"'3a'!S4","v":0},{"$f":"'3a'!T4","v":0},{"$f":"'3a'!U4","v":0},{"$f":"'3a'!V4","v":0},{"$f":"'3a'!W4","v":0},{"$f":"'3a'!X4","v":0},{"$f":"'3a'!Y4","v":0},{"$f":"'3a'!Z4","v":0},{"$f":"'3a'!AA4","v":0},{"$f":"'3a'!AB4","v":0},{"$f":"'3a'!AC4","v":0},{"$f":"'3a'!AD4","v":0},{"$f":"'3a'!AE4","v":0},{"$f":"'3a'!AF4","v":0},{"$f":"'3a'!AG4","v":0},{"$f":"'3a'!AH4","v":0},{"$f":"'3a'!AI4","v":0},{"$f":"'3a'!AJ4","v":0},{"$f":"'3a'!AK4","v":0},{"$f":"'3a'!AL4","v":0},{"$f":"'3a'!AM4","v":0},{"$f":"'3a'!AN4","v":0},{"$f":"'3a'!AO4","v":0},{"$f":"'3a'!AP4","v":0},{"$f":"'3a'!AQ4","v":0},{"$f":"'3a'!AR4","v":0},{"$f":"'3a'!AS4","v":0},{"$f":"'3a'!AT4","v":0},{"$f":"'3a'!AU4","v":0},{"$f":"'3a'!AV4","v":0},{"$f":"'3a'!AW4","v":0},{"$f":"'3a'!AX4","v":0},{"$f":"'3a'!AY4","v":0},{"$f":"'3a'!AZ4","v":0},{"$f":"'3a'!BA4","v":0},{"$f":"'3a'!BB4","v":0},{"$f":"'3a'!BC4","v":0},{"$f":"'3a'!BD4","v":0},{"$f":"'3a'!BE4","v":0}]
[{"$f":"'3a'!A5","v":"3a"},{"$f":"'3a'!B5","v":0},{"$f":"'3a'!C5","v":0},{"$f":"'3a'!D5","v":"lehrer03"},{"$f":"'3a'!E5","v":0},{"$f":"'3a'!F5","v":0},{"$f":"'3a'!G5","v":0},{"$f":"'3a'!H5","v":0},{"$f":"'3a'!I5","v":0},{"$f":"'3a'!J5","v":0},{"$f":"'3a'!K5","v":0},{"$f":"'3a'!L5","v":0},{"$f":"'3a'!M5","v":0},{"$f":"'3a'!N5","v":0},{"$f":"'3a'!O5","v":0},{"$f":"'3a'!P5","v":0},{"$f":"'3a'!Q5","v":0},{"$f":"'3a'!R5","v":0},{"$f":"'3a'!S5","v":0},{"$f":"'3a'!T5","v":0},{"$f":"'3a'!U5","v":0},{"$f":"'3a'!V5","v":0},{"$f":"'3a'!W5","v":0},{"$f":"'3a'!X5","v":0},{"$f":"'3a'!Y5","v":0},{"$f":"'3a'!Z5","v":0},{"$f":"'3a'!AA5","v":0},{"$f":"'3a'!AB5","v":0},{"$f":"'3a'!AC5","v":0},{"$f":"'3a'!AD5","v":0},{"$f":"'3a'!AE5","v":0},{"$f":"'3a'!AF5","v":0},{"$f":"'3a'!AG5","v":0},{"$f":"'3a'!AH5","v":0},{"$f":"'3a'!AI5","v":0},{"$f":"'3a'!AJ5","v":0},{"$f":"'3a'!AK5","v":0},{"$f":"'3a'!AL5","v":0},{"$f":"'3a'!AM5","v":0},{"$f":"'3a'!AN5","v":0},{"$f":"'3a'!AO5","v":0},{"$f":"'3a'!AP5","v":0},{"$f":"'3a'!AQ5","v":0},{"$f":"'3a'!AR5","v":0},{"$f":"'3a'!AS5","v":0},{"$f":"'3a'!AT5","v":0},{"$f":"'3a'!AU5","v":0},{"$f":"'3a'!AV5","v":0},{"$f":"'3a'!AW5","v":0},{"$f":"'3a'!AX5","v":0},{"$f":"'3a'!AY5","v":0},{"$f":"'3a'!AZ5","v":0},{"$f":"'3a'!BA5","v":0},{"$f":"'3a'!BB5","v":0},{"$f":"'3a'!BC5","v":0},{"$f":"'3a'!BD5","v":0},{"$f":"'3a'!BE5","v":0}]
[{"$f":"'3a'!A6","v":"3a"},{"$f":"'3a'!B6","v":0},{"$f":"'3a'!C6","v":0},{"$f":"'3a'!D6","v":"lehrer04"},{"$f":"'3a'!E6","v":0},{"$f":"'3a'!F6","v":0},{"$f":"'3a'!G6","v":0},{"$f":"'3a'!H6","v":0},{"$f":"'3a'!I6","v":0},{"$f":"'3a'!J6","v":0},{"$f":"'3a'!K6","v":0},{"$f":"'3a'!L6","v":0},{"$f":"'3a'!M6","v":0},{"$f":"'3a'!N6","v":0},{"$f":"'3a'!O6","v":0},{"$f":"'3a'!P6","v":0},{"$f":"'3a'!Q6","v":0},{"$f":"'3a'!R6","v":0},{"$f":"'3a'!S6","v":0},{"$f":"'3a'!T6","v":0},{"$f":"'3a'!U6","v":0},{"$f":"'3a'!V6","v":0},{"$f":"'3a'!W6","v":0},{"$f":"'3a'!X6","v":0},{"$f":"'3a'!Y6","v":0},{"$f":"'3a'!Z6","v":0},{"$f":"'3a'!AA6","v":0},{"$f":"'3a'!AB6","v":0},{"$f":"'3a'!AC6","v":0},{"$f":"'3a'!AD6","v":0},{"$f":"'3a'!AE6","v":0},{"$f":"'3a'!AF6","v":0},{"$f":"'3a'!AG6","v":0},{"$f":"'3a'!AH6","v":0},{"$f":"'3a'!AI6","v":0},{"$f":"'3a'!AJ6","v":0},{"$f":"'3a'!AK6","v":0},{"$f":"'3a'!AL6","v":0},{"$f":"'3a'!AM6","v":0},{"$f":"'3a'!AN6","v":0},{"$f":"'3a'!AO6","v":0},{"$f":"'3a'!AP6","v":0},{"$f":"'3a'!AQ6","v":0},{"$f":"'3a'!AR6","v":0},{"$f":"'3a'!AS6","v":0},{"$f":"'3a'!AT6","v":0},{"$f":"'3a'!AU6","v":0},{"$f":"'3a'!AV6","v":0},{"$f":"'3a'!AW6","v":0},{"$f":"'3a'!AX6","v":0},{"$f":"'3a'!AY6","v":0},{"$f":"'3a'!AZ6","v":0},{"$f":"'3a'!BA6","v":0},{"$f":"'3a'!BB6","v":0},{"$f":"'3a'!BC6","v":0},{"$f":"'3a'!BD6","v":0},{"$f":"'3a'!BE6","v":0}]
[{"$f":"'3a'!A7","v":"3a"},{"$f":"'3a'!B7","v":0},{"$f":"'3a'!C7","v":0},{"$f":"'3a'!D7","v":"lehrer05"},{"$f":"'3a'!E7","v":0},{"$f":"'3a'!F7","v":0},{"$f":"'3a'!G7","v":0},{"$f":"'3a'!H7","v":0},{"$f":"'3a'!I7","v":0},{"$f":"'3a'!J7","v":0},{"$f":"'3a'!K7","v":0},{"$f":"'3a'!L7","v":0},{"$f":"'3a'!M7","v":0},{"$f":"'3a'!N7","v":0},{"$f":"'3a'!O7","v":0},{"$f":"'3a'!P7","v":0},{"$f":"'3a'!Q7","v":0},{"$f":"'3a'!R7","v":0},{"$f":"'3a'!S7","v":0},{"$f":"'3a'!T7","v":0},{"$f":"'3a'!U7","v":0},{"$f":"'3a'!V7","v":0},{"$f":"'3a'!W7","v":0},{"$f":"'3a'!X7","v":0},{"$f":"'3a'!Y7","v":0},{"$f":"'3a'!Z7","v":0},{"$f":"'3a'!AA7","v":0},{"$f":"'3a'!AB7","v":0},{"$f":"'3a'!AC7","v":0},{"$f":"'3a'!AD7","v":0},{"$f":"'3a'!AE7","v":0},{"$f":"'3a'!AF7","v":0},{"$f":"'3a'!AG7","v":0},{"$f":"'3a'!AH7","v":0},{"$f":"'3a'!AI7","v":0},{"$f":"'3a'!AJ7","v":0},{"$f":"'3a'!AK7","v":0},{"$f":"'3a'!AL7","v":0},{"$f":"'3a'!AM7","v":0},{"$f":"'3a'!AN7","v":0},{"$f":"'3a'!AO7","v":0},{"$f":"'3a'!AP7","v":0},{"$f":"'3a'!AQ7","v":0},{"$f":"'3a'!AR7","v":0},{"$f":"'3a'!AS7","v":0},{"$f":"'3a'!AT7","v":0},{"$f":"'3a'!AU7","v":0},{"$f":"'3a'!AV7","v":0},{"$f":"'3a'!AW7","v":0},{"$f":"'3a'!AX7","v":0},{"$f":"'3a'!AY7","v":0},{"$f":"'3a'!AZ7","v":0},{"$f":"'3a'!BA7","v":0},{"$f":"'3a'!BB7","v":0},{"$f":"'3a'!BC7","v":0},{"$f":"'3a'!BD7","v":0},{"$f":"'3a'!BE7","v":0}]
[{"$f":"'3a'!A8","v":"3a"},{"$f":"'3a'!B8","v":0},{"$f":"'3a'!C8","v":0},{"$f":"'3a'!D8","v":"lehrer06"},{"$f":"'3a'!E8","v":0},{"$f":"'3a'!F8","v":0},{"$f":"'3a'!G8","v":0},{"$f":"'3a'!H8","v":0},{"$f":"'3a'!I8","v":0},{"$f":"'3a'!J8","v":0},{"$f":"'3a'!K8","v":0},{"$f":"'3a'!L8","v":0},{"$f":"'3a'!M8","v":0},{"$f":"'3a'!N8","v":0},{"$f":"'3a'!O8","v":0},{"$f":"'3a'!P8","v":0},{"$f":"'3a'!Q8","v":0},{"$f":"'3a'!R8","v":0},{"$f":"'3a'!S8","v":0},{"$f":"'3a'!T8","v":0},{"$f":"'3a'!U8","v":0},{"$f":"'3a'!V8","v":0},{"$f":"'3a'!W8","v":0},{"$f":"'3a'!X8","v":0},{"$f":"'3a'!Y8","v":0},{"$f":"'3a'!Z8","v":0},{"$f":"'3a'!AA8","v":0},{"$f":"'3a'!AB8","v":0},{"$f":"'3a'!AC8","v":0},{"$f":"'3a'!AD8","v":0},{"$f":"'3a'!AE8","v":0},{"$f":"'3a'!AF8","v":0},{"$f":"'3a'!AG8","v":0},{"$f":"'3a'!AH8","v":0},{"$f":"'3a'!AI8","v":0},{"$f":"'3a'!AJ8","v":0},{"$f":"'3a'!AK8","v":0},{"$f":"'3a'!AL8","v":0},{"$f":"'3a'!AM8","v":0},{"$f":"'3a'!AN8","v":0},{"$f":"'3a'!AO8","v":0},{"$f":"'3a'!AP8","v":0},{"$f":"'3a'!AQ8","v":0},{"$f":"'3a'!AR8","v":0},{"$f":"'3a'!AS8","v":0},{"$f":"'3a'!AT8","v":0},{"$f":"'3a'!AU8","v":0},{"$f":"'3a'!AV8","v":0},{"$f":"'3a'!AW8","v":0},{"$f":"'3a'!AX8","v":0},{"$f":"'3a'!AY8","v":0},{"$f":"'3a'!AZ8","v":0},{"$f":"'3a'!BA8","v":0},{"$f":"'3a'!BB8","v":0},{"$f":"'3a'!BC8","v":0},{"$f":"'3a'!BD8","v":0},{"$f":"'3a'!BE8","v":0}]
[{"$f":"'3a'!A9","v":"3a"},{"$f":"'3a'!B9","v":0},{"$f":"'3a'!C9","v":0},{"$f":"'3a'!D9","v":"lehrer07"},{"$f":"'3a'!E9","v":0},{"$f":"'3a'!F9","v":0},{"$f":"'3a'!G9","v":0},{"$f":"'3a'!H9","v":0},{"$f":"'3a'!I9","v":0},{"$f":"'3a'!J9","v":0},{"$f":"'3a'!K9","v":0},{"$f":"'3a'!L9","v":0},{"$f":"'3a'!M9","v":0},{"$f":"'3a'!N9","v":0},{"$f":"'3a'!O9","v":0},{"$f":"'3a'!P9","v":0},{"$f":"'3a'!Q9","v":0},{"$f":"'3a'!R9","v":0},{"$f":"'3a'!S9","v":0},{"$f":"'3a'!T9","v":0},{"$f":"'3a'!U9","v":0},{"$f":"'3a'!V9","v":0},{"$f":"'3a'!W9","v":0},{"$f":"'3a'!X9","v":0},{"$f":"'3a'!Y9","v":0},{"$f":"'3a'!Z9","v":0},{"$f":"'3a'!AA9","v":0},{"$f":"'3a'!AB9","v":0},{"$f":"'3a'!AC9","v":0},{"$f":"'3a'!AD9","v":0},{"$f":"'3a'!AE9","v":0},{"$f":"'3a'!AF9","v":0},{"$f":"'3a'!AG9","v":0},{"$f":"'3a'!AH9","v":0},{"$f":"'3a'!AI9","v":0},{"$f":"'3a'!AJ9","v":0},{"$f":"'3a'!AK9","v":0},{"$f":"'3a'!AL9","v":0},{"$f":"'3a'!AM9","v":0},{"$f":"'3a'!AN9","v":0},{"$f":"'3a'!AO9","v":0},{"$f":"'3a'!AP9","v":0},{"$f":"'3a'!AQ9","v":0},{"$f":"'3a'!AR9","v":0},{"$f":"'3a'!AS9","v":0},{"$f":"'3a'!AT9","v":0},{"$f":"'3a'!AU9","v":0},{"$f":"'3a'!AV9","v":0},{"$f":"'3a'!AW9","v":0},{"$f":"'3a'!AX9","v":0},{"$f":"'3a'!AY9","v":0},{"$f":"'3a'!AZ9","v":0},{"$f":"'3a'!BA9","v":0},{"$f":"'3a'!BB9","v":0},{"$f":"'3a'!BC9","v":0},{"$f":"'3a'!BD9","v":0},{"$f":"'3a'!BE9","v":0}]
[{"$f":"'3a'!A10","v":"3a"},{"$f":"'3a'!B10","v":0},{"$f":"'3a'!C10","v":0},{"$f":"'3a'!D10","v":"lehrer08"},{"$f":"'3a'!E10","v":0},{"$f":"'3a'!F10","v":0},{"$f":"'3a'!G10","v":0},{"$f":"'3a'!H10","v":0},{"$f":"'3a'!I10","v":0},{"$f":"'3a'!J10","v":0},{"$f":"'3a'!K10","v":0},{"$f":"'3a'!L10","v":0},{"$f":"'3a'!M10","v":0},{"$f":"'3a'!N10","v":0},{"$f":"'3a'!O10","v":0},{"$f":"'3a'!P10","v":0},{"$f":"'3a'!Q10","v":0},{"$f":"'3a'!R10","v":0},{"$f":"'3a'!S10","v":0},{"$f":"'3a'!T10","v":0},{"$f":"'3a'!U10","v":0},{"$f":"'3a'!V10","v":0},{"$f":"'3a'!W10","v":0},{"$f":"'3a'!X10","v":0},{"$f":"'3a'!Y10","v":0},{"$f":"'3a'!Z10","v":0},{"$f":"'3a'!AA10","v":0},{"$f":"'3a'!AB10","v":0},{"$f":"'3a'!AC10","v":0},{"$f":"'3a'!AD10","v":0},{"$f":"'3a'!AE10","v":0},{"$f":"'3a'!AF10","v":0},{"$f":"'3a'!AG10","v":0},{"$f":"'3a'!AH10","v":0},{"$f":"'3a'!AI10","v":0},{"$f":"'3a'!AJ10","v":0},{"$f":"'3a'!AK10","v":0},{"$f":"'3a'!AL10","v":0},{"$f":"'3a'!AM10","v":0},{"$f":"'3a'!AN10","v":0},{"$f":"'3a'!AO10","v":0},{"$f":"'3a'!AP10","v":0},{"$f":"'3a'!AQ10","v":0},{"$f":"'3a'!AR10","v":0},{"$f":"'3a'!AS10","v":0},{"$f":"'3a'!AT10","v":0},{"$f":"'3a'!AU10","v":0},{"$f":"'3a'!AV10","v":0},{"$f":"'3a'!AW10","v":0},{"$f":"'3a'!AX10","v":0},{"$f":"'3a'!AY10","v":0},{"$f":"'3a'!AZ10","v":0},{"$f":"'3a'!BA10","v":0},{"$f":"'3a'!BB10","v":0},{"$f":"'3a'!BC10","v":0},{"$f":"'3a'!BD10","v":0},{"$f":"'3a'!BE10","v":0}]
[{"$f":"'3a'!A11","v":"3a"},{"$f":"'3a'!B11","v":0},{"$f":"'3a'!C11","v":0},{"$f":"'3a'!D11","v":"lehrer09"},{"$f":"'3a'!E11","v":0},{"$f":"'3a'!F11","v":0},{"$f":"'3a'!G11","v":0},{"$f":"'3a'!H11","v":0},{"$f":"'3a'!I11","v":0},{"$f":"'3a'!J11","v":0},{"$f":"'3a'!K11","v":0},{"$f":"'3a'!L11","v":0},{"$f":"'3a'!M11","v":0},{"$f":"'3a'!N11","v":0},{"$f":"'3a'!O11","v":0},{"$f":"'3a'!P11","v":0},{"$f":"'3a'!Q11","v":0},{"$f":"'3a'!R11","v":0},{"$f":"'3a'!S11","v":0},{"$f":"'3a'!T11","v":0},{"$f":"'3a'!U11","v":0},{"$f":"'3a'!V11","v":0},{"$f":"'3a'!W11","v":0},{"$f":"'3a'!X11","v":0},{"$f":"'3a'!Y11","v":0},{"$f":"'3a'!Z11","v":0},{"$f":"'3a'!AA11","v":0},{"$f":"'3a'!AB11","v":0},{"$f":"'3a'!AC11","v":0},{"$f":"'3a'!AD11","v":0},{"$f":"'3a'!AE11","v":0},{"$f":"'3a'!AF11","v":0},{"$f":"'3a'!AG11","v":0},{"$f":"'3a'!AH11","v":0},{"$f":"'3a'!AI11","v":0},{"$f":"'3a'!AJ11","v":0},{"$f":"'3a'!AK11","v":0},{"$f":"'3a'!AL11","v":0},{"$f":"'3a'!AM11","v":0},{"$f":"'3a'!AN11","v":0},{"$f":"'3a'!AO11","v":0},{"$f":"'3a'!AP11","v":0},{"$f":"'3a'!AQ11","v":0},{"$f":"'3a'!AR11","v":0},{"$f":"'3a'!AS11","v":0},{"$f":"'3a'!AT11","v":0},{"$f":"'3a'!AU11","v":0},{"$f":"'3a'!AV11","v":0},{"$f":"'3a'!AW11","v":0},{"$f":"'3a'!AX11","v":0},{"$f":"'3a'!AY11","v":0},{"$f":"'3a'!AZ11","v":0},{"$f":"'3a'!BA11","v":0},{"$f":"'3a'!BB11","v":0},{"$f":"'3a'!BC11","v":0},{"$f":"'3a'!BD11","v":0},{"$f":"'3a'!BE11","v":0}]
[{"$f":"'3a'!A12","v":"3a"},{"$f":"'3a'!B12","v":0},{"$f":"'3a'!C12","v":0},{"$f":"'3a'!D12","v":"lehrer10"},{"$f":"'3a'!E12","v":0},{"$f":"'3a'!F12","v":0},{"$f":"'3a'!G12","v":0},{"$f":"'3a'!H12","v":0},{"$f":"'3a'!I12","v":0},{"$f":"'3a'!J12","v":0},{"$f":"'3a'!K12","v":0},{"$f":"'3a'!L12","v":0},{"$f":"'3a'!M12","v":0},{"$f":"'3a'!N12","v":0},{"$f":"'3a'!O12","v":0},{"$f":"'3a'!P12","v":0},{"$f":"'3a'!Q12","v":0},{"$f":"'3a'!R12","v":0},{"$f":"'3a'!S12","v":0},{"$f":"'3a'!T12","v":0},{"$f":"'3a'!U12","v":0},{"$f":"'3a'!V12","v":0},{"$f":"'3a'!W12","v":0},{"$f":"'3a'!X12","v":0},{"$f":"'3a'!Y12","v":0},{"$f":"'3a'!Z12","v":0},{"$f":"'3a'!AA12","v":0},{"$f":"'3a'!AB12","v":0},{"$f":"'3a'!AC12","v":0},{"$f":"'3a'!AD12","v":0},{"$f":"'3a'!AE12","v":0},{"$f":"'3a'!AF12","v":0},{"$f":"'3a'!AG12","v":0},{"$f":"'3a'!AH12","v":0},{"$f":"'3a'!AI12","v":0},{"$f":"'3a'!AJ12","v":0},{"$f":"'3a'!AK12","v":0},{"$f":"'3a'!AL12","v":0},{"$f":"'3a'!AM12","v":0},{"$f":"'3a'!AN12","v":0},{"$f":"'3a'!AO12","v":0},{"$f":"'3a'!AP12","v":0},{"$f":"'3a'!AQ12","v":0},{"$f":"'3a'!AR12","v":0},{"$f":"'3a'!AS12","v":0},{"$f":"'3a'!AT12","v":0},{"$f":"'3a'!AU12","v":0},{"$f":"'3a'!AV12","v":0},{"$f":"'3a'!AW12","v":0},{"$f":"'3a'!AX12","v":0},{"$f":"'3a'!AY12","v":0},{"$f":"'3a'!AZ12","v":0},{"$f":"'3a'!BA12","v":0},{"$f":"'3a'!BB12","v":0},{"$f":"'3a'!BC12","v":0},{"$f":"'3a'!BD12","v":0},{"$f":"'3a'!BE12","v":0}]
[{"$f":"'3a'!A13","v":"3a"},{"$f":"'3a'!B13","v":0},{"$f":"'3a'!C13","v":0},{"$f":"'3a'!D13","v":"lehrer11"},{"$f":"'3a'!E13","v":0},{"$f":"'3a'!F13","v":0},{"$f":"'3a'!G13","v":0},{"$f":"'3a'!H13","v":0},{"$f":"'3a'!I13","v":0},{"$f":"'3a'!J13","v":0},{"$f":"'3a'!K13","v":0},{"$f":"'3a'!L13","v":0},{"$f":"'3a'!M13","v":0},{"$f":"'3a'!N13","v":0},{"$f":"'3a'!O13","v":0},{"$f":"'3a'!P13","v":0},{"$f":"'3a'!Q13","v":0},{"$f":"'3a'!R13","v":0},{"$f":"'3a'!S13","v":0},{"$f":"'3a'!T13","v":0},{"$f":"'3a'!U13","v":0},{"$f":"'3a'!V13","v":0},{"$f":"'3a'!W13","v":0},{"$f":"'3a'!X13","v":0},{"$f":"'3a'!Y13","v":0},{"$f":"'3a'!Z13","v":0},{"$f":"'3a'!AA13","v":0},{"$f":"'3a'!AB13","v":0},{"$f":"'3a'!AC13","v":0},{"$f":"'3a'!AD13","v":0},{"$f":"'3a'!AE13","v":0},{"$f":"'3a'!AF13","v":0},{"$f":"'3a'!AG13","v":0},{"$f":"'3a'!AH13","v":0},{"$f":"'3a'!AI13","v":0},{"$f":"'3a'!AJ13","v":0},{"$f":"'3a'!AK13","v":0},{"$f":"'3a'!AL13","v":0},{"$f":"'3a'!AM13","v":0},{"$f":"'3a'!AN13","v":0},{"$f":"'3a'!AO13","v":0},{"$f":"'3a'!AP13","v":0},{"$f":"'3a'!AQ13","v":0},{"$f":"'3a'!AR13","v":0},{"$f":"'3a'!AS13","v":0},{"$f":"'3a'!AT13","v":0},{"$f":"'3a'!AU13","v":0},{"$f":"'3a'!AV13","v":0},{"$f":"'3a'!AW13","v":0},{"$f":"'3a'!AX13","v":0},{"$f":"'3a'!AY13","v":0},{"$f":"'3a'!AZ13","v":0},{"$f":"'3a'!BA13","v":0},{"$f":"'3a'!BB13","v":0},{"$f":"'3a'!BC13","v":0},{"$f":"'3a'!BD13","v":0},{"$f":"'3a'!BE13","v":0}]
[{"$f":"'3a'!A14","v":"3a"},{"$f":"'3a'!B14","v":0},{"$f":"'3a'!C14","v":0},{"$f":"'3a'!D14","v":"lehrer12"},{"$f":"'3a'!E14","v":0},{"$f":"'3a'!F14","v":0},{"$f":"'3a'!G14","v":0},{"$f":"'3a'!H14","v":0},{"$f":"'3a'!I14","v":0},{"$f":"'3a'!J14","v":0},{"$f":"'3a'!K14","v":0},{"$f":"'3a'!L14","v":0},{"$f":"'3a'!M14","v":0},{"$f":"'3a'!N14","v":0},{"$f":"'3a'!O14","v":0},{"$f":"'3a'!P14","v":0},{"$f":"'3a'!Q14","v":0},{"$f":"'3a'!R14","v":0},{"$f":"'3a'!S14","v":0},{"$f":"'3a'!T14","v":0},{"$f":"'3a'!U14","v":0},{"$f":"'3a'!V14","v":0},{"$f":"'3a'!W14","v":0},{"$f":"'3a'!X14","v":0},{"$f":"'3a'!Y14","v":0},{"$f":"'3a'!Z14","v":0},{"$f":"'3a'!AA14","v":0},{"$f":"'3a'!AB14","v":0},{"$f":"'3a'!AC14","v":0},{"$f":"'3a'!AD14","v":0},{"$f":"'3a'!AE14","v":0},{"$f":"'3a'!AF14","v":0},{"$f":"'3a'!AG14","v":0},{"$f":"'3a'!AH14","v":0},{"$f":"'3a'!AI14","v":0},{"$f":"'3a'!AJ14","v":0},{"$f":"'3a'!AK14","v":0},{"$f":"'3a'!AL14","v":0},{"$f":"'3a'!AM14","v":0},{"$f":"'3a'!AN14","v":0},{"$f":"'3a'!AO14","v":0},{"$f":"'3a'!AP14","v":0},{"$f":"'3a'!AQ14","v":0},{"$f":"'3a'!AR14","v":0},{"$f":"'3a'!AS14","v":0},{"$f":"'3a'!AT14","v":0},{"$f":"'3a'!AU14","v":0},{"$f":"'3a'!AV14","v":0},{"$f":"'3a'!AW14","v":0},{"$f":"'3a'!AX14","v":0},{"$f":"'3a'!AY14","v":0},{"$f":"'3a'!AZ14","v":0},{"$f":"'3a'!BA14","v":0},{"$f":"'3a'!BB14","v":0},{"$f":"'3a'!BC14","v":0},{"$f":"'3a'!BD14","v":0},{"$f":"'3a'!BE14","v":0}]
[{"$f":"'3a'!A15","v":"3a"},{"$f":"'3a'!B15","v":0},{"$f":"'3a'!C15","v":0},{"$f":"'3a'!D15","v":"lehrer13"},{"$f":"'3a'!E15","v":0},{"$f":"'3a'!F15","v":0},{"$f":"'3a'!G15","v":0},{"$f":"'3a'!H15","v":0},{"$f":"'3a'!I15","v":0},{"$f":"'3a'!J15","v":0},{"$f":"'3a'!K15","v":0},{"$f":"'3a'!L15","v":0},{"$f":"'3a'!M15","v":0},{"$f":"'3a'!N15","v":0},{"$f":"'3a'!O15","v":0},{"$f":"'3a'!P15","v":0},{"$f":"'3a'!Q15","v":0},{"$f":"'3a'!R15","v":0},{"$f":"'3a'!S15","v":0},{"$f":"'3a'!T15","v":0},{"$f":"'3a'!U15","v":0},{"$f":"'3a'!V15","v":0},{"$f":"'3a'!W15","v":0},{"$f":"'3a'!X15","v":0},{"$f":"'3a'!Y15","v":0},{"$f":"'3a'!Z15","v":0},{"$f":"'3a'!AA15","v":0},{"$f":"'3a'!AB15","v":0},{"$f":"'3a'!AC15","v":0},{"$f":"'3a'!AD15","v":0},{"$f":"'3a'!AE15","v":0},{"$f":"'3a'!AF15","v":0},{"$f":"'3a'!AG15","v":0},{"$f":"'3a'!AH15","v":0},{"$f":"'3a'!AI15","v":0},{"$f":"'3a'!AJ15","v":0},{"$f":"'3a'!AK15","v":0},{"$f":"'3a'!AL15","v":0},{"$f":"'3a'!AM15","v":0},{"$f":"'3a'!AN15","v":0},{"$f":"'3a'!AO15","v":0},{"$f":"'3a'!AP15","v":0},{"$f":"'3a'!AQ15","v":0},{"$f":"'3a'!AR15","v":0},{"$f":"'3a'!AS15","v":0},{"$f":"'3a'!AT15","v":0},{"$f":"'3a'!AU15","v":0},{"$f":"'3a'!AV15","v":0},{"$f":"'3a'!AW15","v":0},{"$f":"'3a'!AX15","v":0},{"$f":"'3a'!AY15","v":0},{"$f":"'3a'!AZ15","v":0},{"$f":"'3a'!BA15","v":0},{"$f":"'3a'!BB15","v":0},{"$f":"'3a'!BC15","v":0},{"$f":"'3a'!BD15","v":0},{"$f":"'3a'!BE15","v":0}]
[{"$f":"'3a'!A16","v":"3a"},{"$f":"'3a'!B16","v":0},{"$f":"'3a'!C16","v":0},{"$f":"'3a'!D16","v":"lehrer14"},{"$f":"'3a'!E16","v":0},{"$f":"'3a'!F16","v":0},{"$f":"'3a'!G16","v":0},{"$f":"'3a'!H16","v":0},{"$f":"'3a'!I16","v":0},{"$f":"'3a'!J16","v":0},{"$f":"'3a'!K16","v":0},{"$f":"'3a'!L16","v":0},{"$f":"'3a'!M16","v":0},{"$f":"'3a'!N16","v":0},{"$f":"'3a'!O16","v":0},{"$f":"'3a'!P16","v":0},{"$f":"'3a'!Q16","v":0},{"$f":"'3a'!R16","v":0},{"$f":"'3a'!S16","v":0},{"$f":"'3a'!T16","v":0},{"$f":"'3a'!U16","v":0},{"$f":"'3a'!V16","v":0},{"$f":"'3a'!W16","v":0},{"$f":"'3a'!X16","v":0},{"$f":"'3a'!Y16","v":0},{"$f":"'3a'!Z16","v":0},{"$f":"'3a'!AA16","v":0},{"$f":"'3a'!AB16","v":0},{"$f":"'3a'!AC16","v":0},{"$f":"'3a'!AD16","v":0},{"$f":"'3a'!AE16","v":0},{"$f":"'3a'!AF16","v":0},{"$f":"'3a'!AG16","v":0},{"$f":"'3a'!AH16","v":0},{"$f":"'3a'!AI16","v":0},{"$f":"'3a'!AJ16","v":0},{"$f":"'3a'!AK16","v":0},{"$f":"'3a'!AL16","v":0},{"$f":"'3a'!AM16","v":0},{"$f":"'3a'!AN16","v":0},{"$f":"'3a'!AO16","v":0},{"$f":"'3a'!AP16","v":0},{"$f":"'3a'!AQ16","v":0},{"$f":"'3a'!AR16","v":0},{"$f":"'3a'!AS16","v":0},{"$f":"'3a'!AT16","v":0},{"$f":"'3a'!AU16","v":0},{"$f":"'3a'!AV16","v":0},{"$f":"'3a'!AW16","v":0},{"$f":"'3a'!AX16","v":0},{"$f":"'3a'!AY16","v":0},{"$f":"'3a'!AZ16","v":0},{"$f":"'3a'!BA16","v":0},{"$f":"'3a'!BB16","v":0},{"$f":"'3a'!BC16","v":0},{"$f":"'3a'!BD16","v":0},{"$f":"'3a'!BE16","v":0}]
[{"$f":"'3a'!A17","v":"3a"},{"$f":"'3a'!B17","v":0},{"$f":"'3a'!C17","v":0},{"$f":"'3a'!D17","v":"lehrer15"},{"$f":"'3a'!E17","v":0},{"$f":"'3a'!F17","v":0},{"$f":"'3a'!G17","v":0},{"$f":"'3a'!H17","v":0},{"$f":"'3a'!I17","v":0},{"$f":"'3a'!J17","v":0},{"$f":"'3a'!K17","v":0},{"$f":"'3a'!L17","v":0},{"$f":"'3a'!M17","v":0},{"$f":"'3a'!N17","v":0},{"$f":"'3a'!O17","v":0},{"$f":"'3a'!P17","v":0},{"$f":"'3a'!Q17","v":0},{"$f":"'3a'!R17","v":0},{"$f":"'3a'!S17","v":0},{"$f":"'3a'!T17","v":0},{"$f":"'3a'!U17","v":0},{"$f":"'3a'!V17","v":0},{"$f":"'3a'!W17","v":0},{"$f":"'3a'!X17","v":0},{"$f":"'3a'!Y17","v":0},{"$f":"'3a'!Z17","v":0},{"$f":"'3a'!AA17","v":0},{"$f":"'3a'!AB17","v":0},{"$f":"'3a'!AC17","v":0},{"$f":"'3a'!AD17","v":0},{"$f":"'3a'!AE17","v":0},{"$f":"'3a'!AF17","v":0},{"$f":"'3a'!AG17","v":0},{"$f":"'3a'!AH17","v":0},{"$f":"'3a'!AI17","v":0},{"$f":"'3a'!AJ17","v":0},{"$f":"'3a'!AK17","v":0},{"$f":"'3a'!AL17","v":0},{"$f":"'3a'!AM17","v":0},{"$f":"'3a'!AN17","v":0},{"$f":"'3a'!AO17","v":0},{"$f":"'3a'!AP17","v":0},{"$f":"'3a'!AQ17","v":0},{"$f":"'3a'!AR17","v":0},{"$f":"'3a'!AS17","v":0},{"$f":"'3a'!AT17","v":0},{"$f":"'3a'!AU17","v":0},{"$f":"'3a'!AV17","v":0},{"$f":"'3a'!AW17","v":0},{"$f":"'3a'!AX17","v":0},{"$f":"'3a'!AY17","v":0},{"$f":"'3a'!AZ17","v":0},{"$f":"'3a'!BA17","v":0},{"$f":"'3a'!BB17","v":0},{"$f":"'3a'!BC17","v":0},{"$f":"'3a'!BD17","v":0},{"$f":"'3a'!BE17","v":0}]
[{"$f":"'3a'!A18","v":"3a"},{"$f":"'3a'!B18","v":0},{"$f":"'3a'!C18","v":0},{"$f":"'3a'!D18","v":"lehrer16"},{"$f":"'3a'!E18","v":0},{"$f":"'3a'!F18","v":0},{"$f":"'3a'!G18","v":0},{"$f":"'3a'!H18","v":0},{"$f":"'3a'!I18","v":0},{"$f":"'3a'!J18","v":0},{"$f":"'3a'!K18","v":0},{"$f":"'3a'!L18","v":0},{"$f":"'3a'!M18","v":0},{"$f":"'3a'!N18","v":0},{"$f":"'3a'!O18","v":0},{"$f":"'3a'!P18","v":0},{"$f":"'3a'!Q18","v":0},{"$f":"'3a'!R18","v":0},{"$f":"'3a'!S18","v":0},{"$f":"'3a'!T18","v":0},{"$f":"'3a'!U18","v":0},{"$f":"'3a'!V18","v":0},{"$f":"'3a'!W18","v":0},{"$f":"'3a'!X18","v":0},{"$f":"'3a'!Y18","v":0},{"$f":"'3a'!Z18","v":0},{"$f":"'3a'!AA18","v":0},{"$f":"'3a'!AB18","v":0},{"$f":"'3a'!AC18","v":0},{"$f":"'3a'!AD18","v":0},{"$f":"'3a'!AE18","v":0},{"$f":"'3a'!AF18","v":0},{"$f":"'3a'!AG18","v":0},{"$f":"'3a'!AH18","v":0},{"$f":"'3a'!AI18","v":0},{"$f":"'3a'!AJ18","v":0},{"$f":"'3a'!AK18","v":0},{"$f":"'3a'!AL18","v":0},{"$f":"'3a'!AM18","v":0},{"$f":"'3a'!AN18","v":0},{"$f":"'3a'!AO18","v":0},{"$f":"'3a'!AP18","v":0},{"$f":"'3a'!AQ18","v":0},{"$f":"'3a'!AR18","v":0},{"$f":"'3a'!AS18","v":0},{"$f":"'3a'!AT18","v":0},{"$f":"'3a'!AU18","v":0},{"$f":"'3a'!AV18","v":0},{"$f":"'3a'!AW18","v":0},{"$f":"'3a'!AX18","v":0},{"$f":"'3a'!AY18","v":0},{"$f":"'3a'!AZ18","v":0},{"$f":"'3a'!BA18","v":0},{"$f":"'3a'!BB18","v":0},{"$f":"'3a'!BC18","v":0},{"$f":"'3a'!BD18","v":0},{"$f":"'3a'!BE18","v":0}]
[{"$f":"'3a'!A19","v":"3a"},{"$f":"'3a'!B19","v":0},{"$f":"'3a'!C19","v":0},{"$f":"'3a'!D19","v":"lehrer17"},{"$f":"'3a'!E19","v":0},{"$f":"'3a'!F19","v":0},{"$f":"'3a'!G19","v":0},{"$f":"'3a'!H19","v":0},{"$f":"'3a'!I19","v":0},{"$f":"'3a'!J19","v":0},{"$f":"'3a'!K19","v":0},{"$f":"'3a'!L19","v":0},{"$f":"'3a'!M19","v":0},{"$f":"'3a'!N19","v":0},{"$f":"'3a'!O19","v":0},{"$f":"'3a'!P19","v":0},{"$f":"'3a'!Q19","v":0},{"$f":"'3a'!R19","v":0},{"$f":"'3a'!S19","v":0},{"$f":"'3a'!T19","v":0},{"$f":"'3a'!U19","v":0},{"$f":"'3a'!V19","v":0},{"$f":"'3a'!W19","v":0},{"$f":"'3a'!X19","v":0},{"$f":"'3a'!Y19","v":0},{"$f":"'3a'!Z19","v":0},{"$f":"'3a'!AA19","v":0},{"$f":"'3a'!AB19","v":0},{"$f":"'3a'!AC19","v":0},{"$f":"'3a'!AD19","v":0},{"$f":"'3a'!AE19","v":0},{"$f":"'3a'!AF19","v":0},{"$f":"'3a'!AG19","v":0},{"$f":"'3a'!AH19","v":0},{"$f":"'3a'!AI19","v":0},{"$f":"'3a'!AJ19","v":0},{"$f":"'3a'!AK19","v":0},{"$f":"'3a'!AL19","v":0},{"$f":"'3a'!AM19","v":0},{"$f":"'3a'!AN19","v":0},{"$f":"'3a'!AO19","v":0},{"$f":"'3a'!AP19","v":0},{"$f":"'3a'!AQ19","v":0},{"$f":"'3a'!AR19","v":0},{"$f":"'3a'!AS19","v":0},{"$f":"'3a'!AT19","v":0},{"$f":"'3a'!AU19","v":0},{"$f":"'3a'!AV19","v":0},{"$f":"'3a'!AW19","v":0},{"$f":"'3a'!AX19","v":0},{"$f":"'3a'!AY19","v":0},{"$f":"'3a'!AZ19","v":0},{"$f":"'3a'!BA19","v":0},{"$f":"'3a'!BB19","v":0},{"$f":"'3a'!BC19","v":0},{"$f":"'3a'!BD19","v":0},{"$f":"'3a'!BE19","v":0}]
[{"$f":"'3a'!A20","v":"3a"},{"$f":"'3a'!B20","v":0},{"$f":"'3a'!C20","v":0},{"$f":"'3a'!D20","v":"lehrer18"},{"$f":"'3a'!E20","v":0},{"$f":"'3a'!F20","v":0},{"$f":"'3a'!G20","v":0},{"$f":"'3a'!H20","v":0},{"$f":"'3a'!I20","v":0},{"$f":"'3a'!J20","v":0},{"$f":"'3a'!K20","v":0},{"$f":"'3a'!L20","v":0},{"$f":"'3a'!M20","v":0},{"$f":"'3a'!N20","v":0},{"$f":"'3a'!O20","v":0},{"$f":"'3a'!P20","v":0},{"$f":"'3a'!Q20","v":0},{"$f":"'3a'!R20","v":0},{"$f":"'3a'!S20","v":0},{"$f":"'3a'!T20","v":0},{"$f":"'3a'!U20","v":0},{"$f":"'3a'!V20","v":0},{"$f":"'3a'!W20","v":0},{"$f":"'3a'!X20","v":0},{"$f":"'3a'!Y20","v":0},{"$f":"'3a'!Z20","v":0},{"$f":"'3a'!AA20","v":0},{"$f":"'3a'!AB20","v":0},{"$f":"'3a'!AC20","v":0},{"$f":"'3a'!AD20","v":0},{"$f":"'3a'!AE20","v":0},{"$f":"'3a'!AF20","v":0},{"$f":"'3a'!AG20","v":0},{"$f":"'3a'!AH20","v":0},{"$f":"'3a'!AI20","v":0},{"$f":"'3a'!AJ20","v":0},{"$f":"'3a'!AK20","v":0},{"$f":"'3a'!AL20","v":0},{"$f":"'3a'!AM20","v":0},{"$f":"'3a'!AN20","v":0},{"$f":"'3a'!AO20","v":0},{"$f":"'3a'!AP20","v":0},{"$f":"'3a'!AQ20","v":0},{"$f":"'3a'!AR20","v":0},{"$f":"'3a'!AS20","v":0},{"$f":"'3a'!AT20","v":0},{"$f":"'3a'!AU20","v":0},{"$f":"'3a'!AV20","v":0},{"$f":"'3a'!AW20","v":0},{"$f":"'3a'!AX20","v":0},{"$f":"'3a'!AY20","v":0},{"$f":"'3a'!AZ20","v":0},{"$f":"'3a'!BA20","v":0},{"$f":"'3a'!BB20","v":0},{"$f":"'3a'!BC20","v":0},{"$f":"'3a'!BD20","v":0},{"$f":"'3a'!BE20","v":0}]
[{"$f":"'3a'!A21","v":"3a"},{"$f":"'3a'!B21","v":0},{"$f":"'3a'!C21","v":0},{"$f":"'3a'!D21","v":"lehrer19"},{"$f":"'3a'!E21","v":0},{"$f":"'3a'!F21","v":0},{"$f":"'3a'!G21","v":0},{"$f":"'3a'!H21","v":0},{"$f":"'3a'!I21","v":0},{"$f":"'3a'!J21","v":0},{"$f":"'3a'!K21","v":0},{"$f":"'3a'!L21","v":0},{"$f":"'3a'!M21","v":0},{"$f":"'3a'!N21","v":0},{"$f":"'3a'!O21","v":0},{"$f":"'3a'!P21","v":0},{"$f":"'3a'!Q21","v":0},{"$f":"'3a'!R21","v":0},{"$f":"'3a'!S21","v":0},{"$f":"'3a'!T21","v":0},{"$f":"'3a'!U21","v":0},{"$f":"'3a'!V21","v":0},{"$f":"'3a'!W21","v":0},{"$f":"'3a'!X21","v":0},{"$f":"'3a'!Y21","v":0},{"$f":"'3a'!Z21","v":0},{"$f":"'3a'!AA21","v":0},{"$f":"'3a'!AB21","v":0},{"$f":"'3a'!AC21","v":0},{"$f":"'3a'!AD21","v":0},{"$f":"'3a'!AE21","v":0},{"$f":"'3a'!AF21","v":0},{"$f":"'3a'!AG21","v":0},{"$f":"'3a'!AH21","v":0},{"$f":"'3a'!AI21","v":0},{"$f":"'3a'!AJ21","v":0},{"$f":"'3a'!AK21","v":0},{"$f":"'3a'!AL21","v":0},{"$f":"'3a'!AM21","v":0},{"$f":"'3a'!AN21","v":0},{"$f":"'3a'!AO21","v":0},{"$f":"'3a'!AP21","v":0},{"$f":"'3a'!AQ21","v":0},{"$f":"'3a'!AR21","v":0},{"$f":"'3a'!AS21","v":0},{"$f":"'3a'!AT21","v":0},{"$f":"'3a'!AU21","v":0},{"$f":"'3a'!AV21","v":0},{"$f":"'3a'!AW21","v":0},{"$f":"'3a'!AX21","v":0},{"$f":"'3a'!AY21","v":0},{"$f":"'3a'!AZ21","v":0},{"$f":"'3a'!BA21","v":0},{"$f":"'3a'!BB21","v":0},{"$f":"'3a'!BC21","v":0},{"$f":"'3a'!BD21","v":0},{"$f":"'3a'!BE21","v":0}]
[{"$f":"'3a'!A22","v":"3a"},{"$f":"'3a'!B22","v":0},{"$f":"'3a'!C22","v":0},{"$f":"'3a'!D22","v":"lehrer20"},{"$f":"'3a'!E22","v":0},{"$f":"'3a'!F22","v":0},{"$f":"'3a'!G22","v":0},{"$f":"'3a'!H22","v":0},{"$f":"'3a'!I22","v":0},{"$f":"'3a'!J22","v":0},{"$f":"'3a'!K22","v":0},{"$f":"'3a'!L22","v":0},{"$f":"'3a'!M22","v":0},{"$f":"'3a'!N22","v":0},{"$f":"'3a'!O22","v":0},{"$f":"'3a'!P22","v":0},{"$f":"'3a'!Q22","v":0},{"$f":"'3a'!R22","v":0},{"$f":"'3a'!S22","v":0},{"$f":"'3a'!T22","v":0},{"$f":"'3a'!U22","v":0},{"$f":"'3a'!V22","v":0},{"$f":"'3a'!W22","v":0},{"$f":"'3a'!X22","v":0},{"$f":"'3a'!Y22","v":0},{"$f":"'3a'!Z22","v":0},{"$f":"'3a'!AA22","v":0},{"$f":"'3a'!AB22","v":0},{"$f":"'3a'!AC22","v":0},{"$f":"'3a'!AD22","v":0},{"$f":"'3a'!AE22","v":0},{"$f":"'3a'!AF22","v":0},{"$f":"'3a'!AG22","v":0},{"$f":"'3a'!AH22","v":0},{"$f":"'3a'!AI22","v":0},{"$f":"'3a'!AJ22","v":0},{"$f":"'3a'!AK22","v":0},{"$f":"'3a'!AL22","v":0},{"$f":"'3a'!AM22","v":0},{"$f":"'3a'!AN22","v":0},{"$f":"'3a'!AO22","v":0},{"$f":"'3a'!AP22","v":0},{"$f":"'3a'!AQ22","v":0},{"$f":"'3a'!AR22","v":0},{"$f":"'3a'!AS22","v":0},{"$f":"'3a'!AT22","v":0},{"$f":"'3a'!AU22","v":0},{"$f":"'3a'!AV22","v":0},{"$f":"'3a'!AW22","v":0},{"$f":"'3a'!AX22","v":0},{"$f":"'3a'!AY22","v":0},{"$f":"'3a'!AZ22","v":0},{"$f":"'3a'!BA22","v":0},{"$f":"'3a'!BB22","v":0},{"$f":"'3a'!BC22","v":0},{"$f":"'3a'!BD22","v":0},{"$f":"'3a'!BE22","v":0}]
[{"$f":"'3a'!A23","v":"3a"},{"$f":"'3a'!B23","v":0},{"$f":"'3a'!C23","v":0},{"$f":"'3a'!D23","v":"lehrer21"},{"$f":"'3a'!E23","v":0},{"$f":"'3a'!F23","v":0},{"$f":"'3a'!G23","v":0},{"$f":"'3a'!H23","v":0},{"$f":"'3a'!I23","v":0},{"$f":"'3a'!J23","v":0},{"$f":"'3a'!K23","v":0},{"$f":"'3a'!L23","v":0},{"$f":"'3a'!M23","v":0},{"$f":"'3a'!N23","v":0},{"$f":"'3a'!O23","v":0},{"$f":"'3a'!P23","v":0},{"$f":"'3a'!Q23","v":0},{"$f":"'3a'!R23","v":0},{"$f":"'3a'!S23","v":0},{"$f":"'3a'!T23","v":0},{"$f":"'3a'!U23","v":0},{"$f":"'3a'!V23","v":0},{"$f":"'3a'!W23","v":0},{"$f":"'3a'!X23","v":0},{"$f":"'3a'!Y23","v":0},{"$f":"'3a'!Z23","v":0},{"$f":"'3a'!AA23","v":0},{"$f":"'3a'!AB23","v":0},{"$f":"'3a'!AC23","v":0},{"$f":"'3a'!AD23","v":0},{"$f":"'3a'!AE23","v":0},{"$f":"'3a'!AF23","v":0},{"$f":"'3a'!AG23","v":0},{"$f":"'3a'!AH23","v":0},{"$f":"'3a'!AI23","v":0},{"$f":"'3a'!AJ23","v":0},{"$f":"'3a'!AK23","v":0},{"$f":"'3a'!AL23","v":0},{"$f":"'3a'!AM23","v":0},{"$f":"'3a'!AN23","v":0},{"$f":"'3a'!AO23","v":0},{"$f":"'3a'!AP23","v":0},{"$f":"'3a'!AQ23","v":0},{"$f":"'3a'!AR23","v":0},{"$f":"'3a'!AS23","v":0},{"$f":"'3a'!AT23","v":0},{"$f":"'3a'!AU23","v":0},{"$f":"'3a'!AV23","v":0},{"$f":"'3a'!AW23","v":0},{"$f":"'3a'!AX23","v":0},{"$f":"'3a'!AY23","v":0},{"$f":"'3a'!AZ23","v":0},{"$f":"'3a'!BA23","v":0},{"$f":"'3a'!BB23","v":0},{"$f":"'3a'!BC23","v":0},{"$f":"'3a'!BD23","v":0},{"$f":"'3a'!BE23","v":0}]
[{"$f":"'3a'!A24","v":"3a"},{"$f":"'3a'!B24","v":0},{"$f":"'3a'!C24","v":0},{"$f":"'3a'!D24","v":"lehrer22"},{"$f":"'3a'!E24","v":0},{"$f":"'3a'!F24","v":0},{"$f":"'3a'!G24","v":0},{"$f":"'3a'!H24","v":0},{"$f":"'3a'!I24","v":0},{"$f":"'3a'!J24","v":0},{"$f":"'3a'!K24","v":0},{"$f":"'3a'!L24","v":0},{"$f":"'3a'!M24","v":0},{"$f":"'3a'!N24","v":0},{"$f":"'3a'!O24","v":0},{"$f":"'3a'!P24","v":0},{"$f":"'3a'!Q24","v":0},{"$f":"'3a'!R24","v":0},{"$f":"'3a'!S24","v":0},{"$f":"'3a'!T24","v":0},{"$f":"'3a'!U24","v":0},{"$f":"'3a'!V24","v":0},{"$f":"'3a'!W24","v":0},{"$f":"'3a'!X24","v":0},{"$f":"'3a'!Y24","v":0},{"$f":"'3a'!Z24","v":0},{"$f":"'3a'!AA24","v":0},{"$f":"'3a'!AB24","v":0},{"$f":"'3a'!AC24","v":0},{"$f":"'3a'!AD24","v":0},{"$f":"'3a'!AE24","v":0},{"$f":"'3a'!AF24","v":0},{"$f":"'3a'!AG24","v":0},{"$f":"'3a'!AH24","v":0},{"$f":"'3a'!AI24","v":0},{"$f":"'3a'!AJ24","v":0},{"$f":"'3a'!AK24","v":0},{"$f":"'3a'!AL24","v":0},{"$f":"'3a'!AM24","v":0},{"$f":"'3a'!AN24","v":0},{"$f":"'3a'!AO24","v":0},{"$f":"'3a'!AP24","v":0},{"$f":"'3a'!AQ24","v":0},{"$f":"'3a'!AR24","v":0},{"$f":"'3a'!AS24","v":0},{"$f":"'3a'!AT24","v":0},{"$f":"'3a'!AU24","v":0},{"$f":"'3a'!AV24","v":0},{"$f":"'3a'!AW24","v":0},{"$f":"'3a'!AX24","v":0},{"$f":"'3a'!AY24","v":0},{"$f":"'3a'!AZ24","v":0},{"$f":"'3a'!BA24","v":0},{"$f":"'3a'!BB24","v":0},{"$f":"'3a'!BC24","v":0},{"$f":"'3a'!BD24","v":0},{"$f":"'3a'!BE24","v":0}]
[{"$f":"'3a'!A25","v":"3a"},{"$f":"'3a'!B25","v":0},{"$f":"'3a'!C25","v":0},{"$f":"'3a'!D25","v":"lehrer23"},{"$f":"'3a'!E25","v":0},{"$f":"'3a'!F25","v":0},{"$f":"'3a'!G25","v":0},{"$f":"'3a'!H25","v":0},{"$f":"'3a'!I25","v":0},{"$f":"'3a'!J25","v":0},{"$f":"'3a'!K25","v":0},{"$f":"'3a'!L25","v":0},{"$f":"'3a'!M25","v":0},{"$f":"'3a'!N25","v":0},{"$f":"'3a'!O25","v":0},{"$f":"'3a'!P25","v":0},{"$f":"'3a'!Q25","v":0},{"$f":"'3a'!R25","v":0},{"$f":"'3a'!S25","v":0},{"$f":"'3a'!T25","v":0},{"$f":"'3a'!U25","v":0},{"$f":"'3a'!V25","v":0},{"$f":"'3a'!W25","v":0},{"$f":"'3a'!X25","v":0},{"$f":"'3a'!Y25","v":0},{"$f":"'3a'!Z25","v":0},{"$f":"'3a'!AA25","v":0},{"$f":"'3a'!AB25","v":0},{"$f":"'3a'!AC25","v":0},{"$f":"'3a'!AD25","v":0},{"$f":"'3a'!AE25","v":0},{"$f":"'3a'!AF25","v":0},{"$f":"'3a'!AG25","v":0},{"$f":"'3a'!AH25","v":0},{"$f":"'3a'!AI25","v":0},{"$f":"'3a'!AJ25","v":0},{"$f":"'3a'!AK25","v":0},{"$f":"'3a'!AL25","v":0},{"$f":"'3a'!AM25","v":0},{"$f":"'3a'!AN25","v":0},{"$f":"'3a'!AO25","v":0},{"$f":"'3a'!AP25","v":0},{"$f":"'3a'!AQ25","v":0},{"$f":"'3a'!AR25","v":0},{"$f":"'3a'!AS25","v":0},{"$f":"'3a'!AT25","v":0},{"$f":"'3a'!AU25","v":0},{"$f":"'3a'!AV25","v":0},{"$f":"'3a'!AW25","v":0},{"$f":"'3a'!AX25","v":0},{"$f":"'3a'!AY25","v":0},{"$f":"'3a'!AZ25","v":0},{"$f":"'3a'!BA25","v":0},{"$f":"'3a'!BB25","v":0},{"$f":"'3a'!BC25","v":0},{"$f":"'3a'!BD25","v":0},{"$f":"'3a'!BE25","v":0}]
[{"$f":"'3a'!A26","v":"3a"},{"$f":"'3a'!B26","v":0},{"$f":"'3a'!C26","v":0},{"$f":"'3a'!D26","v":"lehrer24"},{"$f":"'3a'!E26","v":0},{"$f":"'3a'!F26","v":0},{"$f":"'3a'!G26","v":0},{"$f":"'3a'!H26","v":0},{"$f":"'3a'!I26","v":0},{"$f":"'3a'!J26","v":0},{"$f":"'3a'!K26","v":0},{"$f":"'3a'!L26","v":0},{"$f":"'3a'!M26","v":0},{"$f":"'3a'!N26","v":0},{"$f":"'3a'!O26","v":0},{"$f":"'3a'!P26","v":0},{"$f":"'3a'!Q26","v":0},{"$f":"'3a'!R26","v":0},{"$f":"'3a'!S26","v":0},{"$f":"'3a'!T26","v":0},{"$f":"'3a'!U26","v":0},{"$f":"'3a'!V26","v":0},{"$f":"'3a'!W26","v":0},{"$f":"'3a'!X26","v":0},{"$f":"'3a'!Y26","v":0},{"$f":"'3a'!Z26","v":0},{"$f":"'3a'!AA26","v":0},{"$f":"'3a'!AB26","v":0},{"$f":"'3a'!AC26","v":0},{"$f":"'3a'!AD26","v":0},{"$f":"'3a'!AE26","v":0},{"$f":"'3a'!AF26","v":0},{"$f":"'3a'!AG26","v":0},{"$f":"'3a'!AH26","v":0},{"$f":"'3a'!AI26","v":0},{"$f":"'3a'!AJ26","v":0},{"$f":"'3a'!AK26","v":0},{"$f":"'3a'!AL26","v":0},{"$f":"'3a'!AM26","v":0},{"$f":"'3a'!AN26","v":0},{"$f":"'3a'!AO26","v":0},{"$f":"'3a'!AP26","v":0},{"$f":"'3a'!AQ26","v":0},{"$f":"'3a'!AR26","v":0},{"$f":"'3a'!AS26","v":0},{"$f":"'3a'!AT26","v":0},{"$f":"'3a'!AU26","v":0},{"$f":"'3a'!AV26","v":0},{"$f":"'3a'!AW26","v":0},{"$f":"'3a'!AX26","v":0},{"$f":"'3a'!AY26","v":0},{"$f":"'3a'!AZ26","v":0},{"$f":"'3a'!BA26","v":0},{"$f":"'3a'!BB26","v":0},{"$f":"'3a'!BC26","v":0},{"$f":"'3a'!BD26","v":0},{"$f":"'3a'!BE26","v":0}]
[{"$f":"'3a'!A27","v":"3a"},{"$f":"'3a'!B27","v":0},{"$f":"'3a'!C27","v":0},{"$f":"'3a'!D27","v":"lehrer25"},{"$f":"'3a'!E27","v":0},{"$f":"'3a'!F27","v":0},{"$f":"'3a'!G27","v":0},{"$f":"'3a'!H27","v":0},{"$f":"'3a'!I27","v":0},{"$f":"'3a'!J27","v":0},{"$f":"'3a'!K27","v":0},{"$f":"'3a'!L27","v":0},{"$f":"'3a'!M27","v":0},{"$f":"'3a'!N27","v":0},{"$f":"'3a'!O27","v":0},{"$f":"'3a'!P27","v":0},{"$f":"'3a'!Q27","v":0},{"$f":"'3a'!R27","v":0},{"$f":"'3a'!S27","v":0},{"$f":"'3a'!T27","v":0},{"$f":"'3a'!U27","v":0},{"$f":"'3a'!V27","v":0},{"$f":"'3a'!W27","v":0},{"$f":"'3a'!X27","v":0},{"$f":"'3a'!Y27","v":0},{"$f":"'3a'!Z27","v":0},{"$f":"'3a'!AA27","v":0},{"$f":"'3a'!AB27","v":0},{"$f":"'3a'!AC27","v":0},{"$f":"'3a'!AD27","v":0},{"$f":"'3a'!AE27","v":0},{"$f":"'3a'!AF27","v":0},{"$f":"'3a'!AG27","v":0},{"$f":"'3a'!AH27","v":0},{"$f":"'3a'!AI27","v":0},{"$f":"'3a'!AJ27","v":0},{"$f":"'3a'!AK27","v":0},{"$f":"'3a'!AL27","v":0},{"$f":"'3a'!AM27","v":0},{"$f":"'3a'!AN27","v":0},{"$f":"'3a'!AO27","v":0},{"$f":"'3a'!AP27","v":0},{"$f":"'3a'!AQ27","v":0},{"$f":"'3a'!AR27","v":0},{"$f":"'3a'!AS27","v":0},{"$f":"'3a'!AT27","v":0},{"$f":"'3a'!AU27","v":0},{"$f":"'3a'!AV27","v":0},{"$f":"'3a'!AW27","v":0},{"$f":"'3a'!AX27","v":0},{"$f":"'3a'!AY27","v":0},{"$f":"'3a'!AZ27","v":0},{"$f":"'3a'!BA27","v":0},{"$f":"'3a'!BB27","v":0},{"$f":"'3a'!BC27","v":0},{"$f":"'3a'!BD27","v":0},{"$f":"'3a'!BE27","v":0}]
[{"$f":"'3a'!A28","v":"3a"},{"$f":"'3a'!B28","v":0},{"$f":"'3a'!C28","v":0},{"$f":"'3a'!D28","v":"lehrer26"},{"$f":"'3a'!E28","v":0},{"$f":"'3a'!F28","v":0},{"$f":"'3a'!G28","v":0},{"$f":"'3a'!H28","v":0},{"$f":"'3a'!I28","v":0},{"$f":"'3a'!J28","v":0},{"$f":"'3a'!K28","v":0},{"$f":"'3a'!L28","v":0},{"$f":"'3a'!M28","v":0},{"$f":"'3a'!N28","v":0},{"$f":"'3a'!O28","v":0},{"$f":"'3a'!P28","v":0},{"$f":"'3a'!Q28","v":0},{"$f":"'3a'!R28","v":0},{"$f":"'3a'!S28","v":0},{"$f":"'3a'!T28","v":0},{"$f":"'3a'!U28","v":0},{"$f":"'3a'!V28","v":0},{"$f":"'3a'!W28","v":0},{"$f":"'3a'!X28","v":0},{"$f":"'3a'!Y28","v":0},{"$f":"'3a'!Z28","v":0},{"$f":"'3a'!AA28","v":0},{"$f":"'3a'!AB28","v":0},{"$f":"'3a'!AC28","v":0},{"$f":"'3a'!AD28","v":0},{"$f":"'3a'!AE28","v":0},{"$f":"'3a'!AF28","v":0},{"$f":"'3a'!AG28","v":0},{"$f":"'3a'!AH28","v":0},{"$f":"'3a'!AI28","v":0},{"$f":"'3a'!AJ28","v":0},{"$f":"'3a'!AK28","v":0},{"$f":"'3a'!AL28","v":0},{"$f":"'3a'!AM28","v":0},{"$f":"'3a'!AN28","v":0},{"$f":"'3a'!AO28","v":0},{"$f":"'3a'!AP28","v":0},{"$f":"'3a'!AQ28","v":0},{"$f":"'3a'!AR28","v":0},{"$f":"'3a'!AS28","v":0},{"$f":"'3a'!AT28","v":0},{"$f":"'3a'!AU28","v":0},{"$f":"'3a'!AV28","v":0},{"$f":"'3a'!AW28","v":0},{"$f":"'3a'!AX28","v":0},{"$f":"'3a'!AY28","v":0},{"$f":"'3a'!AZ28","v":0},{"$f":"'3a'!BA28","v":0},{"$f":"'3a'!BB28","v":0},{"$f":"'3a'!BC28","v":0},{"$f":"'3a'!BD28","v":0},{"$f":"'3a'!BE28","v":0}]
[{"$f":"'3a'!A29","v":"3a"},{"$f":"'3a'!B29","v":0},{"$f":"'3a'!C29","v":0},{"$f":"'3a'!D29","v":"lehrer27"},{"$f":"'3a'!E29","v":0},{"$f":"'3a'!F29","v":0},{"$f":"'3a'!G29","v":0},{"$f":"'3a'!H29","v":0},{"$f":"'3a'!I29","v":0},{"$f":"'3a'!J29","v":0},{"$f":"'3a'!K29","v":0},{"$f":"'3a'!L29","v":0},{"$f":"'3a'!M29","v":0},{"$f":"'3a'!N29","v":0},{"$f":"'3a'!O29","v":0},{"$f":"'3a'!P29","v":0},{"$f":"'3a'!Q29","v":0},{"$f":"'3a'!R29","v":0},{"$f":"'3a'!S29","v":0},{"$f":"'3a'!T29","v":0},{"$f":"'3a'!U29","v":0},{"$f":"'3a'!V29","v":0},{"$f":"'3a'!W29","v":0},{"$f":"'3a'!X29","v":0},{"$f":"'3a'!Y29","v":0},{"$f":"'3a'!Z29","v":0},{"$f":"'3a'!AA29","v":0},{"$f":"'3a'!AB29","v":0},{"$f":"'3a'!AC29","v":0},{"$f":"'3a'!AD29","v":0},{"$f":"'3a'!AE29","v":0},{"$f":"'3a'!AF29","v":0},{"$f":"'3a'!AG29","v":0},{"$f":"'3a'!AH29","v":0},{"$f":"'3a'!AI29","v":0},{"$f":"'3a'!AJ29","v":0},{"$f":"'3a'!AK29","v":0},{"$f":"'3a'!AL29","v":0},{"$f":"'3a'!AM29","v":0},{"$f":"'3a'!AN29","v":0},{"$f":"'3a'!AO29","v":0},{"$f":"'3a'!AP29","v":0},{"$f":"'3a'!AQ29","v":0},{"$f":"'3a'!AR29","v":0},{"$f":"'3a'!AS29","v":0},{"$f":"'3a'!AT29","v":0},{"$f":"'3a'!AU29","v":0},{"$f":"'3a'!AV29","v":0},{"$f":"'3a'!AW29","v":0},{"$f":"'3a'!AX29","v":0},{"$f":"'3a'!AY29","v":0},{"$f":"'3a'!AZ29","v":0},{"$f":"'3a'!BA29","v":0},{"$f":"'3a'!BB29","v":0},{"$f":"'3a'!BC29","v":0},{"$f":"'3a'!BD29","v":0},{"$f":"'3a'!BE29","v":0}]
[{"$f":"'3a'!A30","v":"3a"},{"$f":"'3a'!B30","v":0},{"$f":"'3a'!C30","v":0},{"$f":"'3a'!D30","v":"lehrer28"},{"$f":"'3a'!E30","v":0},{"$f":"'3a'!F30","v":0},{"$f":"'3a'!G30","v":0},{"$f":"'3a'!H30","v":0},{"$f":"'3a'!I30","v":0},{"$f":"'3a'!J30","v":0},{"$f":"'3a'!K30","v":0},{"$f":"'3a'!L30","v":0},{"$f":"'3a'!M30","v":0},{"$f":"'3a'!N30","v":0},{"$f":"'3a'!O30","v":0},{"$f":"'3a'!P30","v":0},{"$f":"'3a'!Q30","v":0},{"$f":"'3a'!R30","v":0},{"$f":"'3a'!S30","v":0},{"$f":"'3a'!T30","v":0},{"$f":"'3a'!U30","v":0},{"$f":"'3a'!V30","v":0},{"$f":"'3a'!W30","v":0},{"$f":"'3a'!X30","v":0},{"$f":"'3a'!Y30","v":0},{"$f":"'3a'!Z30","v":0},{"$f":"'3a'!AA30","v":0},{"$f":"'3a'!AB30","v":0},{"$f":"'3a'!AC30","v":0},{"$f":"'3a'!AD30","v":0},{"$f":"'3a'!AE30","v":0},{"$f":"'3a'!AF30","v":0},{"$f":"'3a'!AG30","v":0},{"$f":"'3a'!AH30","v":0},{"$f":"'3a'!AI30","v":0},{"$f":"'3a'!AJ30","v":0},{"$f":"'3a'!AK30","v":0},{"$f":"'3a'!AL30","v":0},{"$f":"'3a'!AM30","v":0},{"$f":"'3a'!AN30","v":0},{"$f":"'3a'!AO30","v":0},{"$f":"'3a'!AP30","v":0},{"$f":"'3a'!AQ30","v":0},{"$f":"'3a'!AR30","v":0},{"$f":"'3a'!AS30","v":0},{"$f":"'3a'!AT30","v":0},{"$f":"'3a'!AU30","v":0},{"$f":"'3a'!AV30","v":0},{"$f":"'3a'!AW30","v":0},{"$f":"'3a'!AX30","v":0},{"$f":"'3a'!AY30","v":0},{"$f":"'3a'!AZ30","v":0},{"$f":"'3a'!BA30","v":0},{"$f":"'3a'!BB30","v":0},{"$f":"'3a'!BC30","v":0},{"$f":"'3a'!BD30","v":0},{"$f":"'3a'!BE30","v":0}]
[{"$f":"'3a'!A31","v":"3a"},{"$f":"'3a'!B31","v":0},{"$f":"'3a'!C31","v":0},{"$f":"'3a'!D31","v":"lehrer29"},{"$f":"'3a'!E31","v":0},{"$f":"'3a'!F31","v":0},{"$f":"'3a'!G31","v":0},{"$f":"'3a'!H31","v":0},{"$f":"'3a'!I31","v":0},{"$f":"'3a'!J31","v":0},{"$f":"'3a'!K31","v":0},{"$f":"'3a'!L31","v":0},{"$f":"'3a'!M31","v":0},{"$f":"'3a'!N31","v":0},{"$f":"'3a'!O31","v":0},{"$f":"'3a'!P31","v":0},{"$f":"'3a'!Q31","v":0},{"$f":"'3a'!R31","v":0},{"$f":"'3a'!S31","v":0},{"$f":"'3a'!T31","v":0},{"$f":"'3a'!U31","v":0},{"$f":"'3a'!V31","v":0},{"$f":"'3a'!W31","v":0},{"$f":"'3a'!X31","v":0},{"$f":"'3a'!Y31","v":0},{"$f":"'3a'!Z31","v":0},{"$f":"'3a'!AA31","v":0},{"$f":"'3a'!AB31","v":0},{"$f":"'3a'!AC31","v":0},{"$f":"'3a'!AD31","v":0},{"$f":"'3a'!AE31","v":0},{"$f":"'3a'!AF31","v":0},{"$f":"'3a'!AG31","v":0},{"$f":"'3a'!AH31","v":0},{"$f":"'3a'!AI31","v":0},{"$f":"'3a'!AJ31","v":0},{"$f":"'3a'!AK31","v":0},{"$f":"'3a'!AL31","v":0},{"$f":"'3a'!AM31","v":0},{"$f":"'3a'!AN31","v":0},{"$f":"'3a'!AO31","v":0},{"$f":"'3a'!AP31","v":0},{"$f":"'3a'!AQ31","v":0},{"$f":"'3a'!AR31","v":0},{"$f":"'3a'!AS31","v":0},{"$f":"'3a'!AT31","v":0},{"$f":"'3a'!AU31","v":0},{"$f":"'3a'!AV31","v":0},{"$f":"'3a'!AW31","v":0},{"$f":"'3a'!AX31","v":0},{"$f":"'3a'!AY31","v":0},{"$f":"'3a'!AZ31","v":0},{"$f":"'3a'!BA31","v":0},{"$f":"'3a'!BB31","v":0},{"$f":"'3a'!BC31","v":0},{"$f":"'3a'!BD31","v":0},{"$f":"'3a'!BE31","v":0}]
[{"$f":"'3a'!A32","v":"3a"},{"$f":"'3a'!B32","v":0},{"$f":"'3a'!C32","v":0},{"$f":"'3a'!D32","v":"lehrer30"},{"$f":"'3a'!E32","v":0},{"$f":"'3a'!F32","v":0},{"$f":"'3a'!G32","v":0},{"$f":"'3a'!H32","v":0},{"$f":"'3a'!I32","v":0},{"$f":"'3a'!J32","v":0},{"$f":"'3a'!K32","v":0},{"$f":"'3a'!L32","v":0},{"$f":"'3a'!M32","v":0},{"$f":"'3a'!N32","v":0},{"$f":"'3a'!O32","v":0},{"$f":"'3a'!P32","v":0},{"$f":"'3a'!Q32","v":0},{"$f":"'3a'!R32","v":0},{"$f":"'3a'!S32","v":0},{"$f":"'3a'!T32","v":0},{"$f":"'3a'!U32","v":0},{"$f":"'3a'!V32","v":0},{"$f":"'3a'!W32","v":0},{"$f":"'3a'!X32","v":0},{"$f":"'3a'!Y32","v":0},{"$f":"'3a'!Z32","v":0},{"$f":"'3a'!AA32","v":0},{"$f":"'3a'!AB32","v":0},{"$f":"'3a'!AC32","v":0},{"$f":"'3a'!AD32","v":0},{"$f":"'3a'!AE32","v":0},{"$f":"'3a'!AF32","v":0},{"$f":"'3a'!AG32","v":0},{"$f":"'3a'!AH32","v":0},{"$f":"'3a'!AI32","v":0},{"$f":"'3a'!AJ32","v":0},{"$f":"'3a'!AK32","v":0},{"$f":"'3a'!AL32","v":0},{"$f":"'3a'!AM32","v":0},{"$f":"'3a'!AN32","v":0},{"$f":"'3a'!AO32","v":0},{"$f":"'3a'!AP32","v":0},{"$f":"'3a'!AQ32","v":0},{"$f":"'3a'!AR32","v":0},{"$f":"'3a'!AS32","v":0},{"$f":"'3a'!AT32","v":0},{"$f":"'3a'!AU32","v":0},{"$f":"'3a'!AV32","v":0},{"$f":"'3a'!AW32","v":0},{"$f":"'3a'!AX32","v":0},{"$f":"'3a'!AY32","v":0},{"$f":"'3a'!AZ32","v":0},{"$f":"'3a'!BA32","v":0},{"$f":"'3a'!BB32","v":0},{"$f":"'3a'!BC32","v":0},{"$f":"'3a'!BD32","v":0},{"$f":"'3a'!BE32","v":0}]
[{"$f":"'3a'!A33","v":"3a"},{"$f":"'3a'!B33","v":0},{"$f":"'3a'!C33","v":0},{"$f":"'3a'!D33","v":"lehrer31"},{"$f":"'3a'!E33","v":0},{"$f":"'3a'!F33","v":0},{"$f":"'3a'!G33","v":0},{"$f":"'3a'!H33","v":0},{"$f":"'3a'!I33","v":0},{"$f":"'3a'!J33","v":0},{"$f":"'3a'!K33","v":0},{"$f":"'3a'!L33","v":0},{"$f":"'3a'!M33","v":0},{"$f":"'3a'!N33","v":0},{"$f":"'3a'!O33","v":0},{"$f":"'3a'!P33","v":0},{"$f":"'3a'!Q33","v":0},{"$f":"'3a'!R33","v":0},{"$f":"'3a'!S33","v":0},{"$f":"'3a'!T33","v":0},{"$f":"'3a'!U33","v":0},{"$f":"'3a'!V33","v":0},{"$f":"'3a'!W33","v":0},{"$f":"'3a'!X33","v":0},{"$f":"'3a'!Y33","v":0},{"$f":"'3a'!Z33","v":0},{"$f":"'3a'!AA33","v":0},{"$f":"'3a'!AB33","v":0},{"$f":"'3a'!AC33","v":0},{"$f":"'3a'!AD33","v":0},{"$f":"'3a'!AE33","v":0},{"$f":"'3a'!AF33","v":0},{"$f":"'3a'!AG33","v":0},{"$f":"'3a'!AH33","v":0},{"$f":"'3a'!AI33","v":0},{"$f":"'3a'!AJ33","v":0},{"$f":"'3a'!AK33","v":0},{"$f":"'3a'!AL33","v":0},{"$f":"'3a'!AM33","v":0},{"$f":"'3a'!AN33","v":0},{"$f":"'3a'!AO33","v":0},{"$f":"'3a'!AP33","v":0},{"$f":"'3a'!AQ33","v":0},{"$f":"'3a'!AR33","v":0},{"$f":"'3a'!AS33","v":0},{"$f":"'3a'!AT33","v":0},{"$f":"'3a'!AU33","v":0},{"$f":"'3a'!AV33","v":0},{"$f":"'3a'!AW33","v":0},{"$f":"'3a'!AX33","v":0},{"$f":"'3a'!AY33","v":0},{"$f":"'3a'!AZ33","v":0},{"$f":"'3a'!BA33","v":0},{"$f":"'3a'!BB33","v":0},{"$f":"'3a'!BC33","v":0},{"$f":"'3a'!BD33","v":0},{"$f":"'3a'!BE33","v":0}]
[{"$f":"'3a'!A34","v":"3a"},{"$f":"'3a'!B34","v":0},{"$f":"'3a'!C34","v":0},{"$f":"'3a'!D34","v":"lehrer32"},{"$f":"'3a'!E34","v":0},{"$f":"'3a'!F34","v":0},{"$f":"'3a'!G34","v":0},{"$f":"'3a'!H34","v":0},{"$f":"'3a'!I34","v":0},{"$f":"'3a'!J34","v":0},{"$f":"'3a'!K34","v":0},{"$f":"'3a'!L34","v":0},{"$f":"'3a'!M34","v":0},{"$f":"'3a'!N34","v":0},{"$f":"'3a'!O34","v":0},{"$f":"'3a'!P34","v":0},{"$f":"'3a'!Q34","v":0},{"$f":"'3a'!R34","v":0},{"$f":"'3a'!S34","v":0},{"$f":"'3a'!T34","v":0},{"$f":"'3a'!U34","v":0},{"$f":"'3a'!V34","v":0},{"$f":"'3a'!W34","v":0},{"$f":"'3a'!X34","v":0},{"$f":"'3a'!Y34","v":0},{"$f":"'3a'!Z34","v":0},{"$f":"'3a'!AA34","v":0},{"$f":"'3a'!AB34","v":0},{"$f":"'3a'!AC34","v":0},{"$f":"'3a'!AD34","v":0},{"$f":"'3a'!AE34","v":0},{"$f":"'3a'!AF34","v":0},{"$f":"'3a'!AG34","v":0},{"$f":"'3a'!AH34","v":0},{"$f":"'3a'!AI34","v":0},{"$f":"'3a'!AJ34","v":0},{"$f":"'3a'!AK34","v":0},{"$f":"'3a'!AL34","v":0},{"$f":"'3a'!AM34","v":0},{"$f":"'3a'!AN34","v":0},{"$f":"'3a'!AO34","v":0},{"$f":"'3a'!AP34","v":0},{"$f":"'3a'!AQ34","v":0},{"$f":"'3a'!AR34","v":0},{"$f":"'3a'!AS34","v":0},{"$f":"'3a'!AT34","v":0},{"$f":"'3a'!AU34","v":0},{"$f":"'3a'!AV34","v":0},{"$f":"'3a'!AW34","v":0},{"$f":"'3a'!AX34","v":0},{"$f":"'3a'!AY34","v":0},{"$f":"'3a'!AZ34","v":0},{"$f":"'3a'!BA34","v":0},{"$f":"'3a'!BB34","v":0},{"$f":"'3a'!BC34","v":0},{"$f":"'3a'!BD34","v":0},{"$f":"'3a'!BE34","v":0}]
[{"$f":"'3a'!A35","v":"3a"},{"$f":"'3a'!B35","v":0},{"$f":"'3a'!C35","v":0},{"$f":"'3a'!D35","v":"lehrer33"},{"$f":"'3a'!E35","v":0},{"$f":"'3a'!F35","v":0},{"$f":"'3a'!G35","v":0},{"$f":"'3a'!H35","v":0},{"$f":"'3a'!I35","v":0},{"$f":"'3a'!J35","v":0},{"$f":"'3a'!K35","v":0},{"$f":"'3a'!L35","v":0},{"$f":"'3a'!M35","v":0},{"$f":"'3a'!N35","v":0},{"$f":"'3a'!O35","v":0},{"$f":"'3a'!P35","v":0},{"$f":"'3a'!Q35","v":0},{"$f":"'3a'!R35","v":0},{"$f":"'3a'!S35","v":0},{"$f":"'3a'!T35","v":0},{"$f":"'3a'!U35","v":0},{"$f":"'3a'!V35","v":0},{"$f":"'3a'!W35","v":0},{"$f":"'3a'!X35","v":0},{"$f":"'3a'!Y35","v":0},{"$f":"'3a'!Z35","v":0},{"$f":"'3a'!AA35","v":0},{"$f":"'3a'!AB35","v":0},{"$f":"'3a'!AC35","v":0},{"$f":"'3a'!AD35","v":0},{"$f":"'3a'!AE35","v":0},{"$f":"'3a'!AF35","v":0},{"$f":"'3a'!AG35","v":0},{"$f":"'3a'!AH35","v":0},{"$f":"'3a'!AI35","v":0},{"$f":"'3a'!AJ35","v":0},{"$f":"'3a'!AK35","v":0},{"$f":"'3a'!AL35","v":0},{"$f":"'3a'!AM35","v":0},{"$f":"'3a'!AN35","v":0},{"$f":"'3a'!AO35","v":0},{"$f":"'3a'!AP35","v":0},{"$f":"'3a'!AQ35","v":0},{"$f":"'3a'!AR35","v":0},{"$f":"'3a'!AS35","v":0},{"$f":"'3a'!AT35","v":0},{"$f":"'3a'!AU35","v":0},{"$f":"'3a'!AV35","v":0},{"$f":"'3a'!AW35","v":0},{"$f":"'3a'!AX35","v":0},{"$f":"'3a'!AY35","v":0},{"$f":"'3a'!AZ35","v":0},{"$f":"'3a'!BA35","v":0},{"$f":"'3a'!BB35","v":0},{"$f":"'3a'!BC35","v":0},{"$f":"'3a'!BD35","v":0},{"$f":"'3a'!BE35","v":0}]
[{"$f":"'3a'!A36","v":"3a"},{"$f":"'3a'!B36","v":0},{"$f":"'3a'!C36","v":0},{"$f":"'3a'!D36","v":"lehrer34"},{"$f":"'3a'!E36","v":0},{"$f":"'3a'!F36","v":0},{"$f":"'3a'!G36","v":0},{"$f":"'3a'!H36","v":0},{"$f":"'3a'!I36","v":0},{"$f":"'3a'!J36","v":0},{"$f":"'3a'!K36","v":0},{"$f":"'3a'!L36","v":0},{"$f":"'3a'!M36","v":0},{"$f":"'3a'!N36","v":0},{"$f":"'3a'!O36","v":0},{"$f":"'3a'!P36","v":0},{"$f":"'3a'!Q36","v":0},{"$f":"'3a'!R36","v":0},{"$f":"'3a'!S36","v":0},{"$f":"'3a'!T36","v":0},{"$f":"'3a'!U36","v":0},{"$f":"'3a'!V36","v":0},{"$f":"'3a'!W36","v":0},{"$f":"'3a'!X36","v":0},{"$f":"'3a'!Y36","v":0},{"$f":"'3a'!Z36","v":0},{"$f":"'3a'!AA36","v":0},{"$f":"'3a'!AB36","v":0},{"$f":"'3a'!AC36","v":0},{"$f":"'3a'!AD36","v":0},{"$f":"'3a'!AE36","v":0},{"$f":"'3a'!AF36","v":0},{"$f":"'3a'!AG36","v":0},{"$f":"'3a'!AH36","v":0},{"$f":"'3a'!AI36","v":0},{"$f":"'3a'!AJ36","v":0},{"$f":"'3a'!AK36","v":0},{"$f":"'3a'!AL36","v":0},{"$f":"'3a'!AM36","v":0},{"$f":"'3a'!AN36","v":0},{"$f":"'3a'!AO36","v":0},{"$f":"'3a'!AP36","v":0},{"$f":"'3a'!AQ36","v":0},{"$f":"'3a'!AR36","v":0},{"$f":"'3a'!AS36","v":0},{"$f":"'3a'!AT36","v":0},{"$f":"'3a'!AU36","v":0},{"$f":"'3a'!AV36","v":0},{"$f":"'3a'!AW36","v":0},{"$f":"'3a'!AX36","v":0},{"$f":"'3a'!AY36","v":0},{"$f":"'3a'!AZ36","v":0},{"$f":"'3a'!BA36","v":0},{"$f":"'3a'!BB36","v":0},{"$f":"'3a'!BC36","v":0},{"$f":"'3a'!BD36","v":0},{"$f":"'3a'!BE36","v":0}]
[{"$f":"'3a'!A37","v":"3a"},{"$f":"'3a'!B37","v":0},{"$f":"'3a'!C37","v":0},{"$f":"'3a'!D37","v":"lehrer35"},{"$f":"'3a'!E37","v":0},{"$f":"'3a'!F37","v":0},{"$f":"'3a'!G37","v":0},{"$f":"'3a'!H37","v":0},{"$f":"'3a'!I37","v":0},{"$f":"'3a'!J37","v":0},{"$f":"'3a'!K37","v":0},{"$f":"'3a'!L37","v":0},{"$f":"'3a'!M37","v":0},{"$f":"'3a'!N37","v":0},{"$f":"'3a'!O37","v":0},{"$f":"'3a'!P37","v":0},{"$f":"'3a'!Q37","v":0},{"$f":"'3a'!R37","v":0},{"$f":"'3a'!S37","v":0},{"$f":"'3a'!T37","v":0},{"$f":"'3a'!U37","v":0},{"$f":"'3a'!V37","v":0},{"$f":"'3a'!W37","v":0},{"$f":"'3a'!X37","v":0},{"$f":"'3a'!Y37","v":0},{"$f":"'3a'!Z37","v":0},{"$f":"'3a'!AA37","v":0},{"$f":"'3a'!AB37","v":0},{"$f":"'3a'!AC37","v":0},{"$f":"'3a'!AD37","v":0},{"$f":"'3a'!AE37","v":0},{"$f":"'3a'!AF37","v":0},{"$f":"'3a'!AG37","v":0},{"$f":"'3a'!AH37","v":0},{"$f":"'3a'!AI37","v":0},{"$f":"'3a'!AJ37","v":0},{"$f":"'3a'!AK37","v":0},{"$f":"'3a'!AL37","v":0},{"$f":"'3a'!AM37","v":0},{"$f":"'3a'!AN37","v":0},{"$f":"'3a'!AO37","v":0},{"$f":"'3a'!AP37","v":0},{"$f":"'3a'!AQ37","v":0},{"$f":"'3a'!AR37","v":0},{"$f":"'3a'!AS37","v":0},{"$f":"'3a'!AT37","v":0},{"$f":"'3a'!AU37","v":0},{"$f":"'3a'!AV37","v":0},{"$f":"'3a'!AW37","v":0},{"$f":"'3a'!AX37","v":0},{"$f":"'3a'!AY37","v":0},{"$f":"'3a'!AZ37","v":0},{"$f":"'3a'!BA37","v":0},{"$f":"'3a'!BB37","v":0},{"$f":"'3a'!BC37","v":0},{"$f":"'3a'!BD37","v":0},{"$f":"'3a'!BE37","v":0}]
[{"$f":"'3a'!A38","v":"3a"},{"$f":"'3a'!B38","v":0},{"$f":"'3a'!C38","v":0},{"$f":"'3a'!D38","v":"lehrer36"},{"$f":"'3a'!E38","v":0},{"$f":"'3a'!F38","v":0},{"$f":"'3a'!G38","v":0},{"$f":"'3a'!H38","v":0},{"$f":"'3a'!I38","v":0},{"$f":"'3a'!J38","v":0},{"$f":"'3a'!K38","v":0},{"$f":"'3a'!L38","v":0},{"$f":"'3a'!M38","v":0},{"$f":"'3a'!N38","v":0},{"$f":"'3a'!O38","v":0},{"$f":"'3a'!P38","v":0},{"$f":"'3a'!Q38","v":0},{"$f":"'3a'!R38","v":0},{"$f":"'3a'!S38","v":0},{"$f":"'3a'!T38","v":0},{"$f":"'3a'!U38","v":0},{"$f":"'3a'!V38","v":0},{"$f":"'3a'!W38","v":0},{"$f":"'3a'!X38","v":0},{"$f":"'3a'!Y38","v":0},{"$f":"'3a'!Z38","v":0},{"$f":"'3a'!AA38","v":0},{"$f":"'3a'!AB38","v":0},{"$f":"'3a'!AC38","v":0},{"$f":"'3a'!AD38","v":0},{"$f":"'3a'!AE38","v":0},{"$f":"'3a'!AF38","v":0},{"$f":"'3a'!AG38","v":0},{"$f":"'3a'!AH38","v":0},{"$f":"'3a'!AI38","v":0},{"$f":"'3a'!AJ38","v":0},{"$f":"'3a'!AK38","v":0},{"$f":"'3a'!AL38","v":0},{"$f":"'3a'!AM38","v":0},{"$f":"'3a'!AN38","v":0},{"$f":"'3a'!AO38","v":0},{"$f":"'3a'!AP38","v":0},{"$f":"'3a'!AQ38","v":0},{"$f":"'3a'!AR38","v":0},{"$f":"'3a'!AS38","v":0},{"$f":"'3a'!AT38","v":0},{"$f":"'3a'!AU38","v":0},{"$f":"'3a'!AV38","v":0},{"$f":"'3a'!AW38","v":0},{"$f":"'3a'!AX38","v":0},{"$f":"'3a'!AY38","v":0},{"$f":"'3a'!AZ38","v":0},{"$f":"'3a'!BA38","v":0},{"$f":"'3a'!BB38","v":0},{"$f":"'3a'!BC38","v":0},{"$f":"'3a'!BD38","v":0},{"$f":"'3a'!BE38","v":0}]
[{"$f":"'3a'!A39","v":"3a"},{"$f":"'3a'!B39","v":0},{"$f":"'3a'!C39","v":0},{"$f":"'3a'!D39","v":"lehrer37"},{"$f":"'3a'!E39","v":0},{"$f":"'3a'!F39","v":0},{"$f":"'3a'!G39","v":0},{"$f":"'3a'!H39","v":0},{"$f":"'3a'!I39","v":0},{"$f":"'3a'!J39","v":0},{"$f":"'3a'!K39","v":0},{"$f":"'3a'!L39","v":0},{"$f":"'3a'!M39","v":0},{"$f":"'3a'!N39","v":0},{"$f":"'3a'!O39","v":0},{"$f":"'3a'!P39","v":0},{"$f":"'3a'!Q39","v":0},{"$f":"'3a'!R39","v":0},{"$f":"'3a'!S39","v":0},{"$f":"'3a'!T39","v":0},{"$f":"'3a'!U39","v":0},{"$f":"'3a'!V39","v":0},{"$f":"'3a'!W39","v":0},{"$f":"'3a'!X39","v":0},{"$f":"'3a'!Y39","v":0},{"$f":"'3a'!Z39","v":0},{"$f":"'3a'!AA39","v":0},{"$f":"'3a'!AB39","v":0},{"$f":"'3a'!AC39","v":0},{"$f":"'3a'!AD39","v":0},{"$f":"'3a'!AE39","v":0},{"$f":"'3a'!AF39","v":0},{"$f":"'3a'!AG39","v":0},{"$f":"'3a'!AH39","v":0},{"$f":"'3a'!AI39","v":0},{"$f":"'3a'!AJ39","v":0},{"$f":"'3a'!AK39","v":0},{"$f":"'3a'!AL39","v":0},{"$f":"'3a'!AM39","v":0},{"$f":"'3a'!AN39","v":0},{"$f":"'3a'!AO39","v":0},{"$f":"'3a'!AP39","v":0},{"$f":"'3a'!AQ39","v":0},{"$f":"'3a'!AR39","v":0},{"$f":"'3a'!AS39","v":0},{"$f":"'3a'!AT39","v":0},{"$f":"'3a'!AU39","v":0},{"$f":"'3a'!AV39","v":0},{"$f":"'3a'!AW39","v":0},{"$f":"'3a'!AX39","v":0},{"$f":"'3a'!AY39","v":0},{"$f":"'3a'!AZ39","v":0},{"$f":"'3a'!BA39","v":0},{"$f":"'3a'!BB39","v":0},{"$f":"'3a'!BC39","v":0},{"$f":"'3a'!BD39","v":0},{"$f":"'3a'!BE39","v":0}]
[{"$f":"'3a'!A40","v":"3a"},{"$f":"'3a'!B40","v":0},{"$f":"'3a'!C40","v":0},{"$f":"'3a'!D40","v":"lehrer38"},{"$f":"'3a'!E40","v":0},{"$f":"'3a'!F40","v":0},{"$f":"'3a'!G40","v":0},{"$f":"'3a'!H40","v":0},{"$f":"'3a'!I40","v":0},{"$f":"'3a'!J40","v":0},{"$f":"'3a'!K40","v":0},{"$f":"'3a'!L40","v":0},{"$f":"'3a'!M40","v":0},{"$f":"'3a'!N40","v":0},{"$f":"'3a'!O40","v":0},{"$f":"'3a'!P40","v":0},{"$f":"'3a'!Q40","v":0},{"$f":"'3a'!R40","v":0},{"$f":"'3a'!S40","v":0},{"$f":"'3a'!T40","v":0},{"$f":"'3a'!U40","v":0},{"$f":"'3a'!V40","v":0},{"$f":"'3a'!W40","v":0},{"$f":"'3a'!X40","v":0},{"$f":"'3a'!Y40","v":0},{"$f":"'3a'!Z40","v":0},{"$f":"'3a'!AA40","v":0},{"$f":"'3a'!AB40","v":0},{"$f":"'3a'!AC40","v":0},{"$f":"'3a'!AD40","v":0},{"$f":"'3a'!AE40","v":0},{"$f":"'3a'!AF40","v":0},{"$f":"'3a'!AG40","v":0},{"$f":"'3a'!AH40","v":0},{"$f":"'3a'!AI40","v":0},{"$f":"'3a'!AJ40","v":0},{"$f":"'3a'!AK40","v":0},{"$f":"'3a'!AL40","v":0},{"$f":"'3a'!AM40","v":0},{"$f":"'3a'!AN40","v":0},{"$f":"'3a'!AO40","v":0},{"$f":"'3a'!AP40","v":0},{"$f":"'3a'!AQ40","v":0},{"$f":"'3a'!AR40","v":0},{"$f":"'3a'!AS40","v":0},{"$f":"'3a'!AT40","v":0},{"$f":"'3a'!AU40","v":0},{"$f":"'3a'!AV40","v":0},{"$f":"'3a'!AW40","v":0},{"$f":"'3a'!AX40","v":0},{"$f":"'3a'!AY40","v":0},{"$f":"'3a'!AZ40","v":0},{"$f":"'3a'!BA40","v":0},{"$f":"'3a'!BB40","v":0},{"$f":"'3a'!BC40","v":0},{"$f":"'3a'!BD40","v":0},{"$f":"'3a'!BE40","v":0}]
[{"$f":"'3a'!A41","v":"3a"},{"$f":"'3a'!B41","v":0},{"$f":"'3a'!C41","v":0},{"$f":"'3a'!D41","v":"lehrer39"},{"$f":"'3a'!E41","v":0},{"$f":"'3a'!F41","v":0},{"$f":"'3a'!G41","v":0},{"$f":"'3a'!H41","v":0},{"$f":"'3a'!I41","v":0},{"$f":"'3a'!J41","v":0},{"$f":"'3a'!K41","v":0},{"$f":"'3a'!L41","v":0},{"$f":"'3a'!M41","v":0},{"$f":"'3a'!N41","v":0},{"$f":"'3a'!O41","v":0},{"$f":"'3a'!P41","v":0},{"$f":"'3a'!Q41","v":0},{"$f":"'3a'!R41","v":0},{"$f":"'3a'!S41","v":0},{"$f":"'3a'!T41","v":0},{"$f":"'3a'!U41","v":0},{"$f":"'3a'!V41","v":0},{"$f":"'3a'!W41","v":0},{"$f":"'3a'!X41","v":0},{"$f":"'3a'!Y41","v":0},{"$f":"'3a'!Z41","v":0},{"$f":"'3a'!AA41","v":0},{"$f":"'3a'!AB41","v":0},{"$f":"'3a'!AC41","v":0},{"$f":"'3a'!AD41","v":0},{"$f":"'3a'!AE41","v":0},{"$f":"'3a'!AF41","v":0},{"$f":"'3a'!AG41","v":0},{"$f":"'3a'!AH41","v":0},{"$f":"'3a'!AI41","v":0},{"$f":"'3a'!AJ41","v":0},{"$f":"'3a'!AK41","v":0},{"$f":"'3a'!AL41","v":0},{"$f":"'3a'!AM41","v":0},{"$f":"'3a'!AN41","v":0},{"$f":"'3a'!AO41","v":0},{"$f":"'3a'!AP41","v":0},{"$f":"'3a'!AQ41","v":0},{"$f":"'3a'!AR41","v":0},{"$f":"'3a'!AS41","v":0},{"$f":"'3a'!AT41","v":0},{"$f":"'3a'!AU41","v":0},{"$f":"'3a'!AV41","v":0},{"$f":"'3a'!AW41","v":0},{"$f":"'3a'!AX41","v":0},{"$f":"'3a'!AY41","v":0},{"$f":"'3a'!AZ41","v":0},{"$f":"'3a'!BA41","v":0},{"$f":"'3a'!BB41","v":0},{"$f":"'3a'!BC41","v":0},{"$f":"'3a'!BD41","v":0},{"$f":"'3a'!BE41","v":0}]
[{"$f":"'3a'!A42","v":"3a"},{"$f":"'3a'!B42","v":0},{"$f":"'3a'!C42","v":0},{"$f":"'3a'!D42","v":"lehrer40"},{"$f":"'3a'!E42","v":0},{"$f":"'3a'!F42","v":0},{"$f":"'3a'!G42","v":0},{"$f":"'3a'!H42","v":0},{"$f":"'3a'!I42","v":0},{"$f":"'3a'!J42","v":0},{"$f":"'3a'!K42","v":0},{"$f":"'3a'!L42","v":0},{"$f":"'3a'!M42","v":0},{"$f":"'3a'!N42","v":0},{"$f":"'3a'!O42","v":0},{"$f":"'3a'!P42","v":0},{"$f":"'3a'!Q42","v":0},{"$f":"'3a'!R42","v":0},{"$f":"'3a'!S42","v":0},{"$f":"'3a'!T42","v":0},{"$f":"'3a'!U42","v":0},{"$f":"'3a'!V42","v":0},{"$f":"'3a'!W42","v":0},{"$f":"'3a'!X42","v":0},{"$f":"'3a'!Y42","v":0},{"$f":"'3a'!Z42","v":0},{"$f":"'3a'!AA42","v":0},{"$f":"'3a'!AB42","v":0},{"$f":"'3a'!AC42","v":0},{"$f":"'3a'!AD42","v":0},{"$f":"'3a'!AE42","v":0},{"$f":"'3a'!AF42","v":0},{"$f":"'3a'!AG42","v":0},{"$f":"'3a'!AH42","v":0},{"$f":"'3a'!AI42","v":0},{"$f":"'3a'!AJ42","v":0},{"$f":"'3a'!AK42","v":0},{"$f":"'3a'!AL42","v":0},{"$f":"'3a'!AM42","v":0},{"$f":"'3a'!AN42","v":0},{"$f":"'3a'!AO42","v":0},{"$f":"'3a'!AP42","v":0},{"$f":"'3a'!AQ42","v":0},{"$f":"'3a'!AR42","v":0},{"$f":"'3a'!AS42","v":0},{"$f":"'3a'!AT42","v":0},{"$f":"'3a'!AU42","v":0},{"$f":"'3a'!AV42","v":0},{"$f":"'3a'!AW42","v":0},{"$f":"'3a'!AX42","v":0},{"$f":"'3a'!AY42","v":0},{"$f":"'3a'!AZ42","v":0},{"$f":"'3a'!BA42","v":0},{"$f":"'3a'!BB42","v":0},{"$f":"'3a'!BC42","v":0},{"$f":"'3a'!BD42","v":0},{"$f":"'3a'!BE42","v":0}]
[{"$f":"'3a'!A43","v":"3a"},{"$f":"'3a'!B43","v":0},{"$f":"'3a'!C43","v":0},{"$f":"'3a'!D43","v":"lehrer41"},{"$f":"'3a'!E43","v":0},{"$f":"'3a'!F43","v":0},{"$f":"'3a'!G43","v":0},{"$f":"'3a'!H43","v":0},{"$f":"'3a'!I43","v":0},{"$f":"'3a'!J43","v":0},{"$f":"'3a'!K43","v":0},{"$f":"'3a'!L43","v":0},{"$f":"'3a'!M43","v":0},{"$f":"'3a'!N43","v":0},{"$f":"'3a'!O43","v":0},{"$f":"'3a'!P43","v":0},{"$f":"'3a'!Q43","v":0},{"$f":"'3a'!R43","v":0},{"$f":"'3a'!S43","v":0},{"$f":"'3a'!T43","v":0},{"$f":"'3a'!U43","v":0},{"$f":"'3a'!V43","v":0},{"$f":"'3a'!W43","v":0},{"$f":"'3a'!X43","v":0},{"$f":"'3a'!Y43","v":0},{"$f":"'3a'!Z43","v":0},{"$f":"'3a'!AA43","v":0},{"$f":"'3a'!AB43","v":0},{"$f":"'3a'!AC43","v":0},{"$f":"'3a'!AD43","v":0},{"$f":"'3a'!AE43","v":0},{"$f":"'3a'!AF43","v":0},{"$f":"'3a'!AG43","v":0},{"$f":"'3a'!AH43","v":0},{"$f":"'3a'!AI43","v":0},{"$f":"'3a'!AJ43","v":0},{"$f":"'3a'!AK43","v":0},{"$f":"'3a'!AL43","v":0},{"$f":"'3a'!AM43","v":0},{"$f":"'3a'!AN43","v":0},{"$f":"'3a'!AO43","v":0},{"$f":"'3a'!AP43","v":0},{"$f":"'3a'!AQ43","v":0},{"$f":"'3a'!AR43","v":0},{"$f":"'3a'!AS43","v":0},{"$f":"'3a'!AT43","v":0},{"$f":"'3a'!AU43","v":0},{"$f":"'3a'!AV43","v":0},{"$f":"'3a'!AW43","v":0},{"$f":"'3a'!AX43","v":0},{"$f":"'3a'!AY43","v":0},{"$f":"'3a'!AZ43","v":0},{"$f":"'3a'!BA43","v":0},{"$f":"'3a'!BB43","v":0},{"$f":"'3a'!BC43","v":0},{"$f":"'3a'!BD43","v":0},{"$f":"'3a'!BE43","v":0}]
[{"$f":"'3a'!A44","v":"3a"},{"$f":"'3a'!B44","v":0},{"$f":"'3a'!C44","v":0},{"$f":"'3a'!D44","v":"lehrer42"},{"$f":"'3a'!E44","v":0},{"$f":"'3a'!F44","v":0},{"$f":"'3a'!G44","v":0},{"$f":"'3a'!H44","v":0},{"$f":"'3a'!I44","v":0},{"$f":"'3a'!J44","v":0},{"$f":"'3a'!K44","v":0},{"$f":"'3a'!L44","v":0},{"$f":"'3a'!M44","v":0},{"$f":"'3a'!N44","v":0},{"$f":"'3a'!O44","v":0},{"$f":"'3a'!P44","v":0},{"$f":"'3a'!Q44","v":0},{"$f":"'3a'!R44","v":0},{"$f":"'3a'!S44","v":0},{"$f":"'3a'!T44","v":0},{"$f":"'3a'!U44","v":0},{"$f":"'3a'!V44","v":0},{"$f":"'3a'!W44","v":0},{"$f":"'3a'!X44","v":0},{"$f":"'3a'!Y44","v":0},{"$f":"'3a'!Z44","v":0},{"$f":"'3a'!AA44","v":0},{"$f":"'3a'!AB44","v":0},{"$f":"'3a'!AC44","v":0},{"$f":"'3a'!AD44","v":0},{"$f":"'3a'!AE44","v":0},{"$f":"'3a'!AF44","v":0},{"$f":"'3a'!AG44","v":0},{"$f":"'3a'!AH44","v":0},{"$f":"'3a'!AI44","v":0},{"$f":"'3a'!AJ44","v":0},{"$f":"'3a'!AK44","v":0},{"$f":"'3a'!AL44","v":0},{"$f":"'3a'!AM44","v":0},{"$f":"'3a'!AN44","v":0},{"$f":"'3a'!AO44","v":0},{"$f":"'3a'!AP44","v":0},{"$f":"'3a'!AQ44","v":0},{"$f":"'3a'!AR44","v":0},{"$f":"'3a'!AS44","v":0},{"$f":"'3a'!AT44","v":0},{"$f":"'3a'!AU44","v":0},{"$f":"'3a'!AV44","v":0},{"$f":"'3a'!AW44","v":0},{"$f":"'3a'!AX44","v":0},{"$f":"'3a'!AY44","v":0},{"$f":"'3a'!AZ44","v":0},{"$f":"'3a'!BA44","v":0},{"$f":"'3a'!BB44","v":0},{"$f":"'3a'!BC44","v":0},{"$f":"'3a'!BD44","v":0},{"$f":"'3a'!BE44","v":0}]
[{"$f":"'3a'!A45","v":"3a"},{"$f":"'3a'!B45","v":0},{"$f":"'3a'!C45","v":0},{"$f":"'3a'!D45","v":"lehrer43"},{"$f":"'3a'!E45","v":0},{"$f":"'3a'!F45","v":0},{"$f":"'3a'!G45","v":0},{"$f":"'3a'!H45","v":0},{"$f":"'3a'!I45","v":0},{"$f":"'3a'!J45","v":0},{"$f":"'3a'!K45","v":0},{"$f":"'3a'!L45","v":0},{"$f":"'3a'!M45","v":0},{"$f":"'3a'!N45","v":0},{"$f":"'3a'!O45","v":0},{"$f":"'3a'!P45","v":0},{"$f":"'3a'!Q45","v":0},{"$f":"'3a'!R45","v":0},{"$f":"'3a'!S45","v":0},{"$f":"'3a'!T45","v":0},{"$f":"'3a'!U45","v":0},{"$f":"'3a'!V45","v":0},{"$f":"'3a'!W45","v":0},{"$f":"'3a'!X45","v":0},{"$f":"'3a'!Y45","v":0},{"$f":"'3a'!Z45","v":0},{"$f":"'3a'!AA45","v":0},{"$f":"'3a'!AB45","v":0},{"$f":"'3a'!AC45","v":0},{"$f":"'3a'!AD45","v":0},{"$f":"'3a'!AE45","v":0},{"$f":"'3a'!AF45","v":0},{"$f":"'3a'!AG45","v":0},{"$f":"'3a'!AH45","v":0},{"$f":"'3a'!AI45","v":0},{"$f":"'3a'!AJ45","v":0},{"$f":"'3a'!AK45","v":0},{"$f":"'3a'!AL45","v":0},{"$f":"'3a'!AM45","v":0},{"$f":"'3a'!AN45","v":0},{"$f":"'3a'!AO45","v":0},{"$f":"'3a'!AP45","v":0},{"$f":"'3a'!AQ45","v":0},{"$f":"'3a'!AR45","v":0},{"$f":"'3a'!AS45","v":0},{"$f":"'3a'!AT45","v":0},{"$f":"'3a'!AU45","v":0},{"$f":"'3a'!AV45","v":0},{"$f":"'3a'!AW45","v":0},{"$f":"'3a'!AX45","v":0},{"$f":"'3a'!AY45","v":0},{"$f":"'3a'!AZ45","v":0},{"$f":"'3a'!BA45","v":0},{"$f":"'3a'!BB45","v":0},{"$f":"'3a'!BC45","v":0},{"$f":"'3a'!BD45","v":0},{"$f":"'3a'!BE45","v":0}]
[{"$f":"'3a'!A46","v":"3a"},{"$f":"'3a'!B46","v":0},{"$f":"'3a'!C46","v":0},{"$f":"'3a'!D46","v":"lehrer44"},{"$f":"'3a'!E46","v":0},{"$f":"'3a'!F46","v":0},{"$f":"'3a'!G46","v":0},{"$f":"'3a'!H46","v":0},{"$f":"'3a'!I46","v":0},{"$f":"'3a'!J46","v":0},{"$f":"'3a'!K46","v":0},{"$f":"'3a'!L46","v":0},{"$f":"'3a'!M46","v":0},{"$f":"'3a'!N46","v":0},{"$f":"'3a'!O46","v":0},{"$f":"'3a'!P46","v":0},{"$f":"'3a'!Q46","v":0},{"$f":"'3a'!R46","v":0},{"$f":"'3a'!S46","v":0},{"$f":"'3a'!T46","v":0},{"$f":"'3a'!U46","v":0},{"$f":"'3a'!V46","v":0},{"$f":"'3a'!W46","v":0},{"$f":"'3a'!X46","v":0},{"$f":"'3a'!Y46","v":0},{"$f":"'3a'!Z46","v":0},{"$f":"'3a'!AA46","v":0},{"$f":"'3a'!AB46","v":0},{"$f":"'3a'!AC46","v":0},{"$f":"'3a'!AD46","v":0},{"$f":"'3a'!AE46","v":0},{"$f":"'3a'!AF46","v":0},{"$f":"'3a'!AG46","v":0},{"$f":"'3a'!AH46","v":0},{"$f":"'3a'!AI46","v":0},{"$f":"'3a'!AJ46","v":0},{"$f":"'3a'!AK46","v":0},{"$f":"'3a'!AL46","v":0},{"$f":"'3a'!AM46","v":0},{"$f":"'3a'!AN46","v":0},{"$f":"'3a'!AO46","v":0},{"$f":"'3a'!AP46","v":0},{"$f":"'3a'!AQ46","v":0},{"$f":"'3a'!AR46","v":0},{"$f":"'3a'!AS46","v":0},{"$f":"'3a'!AT46","v":0},{"$f":"'3a'!AU46","v":0},{"$f":"'3a'!AV46","v":0},{"$f":"'3a'!AW46","v":0},{"$f":"'3a'!AX46","v":0},{"$f":"'3a'!AY46","v":0},{"$f":"'3a'!AZ46","v":0},{"$f":"'3a'!BA46","v":0},{"$f":"'3a'!BB46","v":0},{"$f":"'3a'!BC46","v":0},{"$f":"'3a'!BD46","v":0},{"$f":"'3a'!BE46","v":0}]
[{"$f":"'3a'!A47","v":"3a"},{"$f":"'3a'!B47","v":0},{"$f":"'3a'!C47","v":0},{"$f":"'3a'!D47","v":"lehrer45"},{"$f":"'3a'!E47","v":0},{"$f":"'3a'!F47","v":0},{"$f":"'3a'!G47","v":0},{"$f":"'3a'!H47","v":0},{"$f":"'3a'!I47","v":0},{"$f":"'3a'!J47","v":0},{"$f":"'3a'!K47","v":0},{"$f":"'3a'!L47","v":0},{"$f":"'3a'!M47","v":0},{"$f":"'3a'!N47","v":0},{"$f":"'3a'!O47","v":0},{"$f":"'3a'!P47","v":0},{"$f":"'3a'!Q47","v":0},{"$f":"'3a'!R47","v":0},{"$f":"'3a'!S47","v":0},{"$f":"'3a'!T47","v":0},{"$f":"'3a'!U47","v":0},{"$f":"'3a'!V47","v":0},{"$f":"'3a'!W47","v":0},{"$f":"'3a'!X47","v":0},{"$f":"'3a'!Y47","v":0},{"$f":"'3a'!Z47","v":0},{"$f":"'3a'!AA47","v":0},{"$f":"'3a'!AB47","v":0},{"$f":"'3a'!AC47","v":0},{"$f":"'3a'!AD47","v":0},{"$f":"'3a'!AE47","v":0},{"$f":"'3a'!AF47","v":0},{"$f":"'3a'!AG47","v":0},{"$f":"'3a'!AH47","v":0},{"$f":"'3a'!AI47","v":0},{"$f":"'3a'!AJ47","v":0},{"$f":"'3a'!AK47","v":0},{"$f":"'3a'!AL47","v":0},{"$f":"'3a'!AM47","v":0},{"$f":"'3a'!AN47","v":0},{"$f":"'3a'!AO47","v":0},{"$f":"'3a'!AP47","v":0},{"$f":"'3a'!AQ47","v":0},{"$f":"'3a'!AR47","v":0},{"$f":"'3a'!AS47","v":0},{"$f":"'3a'!AT47","v":0},{"$f":"'3a'!AU47","v":0},{"$f":"'3a'!AV47","v":0},{"$f":"'3a'!AW47","v":0},{"$f":"'3a'!AX47","v":0},{"$f":"'3a'!AY47","v":0},{"$f":"'3a'!AZ47","v":0},{"$f":"'3a'!BA47","v":0},{"$f":"'3a'!BB47","v":0},{"$f":"'3a'!BC47","v":0},{"$f":"'3a'!BD47","v":0},{"$f":"'3a'!BE47","v":0}]
[{"$f":"'3a'!A48","v":"3a"},{"$f":"'3a'!B48","v":0},{"$f":"'3a'!C48","v":0},{"$f":"'3a'!D48","v":"lehrer46"},{"$f":"'3a'!E48","v":0},{"$f":"'3a'!F48","v":0},{"$f":"'3a'!G48","v":0},{"$f":"'3a'!H48","v":0},{"$f":"'3a'!I48","v":0},{"$f":"'3a'!J48","v":0},{"$f":"'3a'!K48","v":0},{"$f":"'3a'!L48","v":0},{"$f":"'3a'!M48","v":0},{"$f":"'3a'!N48","v":0},{"$f":"'3a'!O48","v":0},{"$f":"'3a'!P48","v":0},{"$f":"'3a'!Q48","v":0},{"$f":"'3a'!R48","v":0},{"$f":"'3a'!S48","v":0},{"$f":"'3a'!T48","v":0},{"$f":"'3a'!U48","v":0},{"$f":"'3a'!V48","v":0},{"$f":"'3a'!W48","v":0},{"$f":"'3a'!X48","v":0},{"$f":"'3a'!Y48","v":0},{"$f":"'3a'!Z48","v":0},{"$f":"'3a'!AA48","v":0},{"$f":"'3a'!AB48","v":0},{"$f":"'3a'!AC48","v":0},{"$f":"'3a'!AD48","v":0},{"$f":"'3a'!AE48","v":0},{"$f":"'3a'!AF48","v":0},{"$f":"'3a'!AG48","v":0},{"$f":"'3a'!AH48","v":0},{"$f":"'3a'!AI48","v":0},{"$f":"'3a'!AJ48","v":0},{"$f":"'3a'!AK48","v":0},{"$f":"'3a'!AL48","v":0},{"$f":"'3a'!AM48","v":0},{"$f":"'3a'!AN48","v":0},{"$f":"'3a'!AO48","v":0},{"$f":"'3a'!AP48","v":0},{"$f":"'3a'!AQ48","v":0},{"$f":"'3a'!AR48","v":0},{"$f":"'3a'!AS48","v":0},{"$f":"'3a'!AT48","v":0},{"$f":"'3a'!AU48","v":0},{"$f":"'3a'!AV48","v":0},{"$f":"'3a'!AW48","v":0},{"$f":"'3a'!AX48","v":0},{"$f":"'3a'!AY48","v":0},{"$f":"'3a'!AZ48","v":0},{"$f":"'3a'!BA48","v":0},{"$f":"'3a'!BB48","v":0},{"$f":"'3a'!BC48","v":0},{"$f":"'3a'!BD48","v":0},{"$f":"'3a'!BE48","v":0}]
[{"$f":"'3a'!A49","v":"3a"},{"$f":"'3a'!B49","v":0},{"$f":"'3a'!C49","v":0},{"$f":"'3a'!D49","v":"lehrer47"},{"$f":"'3a'!E49","v":0},{"$f":"'3a'!F49","v":0},{"$f":"'3a'!G49","v":0},{"$f":"'3a'!H49","v":0},{"$f":"'3a'!I49","v":0},{"$f":"'3a'!J49","v":0},{"$f":"'3a'!K49","v":0},{"$f":"'3a'!L49","v":0},{"$f":"'3a'!M49","v":0},{"$f":"'3a'!N49","v":0},{"$f":"'3a'!O49","v":0},{"$f":"'3a'!P49","v":0},{"$f":"'3a'!Q49","v":0},{"$f":"'3a'!R49","v":0},{"$f":"'3a'!S49","v":0},{"$f":"'3a'!T49","v":0},{"$f":"'3a'!U49","v":0},{"$f":"'3a'!V49","v":0},{"$f":"'3a'!W49","v":0},{"$f":"'3a'!X49","v":0},{"$f":"'3a'!Y49","v":0},{"$f":"'3a'!Z49","v":0},{"$f":"'3a'!AA49","v":0},{"$f":"'3a'!AB49","v":0},{"$f":"'3a'!AC49","v":0},{"$f":"'3a'!AD49","v":0},{"$f":"'3a'!AE49","v":0},{"$f":"'3a'!AF49","v":0},{"$f":"'3a'!AG49","v":0},{"$f":"'3a'!AH49","v":0},{"$f":"'3a'!AI49","v":0},{"$f":"'3a'!AJ49","v":0},{"$f":"'3a'!AK49","v":0},{"$f":"'3a'!AL49","v":0},{"$f":"'3a'!AM49","v":0},{"$f":"'3a'!AN49","v":0},{"$f":"'3a'!AO49","v":0},{"$f":"'3a'!AP49","v":0},{"$f":"'3a'!AQ49","v":0},{"$f":"'3a'!AR49","v":0},{"$f":"'3a'!AS49","v":0},{"$f":"'3a'!AT49","v":0},{"$f":"'3a'!AU49","v":0},{"$f":"'3a'!AV49","v":0},{"$f":"'3a'!AW49","v":0},{"$f":"'3a'!AX49","v":0},{"$f":"'3a'!AY49","v":0},{"$f":"'3a'!AZ49","v":0},{"$f":"'3a'!BA49","v":0},{"$f":"'3a'!BB49","v":0},{"$f":"'3a'!BC49","v":0},{"$f":"'3a'!BD49","v":0},{"$f":"'3a'!BE49","v":0}]
[{"$f":"'3a'!A50","v":"3a"},{"$f":"'3a'!B50","v":0},{"$f":"'3a'!C50","v":0},{"$f":"'3a'!D50","v":"lehrer48"},{"$f":"'3a'!E50","v":0},{"$f":"'3a'!F50","v":0},{"$f":"'3a'!G50","v":0},{"$f":"'3a'!H50","v":0},{"$f":"'3a'!I50","v":0},{"$f":"'3a'!J50","v":0},{"$f":"'3a'!K50","v":0},{"$f":"'3a'!L50","v":0},{"$f":"'3a'!M50","v":0},{"$f":"'3a'!N50","v":0},{"$f":"'3a'!O50","v":0},{"$f":"'3a'!P50","v":0},{"$f":"'3a'!Q50","v":0},{"$f":"'3a'!R50","v":0},{"$f":"'3a'!S50","v":0},{"$f":"'3a'!T50","v":0},{"$f":"'3a'!U50","v":0},{"$f":"'3a'!V50","v":0},{"$f":"'3a'!W50","v":0},{"$f":"'3a'!X50","v":0},{"$f":"'3a'!Y50","v":0},{"$f":"'3a'!Z50","v":0},{"$f":"'3a'!AA50","v":0},{"$f":"'3a'!AB50","v":0},{"$f":"'3a'!AC50","v":0},{"$f":"'3a'!AD50","v":0},{"$f":"'3a'!AE50","v":0},{"$f":"'3a'!AF50","v":0},{"$f":"'3a'!AG50","v":0},{"$f":"'3a'!AH50","v":0},{"$f":"'3a'!AI50","v":0},{"$f":"'3a'!AJ50","v":0},{"$f":"'3a'!AK50","v":0},{"$f":"'3a'!AL50","v":0},{"$f":"'3a'!AM50","v":0},{"$f":"'3a'!AN50","v":0},{"$f":"'3a'!AO50","v":0},{"$f":"'3a'!AP50","v":0},{"$f":"'3a'!AQ50","v":0},{"$f":"'3a'!AR50","v":0},{"$f":"'3a'!AS50","v":0},{"$f":"'3a'!AT50","v":0},{"$f":"'3a'!AU50","v":0},{"$f":"'3a'!AV50","v":0},{"$f":"'3a'!AW50","v":0},{"$f":"'3a'!AX50","v":0},{"$f":"'3a'!AY50","v":0},{"$f":"'3a'!AZ50","v":0},{"$f":"'3a'!BA50","v":0},{"$f":"'3a'!BB50","v":0},{"$f":"'3a'!BC50","v":0},{"$f":"'3a'!BD50","v":0},{"$f":"'3a'!BE50","v":0}]
[{"$f":"Kopplung!A3","v":"Gruppe"},{"$f":"Kopplung!B3","v":0},{"$f":"Kopplung!C3","v":0},{"$f":"Kopplung!D3","v":"lehrer01"},{"$f":"Kopplung!E3","v":0},{"$f":"Kopplung!F3","v":0},{"$f":"Kopplung!G3","v":0},{"$f":"Kopplung!H3","v":0},{"$f":"Kopplung!I3","v":0},{"$f":"Kopplung!J3","v":0},{"$f":"Kopplung!K3","v":0},{"$f":"Kopplung!L3","v":0},{"$f":"Kopplung!M3","v":0},{"$f":"Kopplung!N3","v":0},{"$f":"Kopplung!O3","v":0},{"$f":"Kopplung!P3","v":0},{"$f":"Kopplung!Q3","v":0},{"$f":"Kopplung!R3","v":0},{"$f":"Kopplung!S3","v":0},{"$f":"Kopplung!T3","v":0},{"$f":"Kopplung!U3","v":0},{"$f":"Kopplung!V3","v":0},{"$f":"Kopplung!W3","v":0},{"$f":"Kopplung!X3","v":0},{"$f":"Kopplung!Y3","v":0},{"$f":"Kopplung!Z3","v":0},{"$f":"Kopplung!AA3","v":0},{"$f":"Kopplung!AB3","v":0},{"$f":"Kopplung!AC3","v":0},{"$f":"Kopplung!AD3","v":0},{"$f":"Kopplung!AE3","v":0},{"$f":"Kopplung!AF3","v":0},{"$f":"Kopplung!AG3","v":0},{"$f":"Kopplung!AH3","v":0},{"$f":"Kopplung!AI3","v":0},{"$f":"Kopplung!AJ3","v":0},{"$f":"Kopplung!AK3","v":0},{"$f":"Kopplung!AL3","v":0},{"$f":"Kopplung!AM3","v":0},{"$f":"Kopplung!AN3","v":0},{"$f":"Kopplung!AO3","v":0},{"$f":"Kopplung!AP3","v":0},{"$f":"Kopplung!AQ3","v":0},{"$f":"Kopplung!AR3","v":0},{"$f":"Kopplung!AS3","v":0},{"$f":"Kopplung!AT3","v":0},{"$f":"Kopplung!AU3","v":0},{"$f":"Kopplung!AV3","v":0},{"$f":"Kopplung!AW3","v":0},{"$f":"Kopplung!AX3","v":0},{"$f":"Kopplung!AY3","v":0},{"$f":"Kopplung!AZ3","v":0},{"$f":"Kopplung!BA3","v":0},{"$f":"Kopplung!BB3","v":0},{"$f":"Kopplung!BC3","v":0},{"$f":"Kopplung!BD3","v":0},{"$f":"Kopplung!BE3","v":0}]
[{"$f":"Kopplung!A4","v":"Gruppe"},{"$f":"Kopplung!B4","v":0},{"$f":"Kopplung!C4","v":0},{"$f":"Kopplung!D4","v":"lehrer02"},{"$f":"Kopplung!E4","v":0},{"$f":"Kopplung!F4","v":0},{"$f":"Kopplung!G4","v":0},{"$f":"Kopplung!H4","v":0},{"$f":"Kopplung!I4","v":0},{"$f":"Kopplung!J4","v":0},{"$f":"Kopplung!K4","v":0},{"$f":"Kopplung!L4","v":0},{"$f":"Kopplung!M4","v":0},{"$f":"Kopplung!N4","v":0},{"$f":"Kopplung!O4","v":0},{"$f":"Kopplung!P4","v":0},{"$f":"Kopplung!Q4","v":0},{"$f":"Kopplung!R4","v":0},{"$f":"Kopplung!S4","v":0},{"$f":"Kopplung!T4","v":0},{"$f":"Kopplung!U4","v":0},{"$f":"Kopplung!V4","v":0},{"$f":"Kopplung!W4","v":0},{"$f":"Kopplung!X4","v":0},{"$f":"Kopplung!Y4","v":0},{"$f":"Kopplung!Z4","v":0},{"$f":"Kopplung!AA4","v":0},{"$f":"Kopplung!AB4","v":0},{"$f":"Kopplung!AC4","v":0},{"$f":"Kopplung!AD4","v":0},{"$f":"Kopplung!AE4","v":0},{"$f":"Kopplung!AF4","v":0},{"$f":"Kopplung!AG4","v":0},{"$f":"Kopplung!AH4","v":0},{"$f":"Kopplung!AI4","v":0},{"$f":"Kopplung!AJ4","v":0},{"$f":"Kopplung!AK4","v":0},{"$f":"Kopplung!AL4","v":0},{"$f":"Kopplung!AM4","v":0},{"$f":"Kopplung!AN4","v":0},{"$f":"Kopplung!AO4","v":0},{"$f":"Kopplung!AP4","v":0},{"$f":"Kopplung!AQ4","v":0},{"$f":"Kopplung!AR4","v":0},{"$f":"Kopplung!AS4","v":0},{"$f":"Kopplung!AT4","v":0},{"$f":"Kopplung!AU4","v":0},{"$f":"Kopplung!AV4","v":0},{"$f":"Kopplung!AW4","v":0},{"$f":"Kopplung!AX4","v":0},{"$f":"Kopplung!AY4","v":0},{"$f":"Kopplung!AZ4","v":0},{"$f":"Kopplung!BA4","v":0},{"$f":"Kopplung!BB4","v":0},{"$f":"Kopplung!BC4","v":0},{"$f":"Kopplung!BD4","v":0},{"$f":"Kopplung!BE4","v":0}]
[{"$f":"Kopplung!A5","v":"Gruppe"},{"$f":"Kopplung!B5","v":0},{"$f":"Kopplung!C5","v":0},{"$f":"Kopplung!D5","v":"lehrer03"},{"$f":"Kopplung!E5","v":0},{"$f":"Kopplung!F5","v":0},{"$f":"Kopplung!G5","v":0},{"$f":"Kopplung!H5","v":0},{"$f":"Kopplung!I5","v":0},{"$f":"Kopplung!J5","v":0},{"$f":"Kopplung!K5","v":0},{"$f":"Kopplung!L5","v":0},{"$f":"Kopplung!M5","v":0},{"$f":"Kopplung!N5","v":0},{"$f":"Kopplung!O5","v":0},{"$f":"Kopplung!P5","v":0},{"$f":"Kopplung!Q5","v":0},{"$f":"Kopplung!R5","v":0},{"$f":"Kopplung!S5","v":0},{"$f":"Kopplung!T5","v":0},{"$f":"Kopplung!U5","v":0},{"$f":"Kopplung!V5","v":0},{"$f":"Kopplung!W5","v":0},{"$f":"Kopplung!X5","v":0},{"$f":"Kopplung!Y5","v":0},{"$f":"Kopplung!Z5","v":0},{"$f":"Kopplung!AA5","v":0},{"$f":"Kopplung!AB5","v":0},{"$f":"Kopplung!AC5","v":0},{"$f":"Kopplung!AD5","v":0},{"$f":"Kopplung!AE5","v":0},{"$f":"Kopplung!AF5","v":0},{"$f":"Kopplung!AG5","v":0},{"$f":"Kopplung!AH5","v":0},{"$f":"Kopplung!AI5","v":0},{"$f":"Kopplung!AJ5","v":0},{"$f":"Kopplung!AK5","v":0},{"$f":"Kopplung!AL5","v":0},{"$f":"Kopplung!AM5","v":0},{"$f":"Kopplung!AN5","v":0},{"$f":"Kopplung!AO5","v":0},{"$f":"Kopplung!AP5","v":0},{"$f":"Kopplung!AQ5","v":0},{"$f":"Kopplung!AR5","v":0},{"$f":"Kopplung!AS5","v":0},{"$f":"Kopplung!AT5","v":0},{"$f":"Kopplung!AU5","v":0},{"$f":"Kopplung!AV5","v":0},{"$f":"Kopplung!AW5","v":0},{"$f":"Kopplung!AX5","v":0},{"$f":"Kopplung!AY5","v":0},{"$f":"Kopplung!AZ5","v":0},{"$f":"Kopplung!BA5","v":0},{"$f":"Kopplung!BB5","v":0},{"$f":"Kopplung!BC5","v":0},{"$f":"Kopplung!BD5","v":0},{"$f":"Kopplung!BE5","v":0}]
[{"$f":"Kopplung!A6","v":"Gruppe"},{"$f":"Kopplung!B6","v":0},{"$f":"Kopplung!C6","v":0},{"$f":"Kopplung!D6","v":"lehrer04"},{"$f":"Kopplung!E6","v":0},{"$f":"Kopplung!F6","v":0},{"$f":"Kopplung!G6","v":0},{"$f":"Kopplung!H6","v":0},{"$f":"Kopplung!I6","v":0},{"$f":"Kopplung!J6","v":0},{"$f":"Kopplung!K6","v":0},{"$f":"Kopplung!L6","v":0},{"$f":"Kopplung!M6","v":0},{"$f":"Kopplung!N6","v":0},{"$f":"Kopplung!O6","v":0},{"$f":"Kopplung!P6","v":0},{"$f":"Kopplung!Q6","v":0},{"$f":"Kopplung!R6","v":0},{"$f":"Kopplung!S6","v":0},{"$f":"Kopplung!T6","v":0},{"$f":"Kopplung!U6","v":0},{"$f":"Kopplung!V6","v":0},{"$f":"Kopplung!W6","v":0},{"$f":"Kopplung!X6","v":0},{"$f":"Kopplung!Y6","v":0},{"$f":"Kopplung!Z6","v":0},{"$f":"Kopplung!AA6","v":0},{"$f":"Kopplung!AB6","v":0},{"$f":"Kopplung!AC6","v":0},{"$f":"Kopplung!AD6","v":0},{"$f":"Kopplung!AE6","v":0},{"$f":"Kopplung!AF6","v":0},{"$f":"Kopplung!AG6","v":0},{"$f":"Kopplung!AH6","v":0},{"$f":"Kopplung!AI6","v":0},{"$f":"Kopplung!AJ6","v":0},{"$f":"Kopplung!AK6","v":0},{"$f":"Kopplung!AL6","v":0},{"$f":"Kopplung!AM6","v":0},{"$f":"Kopplung!AN6","v":0},{"$f":"Kopplung!AO6","v":0},{"$f":"Kopplung!AP6","v":0},{"$f":"Kopplung!AQ6","v":0},{"$f":"Kopplung!AR6","v":0},{"$f":"Kopplung!AS6","v":0},{"$f":"Kopplung!AT6","v":0},{"$f":"Kopplung!AU6","v":0},{"$f":"Kopplung!AV6","v":0},{"$f":"Kopplung!AW6","v":0},{"$f":"Kopplung!AX6","v":0},{"$f":"Kopplung!AY6","v":0},{"$f":"Kopplung!AZ6","v":0},{"$f":"Kopplung!BA6","v":0},{"$f":"Kopplung!BB6","v":0},{"$f":"Kopplung!BC6","v":0},{"$f":"Kopplung!BD6","v":0},{"$f":"Kopplung!BE6","v":0}]
[{"$f":"Kopplung!A7","v":"Gruppe"},{"$f":"Kopplung!B7","v":0},{"$f":"Kopplung!C7","v":0},{"$f":"Kopplung!D7","v":"lehrer05"},{"$f":"Kopplung!E7","v":0},{"$f":"Kopplung!F7","v":0},{"$f":"Kopplung!G7","v":0},{"$f":"Kopplung!H7","v":0},{"$f":"Kopplung!I7","v":0},{"$f":"Kopplung!J7","v":0},{"$f":"Kopplung!K7","v":0},{"$f":"Kopplung!L7","v":0},{"$f":"Kopplung!M7","v":0},{"$f":"Kopplung!N7","v":0},{"$f":"Kopplung!O7","v":0},{"$f":"Kopplung!P7","v":0},{"$f":"Kopplung!Q7","v":0},{"$f":"Kopplung!R7","v":0},{"$f":"Kopplung!S7","v":0},{"$f":"Kopplung!T7","v":0},{"$f":"Kopplung!U7","v":0},{"$f":"Kopplung!V7","v":0},{"$f":"Kopplung!W7","v":0},{"$f":"Kopplung!X7","v":0},{"$f":"Kopplung!Y7","v":0},{"$f":"Kopplung!Z7","v":0},{"$f":"Kopplung!AA7","v":0},{"$f":"Kopplung!AB7","v":0},{"$f":"Kopplung!AC7","v":0},{"$f":"Kopplung!AD7","v":0},{"$f":"Kopplung!AE7","v":0},{"$f":"Kopplung!AF7","v":0},{"$f":"Kopplung!AG7","v":0},{"$f":"Kopplung!AH7","v":0},{"$f":"Kopplung!AI7","v":0},{"$f":"Kopplung!AJ7","v":0},{"$f":"Kopplung!AK7","v":0},{"$f":"Kopplung!AL7","v":0},{"$f":"Kopplung!AM7","v":0},{"$f":"Kopplung!AN7","v":0},{"$f":"Kopplung!AO7","v":0},{"$f":"Kopplung!AP7","v":0},{"$f":"Kopplung!AQ7","v":0},{"$f":"Kopplung!AR7","v":0},{"$f":"Kopplung!AS7","v":0},{"$f":"Kopplung!AT7","v":0},{"$f":"Kopplung!AU7","v":0},{"$f":"Kopplung!AV7","v":0},{"$f":"Kopplung!AW7","v":0},{"$f":"Kopplung!AX7","v":0},{"$f":"Kopplung!AY7","v":0},{"$f":"Kopplung!AZ7","v":0},{"$f":"Kopplung!BA7","v":0},{"$f":"Kopplung!BB7","v":0},{"$f":"Kopplung!BC7","v":0},{"$f":"Kopplung!BD7","v":0},{"$f":"Kopplung!BE7","v":0}]
[{"$f":"Kopplung!A8","v":"Gruppe"},{"$f":"Kopplung!B8","v":0},{"$f":"Kopplung!C8","v":0},{"$f":"Kopplung!D8","v":"lehrer06"},{"$f":"Kopplung!E8","v":0},{"$f":"Kopplung!F8","v":0},{"$f":"Kopplung!G8","v":0},{"$f":"Kopplung!H8","v":0},{"$f":"Kopplung!I8","v":0},{"$f":"Kopplung!J8","v":0},{"$f":"Kopplung!K8","v":0},{"$f":"Kopplung!L8","v":0},{"$f":"Kopplung!M8","v":0},{"$f":"Kopplung!N8","v":0},{"$f":"Kopplung!O8","v":0},{"$f":"Kopplung!P8","v":0},{"$f":"Kopplung!Q8","v":0},{"$f":"Kopplung!R8","v":0},{"$f":"Kopplung!S8","v":0},{"$f":"Kopplung!T8","v":0},{"$f":"Kopplung!U8","v":0},{"$f":"Kopplung!V8","v":0},{"$f":"Kopplung!W8","v":0},{"$f":"Kopplung!X8","v":0},{"$f":"Kopplung!Y8","v":0},{"$f":"Kopplung!Z8","v":0},{"$f":"Kopplung!AA8","v":0},{"$f":"Kopplung!AB8","v":0},{"$f":"Kopplung!AC8","v":0},{"$f":"Kopplung!AD8","v":0},{"$f":"Kopplung!AE8","v":0},{"$f":"Kopplung!AF8","v":0},{"$f":"Kopplung!AG8","v":0},{"$f":"Kopplung!AH8","v":0},{"$f":"Kopplung!AI8","v":0},{"$f":"Kopplung!AJ8","v":0},{"$f":"Kopplung!AK8","v":0},{"$f":"Kopplung!AL8","v":0},{"$f":"Kopplung!AM8","v":0},{"$f":"Kopplung!AN8","v":0},{"$f":"Kopplung!AO8","v":0},{"$f":"Kopplung!AP8","v":0},{"$f":"Kopplung!AQ8","v":0},{"$f":"Kopplung!AR8","v":0},{"$f":"Kopplung!AS8","v":0},{"$f":"Kopplung!AT8","v":0},{"$f":"Kopplung!AU8","v":0},{"$f":"Kopplung!AV8","v":0},{"$f":"Kopplung!AW8","v":0},{"$f":"Kopplung!AX8","v":0},{"$f":"Kopplung!AY8","v":0},{"$f":"Kopplung!AZ8","v":0},{"$f":"Kopplung!BA8","v":0},{"$f":"Kopplung!BB8","v":0},{"$f":"Kopplung!BC8","v":0},{"$f":"Kopplung!BD8","v":0},{"$f":"Kopplung!BE8","v":0}]
[{"$f":"Kopplung!A9","v":"Gruppe"},{"$f":"Kopplung!B9","v":0},{"$f":"Kopplung!C9","v":0},{"$f":"Kopplung!D9","v":"lehrer07"},{"$f":"Kopplung!E9","v":0},{"$f":"Kopplung!F9","v":0},{"$f":"Kopplung!G9","v":0},{"$f":"Kopplung!H9","v":0},{"$f":"Kopplung!I9","v":0},{"$f":"Kopplung!J9","v":0},{"$f":"Kopplung!K9","v":0},{"$f":"Kopplung!L9","v":0},{"$f":"Kopplung!M9","v":0},{"$f":"Kopplung!N9","v":0},{"$f":"Kopplung!O9","v":0},{"$f":"Kopplung!P9","v":0},{"$f":"Kopplung!Q9","v":0},{"$f":"Kopplung!R9","v":0},{"$f":"Kopplung!S9","v":0},{"$f":"Kopplung!T9","v":0},{"$f":"Kopplung!U9","v":0},{"$f":"Kopplung!V9","v":0},{"$f":"Kopplung!W9","v":0},{"$f":"Kopplung!X9","v":0},{"$f":"Kopplung!Y9","v":0},{"$f":"Kopplung!Z9","v":0},{"$f":"Kopplung!AA9","v":0},{"$f":"Kopplung!AB9","v":0},{"$f":"Kopplung!AC9","v":0},{"$f":"Kopplung!AD9","v":0},{"$f":"Kopplung!AE9","v":0},{"$f":"Kopplung!AF9","v":0},{"$f":"Kopplung!AG9","v":0},{"$f":"Kopplung!AH9","v":0},{"$f":"Kopplung!AI9","v":0},{"$f":"Kopplung!AJ9","v":0},{"$f":"Kopplung!AK9","v":0},{"$f":"Kopplung!AL9","v":0},{"$f":"Kopplung!AM9","v":0},{"$f":"Kopplung!AN9","v":0},{"$f":"Kopplung!AO9","v":0},{"$f":"Kopplung!AP9","v":0},{"$f":"Kopplung!AQ9","v":0},{"$f":"Kopplung!AR9","v":0},{"$f":"Kopplung!AS9","v":0},{"$f":"Kopplung!AT9","v":0},{"$f":"Kopplung!AU9","v":0},{"$f":"Kopplung!AV9","v":0},{"$f":"Kopplung!AW9","v":0},{"$f":"Kopplung!AX9","v":0},{"$f":"Kopplung!AY9","v":0},{"$f":"Kopplung!AZ9","v":0},{"$f":"Kopplung!BA9","v":0},{"$f":"Kopplung!BB9","v":0},{"$f":"Kopplung!BC9","v":0},{"$f":"Kopplung!BD9","v":0},{"$f":"Kopplung!BE9","v":0}]
[{"$f":"Kopplung!A10","v":"Gruppe"},{"$f":"Kopplung!B10","v":0},{"$f":"Kopplung!C10","v":0},{"$f":"Kopplung!D10","v":"lehrer08"},{"$f":"Kopplung!E10","v":0},{"$f":"Kopplung!F10","v":0},{"$f":"Kopplung!G10","v":0},{"$f":"Kopplung!H10","v":0},{"$f":"Kopplung!I10","v":0},{"$f":"Kopplung!J10","v":0},{"$f":"Kopplung!K10","v":0},{"$f":"Kopplung!L10","v":0},{"$f":"Kopplung!M10","v":0},{"$f":"Kopplung!N10","v":0},{"$f":"Kopplung!O10","v":0},{"$f":"Kopplung!P10","v":0},{"$f":"Kopplung!Q10","v":0},{"$f":"Kopplung!R10","v":0},{"$f":"Kopplung!S10","v":0},{"$f":"Kopplung!T10","v":0},{"$f":"Kopplung!U10","v":0},{"$f":"Kopplung!V10","v":0},{"$f":"Kopplung!W10","v":0},{"$f":"Kopplung!X10","v":0},{"$f":"Kopplung!Y10","v":0},{"$f":"Kopplung!Z10","v":0},{"$f":"Kopplung!AA10","v":0},{"$f":"Kopplung!AB10","v":0},{"$f":"Kopplung!AC10","v":0},{"$f":"Kopplung!AD10","v":0},{"$f":"Kopplung!AE10","v":0},{"$f":"Kopplung!AF10","v":0},{"$f":"Kopplung!AG10","v":0},{"$f":"Kopplung!AH10","v":0},{"$f":"Kopplung!AI10","v":0},{"$f":"Kopplung!AJ10","v":0},{"$f":"Kopplung!AK10","v":0},{"$f":"Kopplung!AL10","v":0},{"$f":"Kopplung!AM10","v":0},{"$f":"Kopplung!AN10","v":0},{"$f":"Kopplung!AO10","v":0},{"$f":"Kopplung!AP10","v":0},{"$f":"Kopplung!AQ10","v":0},{"$f":"Kopplung!AR10","v":0},{"$f":"Kopplung!AS10","v":0},{"$f":"Kopplung!AT10","v":0},{"$f":"Kopplung!AU10","v":0},{"$f":"Kopplung!AV10","v":0},{"$f":"Kopplung!AW10","v":0},{"$f":"Kopplung!AX10","v":0},{"$f":"Kopplung!AY10","v":0},{"$f":"Kopplung!AZ10","v":0},{"$f":"Kopplung!BA10","v":0},{"$f":"Kopplung!BB10","v":0},{"$f":"Kopplung!BC10","v":0},{"$f":"Kopplung!BD10","v":0},{"$f":"Kopplung!BE10","v":0}]
[{"$f":"Kopplung!A11","v":"Gruppe"},{"$f":"Kopplung!B11","v":0},{"$f":"Kopplung!C11","v":0},{"$f":"Kopplung!D11","v":"lehrer09"},{"$f":"Kopplung!E11","v":0},{"$f":"Kopplung!F11","v":0},{"$f":"Kopplung!G11","v":0},{"$f":"Kopplung!H11","v":0},{"$f":"Kopplung!I11","v":0},{"$f":"Kopplung!J11","v":0},{"$f":"Kopplung!K11","v":0},{"$f":"Kopplung!L11","v":0},{"$f":"Kopplung!M11","v":0},{"$f":"Kopplung!N11","v":0},{"$f":"Kopplung!O11","v":0},{"$f":"Kopplung!P11","v":0},{"$f":"Kopplung!Q11","v":0},{"$f":"Kopplung!R11","v":0},{"$f":"Kopplung!S11","v":0},{"$f":"Kopplung!T11","v":0},{"$f":"Kopplung!U11","v":0},{"$f":"Kopplung!V11","v":0},{"$f":"Kopplung!W11","v":0},{"$f":"Kopplung!X11","v":0},{"$f":"Kopplung!Y11","v":0},{"$f":"Kopplung!Z11","v":0},{"$f":"Kopplung!AA11","v":0},{"$f":"Kopplung!AB11","v":0},{"$f":"Kopplung!AC11","v":0},{"$f":"Kopplung!AD11","v":0},{"$f":"Kopplung!AE11","v":0},{"$f":"Kopplung!AF11","v":0},{"$f":"Kopplung!AG11","v":0},{"$f":"Kopplung!AH11","v":0},{"$f":"Kopplung!AI11","v":0},{"$f":"Kopplung!AJ11","v":0},{"$f":"Kopplung!AK11","v":0},{"$f":"Kopplung!AL11","v":0},{"$f":"Kopplung!AM11","v":0},{"$f":"Kopplung!AN11","v":0},{"$f":"Kopplung!AO11","v":0},{"$f":"Kopplung!AP11","v":0},{"$f":"Kopplung!AQ11","v":0},{"$f":"Kopplung!AR11","v":0},{"$f":"Kopplung!AS11","v":0},{"$f":"Kopplung!AT11","v":0},{"$f":"Kopplung!AU11","v":0},{"$f":"Kopplung!AV11","v":0},{"$f":"Kopplung!AW11","v":0},{"$f":"Kopplung!AX11","v":0},{"$f":"Kopplung!AY11","v":0},{"$f":"Kopplung!AZ11","v":0},{"$f":"Kopplung!BA11","v":0},{"$f":"Kopplung!BB11","v":0},{"$f":"Kopplung!BC11","v":0},{"$f":"Kopplung!BD11","v":0},{"$f":"Kopplung!BE11","v":0}]
[{"$f":"Kopplung!A12","v":"Gruppe"},{"$f":"Kopplung!B12","v":0},{"$f":"Kopplung!C12","v":0},{"$f":"Kopplung!D12","v":"lehrer10"},{"$f":"Kopplung!E12","v":0},{"$f":"Kopplung!F12","v":0},{"$f":"Kopplung!G12","v":0},{"$f":"Kopplung!H12","v":0},{"$f":"Kopplung!I12","v":0},{"$f":"Kopplung!J12","v":0},{"$f":"Kopplung!K12","v":0},{"$f":"Kopplung!L12","v":0},{"$f":"Kopplung!M12","v":0},{"$f":"Kopplung!N12","v":0},{"$f":"Kopplung!O12","v":0},{"$f":"Kopplung!P12","v":0},{"$f":"Kopplung!Q12","v":0},{"$f":"Kopplung!R12","v":0},{"$f":"Kopplung!S12","v":0},{"$f":"Kopplung!T12","v":0},{"$f":"Kopplung!U12","v":0},{"$f":"Kopplung!V12","v":0},{"$f":"Kopplung!W12","v":0},{"$f":"Kopplung!X12","v":0},{"$f":"Kopplung!Y12","v":0},{"$f":"Kopplung!Z12","v":0},{"$f":"Kopplung!AA12","v":0},{"$f":"Kopplung!AB12","v":0},{"$f":"Kopplung!AC12","v":0},{"$f":"Kopplung!AD12","v":0},{"$f":"Kopplung!AE12","v":0},{"$f":"Kopplung!AF12","v":0},{"$f":"Kopplung!AG12","v":0},{"$f":"Kopplung!AH12","v":0},{"$f":"Kopplung!AI12","v":0},{"$f":"Kopplung!AJ12","v":0},{"$f":"Kopplung!AK12","v":0},{"$f":"Kopplung!AL12","v":0},{"$f":"Kopplung!AM12","v":0},{"$f":"Kopplung!AN12","v":0},{"$f":"Kopplung!AO12","v":0},{"$f":"Kopplung!AP12","v":0},{"$f":"Kopplung!AQ12","v":0},{"$f":"Kopplung!AR12","v":0},{"$f":"Kopplung!AS12","v":0},{"$f":"Kopplung!AT12","v":0},{"$f":"Kopplung!AU12","v":0},{"$f":"Kopplung!AV12","v":0},{"$f":"Kopplung!AW12","v":0},{"$f":"Kopplung!AX12","v":0},{"$f":"Kopplung!AY12","v":0},{"$f":"Kopplung!AZ12","v":0},{"$f":"Kopplung!BA12","v":0},{"$f":"Kopplung!BB12","v":0},{"$f":"Kopplung!BC12","v":0},{"$f":"Kopplung!BD12","v":0},{"$f":"Kopplung!BE12","v":0}]
[{"$f":"Kopplung!A13","v":"Gruppe"},{"$f":"Kopplung!B13","v":0},{"$f":"Kopplung!C13","v":0},{"$f":"Kopplung!D13","v":"lehrer11"},{"$f":"Kopplung!E13","v":0},{"$f":"Kopplung!F13","v":0},{"$f":"Kopplung!G13","v":0},{"$f":"Kopplung!H13","v":0},{"$f":"Kopplung!I13","v":0},{"$f":"Kopplung!J13","v":0},{"$f":"Kopplung!K13","v":0},{"$f":"Kopplung!L13","v":0},{"$f":"Kopplung!M13","v":0},{"$f":"Kopplung!N13","v":0},{"$f":"Kopplung!O13","v":0},{"$f":"Kopplung!P13","v":0},{"$f":"Kopplung!Q13","v":0},{"$f":"Kopplung!R13","v":0},{"$f":"Kopplung!S13","v":0},{"$f":"Kopplung!T13","v":0},{"$f":"Kopplung!U13","v":0},{"$f":"Kopplung!V13","v":0},{"$f":"Kopplung!W13","v":0},{"$f":"Kopplung!X13","v":0},{"$f":"Kopplung!Y13","v":0},{"$f":"Kopplung!Z13","v":0},{"$f":"Kopplung!AA13","v":0},{"$f":"Kopplung!AB13","v":0},{"$f":"Kopplung!AC13","v":0},{"$f":"Kopplung!AD13","v":0},{"$f":"Kopplung!AE13","v":0},{"$f":"Kopplung!AF13","v":0},{"$f":"Kopplung!AG13","v":0},{"$f":"Kopplung!AH13","v":0},{"$f":"Kopplung!AI13","v":0},{"$f":"Kopplung!AJ13","v":0},{"$f":"Kopplung!AK13","v":0},{"$f":"Kopplung!AL13","v":0},{"$f":"Kopplung!AM13","v":0},{"$f":"Kopplung!AN13","v":0},{"$f":"Kopplung!AO13","v":0},{"$f":"Kopplung!AP13","v":0},{"$f":"Kopplung!AQ13","v":0},{"$f":"Kopplung!AR13","v":0},{"$f":"Kopplung!AS13","v":0},{"$f":"Kopplung!AT13","v":0},{"$f":"Kopplung!AU13","v":0},{"$f":"Kopplung!AV13","v":0},{"$f":"Kopplung!AW13","v":0},{"$f":"Kopplung!AX13","v":0},{"$f":"Kopplung!AY13","v":0},{"$f":"Kopplung!AZ13","v":0},{"$f":"Kopplung!BA13","v":0},{"$f":"Kopplung!BB13","v":0},{"$f":"Kopplung!BC13","v":0},{"$f":"Kopplung!BD13","v":0},{"$f":"Kopplung!BE13","v":0}]
[{"$f":"Kopplung!A14","v":"Gruppe"},{"$f":"Kopplung!B14","v":0},{"$f":"Kopplung!C14","v":0},{"$f":"Kopplung!D14","v":"lehrer12"},{"$f":"Kopplung!E14","v":0},{"$f":"Kopplung!F14","v":0},{"$f":"Kopplung!G14","v":0},{"$f":"Kopplung!H14","v":0},{"$f":"Kopplung!I14","v":0},{"$f":"Kopplung!J14","v":0},{"$f":"Kopplung!K14","v":0},{"$f":"Kopplung!L14","v":0},{"$f":"Kopplung!M14","v":0},{"$f":"Kopplung!N14","v":0},{"$f":"Kopplung!O14","v":0},{"$f":"Kopplung!P14","v":0},{"$f":"Kopplung!Q14","v":0},{"$f":"Kopplung!R14","v":0},{"$f":"Kopplung!S14","v":0},{"$f":"Kopplung!T14","v":0},{"$f":"Kopplung!U14","v":0},{"$f":"Kopplung!V14","v":0},{"$f":"Kopplung!W14","v":0},{"$f":"Kopplung!X14","v":0},{"$f":"Kopplung!Y14","v":0},{"$f":"Kopplung!Z14","v":0},{"$f":"Kopplung!AA14","v":0},{"$f":"Kopplung!AB14","v":0},{"$f":"Kopplung!AC14","v":0},{"$f":"Kopplung!AD14","v":0},{"$f":"Kopplung!AE14","v":0},{"$f":"Kopplung!AF14","v":0},{"$f":"Kopplung!AG14","v":0},{"$f":"Kopplung!AH14","v":0},{"$f":"Kopplung!AI14","v":0},{"$f":"Kopplung!AJ14","v":0},{"$f":"Kopplung!AK14","v":0},{"$f":"Kopplung!AL14","v":0},{"$f":"Kopplung!AM14","v":0},{"$f":"Kopplung!AN14","v":0},{"$f":"Kopplung!AO14","v":0},{"$f":"Kopplung!AP14","v":0},{"$f":"Kopplung!AQ14","v":0},{"$f":"Kopplung!AR14","v":0},{"$f":"Kopplung!AS14","v":0},{"$f":"Kopplung!AT14","v":0},{"$f":"Kopplung!AU14","v":0},{"$f":"Kopplung!AV14","v":0},{"$f":"Kopplung!AW14","v":0},{"$f":"Kopplung!AX14","v":0},{"$f":"Kopplung!AY14","v":0},{"$f":"Kopplung!AZ14","v":0},{"$f":"Kopplung!BA14","v":0},{"$f":"Kopplung!BB14","v":0},{"$f":"Kopplung!BC14","v":0},{"$f":"Kopplung!BD14","v":0},{"$f":"Kopplung!BE14","v":0}]
[{"$f":"Kopplung!A15","v":"Gruppe"},{"$f":"Kopplung!B15","v":0},{"$f":"Kopplung!C15","v":0},{"$f":"Kopplung!D15","v":"lehrer13"},{"$f":"Kopplung!E15","v":0},{"$f":"Kopplung!F15","v":0},{"$f":"Kopplung!G15","v":0},{"$f":"Kopplung!H15","v":0},{"$f":"Kopplung!I15","v":0},{"$f":"Kopplung!J15","v":0},{"$f":"Kopplung!K15","v":0},{"$f":"Kopplung!L15","v":0},{"$f":"Kopplung!M15","v":0},{"$f":"Kopplung!N15","v":0},{"$f":"Kopplung!O15","v":0},{"$f":"Kopplung!P15","v":0},{"$f":"Kopplung!Q15","v":0},{"$f":"Kopplung!R15","v":0},{"$f":"Kopplung!S15","v":0},{"$f":"Kopplung!T15","v":0},{"$f":"Kopplung!U15","v":0},{"$f":"Kopplung!V15","v":0},{"$f":"Kopplung!W15","v":0},{"$f":"Kopplung!X15","v":0},{"$f":"Kopplung!Y15","v":0},{"$f":"Kopplung!Z15","v":0},{"$f":"Kopplung!AA15","v":0},{"$f":"Kopplung!AB15","v":0},{"$f":"Kopplung!AC15","v":0},{"$f":"Kopplung!AD15","v":0},{"$f":"Kopplung!AE15","v":0},{"$f":"Kopplung!AF15","v":0},{"$f":"Kopplung!AG15","v":0},{"$f":"Kopplung!AH15","v":0},{"$f":"Kopplung!AI15","v":0},{"$f":"Kopplung!AJ15","v":0},{"$f":"Kopplung!AK15","v":0},{"$f":"Kopplung!AL15","v":0},{"$f":"Kopplung!AM15","v":0},{"$f":"Kopplung!AN15","v":0},{"$f":"Kopplung!AO15","v":0},{"$f":"Kopplung!AP15","v":0},{"$f":"Kopplung!AQ15","v":0},{"$f":"Kopplung!AR15","v":0},{"$f":"Kopplung!AS15","v":0},{"$f":"Kopplung!AT15","v":0},{"$f":"Kopplung!AU15","v":0},{"$f":"Kopplung!AV15","v":0},{"$f":"Kopplung!AW15","v":0},{"$f":"Kopplung!AX15","v":0},{"$f":"Kopplung!AY15","v":0},{"$f":"Kopplung!AZ15","v":0},{"$f":"Kopplung!BA15","v":0},{"$f":"Kopplung!BB15","v":0},{"$f":"Kopplung!BC15","v":0},{"$f":"Kopplung!BD15","v":0},{"$f":"Kopplung!BE15","v":0}]
[{"$f":"Kopplung!A16","v":"Gruppe"},{"$f":"Kopplung!B16","v":0},{"$f":"Kopplung!C16","v":0},{"$f":"Kopplung!D16","v":"lehrer14"},{"$f":"Kopplung!E16","v":0},{"$f":"Kopplung!F16","v":0},{"$f":"Kopplung!G16","v":0},{"$f":"Kopplung!H16","v":0},{"$f":"Kopplung!I16","v":0},{"$f":"Kopplung!J16","v":0},{"$f":"Kopplung!K16","v":0},{"$f":"Kopplung!L16","v":0},{"$f":"Kopplung!M16","v":0},{"$f":"Kopplung!N16","v":0},{"$f":"Kopplung!O16","v":0},{"$f":"Kopplung!P16","v":0},{"$f":"Kopplung!Q16","v":0},{"$f":"Kopplung!R16","v":0},{"$f":"Kopplung!S16","v":0},{"$f":"Kopplung!T16","v":0},{"$f":"Kopplung!U16","v":0},{"$f":"Kopplung!V16","v":0},{"$f":"Kopplung!W16","v":0},{"$f":"Kopplung!X16","v":0},{"$f":"Kopplung!Y16","v":0},{"$f":"Kopplung!Z16","v":0},{"$f":"Kopplung!AA16","v":0},{"$f":"Kopplung!AB16","v":0},{"$f":"Kopplung!AC16","v":0},{"$f":"Kopplung!AD16","v":0},{"$f":"Kopplung!AE16","v":0},{"$f":"Kopplung!AF16","v":0},{"$f":"Kopplung!AG16","v":0},{"$f":"Kopplung!AH16","v":0},{"$f":"Kopplung!AI16","v":0},{"$f":"Kopplung!AJ16","v":0},{"$f":"Kopplung!AK16","v":0},{"$f":"Kopplung!AL16","v":0},{"$f":"Kopplung!AM16","v":0},{"$f":"Kopplung!AN16","v":0},{"$f":"Kopplung!AO16","v":0},{"$f":"Kopplung!AP16","v":0},{"$f":"Kopplung!AQ16","v":0},{"$f":"Kopplung!AR16","v":0},{"$f":"Kopplung!AS16","v":0},{"$f":"Kopplung!AT16","v":0},{"$f":"Kopplung!AU16","v":0},{"$f":"Kopplung!AV16","v":0},{"$f":"Kopplung!AW16","v":0},{"$f":"Kopplung!AX16","v":0},{"$f":"Kopplung!AY16","v":0},{"$f":"Kopplung!AZ16","v":0},{"$f":"Kopplung!BA16","v":0},{"$f":"Kopplung!BB16","v":0},{"$f":"Kopplung!BC16","v":0},{"$f":"Kopplung!BD16","v":0},{"$f":"Kopplung!BE16","v":0}]
[{"$f":"Kopplung!A17","v":"Gruppe"},{"$f":"Kopplung!B17","v":0},{"$f":"Kopplung!C17","v":0},{"$f":"Kopplung!D17","v":"lehrer15"},{"$f":"Kopplung!E17","v":0},{"$f":"Kopplung!F17","v":0},{"$f":"Kopplung!G17","v":0},{"$f":"Kopplung!H17","v":0},{"$f":"Kopplung!I17","v":0},{"$f":"Kopplung!J17","v":0},{"$f":"Kopplung!K17","v":0},{"$f":"Kopplung!L17","v":0},{"$f":"Kopplung!M17","v":0},{"$f":"Kopplung!N17","v":0},{"$f":"Kopplung!O17","v":0},{"$f":"Kopplung!P17","v":0},{"$f":"Kopplung!Q17","v":0},{"$f":"Kopplung!R17","v":0},{"$f":"Kopplung!S17","v":0},{"$f":"Kopplung!T17","v":0},{"$f":"Kopplung!U17","v":0},{"$f":"Kopplung!V17","v":0},{"$f":"Kopplung!W17","v":0},{"$f":"Kopplung!X17","v":0},{"$f":"Kopplung!Y17","v":0},{"$f":"Kopplung!Z17","v":0},{"$f":"Kopplung!AA17","v":0},{"$f":"Kopplung!AB17","v":0},{"$f":"Kopplung!AC17","v":0},{"$f":"Kopplung!AD17","v":0},{"$f":"Kopplung!AE17","v":0},{"$f":"Kopplung!AF17","v":0},{"$f":"Kopplung!AG17","v":0},{"$f":"Kopplung!AH17","v":0},{"$f":"Kopplung!AI17","v":0},{"$f":"Kopplung!AJ17","v":0},{"$f":"Kopplung!AK17","v":0},{"$f":"Kopplung!AL17","v":0},{"$f":"Kopplung!AM17","v":0},{"$f":"Kopplung!AN17","v":0},{"$f":"Kopplung!AO17","v":0},{"$f":"Kopplung!AP17","v":0},{"$f":"Kopplung!AQ17","v":0},{"$f":"Kopplung!AR17","v":0},{"$f":"Kopplung!AS17","v":0},{"$f":"Kopplung!AT17","v":0},{"$f":"Kopplung!AU17","v":0},{"$f":"Kopplung!AV17","v":0},{"$f":"Kopplung!AW17","v":0},{"$f":"Kopplung!AX17","v":0},{"$f":"Kopplung!AY17","v":0},{"$f":"Kopplung!AZ17","v":0},{"$f":"Kopplung!BA17","v":0},{"$f":"Kopplung!BB17","v":0},{"$f":"Kopplung!BC17","v":0},{"$f":"Kopplung!BD17","v":0},{"$f":"Kopplung!BE17","v":0}]
[{"$f":"Kopplung!A18","v":"Gruppe"},{"$f":"Kopplung!B18","v":0},{"$f":"Kopplung!C18","v":0},{"$f":"Kopplung!D18","v":"lehrer16"},{"$f":"Kopplung!E18","v":0},{"$f":"Kopplung!F18","v":0},{"$f":"Kopplung!G18","v":0},{"$f":"Kopplung!H18","v":0},{"$f":"Kopplung!I18","v":0},{"$f":"Kopplung!J18","v":0},{"$f":"Kopplung!K18","v":0},{"$f":"Kopplung!L18","v":0},{"$f":"Kopplung!M18","v":0},{"$f":"Kopplung!N18","v":0},{"$f":"Kopplung!O18","v":0},{"$f":"Kopplung!P18","v":0},{"$f":"Kopplung!Q18","v":0},{"$f":"Kopplung!R18","v":0},{"$f":"Kopplung!S18","v":0},{"$f":"Kopplung!T18","v":0},{"$f":"Kopplung!U18","v":0},{"$f":"Kopplung!V18","v":0},{"$f":"Kopplung!W18","v":0},{"$f":"Kopplung!X18","v":0},{"$f":"Kopplung!Y18","v":0},{"$f":"Kopplung!Z18","v":0},{"$f":"Kopplung!AA18","v":0},{"$f":"Kopplung!AB18","v":0},{"$f":"Kopplung!AC18","v":0},{"$f":"Kopplung!AD18","v":0},{"$f":"Kopplung!AE18","v":0},{"$f":"Kopplung!AF18","v":0},{"$f":"Kopplung!AG18","v":0},{"$f":"Kopplung!AH18","v":0},{"$f":"Kopplung!AI18","v":0},{"$f":"Kopplung!AJ18","v":0},{"$f":"Kopplung!AK18","v":0},{"$f":"Kopplung!AL18","v":0},{"$f":"Kopplung!AM18","v":0},{"$f":"Kopplung!AN18","v":0},{"$f":"Kopplung!AO18","v":0},{"$f":"Kopplung!AP18","v":0},{"$f":"Kopplung!AQ18","v":0},{"$f":"Kopplung!AR18","v":0},{"$f":"Kopplung!AS18","v":0},{"$f":"Kopplung!AT18","v":0},{"$f":"Kopplung!AU18","v":0},{"$f":"Kopplung!AV18","v":0},{"$f":"Kopplung!AW18","v":0},{"$f":"Kopplung!AX18","v":0},{"$f":"Kopplung!AY18","v":0},{"$f":"Kopplung!AZ18","v":0},{"$f":"Kopplung!BA18","v":0},{"$f":"Kopplung!BB18","v":0},{"$f":"Kopplung!BC18","v":0},{"$f":"Kopplung!BD18","v":0},{"$f":"Kopplung!BE18","v":0}]
[{"$f":"Kopplung!A19","v":"Gruppe"},{"$f":"Kopplung!B19","v":0},{"$f":"Kopplung!C19","v":0},{"$f":"Kopplung!D19","v":"lehrer17"},{"$f":"Kopplung!E19","v":0},{"$f":"Kopplung!F19","v":0},{"$f":"Kopplung!G19","v":0},{"$f":"Kopplung!H19","v":0},{"$f":"Kopplung!I19","v":0},{"$f":"Kopplung!J19","v":0},{"$f":"Kopplung!K19","v":0},{"$f":"Kopplung!L19","v":0},{"$f":"Kopplung!M19","v":0},{"$f":"Kopplung!N19","v":0},{"$f":"Kopplung!O19","v":0},{"$f":"Kopplung!P19","v":0},{"$f":"Kopplung!Q19","v":0},{"$f":"Kopplung!R19","v":0},{"$f":"Kopplung!S19","v":0},{"$f":"Kopplung!T19","v":0},{"$f":"Kopplung!U19","v":0},{"$f":"Kopplung!V19","v":0},{"$f":"Kopplung!W19","v":0},{"$f":"Kopplung!X19","v":0},{"$f":"Kopplung!Y19","v":0},{"$f":"Kopplung!Z19","v":0},{"$f":"Kopplung!AA19","v":0},{"$f":"Kopplung!AB19","v":0},{"$f":"Kopplung!AC19","v":0},{"$f":"Kopplung!AD19","v":0},{"$f":"Kopplung!AE19","v":0},{"$f":"Kopplung!AF19","v":0},{"$f":"Kopplung!AG19","v":0},{"$f":"Kopplung!AH19","v":0},{"$f":"Kopplung!AI19","v":0},{"$f":"Kopplung!AJ19","v":0},{"$f":"Kopplung!AK19","v":0},{"$f":"Kopplung!AL19","v":0},{"$f":"Kopplung!AM19","v":0},{"$f":"Kopplung!AN19","v":0},{"$f":"Kopplung!AO19","v":0},{"$f":"Kopplung!AP19","v":0},{"$f":"Kopplung!AQ19","v":0},{"$f":"Kopplung!AR19","v":0},{"$f":"Kopplung!AS19","v":0},{"$f":"Kopplung!AT19","v":0},{"$f":"Kopplung!AU19","v":0},{"$f":"Kopplung!AV19","v":0},{"$f":"Kopplung!AW19","v":0},{"$f":"Kopplung!AX19","v":0},{"$f":"Kopplung!AY19","v":0},{"$f":"Kopplung!AZ19","v":0},{"$f":"Kopplung!BA19","v":0},{"$f":"Kopplung!BB19","v":0},{"$f":"Kopplung!BC19","v":0},{"$f":"Kopplung!BD19","v":0},{"$f":"Kopplung!BE19","v":0}]
[{"$f":"Kopplung!A20","v":"Gruppe"},{"$f":"Kopplung!B20","v":0},{"$f":"Kopplung!C20","v":0},{"$f":"Kopplung!D20","v":"lehrer18"},{"$f":"Kopplung!E20","v":0},{"$f":"Kopplung!F20","v":0},{"$f":"Kopplung!G20","v":0},{"$f":"Kopplung!H20","v":0},{"$f":"Kopplung!I20","v":0},{"$f":"Kopplung!J20","v":0},{"$f":"Kopplung!K20","v":0},{"$f":"Kopplung!L20","v":0},{"$f":"Kopplung!M20","v":0},{"$f":"Kopplung!N20","v":0},{"$f":"Kopplung!O20","v":0},{"$f":"Kopplung!P20","v":0},{"$f":"Kopplung!Q20","v":0},{"$f":"Kopplung!R20","v":0},{"$f":"Kopplung!S20","v":0},{"$f":"Kopplung!T20","v":0},{"$f":"Kopplung!U20","v":0},{"$f":"Kopplung!V20","v":0},{"$f":"Kopplung!W20","v":0},{"$f":"Kopplung!X20","v":0},{"$f":"Kopplung!Y20","v":0},{"$f":"Kopplung!Z20","v":0},{"$f":"Kopplung!AA20","v":0},{"$f":"Kopplung!AB20","v":0},{"$f":"Kopplung!AC20","v":0},{"$f":"Kopplung!AD20","v":0},{"$f":"Kopplung!AE20","v":0},{"$f":"Kopplung!AF20","v":0},{"$f":"Kopplung!AG20","v":0},{"$f":"Kopplung!AH20","v":0},{"$f":"Kopplung!AI20","v":0},{"$f":"Kopplung!AJ20","v":0},{"$f":"Kopplung!AK20","v":0},{"$f":"Kopplung!AL20","v":0},{"$f":"Kopplung!AM20","v":0},{"$f":"Kopplung!AN20","v":0},{"$f":"Kopplung!AO20","v":0},{"$f":"Kopplung!AP20","v":0},{"$f":"Kopplung!AQ20","v":0},{"$f":"Kopplung!AR20","v":0},{"$f":"Kopplung!AS20","v":0},{"$f":"Kopplung!AT20","v":0},{"$f":"Kopplung!AU20","v":0},{"$f":"Kopplung!AV20","v":0},{"$f":"Kopplung!AW20","v":0},{"$f":"Kopplung!AX20","v":0},{"$f":"Kopplung!AY20","v":0},{"$f":"Kopplung!AZ20","v":0},{"$f":"Kopplung!BA20","v":0},{"$f":"Kopplung!BB20","v":0},{"$f":"Kopplung!BC20","v":0},{"$f":"Kopplung!BD20","v":0},{"$f":"Kopplung!BE20","v":0}]
[{"$f":"Kopplung!A21","v":"Gruppe"},{"$f":"Kopplung!B21","v":0},{"$f":"Kopplung!C21","v":0},{"$f":"Kopplung!D21","v":"lehrer19"},{"$f":"Kopplung!E21","v":0},{"$f":"Kopplung!F21","v":0},{"$f":"Kopplung!G21","v":0},{"$f":"Kopplung!H21","v":0},{"$f":"Kopplung!I21","v":0},{"$f":"Kopplung!J21","v":0},{"$f":"Kopplung!K21","v":0},{"$f":"Kopplung!L21","v":0},{"$f":"Kopplung!M21","v":0},{"$f":"Kopplung!N21","v":0},{"$f":"Kopplung!O21","v":0},{"$f":"Kopplung!P21","v":0},{"$f":"Kopplung!Q21","v":0},{"$f":"Kopplung!R21","v":0},{"$f":"Kopplung!S21","v":0},{"$f":"Kopplung!T21","v":0},{"$f":"Kopplung!U21","v":0},{"$f":"Kopplung!V21","v":0},{"$f":"Kopplung!W21","v":0},{"$f":"Kopplung!X21","v":0},{"$f":"Kopplung!Y21","v":0},{"$f":"Kopplung!Z21","v":0},{"$f":"Kopplung!AA21","v":0},{"$f":"Kopplung!AB21","v":0},{"$f":"Kopplung!AC21","v":0},{"$f":"Kopplung!AD21","v":0},{"$f":"Kopplung!AE21","v":0},{"$f":"Kopplung!AF21","v":0},{"$f":"Kopplung!AG21","v":0},{"$f":"Kopplung!AH21","v":0},{"$f":"Kopplung!AI21","v":0},{"$f":"Kopplung!AJ21","v":0},{"$f":"Kopplung!AK21","v":0},{"$f":"Kopplung!AL21","v":0},{"$f":"Kopplung!AM21","v":0},{"$f":"Kopplung!AN21","v":0},{"$f":"Kopplung!AO21","v":0},{"$f":"Kopplung!AP21","v":0},{"$f":"Kopplung!AQ21","v":0},{"$f":"Kopplung!AR21","v":0},{"$f":"Kopplung!AS21","v":0},{"$f":"Kopplung!AT21","v":0},{"$f":"Kopplung!AU21","v":0},{"$f":"Kopplung!AV21","v":0},{"$f":"Kopplung!AW21","v":0},{"$f":"Kopplung!AX21","v":0},{"$f":"Kopplung!AY21","v":0},{"$f":"Kopplung!AZ21","v":0},{"$f":"Kopplung!BA21","v":0},{"$f":"Kopplung!BB21","v":0},{"$f":"Kopplung!BC21","v":0},{"$f":"Kopplung!BD21","v":0},{"$f":"Kopplung!BE21","v":0}]
[{"$f":"Kopplung!A22","v":"Gruppe"},{"$f":"Kopplung!B22","v":0},{"$f":"Kopplung!C22","v":0},{"$f":"Kopplung!D22","v":"lehrer20"},{"$f":"Kopplung!E22","v":0},{"$f":"Kopplung!F22","v":0},{"$f":"Kopplung!G22","v":0},{"$f":"Kopplung!H22","v":0},{"$f":"Kopplung!I22","v":0},{"$f":"Kopplung!J22","v":0},{"$f":"Kopplung!K22","v":0},{"$f":"Kopplung!L22","v":0},{"$f":"Kopplung!M22","v":0},{"$f":"Kopplung!N22","v":0},{"$f":"Kopplung!O22","v":0},{"$f":"Kopplung!P22","v":0},{"$f":"Kopplung!Q22","v":0},{"$f":"Kopplung!R22","v":0},{"$f":"Kopplung!S22","v":0},{"$f":"Kopplung!T22","v":0},{"$f":"Kopplung!U22","v":0},{"$f":"Kopplung!V22","v":0},{"$f":"Kopplung!W22","v":0},{"$f":"Kopplung!X22","v":0},{"$f":"Kopplung!Y22","v":0},{"$f":"Kopplung!Z22","v":0},{"$f":"Kopplung!AA22","v":0},{"$f":"Kopplung!AB22","v":0},{"$f":"Kopplung!AC22","v":0},{"$f":"Kopplung!AD22","v":0},{"$f":"Kopplung!AE22","v":0},{"$f":"Kopplung!AF22","v":0},{"$f":"Kopplung!AG22","v":0},{"$f":"Kopplung!AH22","v":0},{"$f":"Kopplung!AI22","v":0},{"$f":"Kopplung!AJ22","v":0},{"$f":"Kopplung!AK22","v":0},{"$f":"Kopplung!AL22","v":0},{"$f":"Kopplung!AM22","v":0},{"$f":"Kopplung!AN22","v":0},{"$f":"Kopplung!AO22","v":0},{"$f":"Kopplung!AP22","v":0},{"$f":"Kopplung!AQ22","v":0},{"$f":"Kopplung!AR22","v":0},{"$f":"Kopplung!AS22","v":0},{"$f":"Kopplung!AT22","v":0},{"$f":"Kopplung!AU22","v":0},{"$f":"Kopplung!AV22","v":0},{"$f":"Kopplung!AW22","v":0},{"$f":"Kopplung!AX22","v":0},{"$f":"Kopplung!AY22","v":0},{"$f":"Kopplung!AZ22","v":0},{"$f":"Kopplung!BA22","v":0},{"$f":"Kopplung!BB22","v":0},{"$f":"Kopplung!BC22","v":0},{"$f":"Kopplung!BD22","v":0},{"$f":"Kopplung!BE22","v":0}]
[{"$f":"Kopplung!A23","v":"Gruppe"},{"$f":"Kopplung!B23","v":0},{"$f":"Kopplung!C23","v":0},{"$f":"Kopplung!D23","v":"lehrer21"},{"$f":"Kopplung!E23","v":0},{"$f":"Kopplung!F23","v":0},{"$f":"Kopplung!G23","v":0},{"$f":"Kopplung!H23","v":0},{"$f":"Kopplung!I23","v":0},{"$f":"Kopplung!J23","v":0},{"$f":"Kopplung!K23","v":0},{"$f":"Kopplung!L23","v":0},{"$f":"Kopplung!M23","v":0},{"$f":"Kopplung!N23","v":0},{"$f":"Kopplung!O23","v":0},{"$f":"Kopplung!P23","v":0},{"$f":"Kopplung!Q23","v":0},{"$f":"Kopplung!R23","v":0},{"$f":"Kopplung!S23","v":0},{"$f":"Kopplung!T23","v":0},{"$f":"Kopplung!U23","v":0},{"$f":"Kopplung!V23","v":0},{"$f":"Kopplung!W23","v":0},{"$f":"Kopplung!X23","v":0},{"$f":"Kopplung!Y23","v":0},{"$f":"Kopplung!Z23","v":0},{"$f":"Kopplung!AA23","v":0},{"$f":"Kopplung!AB23","v":0},{"$f":"Kopplung!AC23","v":0},{"$f":"Kopplung!AD23","v":0},{"$f":"Kopplung!AE23","v":0},{"$f":"Kopplung!AF23","v":0},{"$f":"Kopplung!AG23","v":0},{"$f":"Kopplung!AH23","v":0},{"$f":"Kopplung!AI23","v":0},{"$f":"Kopplung!AJ23","v":0},{"$f":"Kopplung!AK23","v":0},{"$f":"Kopplung!AL23","v":0},{"$f":"Kopplung!AM23","v":0},{"$f":"Kopplung!AN23","v":0},{"$f":"Kopplung!AO23","v":0},{"$f":"Kopplung!AP23","v":0},{"$f":"Kopplung!AQ23","v":0},{"$f":"Kopplung!AR23","v":0},{"$f":"Kopplung!AS23","v":0},{"$f":"Kopplung!AT23","v":0},{"$f":"Kopplung!AU23","v":0},{"$f":"Kopplung!AV23","v":0},{"$f":"Kopplung!AW23","v":0},{"$f":"Kopplung!AX23","v":0},{"$f":"Kopplung!AY23","v":0},{"$f":"Kopplung!AZ23","v":0},{"$f":"Kopplung!BA23","v":0},{"$f":"Kopplung!BB23","v":0},{"$f":"Kopplung!BC23","v":0},{"$f":"Kopplung!BD23","v":0},{"$f":"Kopplung!BE23","v":0}]
[{"$f":"Kopplung!A24","v":"Gruppe"},{"$f":"Kopplung!B24","v":0},{"$f":"Kopplung!C24","v":0},{"$f":"Kopplung!D24","v":"lehrer22"},{"$f":"Kopplung!E24","v":0},{"$f":"Kopplung!F24","v":0},{"$f":"Kopplung!G24","v":0},{"$f":"Kopplung!H24","v":0},{"$f":"Kopplung!I24","v":0},{"$f":"Kopplung!J24","v":0},{"$f":"Kopplung!K24","v":0},{"$f":"Kopplung!L24","v":0},{"$f":"Kopplung!M24","v":0},{"$f":"Kopplung!N24","v":0},{"$f":"Kopplung!O24","v":0},{"$f":"Kopplung!P24","v":0},{"$f":"Kopplung!Q24","v":0},{"$f":"Kopplung!R24","v":0},{"$f":"Kopplung!S24","v":0},{"$f":"Kopplung!T24","v":0},{"$f":"Kopplung!U24","v":0},{"$f":"Kopplung!V24","v":0},{"$f":"Kopplung!W24","v":0},{"$f":"Kopplung!X24","v":0},{"$f":"Kopplung!Y24","v":0},{"$f":"Kopplung!Z24","v":0},{"$f":"Kopplung!AA24","v":0},{"$f":"Kopplung!AB24","v":0},{"$f":"Kopplung!AC24","v":0},{"$f":"Kopplung!AD24","v":0},{"$f":"Kopplung!AE24","v":0},{"$f":"Kopplung!AF24","v":0},{"$f":"Kopplung!AG24","v":0},{"$f":"Kopplung!AH24","v":0},{"$f":"Kopplung!AI24","v":0},{"$f":"Kopplung!AJ24","v":0},{"$f":"Kopplung!AK24","v":0},{"$f":"Kopplung!AL24","v":0},{"$f":"Kopplung!AM24","v":0},{"$f":"Kopplung!AN24","v":0},{"$f":"Kopplung!AO24","v":0},{"$f":"Kopplung!AP24","v":0},{"$f":"Kopplung!AQ24","v":0},{"$f":"Kopplung!AR24","v":0},{"$f":"Kopplung!AS24","v":0},{"$f":"Kopplung!AT24","v":0},{"$f":"Kopplung!AU24","v":0},{"$f":"Kopplung!AV24","v":0},{"$f":"Kopplung!AW24","v":0},{"$f":"Kopplung!AX24","v":0},{"$f":"Kopplung!AY24","v":0},{"$f":"Kopplung!AZ24","v":0},{"$f":"Kopplung!BA24","v":0},{"$f":"Kopplung!BB24","v":0},{"$f":"Kopplung!BC24","v":0},{"$f":"Kopplung!BD24","v":0},{"$f":"Kopplung!BE24","v":0}]
[{"$f":"Kopplung!A25","v":"Gruppe"},{"$f":"Kopplung!B25","v":0},{"$f":"Kopplung!C25","v":0},{"$f":"Kopplung!D25","v":"lehrer23"},{"$f":"Kopplung!E25","v":0},{"$f":"Kopplung!F25","v":0},{"$f":"Kopplung!G25","v":0},{"$f":"Kopplung!H25","v":0},{"$f":"Kopplung!I25","v":0},{"$f":"Kopplung!J25","v":0},{"$f":"Kopplung!K25","v":0},{"$f":"Kopplung!L25","v":0},{"$f":"Kopplung!M25","v":0},{"$f":"Kopplung!N25","v":0},{"$f":"Kopplung!O25","v":0},{"$f":"Kopplung!P25","v":0},{"$f":"Kopplung!Q25","v":0},{"$f":"Kopplung!R25","v":0},{"$f":"Kopplung!S25","v":0},{"$f":"Kopplung!T25","v":0},{"$f":"Kopplung!U25","v":0},{"$f":"Kopplung!V25","v":0},{"$f":"Kopplung!W25","v":0},{"$f":"Kopplung!X25","v":0},{"$f":"Kopplung!Y25","v":0},{"$f":"Kopplung!Z25","v":0},{"$f":"Kopplung!AA25","v":0},{"$f":"Kopplung!AB25","v":0},{"$f":"Kopplung!AC25","v":0},{"$f":"Kopplung!AD25","v":0},{"$f":"Kopplung!AE25","v":0},{"$f":"Kopplung!AF25","v":0},{"$f":"Kopplung!AG25","v":0},{"$f":"Kopplung!AH25","v":0},{"$f":"Kopplung!AI25","v":0},{"$f":"Kopplung!AJ25","v":0},{"$f":"Kopplung!AK25","v":0},{"$f":"Kopplung!AL25","v":0},{"$f":"Kopplung!AM25","v":0},{"$f":"Kopplung!AN25","v":0},{"$f":"Kopplung!AO25","v":0},{"$f":"Kopplung!AP25","v":0},{"$f":"Kopplung!AQ25","v":0},{"$f":"Kopplung!AR25","v":0},{"$f":"Kopplung!AS25","v":0},{"$f":"Kopplung!AT25","v":0},{"$f":"Kopplung!AU25","v":0},{"$f":"Kopplung!AV25","v":0},{"$f":"Kopplung!AW25","v":0},{"$f":"Kopplung!AX25","v":0},{"$f":"Kopplung!AY25","v":0},{"$f":"Kopplung!AZ25","v":0},{"$f":"Kopplung!BA25","v":0},{"$f":"Kopplung!BB25","v":0},{"$f":"Kopplung!BC25","v":0},{"$f":"Kopplung!BD25","v":0},{"$f":"Kopplung!BE25","v":0}]
[{"$f":"Kopplung!A26","v":"Gruppe"},{"$f":"Kopplung!B26","v":0},{"$f":"Kopplung!C26","v":0},{"$f":"Kopplung!D26","v":"lehrer24"},{"$f":"Kopplung!E26","v":0},{"$f":"Kopplung!F26","v":0},{"$f":"Kopplung!G26","v":0},{"$f":"Kopplung!H26","v":0},{"$f":"Kopplung!I26","v":0},{"$f":"Kopplung!J26","v":0},{"$f":"Kopplung!K26","v":0},{"$f":"Kopplung!L26","v":0},{"$f":"Kopplung!M26","v":0},{"$f":"Kopplung!N26","v":0},{"$f":"Kopplung!O26","v":0},{"$f":"Kopplung!P26","v":0},{"$f":"Kopplung!Q26","v":0},{"$f":"Kopplung!R26","v":0},{"$f":"Kopplung!S26","v":0},{"$f":"Kopplung!T26","v":0},{"$f":"Kopplung!U26","v":0},{"$f":"Kopplung!V26","v":0},{"$f":"Kopplung!W26","v":0},{"$f":"Kopplung!X26","v":0},{"$f":"Kopplung!Y26","v":0},{"$f":"Kopplung!Z26","v":0},{"$f":"Kopplung!AA26","v":0},{"$f":"Kopplung!AB26","v":0},{"$f":"Kopplung!AC26","v":0},{"$f":"Kopplung!AD26","v":0},{"$f":"Kopplung!AE26","v":0},{"$f":"Kopplung!AF26","v":0},{"$f":"Kopplung!AG26","v":0},{"$f":"Kopplung!AH26","v":0},{"$f":"Kopplung!AI26","v":0},{"$f":"Kopplung!AJ26","v":0},{"$f":"Kopplung!AK26","v":0},{"$f":"Kopplung!AL26","v":0},{"$f":"Kopplung!AM26","v":0},{"$f":"Kopplung!AN26","v":0},{"$f":"Kopplung!AO26","v":0},{"$f":"Kopplung!AP26","v":0},{"$f":"Kopplung!AQ26","v":0},{"$f":"Kopplung!AR26","v":0},{"$f":"Kopplung!AS26","v":0},{"$f":"Kopplung!AT26","v":0},{"$f":"Kopplung!AU26","v":0},{"$f":"Kopplung!AV26","v":0},{"$f":"Kopplung!AW26","v":0},{"$f":"Kopplung!AX26","v":0},{"$f":"Kopplung!AY26","v":0},{"$f":"Kopplung!AZ26","v":0},{"$f":"Kopplung!BA26","v":0},{"$f":"Kopplung!BB26","v":0},{"$f":"Kopplung!BC26","v":0},{"$f":"Kopplung!BD26","v":0},{"$f":"Kopplung!BE26","v":0}]
[{"$f":"Kopplung!A27","v":"Gruppe"},{"$f":"Kopplung!B27","v":0},{"$f":"Kopplung!C27","v":0},{"$f":"Kopplung!D27","v":"lehrer25"},{"$f":"Kopplung!E27","v":0},{"$f":"Kopplung!F27","v":0},{"$f":"Kopplung!G27","v":0},{"$f":"Kopplung!H27","v":0},{"$f":"Kopplung!I27","v":0},{"$f":"Kopplung!J27","v":0},{"$f":"Kopplung!K27","v":0},{"$f":"Kopplung!L27","v":0},{"$f":"Kopplung!M27","v":0},{"$f":"Kopplung!N27","v":0},{"$f":"Kopplung!O27","v":0},{"$f":"Kopplung!P27","v":0},{"$f":"Kopplung!Q27","v":0},{"$f":"Kopplung!R27","v":0},{"$f":"Kopplung!S27","v":0},{"$f":"Kopplung!T27","v":0},{"$f":"Kopplung!U27","v":0},{"$f":"Kopplung!V27","v":0},{"$f":"Kopplung!W27","v":0},{"$f":"Kopplung!X27","v":0},{"$f":"Kopplung!Y27","v":0},{"$f":"Kopplung!Z27","v":0},{"$f":"Kopplung!AA27","v":0},{"$f":"Kopplung!AB27","v":0},{"$f":"Kopplung!AC27","v":0},{"$f":"Kopplung!AD27","v":0},{"$f":"Kopplung!AE27","v":0},{"$f":"Kopplung!AF27","v":0},{"$f":"Kopplung!AG27","v":0},{"$f":"Kopplung!AH27","v":0},{"$f":"Kopplung!AI27","v":0},{"$f":"Kopplung!AJ27","v":0},{"$f":"Kopplung!AK27","v":0},{"$f":"Kopplung!AL27","v":0},{"$f":"Kopplung!AM27","v":0},{"$f":"Kopplung!AN27","v":0},{"$f":"Kopplung!AO27","v":0},{"$f":"Kopplung!AP27","v":0},{"$f":"Kopplung!AQ27","v":0},{"$f":"Kopplung!AR27","v":0},{"$f":"Kopplung!AS27","v":0},{"$f":"Kopplung!AT27","v":0},{"$f":"Kopplung!AU27","v":0},{"$f":"Kopplung!AV27","v":0},{"$f":"Kopplung!AW27","v":0},{"$f":"Kopplung!AX27","v":0},{"$f":"Kopplung!AY27","v":0},{"$f":"Kopplung!AZ27","v":0},{"$f":"Kopplung!BA27","v":0},{"$f":"Kopplung!BB27","v":0},{"$f":"Kopplung!BC27","v":0},{"$f":"Kopplung!BD27","v":0},{"$f":"Kopplung!BE27","v":0}]
[{"$f":"Kopplung!A28","v":"Gruppe"},{"$f":"Kopplung!B28","v":0},{"$f":"Kopplung!C28","v":0},{"$f":"Kopplung!D28","v":"lehrer26"},{"$f":"Kopplung!E28","v":0},{"$f":"Kopplung!F28","v":0},{"$f":"Kopplung!G28","v":0},{"$f":"Kopplung!H28","v":0},{"$f":"Kopplung!I28","v":0},{"$f":"Kopplung!J28","v":0},{"$f":"Kopplung!K28","v":0},{"$f":"Kopplung!L28","v":0},{"$f":"Kopplung!M28","v":0},{"$f":"Kopplung!N28","v":0},{"$f":"Kopplung!O28","v":0},{"$f":"Kopplung!P28","v":0},{"$f":"Kopplung!Q28","v":0},{"$f":"Kopplung!R28","v":0},{"$f":"Kopplung!S28","v":0},{"$f":"Kopplung!T28","v":0},{"$f":"Kopplung!U28","v":0},{"$f":"Kopplung!V28","v":0},{"$f":"Kopplung!W28","v":0},{"$f":"Kopplung!X28","v":0},{"$f":"Kopplung!Y28","v":0},{"$f":"Kopplung!Z28","v":0},{"$f":"Kopplung!AA28","v":0},{"$f":"Kopplung!AB28","v":0},{"$f":"Kopplung!AC28","v":0},{"$f":"Kopplung!AD28","v":0},{"$f":"Kopplung!AE28","v":0},{"$f":"Kopplung!AF28","v":0},{"$f":"Kopplung!AG28","v":0},{"$f":"Kopplung!AH28","v":0},{"$f":"Kopplung!AI28","v":0},{"$f":"Kopplung!AJ28","v":0},{"$f":"Kopplung!AK28","v":0},{"$f":"Kopplung!AL28","v":0},{"$f":"Kopplung!AM28","v":0},{"$f":"Kopplung!AN28","v":0},{"$f":"Kopplung!AO28","v":0},{"$f":"Kopplung!AP28","v":0},{"$f":"Kopplung!AQ28","v":0},{"$f":"Kopplung!AR28","v":0},{"$f":"Kopplung!AS28","v":0},{"$f":"Kopplung!AT28","v":0},{"$f":"Kopplung!AU28","v":0},{"$f":"Kopplung!AV28","v":0},{"$f":"Kopplung!AW28","v":0},{"$f":"Kopplung!AX28","v":0},{"$f":"Kopplung!AY28","v":0},{"$f":"Kopplung!AZ28","v":0},{"$f":"Kopplung!BA28","v":0},{"$f":"Kopplung!BB28","v":0},{"$f":"Kopplung!BC28","v":0},{"$f":"Kopplung!BD28","v":0},{"$f":"Kopplung!BE28","v":0}]
[{"$f":"Kopplung!A29","v":"Gruppe"},{"$f":"Kopplung!B29","v":0},{"$f":"Kopplung!C29","v":0},{"$f":"Kopplung!D29","v":"lehrer27"},{"$f":"Kopplung!E29","v":0},{"$f":"Kopplung!F29","v":0},{"$f":"Kopplung!G29","v":0},{"$f":"Kopplung!H29","v":0},{"$f":"Kopplung!I29","v":0},{"$f":"Kopplung!J29","v":0},{"$f":"Kopplung!K29","v":0},{"$f":"Kopplung!L29","v":0},{"$f":"Kopplung!M29","v":0},{"$f":"Kopplung!N29","v":0},{"$f":"Kopplung!O29","v":0},{"$f":"Kopplung!P29","v":0},{"$f":"Kopplung!Q29","v":0},{"$f":"Kopplung!R29","v":0},{"$f":"Kopplung!S29","v":0},{"$f":"Kopplung!T29","v":0},{"$f":"Kopplung!U29","v":0},{"$f":"Kopplung!V29","v":0},{"$f":"Kopplung!W29","v":0},{"$f":"Kopplung!X29","v":0},{"$f":"Kopplung!Y29","v":0},{"$f":"Kopplung!Z29","v":0},{"$f":"Kopplung!AA29","v":0},{"$f":"Kopplung!AB29","v":0},{"$f":"Kopplung!AC29","v":0},{"$f":"Kopplung!AD29","v":0},{"$f":"Kopplung!AE29","v":0},{"$f":"Kopplung!AF29","v":0},{"$f":"Kopplung!AG29","v":0},{"$f":"Kopplung!AH29","v":0},{"$f":"Kopplung!AI29","v":0},{"$f":"Kopplung!AJ29","v":0},{"$f":"Kopplung!AK29","v":0},{"$f":"Kopplung!AL29","v":0},{"$f":"Kopplung!AM29","v":0},{"$f":"Kopplung!AN29","v":0},{"$f":"Kopplung!AO29","v":0},{"$f":"Kopplung!AP29","v":0},{"$f":"Kopplung!AQ29","v":0},{"$f":"Kopplung!AR29","v":0},{"$f":"Kopplung!AS29","v":0},{"$f":"Kopplung!AT29","v":0},{"$f":"Kopplung!AU29","v":0},{"$f":"Kopplung!AV29","v":0},{"$f":"Kopplung!AW29","v":0},{"$f":"Kopplung!AX29","v":0},{"$f":"Kopplung!AY29","v":0},{"$f":"Kopplung!AZ29","v":0},{"$f":"Kopplung!BA29","v":0},{"$f":"Kopplung!BB29","v":0},{"$f":"Kopplung!BC29","v":0},{"$f":"Kopplung!BD29","v":0},{"$f":"Kopplung!BE29","v":0}]
[{"$f":"Kopplung!A30","v":"Gruppe"},{"$f":"Kopplung!B30","v":0},{"$f":"Kopplung!C30","v":0},{"$f":"Kopplung!D30","v":"lehrer28"},{"$f":"Kopplung!E30","v":0},{"$f":"Kopplung!F30","v":0},{"$f":"Kopplung!G30","v":0},{"$f":"Kopplung!H30","v":0},{"$f":"Kopplung!I30","v":0},{"$f":"Kopplung!J30","v":0},{"$f":"Kopplung!K30","v":0},{"$f":"Kopplung!L30","v":0},{"$f":"Kopplung!M30","v":0},{"$f":"Kopplung!N30","v":0},{"$f":"Kopplung!O30","v":0},{"$f":"Kopplung!P30","v":0},{"$f":"Kopplung!Q30","v":0},{"$f":"Kopplung!R30","v":0},{"$f":"Kopplung!S30","v":0},{"$f":"Kopplung!T30","v":0},{"$f":"Kopplung!U30","v":0},{"$f":"Kopplung!V30","v":0},{"$f":"Kopplung!W30","v":0},{"$f":"Kopplung!X30","v":0},{"$f":"Kopplung!Y30","v":0},{"$f":"Kopplung!Z30","v":0},{"$f":"Kopplung!AA30","v":0},{"$f":"Kopplung!AB30","v":0},{"$f":"Kopplung!AC30","v":0},{"$f":"Kopplung!AD30","v":0},{"$f":"Kopplung!AE30","v":0},{"$f":"Kopplung!AF30","v":0},{"$f":"Kopplung!AG30","v":0},{"$f":"Kopplung!AH30","v":0},{"$f":"Kopplung!AI30","v":0},{"$f":"Kopplung!AJ30","v":0},{"$f":"Kopplung!AK30","v":0},{"$f":"Kopplung!AL30","v":0},{"$f":"Kopplung!AM30","v":0},{"$f":"Kopplung!AN30","v":0},{"$f":"Kopplung!AO30","v":0},{"$f":"Kopplung!AP30","v":0},{"$f":"Kopplung!AQ30","v":0},{"$f":"Kopplung!AR30","v":0},{"$f":"Kopplung!AS30","v":0},{"$f":"Kopplung!AT30","v":0},{"$f":"Kopplung!AU30","v":0},{"$f":"Kopplung!AV30","v":0},{"$f":"Kopplung!AW30","v":0},{"$f":"Kopplung!AX30","v":0},{"$f":"Kopplung!AY30","v":0},{"$f":"Kopplung!AZ30","v":0},{"$f":"Kopplung!BA30","v":0},{"$f":"Kopplung!BB30","v":0},{"$f":"Kopplung!BC30","v":0},{"$f":"Kopplung!BD30","v":0},{"$f":"Kopplung!BE30","v":0}]
[{"$f":"Kopplung!A31","v":"Gruppe"},{"$f":"Kopplung!B31","v":0},{"$f":"Kopplung!C31","v":0},{"$f":"Kopplung!D31","v":"lehrer29"},{"$f":"Kopplung!E31","v":0},{"$f":"Kopplung!F31","v":0},{"$f":"Kopplung!G31","v":0},{"$f":"Kopplung!H31","v":0},{"$f":"Kopplung!I31","v":0},{"$f":"Kopplung!J31","v":0},{"$f":"Kopplung!K31","v":0},{"$f":"Kopplung!L31","v":0},{"$f":"Kopplung!M31","v":0},{"$f":"Kopplung!N31","v":0},{"$f":"Kopplung!O31","v":0},{"$f":"Kopplung!P31","v":0},{"$f":"Kopplung!Q31","v":0},{"$f":"Kopplung!R31","v":0},{"$f":"Kopplung!S31","v":0},{"$f":"Kopplung!T31","v":0},{"$f":"Kopplung!U31","v":0},{"$f":"Kopplung!V31","v":0},{"$f":"Kopplung!W31","v":0},{"$f":"Kopplung!X31","v":0},{"$f":"Kopplung!Y31","v":0},{"$f":"Kopplung!Z31","v":0},{"$f":"Kopplung!AA31","v":0},{"$f":"Kopplung!AB31","v":0},{"$f":"Kopplung!AC31","v":0},{"$f":"Kopplung!AD31","v":0},{"$f":"Kopplung!AE31","v":0},{"$f":"Kopplung!AF31","v":0},{"$f":"Kopplung!AG31","v":0},{"$f":"Kopplung!AH31","v":0},{"$f":"Kopplung!AI31","v":0},{"$f":"Kopplung!AJ31","v":0},{"$f":"Kopplung!AK31","v":0},{"$f":"Kopplung!AL31","v":0},{"$f":"Kopplung!AM31","v":0},{"$f":"Kopplung!AN31","v":0},{"$f":"Kopplung!AO31","v":0},{"$f":"Kopplung!AP31","v":0},{"$f":"Kopplung!AQ31","v":0},{"$f":"Kopplung!AR31","v":0},{"$f":"Kopplung!AS31","v":0},{"$f":"Kopplung!AT31","v":0},{"$f":"Kopplung!AU31","v":0},{"$f":"Kopplung!AV31","v":0},{"$f":"Kopplung!AW31","v":0},{"$f":"Kopplung!AX31","v":0},{"$f":"Kopplung!AY31","v":0},{"$f":"Kopplung!AZ31","v":0},{"$f":"Kopplung!BA31","v":0},{"$f":"Kopplung!BB31","v":0},{"$f":"Kopplung!BC31","v":0},{"$f":"Kopplung!BD31","v":0},{"$f":"Kopplung!BE31","v":0}]
[{"$f":"Kopplung!A32","v":"Gruppe"},{"$f":"Kopplung!B32","v":0},{"$f":"Kopplung!C32","v":0},{"$f":"Kopplung!D32","v":"lehrer30"},{"$f":"Kopplung!E32","v":0},{"$f":"Kopplung!F32","v":0},{"$f":"Kopplung!G32","v":0},{"$f":"Kopplung!H32","v":0},{"$f":"Kopplung!I32","v":0},{"$f":"Kopplung!J32","v":0},{"$f":"Kopplung!K32","v":0},{"$f":"Kopplung!L32","v":0},{"$f":"Kopplung!M32","v":0},{"$f":"Kopplung!N32","v":0},{"$f":"Kopplung!O32","v":0},{"$f":"Kopplung!P32","v":0},{"$f":"Kopplung!Q32","v":0},{"$f":"Kopplung!R32","v":0},{"$f":"Kopplung!S32","v":0},{"$f":"Kopplung!T32","v":0},{"$f":"Kopplung!U32","v":0},{"$f":"Kopplung!V32","v":0},{"$f":"Kopplung!W32","v":0},{"$f":"Kopplung!X32","v":0},{"$f":"Kopplung!Y32","v":0},{"$f":"Kopplung!Z32","v":0},{"$f":"Kopplung!AA32","v":0},{"$f":"Kopplung!AB32","v":0},{"$f":"Kopplung!AC32","v":0},{"$f":"Kopplung!AD32","v":0},{"$f":"Kopplung!AE32","v":0},{"$f":"Kopplung!AF32","v":0},{"$f":"Kopplung!AG32","v":0},{"$f":"Kopplung!AH32","v":0},{"$f":"Kopplung!AI32","v":0},{"$f":"Kopplung!AJ32","v":0},{"$f":"Kopplung!AK32","v":0},{"$f":"Kopplung!AL32","v":0},{"$f":"Kopplung!AM32","v":0},{"$f":"Kopplung!AN32","v":0},{"$f":"Kopplung!AO32","v":0},{"$f":"Kopplung!AP32","v":0},{"$f":"Kopplung!AQ32","v":0},{"$f":"Kopplung!AR32","v":0},{"$f":"Kopplung!AS32","v":0},{"$f":"Kopplung!AT32","v":0},{"$f":"Kopplung!AU32","v":0},{"$f":"Kopplung!AV32","v":0},{"$f":"Kopplung!AW32","v":0},{"$f":"Kopplung!AX32","v":0},{"$f":"Kopplung!AY32","v":0},{"$f":"Kopplung!AZ32","v":0},{"$f":"Kopplung!BA32","v":0},{"$f":"Kopplung!BB32","v":0},{"$f":"Kopplung!BC32","v":0},{"$f":"Kopplung!BD32","v":0},{"$f":"Kopplung!BE32","v":0}]
[{"$f":"Kopplung!A33","v":"Gruppe"},{"$f":"Kopplung!B33","v":0},{"$f":"Kopplung!C33","v":0},{"$f":"Kopplung!D33","v":"lehrer31"},{"$f":"Kopplung!E33","v":0},{"$f":"Kopplung!F33","v":0},{"$f":"Kopplung!G33","v":0},{"$f":"Kopplung!H33","v":0},{"$f":"Kopplung!I33","v":0},{"$f":"Kopplung!J33","v":0},{"$f":"Kopplung!K33","v":0},{"$f":"Kopplung!L33","v":0},{"$f":"Kopplung!M33","v":0},{"$f":"Kopplung!N33","v":0},{"$f":"Kopplung!O33","v":0},{"$f":"Kopplung!P33","v":0},{"$f":"Kopplung!Q33","v":0},{"$f":"Kopplung!R33","v":0},{"$f":"Kopplung!S33","v":0},{"$f":"Kopplung!T33","v":0},{"$f":"Kopplung!U33","v":0},{"$f":"Kopplung!V33","v":0},{"$f":"Kopplung!W33","v":0},{"$f":"Kopplung!X33","v":0},{"$f":"Kopplung!Y33","v":0},{"$f":"Kopplung!Z33","v":0},{"$f":"Kopplung!AA33","v":0},{"$f":"Kopplung!AB33","v":0},{"$f":"Kopplung!AC33","v":0},{"$f":"Kopplung!AD33","v":0},{"$f":"Kopplung!AE33","v":0},{"$f":"Kopplung!AF33","v":0},{"$f":"Kopplung!AG33","v":0},{"$f":"Kopplung!AH33","v":0},{"$f":"Kopplung!AI33","v":0},{"$f":"Kopplung!AJ33","v":0},{"$f":"Kopplung!AK33","v":0},{"$f":"Kopplung!AL33","v":0},{"$f":"Kopplung!AM33","v":0},{"$f":"Kopplung!AN33","v":0},{"$f":"Kopplung!AO33","v":0},{"$f":"Kopplung!AP33","v":0},{"$f":"Kopplung!AQ33","v":0},{"$f":"Kopplung!AR33","v":0},{"$f":"Kopplung!AS33","v":0},{"$f":"Kopplung!AT33","v":0},{"$f":"Kopplung!AU33","v":0},{"$f":"Kopplung!AV33","v":0},{"$f":"Kopplung!AW33","v":0},{"$f":"Kopplung!AX33","v":0},{"$f":"Kopplung!AY33","v":0},{"$f":"Kopplung!AZ33","v":0},{"$f":"Kopplung!BA33","v":0},{"$f":"Kopplung!BB33","v":0},{"$f":"Kopplung!BC33","v":0},{"$f":"Kopplung!BD33","v":0},{"$f":"Kopplung!BE33","v":0}]
[{"$f":"Kopplung!A34","v":"Gruppe"},{"$f":"Kopplung!B34","v":0},{"$f":"Kopplung!C34","v":0},{"$f":"Kopplung!D34","v":"lehrer32"},{"$f":"Kopplung!E34","v":0},{"$f":"Kopplung!F34","v":0},{"$f":"Kopplung!G34","v":0},{"$f":"Kopplung!H34","v":0},{"$f":"Kopplung!I34","v":0},{"$f":"Kopplung!J34","v":0},{"$f":"Kopplung!K34","v":0},{"$f":"Kopplung!L34","v":0},{"$f":"Kopplung!M34","v":0},{"$f":"Kopplung!N34","v":0},{"$f":"Kopplung!O34","v":0},{"$f":"Kopplung!P34","v":0},{"$f":"Kopplung!Q34","v":0},{"$f":"Kopplung!R34","v":0},{"$f":"Kopplung!S34","v":0},{"$f":"Kopplung!T34","v":0},{"$f":"Kopplung!U34","v":0},{"$f":"Kopplung!V34","v":0},{"$f":"Kopplung!W34","v":0},{"$f":"Kopplung!X34","v":0},{"$f":"Kopplung!Y34","v":0},{"$f":"Kopplung!Z34","v":0},{"$f":"Kopplung!AA34","v":0},{"$f":"Kopplung!AB34","v":0},{"$f":"Kopplung!AC34","v":0},{"$f":"Kopplung!AD34","v":0},{"$f":"Kopplung!AE34","v":0},{"$f":"Kopplung!AF34","v":0},{"$f":"Kopplung!AG34","v":0},{"$f":"Kopplung!AH34","v":0},{"$f":"Kopplung!AI34","v":0},{"$f":"Kopplung!AJ34","v":0},{"$f":"Kopplung!AK34","v":0},{"$f":"Kopplung!AL34","v":0},{"$f":"Kopplung!AM34","v":0},{"$f":"Kopplung!AN34","v":0},{"$f":"Kopplung!AO34","v":0},{"$f":"Kopplung!AP34","v":0},{"$f":"Kopplung!AQ34","v":0},{"$f":"Kopplung!AR34","v":0},{"$f":"Kopplung!AS34","v":0},{"$f":"Kopplung!AT34","v":0},{"$f":"Kopplung!AU34","v":0},{"$f":"Kopplung!AV34","v":0},{"$f":"Kopplung!AW34","v":0},{"$f":"Kopplung!AX34","v":0},{"$f":"Kopplung!AY34","v":0},{"$f":"Kopplung!AZ34","v":0},{"$f":"Kopplung!BA34","v":0},{"$f":"Kopplung!BB34","v":0},{"$f":"Kopplung!BC34","v":0},{"$f":"Kopplung!BD34","v":0},{"$f":"Kopplung!BE34","v":0}]
[{"$f":"Kopplung!A35","v":"Gruppe"},{"$f":"Kopplung!B35","v":0},{"$f":"Kopplung!C35","v":0},{"$f":"Kopplung!D35","v":"lehrer33"},{"$f":"Kopplung!E35","v":0},{"$f":"Kopplung!F35","v":0},{"$f":"Kopplung!G35","v":0},{"$f":"Kopplung!H35","v":0},{"$f":"Kopplung!I35","v":0},{"$f":"Kopplung!J35","v":0},{"$f":"Kopplung!K35","v":0},{"$f":"Kopplung!L35","v":0},{"$f":"Kopplung!M35","v":0},{"$f":"Kopplung!N35","v":0},{"$f":"Kopplung!O35","v":0},{"$f":"Kopplung!P35","v":0},{"$f":"Kopplung!Q35","v":0},{"$f":"Kopplung!R35","v":0},{"$f":"Kopplung!S35","v":0},{"$f":"Kopplung!T35","v":0},{"$f":"Kopplung!U35","v":0},{"$f":"Kopplung!V35","v":0},{"$f":"Kopplung!W35","v":0},{"$f":"Kopplung!X35","v":0},{"$f":"Kopplung!Y35","v":0},{"$f":"Kopplung!Z35","v":0},{"$f":"Kopplung!AA35","v":0},{"$f":"Kopplung!AB35","v":0},{"$f":"Kopplung!AC35","v":0},{"$f":"Kopplung!AD35","v":0},{"$f":"Kopplung!AE35","v":0},{"$f":"Kopplung!AF35","v":0},{"$f":"Kopplung!AG35","v":0},{"$f":"Kopplung!AH35","v":0},{"$f":"Kopplung!AI35","v":0},{"$f":"Kopplung!AJ35","v":0},{"$f":"Kopplung!AK35","v":0},{"$f":"Kopplung!AL35","v":0},{"$f":"Kopplung!AM35","v":0},{"$f":"Kopplung!AN35","v":0},{"$f":"Kopplung!AO35","v":0},{"$f":"Kopplung!AP35","v":0},{"$f":"Kopplung!AQ35","v":0},{"$f":"Kopplung!AR35","v":0},{"$f":"Kopplung!AS35","v":0},{"$f":"Kopplung!AT35","v":0},{"$f":"Kopplung!AU35","v":0},{"$f":"Kopplung!AV35","v":0},{"$f":"Kopplung!AW35","v":0},{"$f":"Kopplung!AX35","v":0},{"$f":"Kopplung!AY35","v":0},{"$f":"Kopplung!AZ35","v":0},{"$f":"Kopplung!BA35","v":0},{"$f":"Kopplung!BB35","v":0},{"$f":"Kopplung!BC35","v":0},{"$f":"Kopplung!BD35","v":0},{"$f":"Kopplung!BE35","v":0}]
[{"$f":"Kopplung!A36","v":"Gruppe"},{"$f":"Kopplung!B36","v":0},{"$f":"Kopplung!C36","v":0},{"$f":"Kopplung!D36","v":"lehrer34"},{"$f":"Kopplung!E36","v":0},{"$f":"Kopplung!F36","v":0},{"$f":"Kopplung!G36","v":0},{"$f":"Kopplung!H36","v":0},{"$f":"Kopplung!I36","v":0},{"$f":"Kopplung!J36","v":0},{"$f":"Kopplung!K36","v":0},{"$f":"Kopplung!L36","v":0},{"$f":"Kopplung!M36","v":0},{"$f":"Kopplung!N36","v":0},{"$f":"Kopplung!O36","v":0},{"$f":"Kopplung!P36","v":0},{"$f":"Kopplung!Q36","v":0},{"$f":"Kopplung!R36","v":0},{"$f":"Kopplung!S36","v":0},{"$f":"Kopplung!T36","v":0},{"$f":"Kopplung!U36","v":0},{"$f":"Kopplung!V36","v":0},{"$f":"Kopplung!W36","v":0},{"$f":"Kopplung!X36","v":0},{"$f":"Kopplung!Y36","v":0},{"$f":"Kopplung!Z36","v":0},{"$f":"Kopplung!AA36","v":0},{"$f":"Kopplung!AB36","v":0},{"$f":"Kopplung!AC36","v":0},{"$f":"Kopplung!AD36","v":0},{"$f":"Kopplung!AE36","v":0},{"$f":"Kopplung!AF36","v":0},{"$f":"Kopplung!AG36","v":0},{"$f":"Kopplung!AH36","v":0},{"$f":"Kopplung!AI36","v":0},{"$f":"Kopplung!AJ36","v":0},{"$f":"Kopplung!AK36","v":0},{"$f":"Kopplung!AL36","v":0},{"$f":"Kopplung!AM36","v":0},{"$f":"Kopplung!AN36","v":0},{"$f":"Kopplung!AO36","v":0},{"$f":"Kopplung!AP36","v":0},{"$f":"Kopplung!AQ36","v":0},{"$f":"Kopplung!AR36","v":0},{"$f":"Kopplung!AS36","v":0},{"$f":"Kopplung!AT36","v":0},{"$f":"Kopplung!AU36","v":0},{"$f":"Kopplung!AV36","v":0},{"$f":"Kopplung!AW36","v":0},{"$f":"Kopplung!AX36","v":0},{"$f":"Kopplung!AY36","v":0},{"$f":"Kopplung!AZ36","v":0},{"$f":"Kopplung!BA36","v":0},{"$f":"Kopplung!BB36","v":0},{"$f":"Kopplung!BC36","v":0},{"$f":"Kopplung!BD36","v":0},{"$f":"Kopplung!BE36","v":0}]
[{"$f":"Kopplung!A37","v":"Gruppe"},{"$f":"Kopplung!B37","v":0},{"$f":"Kopplung!C37","v":0},{"$f":"Kopplung!D37","v":"lehrer35"},{"$f":"Kopplung!E37","v":0},{"$f":"Kopplung!F37","v":0},{"$f":"Kopplung!G37","v":0},{"$f":"Kopplung!H37","v":0},{"$f":"Kopplung!I37","v":0},{"$f":"Kopplung!J37","v":0},{"$f":"Kopplung!K37","v":0},{"$f":"Kopplung!L37","v":0},{"$f":"Kopplung!M37","v":0},{"$f":"Kopplung!N37","v":0},{"$f":"Kopplung!O37","v":0},{"$f":"Kopplung!P37","v":0},{"$f":"Kopplung!Q37","v":0},{"$f":"Kopplung!R37","v":0},{"$f":"Kopplung!S37","v":0},{"$f":"Kopplung!T37","v":0},{"$f":"Kopplung!U37","v":0},{"$f":"Kopplung!V37","v":0},{"$f":"Kopplung!W37","v":0},{"$f":"Kopplung!X37","v":0},{"$f":"Kopplung!Y37","v":0},{"$f":"Kopplung!Z37","v":0},{"$f":"Kopplung!AA37","v":0},{"$f":"Kopplung!AB37","v":0},{"$f":"Kopplung!AC37","v":0},{"$f":"Kopplung!AD37","v":0},{"$f":"Kopplung!AE37","v":0},{"$f":"Kopplung!AF37","v":0},{"$f":"Kopplung!AG37","v":0},{"$f":"Kopplung!AH37","v":0},{"$f":"Kopplung!AI37","v":0},{"$f":"Kopplung!AJ37","v":0},{"$f":"Kopplung!AK37","v":0},{"$f":"Kopplung!AL37","v":0},{"$f":"Kopplung!AM37","v":0},{"$f":"Kopplung!AN37","v":0},{"$f":"Kopplung!AO37","v":0},{"$f":"Kopplung!AP37","v":0},{"$f":"Kopplung!AQ37","v":0},{"$f":"Kopplung!AR37","v":0},{"$f":"Kopplung!AS37","v":0},{"$f":"Kopplung!AT37","v":0},{"$f":"Kopplung!AU37","v":0},{"$f":"Kopplung!AV37","v":0},{"$f":"Kopplung!AW37","v":0},{"$f":"Kopplung!AX37","v":0},{"$f":"Kopplung!AY37","v":0},{"$f":"Kopplung!AZ37","v":0},{"$f":"Kopplung!BA37","v":0},{"$f":"Kopplung!BB37","v":0},{"$f":"Kopplung!BC37","v":0},{"$f":"Kopplung!BD37","v":0},{"$f":"Kopplung!BE37","v":0}]
[{"$f":"Kopplung!A38","v":"Gruppe"},{"$f":"Kopplung!B38","v":0},{"$f":"Kopplung!C38","v":0},{"$f":"Kopplung!D38","v":"lehrer36"},{"$f":"Kopplung!E38","v":0},{"$f":"Kopplung!F38","v":0},{"$f":"Kopplung!G38","v":0},{"$f":"Kopplung!H38","v":0},{"$f":"Kopplung!I38","v":0},{"$f":"Kopplung!J38","v":0},{"$f":"Kopplung!K38","v":0},{"$f":"Kopplung!L38","v":0},{"$f":"Kopplung!M38","v":0},{"$f":"Kopplung!N38","v":0},{"$f":"Kopplung!O38","v":0},{"$f":"Kopplung!P38","v":0},{"$f":"Kopplung!Q38","v":0},{"$f":"Kopplung!R38","v":0},{"$f":"Kopplung!S38","v":0},{"$f":"Kopplung!T38","v":0},{"$f":"Kopplung!U38","v":0},{"$f":"Kopplung!V38","v":0},{"$f":"Kopplung!W38","v":0},{"$f":"Kopplung!X38","v":0},{"$f":"Kopplung!Y38","v":0},{"$f":"Kopplung!Z38","v":0},{"$f":"Kopplung!AA38","v":0},{"$f":"Kopplung!AB38","v":0},{"$f":"Kopplung!AC38","v":0},{"$f":"Kopplung!AD38","v":0},{"$f":"Kopplung!AE38","v":0},{"$f":"Kopplung!AF38","v":0},{"$f":"Kopplung!AG38","v":0},{"$f":"Kopplung!AH38","v":0},{"$f":"Kopplung!AI38","v":0},{"$f":"Kopplung!AJ38","v":0},{"$f":"Kopplung!AK38","v":0},{"$f":"Kopplung!AL38","v":0},{"$f":"Kopplung!AM38","v":0},{"$f":"Kopplung!AN38","v":0},{"$f":"Kopplung!AO38","v":0},{"$f":"Kopplung!AP38","v":0},{"$f":"Kopplung!AQ38","v":0},{"$f":"Kopplung!AR38","v":0},{"$f":"Kopplung!AS38","v":0},{"$f":"Kopplung!AT38","v":0},{"$f":"Kopplung!AU38","v":0},{"$f":"Kopplung!AV38","v":0},{"$f":"Kopplung!AW38","v":0},{"$f":"Kopplung!AX38","v":0},{"$f":"Kopplung!AY38","v":0},{"$f":"Kopplung!AZ38","v":0},{"$f":"Kopplung!BA38","v":0},{"$f":"Kopplung!BB38","v":0},{"$f":"Kopplung!BC38","v":0},{"$f":"Kopplung!BD38","v":0},{"$f":"Kopplung!BE38","v":0}]
[{"$f":"Kopplung!A39","v":"Gruppe"},{"$f":"Kopplung!B39","v":0},{"$f":"Kopplung!C39","v":0},{"$f":"Kopplung!D39","v":"lehrer37"},{"$f":"Kopplung!E39","v":0},{"$f":"Kopplung!F39","v":0},{"$f":"Kopplung!G39","v":0},{"$f":"Kopplung!H39","v":0},{"$f":"Kopplung!I39","v":0},{"$f":"Kopplung!J39","v":0},{"$f":"Kopplung!K39","v":0},{"$f":"Kopplung!L39","v":0},{"$f":"Kopplung!M39","v":0},{"$f":"Kopplung!N39","v":0},{"$f":"Kopplung!O39","v":0},{"$f":"Kopplung!P39","v":0},{"$f":"Kopplung!Q39","v":0},{"$f":"Kopplung!R39","v":0},{"$f":"Kopplung!S39","v":0},{"$f":"Kopplung!T39","v":0},{"$f":"Kopplung!U39","v":0},{"$f":"Kopplung!V39","v":0},{"$f":"Kopplung!W39","v":0},{"$f":"Kopplung!X39","v":0},{"$f":"Kopplung!Y39","v":0},{"$f":"Kopplung!Z39","v":0},{"$f":"Kopplung!AA39","v":0},{"$f":"Kopplung!AB39","v":0},{"$f":"Kopplung!AC39","v":0},{"$f":"Kopplung!AD39","v":0},{"$f":"Kopplung!AE39","v":0},{"$f":"Kopplung!AF39","v":0},{"$f":"Kopplung!AG39","v":0},{"$f":"Kopplung!AH39","v":0},{"$f":"Kopplung!AI39","v":0},{"$f":"Kopplung!AJ39","v":0},{"$f":"Kopplung!AK39","v":0},{"$f":"Kopplung!AL39","v":0},{"$f":"Kopplung!AM39","v":0},{"$f":"Kopplung!AN39","v":0},{"$f":"Kopplung!AO39","v":0},{"$f":"Kopplung!AP39","v":0},{"$f":"Kopplung!AQ39","v":0},{"$f":"Kopplung!AR39","v":0},{"$f":"Kopplung!AS39","v":0},{"$f":"Kopplung!AT39","v":0},{"$f":"Kopplung!AU39","v":0},{"$f":"Kopplung!AV39","v":0},{"$f":"Kopplung!AW39","v":0},{"$f":"Kopplung!AX39","v":0},{"$f":"Kopplung!AY39","v":0},{"$f":"Kopplung!AZ39","v":0},{"$f":"Kopplung!BA39","v":0},{"$f":"Kopplung!BB39","v":0},{"$f":"Kopplung!BC39","v":0},{"$f":"Kopplung!BD39","v":0},{"$f":"Kopplung!BE39","v":0}]
[{"$f":"Kopplung!A40","v":"Gruppe"},{"$f":"Kopplung!B40","v":0},{"$f":"Kopplung!C40","v":0},{"$f":"Kopplung!D40","v":"lehrer38"},{"$f":"Kopplung!E40","v":0},{"$f":"Kopplung!F40","v":0},{"$f":"Kopplung!G40","v":0},{"$f":"Kopplung!H40","v":0},{"$f":"Kopplung!I40","v":0},{"$f":"Kopplung!J40","v":0},{"$f":"Kopplung!K40","v":0},{"$f":"Kopplung!L40","v":0},{"$f":"Kopplung!M40","v":0},{"$f":"Kopplung!N40","v":0},{"$f":"Kopplung!O40","v":0},{"$f":"Kopplung!P40","v":0},{"$f":"Kopplung!Q40","v":0},{"$f":"Kopplung!R40","v":0},{"$f":"Kopplung!S40","v":0},{"$f":"Kopplung!T40","v":0},{"$f":"Kopplung!U40","v":0},{"$f":"Kopplung!V40","v":0},{"$f":"Kopplung!W40","v":0},{"$f":"Kopplung!X40","v":0},{"$f":"Kopplung!Y40","v":0},{"$f":"Kopplung!Z40","v":0},{"$f":"Kopplung!AA40","v":0},{"$f":"Kopplung!AB40","v":0},{"$f":"Kopplung!AC40","v":0},{"$f":"Kopplung!AD40","v":0},{"$f":"Kopplung!AE40","v":0},{"$f":"Kopplung!AF40","v":0},{"$f":"Kopplung!AG40","v":0},{"$f":"Kopplung!AH40","v":0},{"$f":"Kopplung!AI40","v":0},{"$f":"Kopplung!AJ40","v":0},{"$f":"Kopplung!AK40","v":0},{"$f":"Kopplung!AL40","v":0},{"$f":"Kopplung!AM40","v":0},{"$f":"Kopplung!AN40","v":0},{"$f":"Kopplung!AO40","v":0},{"$f":"Kopplung!AP40","v":0},{"$f":"Kopplung!AQ40","v":0},{"$f":"Kopplung!AR40","v":0},{"$f":"Kopplung!AS40","v":0},{"$f":"Kopplung!AT40","v":0},{"$f":"Kopplung!AU40","v":0},{"$f":"Kopplung!AV40","v":0},{"$f":"Kopplung!AW40","v":0},{"$f":"Kopplung!AX40","v":0},{"$f":"Kopplung!AY40","v":0},{"$f":"Kopplung!AZ40","v":0},{"$f":"Kopplung!BA40","v":0},{"$f":"Kopplung!BB40","v":0},{"$f":"Kopplung!BC40","v":0},{"$f":"Kopplung!BD40","v":0},{"$f":"Kopplung!BE40","v":0}]
[{"$f":"Kopplung!A41","v":"Gruppe"},{"$f":"Kopplung!B41","v":0},{"$f":"Kopplung!C41","v":0},{"$f":"Kopplung!D41","v":"lehrer39"},{"$f":"Kopplung!E41","v":0},{"$f":"Kopplung!F41","v":0},{"$f":"Kopplung!G41","v":0},{"$f":"Kopplung!H41","v":0},{"$f":"Kopplung!I41","v":0},{"$f":"Kopplung!J41","v":0},{"$f":"Kopplung!K41","v":0},{"$f":"Kopplung!L41","v":0},{"$f":"Kopplung!M41","v":0},{"$f":"Kopplung!N41","v":0},{"$f":"Kopplung!O41","v":0},{"$f":"Kopplung!P41","v":0},{"$f":"Kopplung!Q41","v":0},{"$f":"Kopplung!R41","v":0},{"$f":"Kopplung!S41","v":0},{"$f":"Kopplung!T41","v":0},{"$f":"Kopplung!U41","v":0},{"$f":"Kopplung!V41","v":0},{"$f":"Kopplung!W41","v":0},{"$f":"Kopplung!X41","v":0},{"$f":"Kopplung!Y41","v":0},{"$f":"Kopplung!Z41","v":0},{"$f":"Kopplung!AA41","v":0},{"$f":"Kopplung!AB41","v":0},{"$f":"Kopplung!AC41","v":0},{"$f":"Kopplung!AD41","v":0},{"$f":"Kopplung!AE41","v":0},{"$f":"Kopplung!AF41","v":0},{"$f":"Kopplung!AG41","v":0},{"$f":"Kopplung!AH41","v":0},{"$f":"Kopplung!AI41","v":0},{"$f":"Kopplung!AJ41","v":0},{"$f":"Kopplung!AK41","v":0},{"$f":"Kopplung!AL41","v":0},{"$f":"Kopplung!AM41","v":0},{"$f":"Kopplung!AN41","v":0},{"$f":"Kopplung!AO41","v":0},{"$f":"Kopplung!AP41","v":0},{"$f":"Kopplung!AQ41","v":0},{"$f":"Kopplung!AR41","v":0},{"$f":"Kopplung!AS41","v":0},{"$f":"Kopplung!AT41","v":0},{"$f":"Kopplung!AU41","v":0},{"$f":"Kopplung!AV41","v":0},{"$f":"Kopplung!AW41","v":0},{"$f":"Kopplung!AX41","v":0},{"$f":"Kopplung!AY41","v":0},{"$f":"Kopplung!AZ41","v":0},{"$f":"Kopplung!BA41","v":0},{"$f":"Kopplung!BB41","v":0},{"$f":"Kopplung!BC41","v":0},{"$f":"Kopplung!BD41","v":0},{"$f":"Kopplung!BE41","v":0}]
[{"$f":"Kopplung!A42","v":"Gruppe"},{"$f":"Kopplung!B42","v":0},{"$f":"Kopplung!C42","v":0},{"$f":"Kopplung!D42","v":"lehrer40"},{"$f":"Kopplung!E42","v":0},{"$f":"Kopplung!F42","v":0},{"$f":"Kopplung!G42","v":0},{"$f":"Kopplung!H42","v":0},{"$f":"Kopplung!I42","v":0},{"$f":"Kopplung!J42","v":0},{"$f":"Kopplung!K42","v":0},{"$f":"Kopplung!L42","v":0},{"$f":"Kopplung!M42","v":0},{"$f":"Kopplung!N42","v":0},{"$f":"Kopplung!O42","v":0},{"$f":"Kopplung!P42","v":0},{"$f":"Kopplung!Q42","v":0},{"$f":"Kopplung!R42","v":0},{"$f":"Kopplung!S42","v":0},{"$f":"Kopplung!T42","v":0},{"$f":"Kopplung!U42","v":0},{"$f":"Kopplung!V42","v":0},{"$f":"Kopplung!W42","v":0},{"$f":"Kopplung!X42","v":0},{"$f":"Kopplung!Y42","v":0},{"$f":"Kopplung!Z42","v":0},{"$f":"Kopplung!AA42","v":0},{"$f":"Kopplung!AB42","v":0},{"$f":"Kopplung!AC42","v":0},{"$f":"Kopplung!AD42","v":0},{"$f":"Kopplung!AE42","v":0},{"$f":"Kopplung!AF42","v":0},{"$f":"Kopplung!AG42","v":0},{"$f":"Kopplung!AH42","v":0},{"$f":"Kopplung!AI42","v":0},{"$f":"Kopplung!AJ42","v":0},{"$f":"Kopplung!AK42","v":0},{"$f":"Kopplung!AL42","v":0},{"$f":"Kopplung!AM42","v":0},{"$f":"Kopplung!AN42","v":0},{"$f":"Kopplung!AO42","v":0},{"$f":"Kopplung!AP42","v":0},{"$f":"Kopplung!AQ42","v":0},{"$f":"Kopplung!AR42","v":0},{"$f":"Kopplung!AS42","v":0},{"$f":"Kopplung!AT42","v":0},{"$f":"Kopplung!AU42","v":0},{"$f":"Kopplung!AV42","v":0},{"$f":"Kopplung!AW42","v":0},{"$f":"Kopplung!AX42","v":0},{"$f":"Kopplung!AY42","v":0},{"$f":"Kopplung!AZ42","v":0},{"$f":"Kopplung!BA42","v":0},{"$f":"Kopplung!BB42","v":0},{"$f":"Kopplung!BC42","v":0},{"$f":"Kopplung!BD42","v":0},{"$f":"Kopplung!BE42","v":0}]
[{"$f":"Kopplung!A43","v":"Gruppe"},{"$f":"Kopplung!B43","v":0},{"$f":"Kopplung!C43","v":0},{"$f":"Kopplung!D43","v":"lehrer41"},{"$f":"Kopplung!E43","v":0},{"$f":"Kopplung!F43","v":0},{"$f":"Kopplung!G43","v":0},{"$f":"Kopplung!H43","v":0},{"$f":"Kopplung!I43","v":0},{"$f":"Kopplung!J43","v":0},{"$f":"Kopplung!K43","v":0},{"$f":"Kopplung!L43","v":0},{"$f":"Kopplung!M43","v":0},{"$f":"Kopplung!N43","v":0},{"$f":"Kopplung!O43","v":0},{"$f":"Kopplung!P43","v":0},{"$f":"Kopplung!Q43","v":0},{"$f":"Kopplung!R43","v":0},{"$f":"Kopplung!S43","v":0},{"$f":"Kopplung!T43","v":0},{"$f":"Kopplung!U43","v":0},{"$f":"Kopplung!V43","v":0},{"$f":"Kopplung!W43","v":0},{"$f":"Kopplung!X43","v":0},{"$f":"Kopplung!Y43","v":0},{"$f":"Kopplung!Z43","v":0},{"$f":"Kopplung!AA43","v":0},{"$f":"Kopplung!AB43","v":0},{"$f":"Kopplung!AC43","v":0},{"$f":"Kopplung!AD43","v":0},{"$f":"Kopplung!AE43","v":0},{"$f":"Kopplung!AF43","v":0},{"$f":"Kopplung!AG43","v":0},{"$f":"Kopplung!AH43","v":0},{"$f":"Kopplung!AI43","v":0},{"$f":"Kopplung!AJ43","v":0},{"$f":"Kopplung!AK43","v":0},{"$f":"Kopplung!AL43","v":0},{"$f":"Kopplung!AM43","v":0},{"$f":"Kopplung!AN43","v":0},{"$f":"Kopplung!AO43","v":0},{"$f":"Kopplung!AP43","v":0},{"$f":"Kopplung!AQ43","v":0},{"$f":"Kopplung!AR43","v":0},{"$f":"Kopplung!AS43","v":0},{"$f":"Kopplung!AT43","v":0},{"$f":"Kopplung!AU43","v":0},{"$f":"Kopplung!AV43","v":0},{"$f":"Kopplung!AW43","v":0},{"$f":"Kopplung!AX43","v":0},{"$f":"Kopplung!AY43","v":0},{"$f":"Kopplung!AZ43","v":0},{"$f":"Kopplung!BA43","v":0},{"$f":"Kopplung!BB43","v":0},{"$f":"Kopplung!BC43","v":0},{"$f":"Kopplung!BD43","v":0},{"$f":"Kopplung!BE43","v":0}]
[{"$f":"Kopplung!A44","v":"Gruppe"},{"$f":"Kopplung!B44","v":0},{"$f":"Kopplung!C44","v":0},{"$f":"Kopplung!D44","v":"lehrer42"},{"$f":"Kopplung!E44","v":0},{"$f":"Kopplung!F44","v":0},{"$f":"Kopplung!G44","v":0},{"$f":"Kopplung!H44","v":0},{"$f":"Kopplung!I44","v":0},{"$f":"Kopplung!J44","v":0},{"$f":"Kopplung!K44","v":0},{"$f":"Kopplung!L44","v":0},{"$f":"Kopplung!M44","v":0},{"$f":"Kopplung!N44","v":0},{"$f":"Kopplung!O44","v":0},{"$f":"Kopplung!P44","v":0},{"$f":"Kopplung!Q44","v":0},{"$f":"Kopplung!R44","v":0},{"$f":"Kopplung!S44","v":0},{"$f":"Kopplung!T44","v":0},{"$f":"Kopplung!U44","v":0},{"$f":"Kopplung!V44","v":0},{"$f":"Kopplung!W44","v":0},{"$f":"Kopplung!X44","v":0},{"$f":"Kopplung!Y44","v":0},{"$f":"Kopplung!Z44","v":0},{"$f":"Kopplung!AA44","v":0},{"$f":"Kopplung!AB44","v":0},{"$f":"Kopplung!AC44","v":0},{"$f":"Kopplung!AD44","v":0},{"$f":"Kopplung!AE44","v":0},{"$f":"Kopplung!AF44","v":0},{"$f":"Kopplung!AG44","v":0},{"$f":"Kopplung!AH44","v":0},{"$f":"Kopplung!AI44","v":0},{"$f":"Kopplung!AJ44","v":0},{"$f":"Kopplung!AK44","v":0},{"$f":"Kopplung!AL44","v":0},{"$f":"Kopplung!AM44","v":0},{"$f":"Kopplung!AN44","v":0},{"$f":"Kopplung!AO44","v":0},{"$f":"Kopplung!AP44","v":0},{"$f":"Kopplung!AQ44","v":0},{"$f":"Kopplung!AR44","v":0},{"$f":"Kopplung!AS44","v":0},{"$f":"Kopplung!AT44","v":0},{"$f":"Kopplung!AU44","v":0},{"$f":"Kopplung!AV44","v":0},{"$f":"Kopplung!AW44","v":0},{"$f":"Kopplung!AX44","v":0},{"$f":"Kopplung!AY44","v":0},{"$f":"Kopplung!AZ44","v":0},{"$f":"Kopplung!BA44","v":0},{"$f":"Kopplung!BB44","v":0},{"$f":"Kopplung!BC44","v":0},{"$f":"Kopplung!BD44","v":0},{"$f":"Kopplung!BE44","v":0}]
[{"$f":"Kopplung!A45","v":"Gruppe"},{"$f":"Kopplung!B45","v":0},{"$f":"Kopplung!C45","v":0},{"$f":"Kopplung!D45","v":"lehrer43"},{"$f":"Kopplung!E45","v":0},{"$f":"Kopplung!F45","v":0},{"$f":"Kopplung!G45","v":0},{"$f":"Kopplung!H45","v":0},{"$f":"Kopplung!I45","v":0},{"$f":"Kopplung!J45","v":0},{"$f":"Kopplung!K45","v":0},{"$f":"Kopplung!L45","v":0},{"$f":"Kopplung!M45","v":0},{"$f":"Kopplung!N45","v":0},{"$f":"Kopplung!O45","v":0},{"$f":"Kopplung!P45","v":0},{"$f":"Kopplung!Q45","v":0},{"$f":"Kopplung!R45","v":0},{"$f":"Kopplung!S45","v":0},{"$f":"Kopplung!T45","v":0},{"$f":"Kopplung!U45","v":0},{"$f":"Kopplung!V45","v":0},{"$f":"Kopplung!W45","v":0},{"$f":"Kopplung!X45","v":0},{"$f":"Kopplung!Y45","v":0},{"$f":"Kopplung!Z45","v":0},{"$f":"Kopplung!AA45","v":0},{"$f":"Kopplung!AB45","v":0},{"$f":"Kopplung!AC45","v":0},{"$f":"Kopplung!AD45","v":0},{"$f":"Kopplung!AE45","v":0},{"$f":"Kopplung!AF45","v":0},{"$f":"Kopplung!AG45","v":0},{"$f":"Kopplung!AH45","v":0},{"$f":"Kopplung!AI45","v":0},{"$f":"Kopplung!AJ45","v":0},{"$f":"Kopplung!AK45","v":0},{"$f":"Kopplung!AL45","v":0},{"$f":"Kopplung!AM45","v":0},{"$f":"Kopplung!AN45","v":0},{"$f":"Kopplung!AO45","v":0},{"$f":"Kopplung!AP45","v":0},{"$f":"Kopplung!AQ45","v":0},{"$f":"Kopplung!AR45","v":0},{"$f":"Kopplung!AS45","v":0},{"$f":"Kopplung!AT45","v":0},{"$f":"Kopplung!AU45","v":0},{"$f":"Kopplung!AV45","v":0},{"$f":"Kopplung!AW45","v":0},{"$f":"Kopplung!AX45","v":0},{"$f":"Kopplung!AY45","v":0},{"$f":"Kopplung!AZ45","v":0},{"$f":"Kopplung!BA45","v":0},{"$f":"Kopplung!BB45","v":0},{"$f":"Kopplung!BC45","v":0},{"$f":"Kopplung!BD45","v":0},{"$f":"Kopplung!BE45","v":0}]
[{"$f":"Kopplung!A46","v":"Gruppe"},{"$f":"Kopplung!B46","v":0},{"$f":"Kopplung!C46","v":0},{"$f":"Kopplung!D46","v":"lehrer44"},{"$f":"Kopplung!E46","v":0},{"$f":"Kopplung!F46","v":0},{"$f":"Kopplung!G46","v":0},{"$f":"Kopplung!H46","v":0},{"$f":"Kopplung!I46","v":0},{"$f":"Kopplung!J46","v":0},{"$f":"Kopplung!K46","v":0},{"$f":"Kopplung!L46","v":0},{"$f":"Kopplung!M46","v":0},{"$f":"Kopplung!N46","v":0},{"$f":"Kopplung!O46","v":0},{"$f":"Kopplung!P46","v":0},{"$f":"Kopplung!Q46","v":0},{"$f":"Kopplung!R46","v":0},{"$f":"Kopplung!S46","v":0},{"$f":"Kopplung!T46","v":0},{"$f":"Kopplung!U46","v":0},{"$f":"Kopplung!V46","v":0},{"$f":"Kopplung!W46","v":0},{"$f":"Kopplung!X46","v":0},{"$f":"Kopplung!Y46","v":0},{"$f":"Kopplung!Z46","v":0},{"$f":"Kopplung!AA46","v":0},{"$f":"Kopplung!AB46","v":0},{"$f":"Kopplung!AC46","v":0},{"$f":"Kopplung!AD46","v":0},{"$f":"Kopplung!AE46","v":0},{"$f":"Kopplung!AF46","v":0},{"$f":"Kopplung!AG46","v":0},{"$f":"Kopplung!AH46","v":0},{"$f":"Kopplung!AI46","v":0},{"$f":"Kopplung!AJ46","v":0},{"$f":"Kopplung!AK46","v":0},{"$f":"Kopplung!AL46","v":0},{"$f":"Kopplung!AM46","v":0},{"$f":"Kopplung!AN46","v":0},{"$f":"Kopplung!AO46","v":0},{"$f":"Kopplung!AP46","v":0},{"$f":"Kopplung!AQ46","v":0},{"$f":"Kopplung!AR46","v":0},{"$f":"Kopplung!AS46","v":0},{"$f":"Kopplung!AT46","v":0},{"$f":"Kopplung!AU46","v":0},{"$f":"Kopplung!AV46","v":0},{"$f":"Kopplung!AW46","v":0},{"$f":"Kopplung!AX46","v":0},{"$f":"Kopplung!AY46","v":0},{"$f":"Kopplung!AZ46","v":0},{"$f":"Kopplung!BA46","v":0},{"$f":"Kopplung!BB46","v":0},{"$f":"Kopplung!BC46","v":0},{"$f":"Kopplung!BD46","v":0},{"$f":"Kopplung!BE46","v":0}]
[{"$f":"Kopplung!A47","v":"Gruppe"},{"$f":"Kopplung!B47","v":0},{"$f":"Kopplung!C47","v":0},{"$f":"Kopplung!D47","v":"lehrer45"},{"$f":"Kopplung!E47","v":0},{"$f":"Kopplung!F47","v":0},{"$f":"Kopplung!G47","v":0},{"$f":"Kopplung!H47","v":0},{"$f":"Kopplung!I47","v":0},{"$f":"Kopplung!J47","v":0},{"$f":"Kopplung!K47","v":0},{"$f":"Kopplung!L47","v":0},{"$f":"Kopplung!M47","v":0},{"$f":"Kopplung!N47","v":0},{"$f":"Kopplung!O47","v":0},{"$f":"Kopplung!P47","v":0},{"$f":"Kopplung!Q47","v":0},{"$f":"Kopplung!R47","v":0},{"$f":"Kopplung!S47","v":0},{"$f":"Kopplung!T47","v":0},{"$f":"Kopplung!U47","v":0},{"$f":"Kopplung!V47","v":0},{"$f":"Kopplung!W47","v":0},{"$f":"Kopplung!X47","v":0},{"$f":"Kopplung!Y47","v":0},{"$f":"Kopplung!Z47","v":0},{"$f":"Kopplung!AA47","v":0},{"$f":"Kopplung!AB47","v":0},{"$f":"Kopplung!AC47","v":0},{"$f":"Kopplung!AD47","v":0},{"$f":"Kopplung!AE47","v":0},{"$f":"Kopplung!AF47","v":0},{"$f":"Kopplung!AG47","v":0},{"$f":"Kopplung!AH47","v":0},{"$f":"Kopplung!AI47","v":0},{"$f":"Kopplung!AJ47","v":0},{"$f":"Kopplung!AK47","v":0},{"$f":"Kopplung!AL47","v":0},{"$f":"Kopplung!AM47","v":0},{"$f":"Kopplung!AN47","v":0},{"$f":"Kopplung!AO47","v":0},{"$f":"Kopplung!AP47","v":0},{"$f":"Kopplung!AQ47","v":0},{"$f":"Kopplung!AR47","v":0},{"$f":"Kopplung!AS47","v":0},{"$f":"Kopplung!AT47","v":0},{"$f":"Kopplung!AU47","v":0},{"$f":"Kopplung!AV47","v":0},{"$f":"Kopplung!AW47","v":0},{"$f":"Kopplung!AX47","v":0},{"$f":"Kopplung!AY47","v":0},{"$f":"Kopplung!AZ47","v":0},{"$f":"Kopplung!BA47","v":0},{"$f":"Kopplung!BB47","v":0},{"$f":"Kopplung!BC47","v":0},{"$f":"Kopplung!BD47","v":0},{"$f":"Kopplung!BE47","v":0}]
[{"$f":"Kopplung!A48","v":"Gruppe"},{"$f":"Kopplung!B48","v":0},{"$f":"Kopplung!C48","v":0},{"$f":"Kopplung!D48","v":"lehrer46"},{"$f":"Kopplung!E48","v":0},{"$f":"Kopplung!F48","v":0},{"$f":"Kopplung!G48","v":0},{"$f":"Kopplung!H48","v":0},{"$f":"Kopplung!I48","v":0},{"$f":"Kopplung!J48","v":0},{"$f":"Kopplung!K48","v":0},{"$f":"Kopplung!L48","v":0},{"$f":"Kopplung!M48","v":0},{"$f":"Kopplung!N48","v":0},{"$f":"Kopplung!O48","v":0},{"$f":"Kopplung!P48","v":0},{"$f":"Kopplung!Q48","v":0},{"$f":"Kopplung!R48","v":0},{"$f":"Kopplung!S48","v":0},{"$f":"Kopplung!T48","v":0},{"$f":"Kopplung!U48","v":0},{"$f":"Kopplung!V48","v":0},{"$f":"Kopplung!W48","v":0},{"$f":"Kopplung!X48","v":0},{"$f":"Kopplung!Y48","v":0},{"$f":"Kopplung!Z48","v":0},{"$f":"Kopplung!AA48","v":0},{"$f":"Kopplung!AB48","v":0},{"$f":"Kopplung!AC48","v":0},{"$f":"Kopplung!AD48","v":0},{"$f":"Kopplung!AE48","v":0},{"$f":"Kopplung!AF48","v":0},{"$f":"Kopplung!AG48","v":0},{"$f":"Kopplung!AH48","v":0},{"$f":"Kopplung!AI48","v":0},{"$f":"Kopplung!AJ48","v":0},{"$f":"Kopplung!AK48","v":0},{"$f":"Kopplung!AL48","v":0},{"$f":"Kopplung!AM48","v":0},{"$f":"Kopplung!AN48","v":0},{"$f":"Kopplung!AO48","v":0},{"$f":"Kopplung!AP48","v":0},{"$f":"Kopplung!AQ48","v":0},{"$f":"Kopplung!AR48","v":0},{"$f":"Kopplung!AS48","v":0},{"$f":"Kopplung!AT48","v":0},{"$f":"Kopplung!AU48","v":0},{"$f":"Kopplung!AV48","v":0},{"$f":"Kopplung!AW48","v":0},{"$f":"Kopplung!AX48","v":0},{"$f":"Kopplung!AY48","v":0},{"$f":"Kopplung!AZ48","v":0},{"$f":"Kopplung!BA48","v":0},{"$f":"Kopplung!BB48","v":0},{"$f":"Kopplung!BC48","v":0},{"$f":"Kopplung!BD48","v":0},{"$f":"Kopplung!BE48","v":0}]
[{"$f":"Kopplung!A49","v":"Gruppe"},{"$f":"Kopplung!B49","v":0},{"$f":"Kopplung!C49","v":0},{"$f":"Kopplung!D49","v":"lehrer47"},{"$f":"Kopplung!E49","v":0},{"$f":"Kopplung!F49","v":0},{"$f":"Kopplung!G49","v":0},{"$f":"Kopplung!H49","v":0},{"$f":"Kopplung!I49","v":0},{"$f":"Kopplung!J49","v":0},{"$f":"Kopplung!K49","v":0},{"$f":"Kopplung!L49","v":0},{"$f":"Kopplung!M49","v":0},{"$f":"Kopplung!N49","v":0},{"$f":"Kopplung!O49","v":0},{"$f":"Kopplung!P49","v":0},{"$f":"Kopplung!Q49","v":0},{"$f":"Kopplung!R49","v":0},{"$f":"Kopplung!S49","v":0},{"$f":"Kopplung!T49","v":0},{"$f":"Kopplung!U49","v":0},{"$f":"Kopplung!V49","v":0},{"$f":"Kopplung!W49","v":0},{"$f":"Kopplung!X49","v":0},{"$f":"Kopplung!Y49","v":0},{"$f":"Kopplung!Z49","v":0},{"$f":"Kopplung!AA49","v":0},{"$f":"Kopplung!AB49","v":0},{"$f":"Kopplung!AC49","v":0},{"$f":"Kopplung!AD49","v":0},{"$f":"Kopplung!AE49","v":0},{"$f":"Kopplung!AF49","v":0},{"$f":"Kopplung!AG49","v":0},{"$f":"Kopplung!AH49","v":0},{"$f":"Kopplung!AI49","v":0},{"$f":"Kopplung!AJ49","v":0},{"$f":"Kopplung!AK49","v":0},{"$f":"Kopplung!AL49","v":0},{"$f":"Kopplung!AM49","v":0},{"$f":"Kopplung!AN49","v":0},{"$f":"Kopplung!AO49","v":0},{"$f":"Kopplung!AP49","v":0},{"$f":"Kopplung!AQ49","v":0},{"$f":"Kopplung!AR49","v":0},{"$f":"Kopplung!AS49","v":0},{"$f":"Kopplung!AT49","v":0},{"$f":"Kopplung!AU49","v":0},{"$f":"Kopplung!AV49","v":0},{"$f":"Kopplung!AW49","v":0},{"$f":"Kopplung!AX49","v":0},{"$f":"Kopplung!AY49","v":0},{"$f":"Kopplung!AZ49","v":0},{"$f":"Kopplung!BA49","v":0},{"$f":"Kopplung!BB49","v":0},{"$f":"Kopplung!BC49","v":0},{"$f":"Kopplung!BD49","v":0},{"$f":"Kopplung!BE49","v":0}]
[{"$f":"Kopplung!A50","v":"Gruppe"},{"$f":"Kopplung!B50","v":0},{"$f":"Kopplung!C50","v":0},{"$f":"Kopplung!D50","v":"lehrer48"},{"$f":"Kopplung!E50","v":0},{"$f":"Kopplung!F50","v":0},{"$f":"Kopplung!G50","v":0},{"$f":"Kopplung!H50","v":0},{"$f":"Kopplung!I50","v":0},{"$f":"Kopplung!J50","v":0},{"$f":"Kopplung!K50","v":0},{"$f":"Kopplung!L50","v":0},{"$f":"Kopplung!M50","v":0},{"$f":"Kopplung!N50","v":0},{"$f":"Kopplung!O50","v":0},{"$f":"Kopplung!P50","v":0},{"$f":"Kopplung!Q50","v":0},{"$f":"Kopplung!R50","v":0},{"$f":"Kopplung!S50","v":0},{"$f":"Kopplung!T50","v":0},{"$f":"Kopplung!U50","v":0},{"$f":"Kopplung!V50","v":0},{"$f":"Kopplung!W50","v":0},{"$f":"Kopplung!X50","v":0},{"$f":"Kopplung!Y50","v":0},{"$f":"Kopplung!Z50","v":0},{"$f":"Kopplung!AA50","v":0},{"$f":"Kopplung!AB50","v":0},{"$f":"Kopplung!AC50","v":0},{"$f":"Kopplung!AD50","v":0},{"$f":"Kopplung!AE50","v":0},{"$f":"Kopplung!AF50","v":0},{"$f":"Kopplung!AG50","v":0},{"$f":"Kopplung!AH50","v":0},{"$f":"Kopplung!AI50","v":0},{"$f":"Kopplung!AJ50","v":0},{"$f":"Kopplung!AK50","v":0},{"$f":"Kopplung!AL50","v":0},{"$f":"Kopplung!AM50","v":0},{"$f":"Kopplung!AN50","v":0},{"$f":"Kopplung!AO50","v":0},{"$f":"Kopplung!AP50","v":0},{"$f":"Kopplung!AQ50","v":0},{"$f":"Kopplung!AR50","v":0},{"$f":"Kopplung!AS50","v":0},{"$f":"Kopplung!AT50","v":0},{"$f":"Kopplung!AU50","v":0},{"$f":"Kopplung!AV50","v":0},{"$f":"Kopplung!AW50","v":0},{"$f":"Kopplung!AX50","v":0},{"$f":"Kopplung!AY50","v":0},{"$f":"Kopplung!AZ50","v":0},{"$f":"Kopplung!BA50","v":0},{"$f":"Kopplung!BB50","v":0},{"$f":"Kopplung!BC50","v":0},{"$f":"Kopplung!BD50","v":0},{"$f":"Kopplung!BE50","v":0}]
[{"$f":"'1c'!A3","v":"1c"},{"$f":"'1c'!B3","v":0},{"$f":"'1c'!C3","v":0},{"$f":"'1c'!D3","v":"lehrer01"},{"$f":"'1c'!E3","v":0},{"$f":"'1c'!F3","v":0},{"$f":"'1c'!G3","v":0},{"$f":"'1c'!H3","v":0},{"$f":"'1c'!I3","v":0},{"$f":"'1c'!J3","v":0},{"$f":"'1c'!K3","v":0},{"$f":"'1c'!L3","v":0},{"$f":"'1c'!M3","v":0},{"$f":"'1c'!N3","v":0},{"$f":"'1c'!O3","v":0},{"$f":"'1c'!P3","v":0},{"$f":"'1c'!Q3","v":0},{"$f":"'1c'!R3","v":0},{"$f":"'1c'!S3","v":0},{"$f":"'1c'!T3","v":0},{"$f":"'1c'!U3","v":0},{"$f":"'1c'!V3","v":0},{"$f":"'1c'!W3","v":0},{"$f":"'1c'!X3","v":0},{"$f":"'1c'!Y3","v":0},{"$f":"'1c'!Z3","v":0},{"$f":"'1c'!AA3","v":0},{"$f":"'1c'!AB3","v":0},{"$f":"'1c'!AC3","v":0},{"$f":"'1c'!AD3","v":0},{"$f":"'1c'!AE3","v":0},{"$f":"'1c'!AF3","v":0},{"$f":"'1c'!AG3","v":0},{"$f":"'1c'!AH3","v":0},{"$f":"'1c'!AI3","v":0},{"$f":"'1c'!AJ3","v":0},{"$f":"'1c'!AK3","v":0},{"$f":"'1c'!AL3","v":0},{"$f":"'1c'!AM3","v":0},{"$f":"'1c'!AN3","v":0},{"$f":"'1c'!AO3","v":0},{"$f":"'1c'!AP3","v":0},{"$f":"'1c'!AQ3","v":0},{"$f":"'1c'!AR3","v":0},{"$f":"'1c'!AS3","v":0},{"$f":"'1c'!AT3","v":0},{"$f":"'1c'!AU3","v":0},{"$f":"'1c'!AV3","v":0},{"$f":"'1c'!AW3","v":0},{"$f":"'1c'!AX3","v":0},{"$f":"'1c'!AY3","v":0},{"$f":"'1c'!AZ3","v":0},{"$f":"'1c'!BA3","v":0},{"$f":"'1c'!BB3","v":0},{"$f":"'1c'!BC3","v":0},{"$f":"'1c'!BD3","v":0},{"$f":"'1c'!BE3","v":0}]
[{"$f":"'1c'!A4","v":"1c"},{"$f":"'1c'!B4","v":0},{"$f":"'1c'!C4","v":0},{"$f":"'1c'!D4","v":"lehrer02"},{"$f":"'1c'!E4","v":0},{"$f":"'1c'!F4","v":0},{"$f":"'1c'!G4","v":0},{"$f":"'1c'!H4","v":0},{"$f":"'1c'!I4","v":0},{"$f":"'1c'!J4","v":0},{"$f":"'1c'!K4","v":0},{"$f":"'1c'!L4","v":0},{"$f":"'1c'!M4","v":0},{"$f":"'1c'!N4","v":0},{"$f":"'1c'!O4","v":0},{"$f":"'1c'!P4","v":0},{"$f":"'1c'!Q4","v":0},{"$f":"'1c'!R4","v":0},{"$f":"'1c'!S4","v":0},{"$f":"'1c'!T4","v":0},{"$f":"'1c'!U4","v":0},{"$f":"'1c'!V4","v":0},{"$f":"'1c'!W4","v":0},{"$f":"'1c'!X4","v":0},{"$f":"'1c'!Y4","v":0},{"$f":"'1c'!Z4","v":0},{"$f":"'1c'!AA4","v":0},{"$f":"'1c'!AB4","v":0},{"$f":"'1c'!AC4","v":0},{"$f":"'1c'!AD4","v":0},{"$f":"'1c'!AE4","v":0},{"$f":"'1c'!AF4","v":0},{"$f":"'1c'!AG4","v":0},{"$f":"'1c'!AH4","v":0},{"$f":"'1c'!AI4","v":0},{"$f":"'1c'!AJ4","v":0},{"$f":"'1c'!AK4","v":0},{"$f":"'1c'!AL4","v":0},{"$f":"'1c'!AM4","v":0},{"$f":"'1c'!AN4","v":0},{"$f":"'1c'!AO4","v":0},{"$f":"'1c'!AP4","v":0},{"$f":"'1c'!AQ4","v":0},{"$f":"'1c'!AR4","v":0},{"$f":"'1c'!AS4","v":0},{"$f":"'1c'!AT4","v":0},{"$f":"'1c'!AU4","v":0},{"$f":"'1c'!AV4","v":0},{"$f":"'1c'!AW4","v":0},{"$f":"'1c'!AX4","v":0},{"$f":"'1c'!AY4","v":0},{"$f":"'1c'!AZ4","v":0},{"$f":"'1c'!BA4","v":0},{"$f":"'1c'!BB4","v":0},{"$f":"'1c'!BC4","v":0},{"$f":"'1c'!BD4","v":0},{"$f":"'1c'!BE4","v":0}]
[{"$f":"'1c'!A5","v":"1c"},{"$f":"'1c'!B5","v":0},{"$f":"'1c'!C5","v":0},{"$f":"'1c'!D5","v":"lehrer03"},{"$f":"'1c'!E5","v":0},{"$f":"'1c'!F5","v":0},{"$f":"'1c'!G5","v":0},{"$f":"'1c'!H5","v":0},{"$f":"'1c'!I5","v":0},{"$f":"'1c'!J5","v":0},{"$f":"'1c'!K5","v":0},{"$f":"'1c'!L5","v":0},{"$f":"'1c'!M5","v":0},{"$f":"'1c'!N5","v":0},{"$f":"'1c'!O5","v":0},{"$f":"'1c'!P5","v":0},{"$f":"'1c'!Q5","v":0},{"$f":"'1c'!R5","v":0},{"$f":"'1c'!S5","v":0},{"$f":"'1c'!T5","v":0},{"$f":"'1c'!U5","v":0},{"$f":"'1c'!V5","v":0},{"$f":"'1c'!W5","v":0},{"$f":"'1c'!X5","v":0},{"$f":"'1c'!Y5","v":0},{"$f":"'1c'!Z5","v":0},{"$f":"'1c'!AA5","v":0},{"$f":"'1c'!AB5","v":0},{"$f":"'1c'!AC5","v":0},{"$f":"'1c'!AD5","v":0},{"$f":"'1c'!AE5","v":0},{"$f":"'1c'!AF5","v":0},{"$f":"'1c'!AG5","v":0},{"$f":"'1c'!AH5","v":0},{"$f":"'1c'!AI5","v":0},{"$f":"'1c'!AJ5","v":0},{"$f":"'1c'!AK5","v":0},{"$f":"'1c'!AL5","v":0},{"$f":"'1c'!AM5","v":0},{"$f":"'1c'!AN5","v":0},{"$f":"'1c'!AO5","v":0},{"$f":"'1c'!AP5","v":0},{"$f":"'1c'!AQ5","v":0},{"$f":"'1c'!AR5","v":0},{"$f":"'1c'!AS5","v":0},{"$f":"'1c'!AT5","v":0},{"$f":"'1c'!AU5","v":0},{"$f":"'1c'!AV5","v":0},{"$f":"'1c'!AW5","v":0},{"$f":"'1c'!AX5","v":0},{"$f":"'1c'!AY5","v":0},{"$f":"'1c'!AZ5","v":0},{"$f":"'1c'!BA5","v":0},{"$f":"'1c'!BB5","v":0},{"$f":"'1c'!BC5","v":0},{"$f":"'1c'!BD5","v":0},{"$f":"'1c'!BE5","v":0}]
[{"$f":"'1c'!A6","v":"1c"},{"$f":"'1c'!B6","v":0},{"$f":"'1c'!C6","v":0},{"$f":"'1c'!D6","v":"lehrer04"},{"$f":"'1c'!E6","v":0},{"$f":"'1c'!F6","v":0},{"$f":"'1c'!G6","v":0},{"$f":"'1c'!H6","v":0},{"$f":"'1c'!I6","v":0},{"$f":"'1c'!J6","v":0},{"$f":"'1c'!K6","v":0},{"$f":"'1c'!L6","v":0},{"$f":"'1c'!M6","v":0},{"$f":"'1c'!N6","v":0},{"$f":"'1c'!O6","v":0},{"$f":"'1c'!P6","v":0},{"$f":"'1c'!Q6","v":0},{"$f":"'1c'!R6","v":0},{"$f":"'1c'!S6","v":0},{"$f":"'1c'!T6","v":0},{"$f":"'1c'!U6","v":0},{"$f":"'1c'!V6","v":0},{"$f":"'1c'!W6","v":0},{"$f":"'1c'!X6","v":0},{"$f":"'1c'!Y6","v":0},{"$f":"'1c'!Z6","v":0},{"$f":"'1c'!AA6","v":0},{"$f":"'1c'!AB6","v":0},{"$f":"'1c'!AC6","v":0},{"$f":"'1c'!AD6","v":0},{"$f":"'1c'!AE6","v":0},{"$f":"'1c'!AF6","v":0},{"$f":"'1c'!AG6","v":0},{"$f":"'1c'!AH6","v":0},{"$f":"'1c'!AI6","v":0},{"$f":"'1c'!AJ6","v":0},{"$f":"'1c'!AK6","v":0},{"$f":"'1c'!AL6","v":0},{"$f":"'1c'!AM6","v":0},{"$f":"'1c'!AN6","v":0},{"$f":"'1c'!AO6","v":0},{"$f":"'1c'!AP6","v":0},{"$f":"'1c'!AQ6","v":0},{"$f":"'1c'!AR6","v":0},{"$f":"'1c'!AS6","v":0},{"$f":"'1c'!AT6","v":0},{"$f":"'1c'!AU6","v":0},{"$f":"'1c'!AV6","v":0},{"$f":"'1c'!AW6","v":0},{"$f":"'1c'!AX6","v":0},{"$f":"'1c'!AY6","v":0},{"$f":"'1c'!AZ6","v":0},{"$f":"'1c'!BA6","v":0},{"$f":"'1c'!BB6","v":0},{"$f":"'1c'!BC6","v":0},{"$f":"'1c'!BD6","v":0},{"$f":"'1c'!BE6","v":0}]
[{"$f":"'1c'!A7","v":"1c"},{"$f":"'1c'!B7","v":0},{"$f":"'1c'!C7","v":0},{"$f":"'1c'!D7","v":"lehrer05"},{"$f":"'1c'!E7","v":0},{"$f":"'1c'!F7","v":0},{"$f":"'1c'!G7","v":0},{"$f":"'1c'!H7","v":0},{"$f":"'1c'!I7","v":0},{"$f":"'1c'!J7","v":0},{"$f":"'1c'!K7","v":0},{"$f":"'1c'!L7","v":0},{"$f":"'1c'!M7","v":0},{"$f":"'1c'!N7","v":0},{"$f":"'1c'!O7","v":0},{"$f":"'1c'!P7","v":0},{"$f":"'1c'!Q7","v":0},{"$f":"'1c'!R7","v":0},{"$f":"'1c'!S7","v":0},{"$f":"'1c'!T7","v":0},{"$f":"'1c'!U7","v":0},{"$f":"'1c'!V7","v":0},{"$f":"'1c'!W7","v":0},{"$f":"'1c'!X7","v":0},{"$f":"'1c'!Y7","v":0},{"$f":"'1c'!Z7","v":0},{"$f":"'1c'!AA7","v":0},{"$f":"'1c'!AB7","v":0},{"$f":"'1c'!AC7","v":0},{"$f":"'1c'!AD7","v":0},{"$f":"'1c'!AE7","v":0},{"$f":"'1c'!AF7","v":0},{"$f":"'1c'!AG7","v":0},{"$f":"'1c'!AH7","v":0},{"$f":"'1c'!AI7","v":0},{"$f":"'1c'!AJ7","v":0},{"$f":"'1c'!AK7","v":0},{"$f":"'1c'!AL7","v":0},{"$f":"'1c'!AM7","v":0},{"$f":"'1c'!AN7","v":0},{"$f":"'1c'!AO7","v":0},{"$f":"'1c'!AP7","v":0},{"$f":"'1c'!AQ7","v":0},{"$f":"'1c'!AR7","v":0},{"$f":"'1c'!AS7","v":0},{"$f":"'1c'!AT7","v":0},{"$f":"'1c'!AU7","v":0},{"$f":"'1c'!AV7","v":0},{"$f":"'1c'!AW7","v":0},{"$f":"'1c'!AX7","v":0},{"$f":"'1c'!AY7","v":0},{"$f":"'1c'!AZ7","v":0},{"$f":"'1c'!BA7","v":0},{"$f":"'1c'!BB7","v":0},{"$f":"'1c'!BC7","v":0},{"$f":"'1c'!BD7","v":0},{"$f":"'1c'!BE7","v":0}]
[{"$f":"'1c'!A8","v":"1c"},{"$f":"'1c'!B8","v":0},{"$f":"'1c'!C8","v":0},{"$f":"'1c'!D8","v":"lehrer06"},{"$f":"'1c'!E8","v":0},{"$f":"'1c'!F8","v":0},{"$f":"'1c'!G8","v":0},{"$f":"'1c'!H8","v":0},{"$f":"'1c'!I8","v":0},{"$f":"'1c'!J8","v":0},{"$f":"'1c'!K8","v":0},{"$f":"'1c'!L8","v":0},{"$f":"'1c'!M8","v":0},{"$f":"'1c'!N8","v":0},{"$f":"'1c'!O8","v":0},{"$f":"'1c'!P8","v":0},{"$f":"'1c'!Q8","v":0},{"$f":"'1c'!R8","v":0},{"$f":"'1c'!S8","v":0},{"$f":"'1c'!T8","v":0},{"$f":"'1c'!U8","v":0},{"$f":"'1c'!V8","v":0},{"$f":"'1c'!W8","v":0},{"$f":"'1c'!X8","v":0},{"$f":"'1c'!Y8","v":0},{"$f":"'1c'!Z8","v":0},{"$f":"'1c'!AA8","v":0},{"$f":"'1c'!AB8","v":0},{"$f":"'1c'!AC8","v":0},{"$f":"'1c'!AD8","v":0},{"$f":"'1c'!AE8","v":0},{"$f":"'1c'!AF8","v":0},{"$f":"'1c'!AG8","v":0},{"$f":"'1c'!AH8","v":0},{"$f":"'1c'!AI8","v":0},{"$f":"'1c'!AJ8","v":0},{"$f":"'1c'!AK8","v":0},{"$f":"'1c'!AL8","v":0},{"$f":"'1c'!AM8","v":0},{"$f":"'1c'!AN8","v":0},{"$f":"'1c'!AO8","v":0},{"$f":"'1c'!AP8","v":0},{"$f":"'1c'!AQ8","v":0},{"$f":"'1c'!AR8","v":0},{"$f":"'1c'!AS8","v":0},{"$f":"'1c'!AT8","v":0},{"$f":"'1c'!AU8","v":0},{"$f":"'1c'!AV8","v":0},{"$f":"'1c'!AW8","v":0},{"$f":"'1c'!AX8","v":0},{"$f":"'1c'!AY8","v":0},{"$f":"'1c'!AZ8","v":0},{"$f":"'1c'!BA8","v":0},{"$f":"'1c'!BB8","v":0},{"$f":"'1c'!BC8","v":0},{"$f":"'1c'!BD8","v":0},{"$f":"'1c'!BE8","v":0}]
[{"$f":"'1c'!A9","v":"1c"},{"$f":"'1c'!B9","v":0},{"$f":"'1c'!C9","v":0},{"$f":"'1c'!D9","v":"lehrer07"},{"$f":"'1c'!E9","v":0},{"$f":"'1c'!F9","v":0},{"$f":"'1c'!G9","v":0},{"$f":"'1c'!H9","v":0},{"$f":"'1c'!I9","v":0},{"$f":"'1c'!J9","v":0},{"$f":"'1c'!K9","v":0},{"$f":"'1c'!L9","v":0},{"$f":"'1c'!M9","v":0},{"$f":"'1c'!N9","v":0},{"$f":"'1c'!O9","v":0},{"$f":"'1c'!P9","v":0},{"$f":"'1c'!Q9","v":0},{"$f":"'1c'!R9","v":0},{"$f":"'1c'!S9","v":0},{"$f":"'1c'!T9","v":0},{"$f":"'1c'!U9","v":0},{"$f":"'1c'!V9","v":0},{"$f":"'1c'!W9","v":0},{"$f":"'1c'!X9","v":0},{"$f":"'1c'!Y9","v":0},{"$f":"'1c'!Z9","v":0},{"$f":"'1c'!AA9","v":0},{"$f":"'1c'!AB9","v":0},{"$f":"'1c'!AC9","v":0},{"$f":"'1c'!AD9","v":0},{"$f":"'1c'!AE9","v":0},{"$f":"'1c'!AF9","v":0},{"$f":"'1c'!AG9","v":0},{"$f":"'1c'!AH9","v":0},{"$f":"'1c'!AI9","v":0},{"$f":"'1c'!AJ9","v":0},{"$f":"'1c'!AK9","v":0},{"$f":"'1c'!AL9","v":0},{"$f":"'1c'!AM9","v":0},{"$f":"'1c'!AN9","v":0},{"$f":"'1c'!AO9","v":0},{"$f":"'1c'!AP9","v":0},{"$f":"'1c'!AQ9","v":0},{"$f":"'1c'!AR9","v":0},{"$f":"'1c'!AS9","v":0},{"$f":"'1c'!AT9","v":0},{"$f":"'1c'!AU9","v":0},{"$f":"'1c'!AV9","v":0},{"$f":"'1c'!AW9","v":0},{"$f":"'1c'!AX9","v":0},{"$f":"'1c'!AY9","v":0},{"$f":"'1c'!AZ9","v":0},{"$f":"'1c'!BA9","v":0},{"$f":"'1c'!BB9","v":0},{"$f":"'1c'!BC9","v":0},{"$f":"'1c'!BD9","v":0},{"$f":"'1c'!BE9","v":0}]
[{"$f":"'1c'!A10","v":"1c"},{"$f":"'1c'!B10","v":0},{"$f":"'1c'!C10","v":0},{"$f":"'1c'!D10","v":"lehrer08"},{"$f":"'1c'!E10","v":0},{"$f":"'1c'!F10","v":0},{"$f":"'1c'!G10","v":0},{"$f":"'1c'!H10","v":0},{"$f":"'1c'!I10","v":0},{"$f":"'1c'!J10","v":0},{"$f":"'1c'!K10","v":0},{"$f":"'1c'!L10","v":0},{"$f":"'1c'!M10","v":0},{"$f":"'1c'!N10","v":0},{"$f":"'1c'!O10","v":0},{"$f":"'1c'!P10","v":0},{"$f":"'1c'!Q10","v":0},{"$f":"'1c'!R10","v":0},{"$f":"'1c'!S10","v":0},{"$f":"'1c'!T10","v":0},{"$f":"'1c'!U10","v":0},{"$f":"'1c'!V10","v":0},{"$f":"'1c'!W10","v":0},{"$f":"'1c'!X10","v":0},{"$f":"'1c'!Y10","v":0},{"$f":"'1c'!Z10","v":0},{"$f":"'1c'!AA10","v":0},{"$f":"'1c'!AB10","v":0},{"$f":"'1c'!AC10","v":0},{"$f":"'1c'!AD10","v":0},{"$f":"'1c'!AE10","v":0},{"$f":"'1c'!AF10","v":0},{"$f":"'1c'!AG10","v":0},{"$f":"'1c'!AH10","v":0},{"$f":"'1c'!AI10","v":0},{"$f":"'1c'!AJ10","v":0},{"$f":"'1c'!AK10","v":0},{"$f":"'1c'!AL10","v":0},{"$f":"'1c'!AM10","v":0},{"$f":"'1c'!AN10","v":0},{"$f":"'1c'!AO10","v":0},{"$f":"'1c'!AP10","v":0},{"$f":"'1c'!AQ10","v":0},{"$f":"'1c'!AR10","v":0},{"$f":"'1c'!AS10","v":0},{"$f":"'1c'!AT10","v":0},{"$f":"'1c'!AU10","v":0},{"$f":"'1c'!AV10","v":0},{"$f":"'1c'!AW10","v":0},{"$f":"'1c'!AX10","v":0},{"$f":"'1c'!AY10","v":0},{"$f":"'1c'!AZ10","v":0},{"$f":"'1c'!BA10","v":0},{"$f":"'1c'!BB10","v":0},{"$f":"'1c'!BC10","v":0},{"$f":"'1c'!BD10","v":0},{"$f":"'1c'!BE10","v":0}]
[{"$f":"'1c'!A11","v":"1c"},{"$f":"'1c'!B11","v":0},{"$f":"'1c'!C11","v":0},{"$f":"'1c'!D11","v":"lehrer09"},{"$f":"'1c'!E11","v":0},{"$f":"'1c'!F11","v":0},{"$f":"'1c'!G11","v":0},{"$f":"'1c'!H11","v":0},{"$f":"'1c'!I11","v":0},{"$f":"'1c'!J11","v":0},{"$f":"'1c'!K11","v":0},{"$f":"'1c'!L11","v":0},{"$f":"'1c'!M11","v":0},{"$f":"'1c'!N11","v":0},{"$f":"'1c'!O11","v":0},{"$f":"'1c'!P11","v":0},{"$f":"'1c'!Q11","v":0},{"$f":"'1c'!R11","v":0},{"$f":"'1c'!S11","v":0},{"$f":"'1c'!T11","v":0},{"$f":"'1c'!U11","v":0},{"$f":"'1c'!V11","v":0},{"$f":"'1c'!W11","v":0},{"$f":"'1c'!X11","v":0},{"$f":"'1c'!Y11","v":0},{"$f":"'1c'!Z11","v":0},{"$f":"'1c'!AA11","v":0},{"$f":"'1c'!AB11","v":0},{"$f":"'1c'!AC11","v":0},{"$f":"'1c'!AD11","v":0},{"$f":"'1c'!AE11","v":0},{"$f":"'1c'!AF11","v":0},{"$f":"'1c'!AG11","v":0},{"$f":"'1c'!AH11","v":0},{"$f":"'1c'!AI11","v":0},{"$f":"'1c'!AJ11","v":0},{"$f":"'1c'!AK11","v":0},{"$f":"'1c'!AL11","v":0},{"$f":"'1c'!AM11","v":0},{"$f":"'1c'!AN11","v":0},{"$f":"'1c'!AO11","v":0},{"$f":"'1c'!AP11","v":0},{"$f":"'1c'!AQ11","v":0},{"$f":"'1c'!AR11","v":0},{"$f":"'1c'!AS11","v":0},{"$f":"'1c'!AT11","v":0},{"$f":"'1c'!AU11","v":0},{"$f":"'1c'!AV11","v":0},{"$f":"'1c'!AW11","v":0},{"$f":"'1c'!AX11","v":0},{"$f":"'1c'!AY11","v":0},{"$f":"'1c'!AZ11","v":0},{"$f":"'1c'!BA11","v":0},{"$f":"'1c'!BB11","v":0},{"$f":"'1c'!BC11","v":0},{"$f":"'1c'!BD11","v":0},{"$f":"'1c'!BE11","v":0}]
[{"$f":"'1c'!A12","v":"1c"},{"$f":"'1c'!B12","v":0},{"$f":"'1c'!C12","v":0},{"$f":"'1c'!D12","v":"lehrer10"},{"$f":"'1c'!E12","v":0},{"$f":"'1c'!F12","v":0},{"$f":"'1c'!G12","v":0},{"$f":"'1c'!H12","v":0},{"$f":"'1c'!I12","v":0},{"$f":"'1c'!J12","v":0},{"$f":"'1c'!K12","v":0},{"$f":"'1c'!L12","v":0},{"$f":"'1c'!M12","v":0},{"$f":"'1c'!N12","v":0},{"$f":"'1c'!O12","v":0},{"$f":"'1c'!P12","v":0},{"$f":"'1c'!Q12","v":0},{"$f":"'1c'!R12","v":0},{"$f":"'1c'!S12","v":0},{"$f":"'1c'!T12","v":0},{"$f":"'1c'!U12","v":0},{"$f":"'1c'!V12","v":0},{"$f":"'1c'!W12","v":0},{"$f":"'1c'!X12","v":0},{"$f":"'1c'!Y12","v":0},{"$f":"'1c'!Z12","v":0},{"$f":"'1c'!AA12","v":0},{"$f":"'1c'!AB12","v":0},{"$f":"'1c'!AC12","v":0},{"$f":"'1c'!AD12","v":0},{"$f":"'1c'!AE12","v":0},{"$f":"'1c'!AF12","v":0},{"$f":"'1c'!AG12","v":0},{"$f":"'1c'!AH12","v":0},{"$f":"'1c'!AI12","v":0},{"$f":"'1c'!AJ12","v":0},{"$f":"'1c'!AK12","v":0},{"$f":"'1c'!AL12","v":0},{"$f":"'1c'!AM12","v":0},{"$f":"'1c'!AN12","v":0},{"$f":"'1c'!AO12","v":0},{"$f":"'1c'!AP12","v":0},{"$f":"'1c'!AQ12","v":0},{"$f":"'1c'!AR12","v":0},{"$f":"'1c'!AS12","v":0},{"$f":"'1c'!AT12","v":0},{"$f":"'1c'!AU12","v":0},{"$f":"'1c'!AV12","v":0},{"$f":"'1c'!AW12","v":0},{"$f":"'1c'!AX12","v":0},{"$f":"'1c'!AY12","v":0},{"$f":"'1c'!AZ12","v":0},{"$f":"'1c'!BA12","v":0},{"$f":"'1c'!BB12","v":0},{"$f":"'1c'!BC12","v":0},{"$f":"'1c'!BD12","v":0},{"$f":"'1c'!BE12","v":0}]
[{"$f":"'1c'!A13","v":"1c"},{"$f":"'1c'!B13","v":0},{"$f":"'1c'!C13","v":0},{"$f":"'1c'!D13","v":"lehrer11"},{"$f":"'1c'!E13","v":0},{"$f":"'1c'!F13","v":0},{"$f":"'1c'!G13","v":0},{"$f":"'1c'!H13","v":0},{"$f":"'1c'!I13","v":0},{"$f":"'1c'!J13","v":0},{"$f":"'1c'!K13","v":0},{"$f":"'1c'!L13","v":0},{"$f":"'1c'!M13","v":0},{"$f":"'1c'!N13","v":0},{"$f":"'1c'!O13","v":0},{"$f":"'1c'!P13","v":0},{"$f":"'1c'!Q13","v":0},{"$f":"'1c'!R13","v":0},{"$f":"'1c'!S13","v":0},{"$f":"'1c'!T13","v":0},{"$f":"'1c'!U13","v":0},{"$f":"'1c'!V13","v":0},{"$f":"'1c'!W13","v":0},{"$f":"'1c'!X13","v":0},{"$f":"'1c'!Y13","v":0},{"$f":"'1c'!Z13","v":0},{"$f":"'1c'!AA13","v":0},{"$f":"'1c'!AB13","v":0},{"$f":"'1c'!AC13","v":0},{"$f":"'1c'!AD13","v":0},{"$f":"'1c'!AE13","v":0},{"$f":"'1c'!AF13","v":0},{"$f":"'1c'!AG13","v":0},{"$f":"'1c'!AH13","v":0},{"$f":"'1c'!AI13","v":0},{"$f":"'1c'!AJ13","v":0},{"$f":"'1c'!AK13","v":0},{"$f":"'1c'!AL13","v":0},{"$f":"'1c'!AM13","v":0},{"$f":"'1c'!AN13","v":0},{"$f":"'1c'!AO13","v":0},{"$f":"'1c'!AP13","v":0},{"$f":"'1c'!AQ13","v":0},{"$f":"'1c'!AR13","v":0},{"$f":"'1c'!AS13","v":0},{"$f":"'1c'!AT13","v":0},{"$f":"'1c'!AU13","v":0},{"$f":"'1c'!AV13","v":0},{"$f":"'1c'!AW13","v":0},{"$f":"'1c'!AX13","v":0},{"$f":"'1c'!AY13","v":0},{"$f":"'1c'!AZ13","v":0},{"$f":"'1c'!BA13","v":0},{"$f":"'1c'!BB13","v":0},{"$f":"'1c'!BC13","v":0},{"$f":"'1c'!BD13","v":0},{"$f":"'1c'!BE13","v":0}]
[{"$f":"'1c'!A14","v":"1c"},{"$f":"'1c'!B14","v":0},{"$f":"'1c'!C14","v":0},{"$f":"'1c'!D14","v":"lehrer12"},{"$f":"'1c'!E14","v":0},{"$f":"'1c'!F14","v":0},{"$f":"'1c'!G14","v":0},{"$f":"'1c'!H14","v":0},{"$f":"'1c'!I14","v":0},{"$f":"'1c'!J14","v":0},{"$f":"'1c'!K14","v":0},{"$f":"'1c'!L14","v":0},{"$f":"'1c'!M14","v":0},{"$f":"'1c'!N14","v":0},{"$f":"'1c'!O14","v":0},{"$f":"'1c'!P14","v":0},{"$f":"'1c'!Q14","v":0},{"$f":"'1c'!R14","v":0},{"$f":"'1c'!S14","v":0},{"$f":"'1c'!T14","v":0},{"$f":"'1c'!U14","v":0},{"$f":"'1c'!V14","v":0},{"$f":"'1c'!W14","v":0},{"$f":"'1c'!X14","v":0},{"$f":"'1c'!Y14","v":0},{"$f":"'1c'!Z14","v":0},{"$f":"'1c'!AA14","v":0},{"$f":"'1c'!AB14","v":0},{"$f":"'1c'!AC14","v":0},{"$f":"'1c'!AD14","v":0},{"$f":"'1c'!AE14","v":0},{"$f":"'1c'!AF14","v":0},{"$f":"'1c'!AG14","v":0},{"$f":"'1c'!AH14","v":0},{"$f":"'1c'!AI14","v":0},{"$f":"'1c'!AJ14","v":0},{"$f":"'1c'!AK14","v":0},{"$f":"'1c'!AL14","v":0},{"$f":"'1c'!AM14","v":0},{"$f":"'1c'!AN14","v":0},{"$f":"'1c'!AO14","v":0},{"$f":"'1c'!AP14","v":0},{"$f":"'1c'!AQ14","v":0},{"$f":"'1c'!AR14","v":0},{"$f":"'1c'!AS14","v":0},{"$f":"'1c'!AT14","v":0},{"$f":"'1c'!AU14","v":0},{"$f":"'1c'!AV14","v":0},{"$f":"'1c'!AW14","v":0},{"$f":"'1c'!AX14","v":0},{"$f":"'1c'!AY14","v":0},{"$f":"'1c'!AZ14","v":0},{"$f":"'1c'!BA14","v":0},{"$f":"'1c'!BB14","v":0},{"$f":"'1c'!BC14","v":0},{"$f":"'1c'!BD14","v":0},{"$f":"'1c'!BE14","v":0}]
[{"$f":"'1c'!A15","v":"1c"},{"$f":"'1c'!B15","v":0},{"$f":"'1c'!C15","v":0},{"$f":"'1c'!D15","v":"lehrer13"},{"$f":"'1c'!E15","v":0},{"$f":"'1c'!F15","v":0},{"$f":"'1c'!G15","v":0},{"$f":"'1c'!H15","v":0},{"$f":"'1c'!I15","v":0},{"$f":"'1c'!J15","v":0},{"$f":"'1c'!K15","v":0},{"$f":"'1c'!L15","v":0},{"$f":"'1c'!M15","v":0},{"$f":"'1c'!N15","v":0},{"$f":"'1c'!O15","v":0},{"$f":"'1c'!P15","v":0},{"$f":"'1c'!Q15","v":0},{"$f":"'1c'!R15","v":0},{"$f":"'1c'!S15","v":0},{"$f":"'1c'!T15","v":0},{"$f":"'1c'!U15","v":0},{"$f":"'1c'!V15","v":0},{"$f":"'1c'!W15","v":0},{"$f":"'1c'!X15","v":0},{"$f":"'1c'!Y15","v":0},{"$f":"'1c'!Z15","v":0},{"$f":"'1c'!AA15","v":0},{"$f":"'1c'!AB15","v":0},{"$f":"'1c'!AC15","v":0},{"$f":"'1c'!AD15","v":0},{"$f":"'1c'!AE15","v":0},{"$f":"'1c'!AF15","v":0},{"$f":"'1c'!AG15","v":0},{"$f":"'1c'!AH15","v":0},{"$f":"'1c'!AI15","v":0},{"$f":"'1c'!AJ15","v":0},{"$f":"'1c'!AK15","v":0},{"$f":"'1c'!AL15","v":0},{"$f":"'1c'!AM15","v":0},{"$f":"'1c'!AN15","v":0},{"$f":"'1c'!AO15","v":0},{"$f":"'1c'!AP15","v":0},{"$f":"'1c'!AQ15","v":0},{"$f":"'1c'!AR15","v":0},{"$f":"'1c'!AS15","v":0},{"$f":"'1c'!AT15","v":0},{"$f":"'1c'!AU15","v":0},{"$f":"'1c'!AV15","v":0},{"$f":"'1c'!AW15","v":0},{"$f":"'1c'!AX15","v":0},{"$f":"'1c'!AY15","v":0},{"$f":"'1c'!AZ15","v":0},{"$f":"'1c'!BA15","v":0},{"$f":"'1c'!BB15","v":0},{"$f":"'1c'!BC15","v":0},{"$f":"'1c'!BD15","v":0},{"$f":"'1c'!BE15","v":0}]
[{"$f":"'1c'!A16","v":"1c"},{"$f":"'1c'!B16","v":0},{"$f":"'1c'!C16","v":0},{"$f":"'1c'!D16","v":"lehrer14"},{"$f":"'1c'!E16","v":0},{"$f":"'1c'!F16","v":0},{"$f":"'1c'!G16","v":0},{"$f":"'1c'!H16","v":0},{"$f":"'1c'!I16","v":0},{"$f":"'1c'!J16","v":0},{"$f":"'1c'!K16","v":0},{"$f":"'1c'!L16","v":0},{"$f":"'1c'!M16","v":0},{"$f":"'1c'!N16","v":0},{"$f":"'1c'!O16","v":0},{"$f":"'1c'!P16","v":0},{"$f":"'1c'!Q16","v":0},{"$f":"'1c'!R16","v":0},{"$f":"'1c'!S16","v":0},{"$f":"'1c'!T16","v":0},{"$f":"'1c'!U16","v":0},{"$f":"'1c'!V16","v":0},{"$f":"'1c'!W16","v":0},{"$f":"'1c'!X16","v":0},{"$f":"'1c'!Y16","v":0},{"$f":"'1c'!Z16","v":0},{"$f":"'1c'!AA16","v":0},{"$f":"'1c'!AB16","v":0},{"$f":"'1c'!AC16","v":0},{"$f":"'1c'!AD16","v":0},{"$f":"'1c'!AE16","v":0},{"$f":"'1c'!AF16","v":0},{"$f":"'1c'!AG16","v":0},{"$f":"'1c'!AH16","v":0},{"$f":"'1c'!AI16","v":0},{"$f":"'1c'!AJ16","v":0},{"$f":"'1c'!AK16","v":0},{"$f":"'1c'!AL16","v":0},{"$f":"'1c'!AM16","v":0},{"$f":"'1c'!AN16","v":0},{"$f":"'1c'!AO16","v":0},{"$f":"'1c'!AP16","v":0},{"$f":"'1c'!AQ16","v":0},{"$f":"'1c'!AR16","v":0},{"$f":"'1c'!AS16","v":0},{"$f":"'1c'!AT16","v":0},{"$f":"'1c'!AU16","v":0},{"$f":"'1c'!AV16","v":0},{"$f":"'1c'!AW16","v":0},{"$f":"'1c'!AX16","v":0},{"$f":"'1c'!AY16","v":0},{"$f":"'1c'!AZ16","v":0},{"$f":"'1c'!BA16","v":0},{"$f":"'1c'!BB16","v":0},{"$f":"'1c'!BC16","v":0},{"$f":"'1c'!BD16","v":0},{"$f":"'1c'!BE16","v":0}]
[{"$f":"'1c'!A17","v":"1c"},{"$f":"'1c'!B17","v":0},{"$f":"'1c'!C17","v":0},{"$f":"'1c'!D17","v":"lehrer15"},{"$f":"'1c'!E17","v":0},{"$f":"'1c'!F17","v":0},{"$f":"'1c'!G17","v":0},{"$f":"'1c'!H17","v":0},{"$f":"'1c'!I17","v":0},{"$f":"'1c'!J17","v":0},{"$f":"'1c'!K17","v":0},{"$f":"'1c'!L17","v":0},{"$f":"'1c'!M17","v":0},{"$f":"'1c'!N17","v":0},{"$f":"'1c'!O17","v":0},{"$f":"'1c'!P17","v":0},{"$f":"'1c'!Q17","v":0},{"$f":"'1c'!R17","v":0},{"$f":"'1c'!S17","v":0},{"$f":"'1c'!T17","v":0},{"$f":"'1c'!U17","v":0},{"$f":"'1c'!V17","v":0},{"$f":"'1c'!W17","v":0},{"$f":"'1c'!X17","v":0},{"$f":"'1c'!Y17","v":0},{"$f":"'1c'!Z17","v":0},{"$f":"'1c'!AA17","v":0},{"$f":"'1c'!AB17","v":0},{"$f":"'1c'!AC17","v":0},{"$f":"'1c'!AD17","v":0},{"$f":"'1c'!AE17","v":0},{"$f":"'1c'!AF17","v":0},{"$f":"'1c'!AG17","v":0},{"$f":"'1c'!AH17","v":0},{"$f":"'1c'!AI17","v":0},{"$f":"'1c'!AJ17","v":0},{"$f":"'1c'!AK17","v":0},{"$f":"'1c'!AL17","v":0},{"$f":"'1c'!AM17","v":0},{"$f":"'1c'!AN17","v":0},{"$f":"'1c'!AO17","v":0},{"$f":"'1c'!AP17","v":0},{"$f":"'1c'!AQ17","v":0},{"$f":"'1c'!AR17","v":0},{"$f":"'1c'!AS17","v":0},{"$f":"'1c'!AT17","v":0},{"$f":"'1c'!AU17","v":0},{"$f":"'1c'!AV17","v":0},{"$f":"'1c'!AW17","v":0},{"$f":"'1c'!AX17","v":0},{"$f":"'1c'!AY17","v":0},{"$f":"'1c'!AZ17","v":0},{"$f":"'1c'!BA17","v":0},{"$f":"'1c'!BB17","v":0},{"$f":"'1c'!BC17","v":0},{"$f":"'1c'!BD17","v":0},{"$f":"'1c'!BE17","v":0}]
[{"$f":"'1c'!A18","v":"1c"},{"$f":"'1c'!B18","v":0},{"$f":"'1c'!C18","v":0},{"$f":"'1c'!D18","v":"lehrer16"},{"$f":"'1c'!E18","v":0},{"$f":"'1c'!F18","v":0},{"$f":"'1c'!G18","v":0},{"$f":"'1c'!H18","v":0},{"$f":"'1c'!I18","v":0},{"$f":"'1c'!J18","v":0},{"$f":"'1c'!K18","v":0},{"$f":"'1c'!L18","v":0},{"$f":"'1c'!M18","v":0},{"$f":"'1c'!N18","v":0},{"$f":"'1c'!O18","v":0},{"$f":"'1c'!P18","v":0},{"$f":"'1c'!Q18","v":0},{"$f":"'1c'!R18","v":0},{"$f":"'1c'!S18","v":0},{"$f":"'1c'!T18","v":0},{"$f":"'1c'!U18","v":0},{"$f":"'1c'!V18","v":0},{"$f":"'1c'!W18","v":0},{"$f":"'1c'!X18","v":0},{"$f":"'1c'!Y18","v":0},{"$f":"'1c'!Z18","v":0},{"$f":"'1c'!AA18","v":0},{"$f":"'1c'!AB18","v":0},{"$f":"'1c'!AC18","v":0},{"$f":"'1c'!AD18","v":0},{"$f":"'1c'!AE18","v":0},{"$f":"'1c'!AF18","v":0},{"$f":"'1c'!AG18","v":0},{"$f":"'1c'!AH18","v":0},{"$f":"'1c'!AI18","v":0},{"$f":"'1c'!AJ18","v":0},{"$f":"'1c'!AK18","v":0},{"$f":"'1c'!AL18","v":0},{"$f":"'1c'!AM18","v":0},{"$f":"'1c'!AN18","v":0},{"$f":"'1c'!AO18","v":0},{"$f":"'1c'!AP18","v":0},{"$f":"'1c'!AQ18","v":0},{"$f":"'1c'!AR18","v":0},{"$f":"'1c'!AS18","v":0},{"$f":"'1c'!AT18","v":0},{"$f":"'1c'!AU18","v":0},{"$f":"'1c'!AV18","v":0},{"$f":"'1c'!AW18","v":0},{"$f":"'1c'!AX18","v":0},{"$f":"'1c'!AY18","v":0},{"$f":"'1c'!AZ18","v":0},{"$f":"'1c'!BA18","v":0},{"$f":"'1c'!BB18","v":0},{"$f":"'1c'!BC18","v":0},{"$f":"'1c'!BD18","v":0},{"$f":"'1c'!BE18","v":0}]
[{"$f":"'1c'!A19","v":"1c"},{"$f":"'1c'!B19","v":0},{"$f":"'1c'!C19","v":0},{"$f":"'1c'!D19","v":"lehrer17"},{"$f":"'1c'!E19","v":0},{"$f":"'1c'!F19","v":0},{"$f":"'1c'!G19","v":0},{"$f":"'1c'!H19","v":0},{"$f":"'1c'!I19","v":0},{"$f":"'1c'!J19","v":0},{"$f":"'1c'!K19","v":0},{"$f":"'1c'!L19","v":0},{"$f":"'1c'!M19","v":0},{"$f":"'1c'!N19","v":0},{"$f":"'1c'!O19","v":0},{"$f":"'1c'!P19","v":0},{"$f":"'1c'!Q19","v":0},{"$f":"'1c'!R19","v":0},{"$f":"'1c'!S19","v":0},{"$f":"'1c'!T19","v":0},{"$f":"'1c'!U19","v":0},{"$f":"'1c'!V19","v":0},{"$f":"'1c'!W19","v":0},{"$f":"'1c'!X19","v":0},{"$f":"'1c'!Y19","v":0},{"$f":"'1c'!Z19","v":0},{"$f":"'1c'!AA19","v":0},{"$f":"'1c'!AB19","v":0},{"$f":"'1c'!AC19","v":0},{"$f":"'1c'!AD19","v":0},{"$f":"'1c'!AE19","v":0},{"$f":"'1c'!AF19","v":0},{"$f":"'1c'!AG19","v":0},{"$f":"'1c'!AH19","v":0},{"$f":"'1c'!AI19","v":0},{"$f":"'1c'!AJ19","v":0},{"$f":"'1c'!AK19","v":0},{"$f":"'1c'!AL19","v":0},{"$f":"'1c'!AM19","v":0},{"$f":"'1c'!AN19","v":0},{"$f":"'1c'!AO19","v":0},{"$f":"'1c'!AP19","v":0},{"$f":"'1c'!AQ19","v":0},{"$f":"'1c'!AR19","v":0},{"$f":"'1c'!AS19","v":0},{"$f":"'1c'!AT19","v":0},{"$f":"'1c'!AU19","v":0},{"$f":"'1c'!AV19","v":0},{"$f":"'1c'!AW19","v":0},{"$f":"'1c'!AX19","v":0},{"$f":"'1c'!AY19","v":0},{"$f":"'1c'!AZ19","v":0},{"$f":"'1c'!BA19","v":0},{"$f":"'1c'!BB19","v":0},{"$f":"'1c'!BC19","v":0},{"$f":"'1c'!BD19","v":0},{"$f":"'1c'!BE19","v":0}]
[{"$f":"'1c'!A20","v":"1c"},{"$f":"'1c'!B20","v":0},{"$f":"'1c'!C20","v":0},{"$f":"'1c'!D20","v":"lehrer18"},{"$f":"'1c'!E20","v":0},{"$f":"'1c'!F20","v":0},{"$f":"'1c'!G20","v":0},{"$f":"'1c'!H20","v":0},{"$f":"'1c'!I20","v":0},{"$f":"'1c'!J20","v":0},{"$f":"'1c'!K20","v":0},{"$f":"'1c'!L20","v":0},{"$f":"'1c'!M20","v":0},{"$f":"'1c'!N20","v":0},{"$f":"'1c'!O20","v":0},{"$f":"'1c'!P20","v":0},{"$f":"'1c'!Q20","v":0},{"$f":"'1c'!R20","v":0},{"$f":"'1c'!S20","v":0},{"$f":"'1c'!T20","v":0},{"$f":"'1c'!U20","v":0},{"$f":"'1c'!V20","v":0},{"$f":"'1c'!W20","v":0},{"$f":"'1c'!X20","v":0},{"$f":"'1c'!Y20","v":0},{"$f":"'1c'!Z20","v":0},{"$f":"'1c'!AA20","v":0},{"$f":"'1c'!AB20","v":0},{"$f":"'1c'!AC20","v":0},{"$f":"'1c'!AD20","v":0},{"$f":"'1c'!AE20","v":0},{"$f":"'1c'!AF20","v":0},{"$f":"'1c'!AG20","v":0},{"$f":"'1c'!AH20","v":0},{"$f":"'1c'!AI20","v":0},{"$f":"'1c'!AJ20","v":0},{"$f":"'1c'!AK20","v":0},{"$f":"'1c'!AL20","v":0},{"$f":"'1c'!AM20","v":0},{"$f":"'1c'!AN20","v":0},{"$f":"'1c'!AO20","v":0},{"$f":"'1c'!AP20","v":0},{"$f":"'1c'!AQ20","v":0},{"$f":"'1c'!AR20","v":0},{"$f":"'1c'!AS20","v":0},{"$f":"'1c'!AT20","v":0},{"$f":"'1c'!AU20","v":0},{"$f":"'1c'!AV20","v":0},{"$f":"'1c'!AW20","v":0},{"$f":"'1c'!AX20","v":0},{"$f":"'1c'!AY20","v":0},{"$f":"'1c'!AZ20","v":0},{"$f":"'1c'!BA20","v":0},{"$f":"'1c'!BB20","v":0},{"$f":"'1c'!BC20","v":0},{"$f":"'1c'!BD20","v":0},{"$f":"'1c'!BE20","v":0}]
[{"$f":"'1c'!A21","v":"1c"},{"$f":"'1c'!B21","v":0},{"$f":"'1c'!C21","v":0},{"$f":"'1c'!D21","v":"lehrer19"},{"$f":"'1c'!E21","v":0},{"$f":"'1c'!F21","v":0},{"$f":"'1c'!G21","v":0},{"$f":"'1c'!H21","v":0},{"$f":"'1c'!I21","v":0},{"$f":"'1c'!J21","v":0},{"$f":"'1c'!K21","v":0},{"$f":"'1c'!L21","v":0},{"$f":"'1c'!M21","v":0},{"$f":"'1c'!N21","v":0},{"$f":"'1c'!O21","v":0},{"$f":"'1c'!P21","v":0},{"$f":"'1c'!Q21","v":0},{"$f":"'1c'!R21","v":0},{"$f":"'1c'!S21","v":0},{"$f":"'1c'!T21","v":0},{"$f":"'1c'!U21","v":0},{"$f":"'1c'!V21","v":0},{"$f":"'1c'!W21","v":0},{"$f":"'1c'!X21","v":0},{"$f":"'1c'!Y21","v":0},{"$f":"'1c'!Z21","v":0},{"$f":"'1c'!AA21","v":0},{"$f":"'1c'!AB21","v":0},{"$f":"'1c'!AC21","v":0},{"$f":"'1c'!AD21","v":0},{"$f":"'1c'!AE21","v":0},{"$f":"'1c'!AF21","v":0},{"$f":"'1c'!AG21","v":0},{"$f":"'1c'!AH21","v":0},{"$f":"'1c'!AI21","v":0},{"$f":"'1c'!AJ21","v":0},{"$f":"'1c'!AK21","v":0},{"$f":"'1c'!AL21","v":0},{"$f":"'1c'!AM21","v":0},{"$f":"'1c'!AN21","v":0},{"$f":"'1c'!AO21","v":0},{"$f":"'1c'!AP21","v":0},{"$f":"'1c'!AQ21","v":0},{"$f":"'1c'!AR21","v":0},{"$f":"'1c'!AS21","v":0},{"$f":"'1c'!AT21","v":0},{"$f":"'1c'!AU21","v":0},{"$f":"'1c'!AV21","v":0},{"$f":"'1c'!AW21","v":0},{"$f":"'1c'!AX21","v":0},{"$f":"'1c'!AY21","v":0},{"$f":"'1c'!AZ21","v":0},{"$f":"'1c'!BA21","v":0},{"$f":"'1c'!BB21","v":0},{"$f":"'1c'!BC21","v":0},{"$f":"'1c'!BD21","v":0},{"$f":"'1c'!BE21","v":0}]
[{"$f":"'1c'!A22","v":"1c"},{"$f":"'1c'!B22","v":0},{"$f":"'1c'!C22","v":0},{"$f":"'1c'!D22","v":"lehrer20"},{"$f":"'1c'!E22","v":0},{"$f":"'1c'!F22","v":0},{"$f":"'1c'!G22","v":0},{"$f":"'1c'!H22","v":0},{"$f":"'1c'!I22","v":0},{"$f":"'1c'!J22","v":0},{"$f":"'1c'!K22","v":0},{"$f":"'1c'!L22","v":0},{"$f":"'1c'!M22","v":0},{"$f":"'1c'!N22","v":0},{"$f":"'1c'!O22","v":0},{"$f":"'1c'!P22","v":0},{"$f":"'1c'!Q22","v":0},{"$f":"'1c'!R22","v":0},{"$f":"'1c'!S22","v":0},{"$f":"'1c'!T22","v":0},{"$f":"'1c'!U22","v":0},{"$f":"'1c'!V22","v":0},{"$f":"'1c'!W22","v":0},{"$f":"'1c'!X22","v":0},{"$f":"'1c'!Y22","v":0},{"$f":"'1c'!Z22","v":0},{"$f":"'1c'!AA22","v":0},{"$f":"'1c'!AB22","v":0},{"$f":"'1c'!AC22","v":0},{"$f":"'1c'!AD22","v":0},{"$f":"'1c'!AE22","v":0},{"$f":"'1c'!AF22","v":0},{"$f":"'1c'!AG22","v":0},{"$f":"'1c'!AH22","v":0},{"$f":"'1c'!AI22","v":0},{"$f":"'1c'!AJ22","v":0},{"$f":"'1c'!AK22","v":0},{"$f":"'1c'!AL22","v":0},{"$f":"'1c'!AM22","v":0},{"$f":"'1c'!AN22","v":0},{"$f":"'1c'!AO22","v":0},{"$f":"'1c'!AP22","v":0},{"$f":"'1c'!AQ22","v":0},{"$f":"'1c'!AR22","v":0},{"$f":"'1c'!AS22","v":0},{"$f":"'1c'!AT22","v":0},{"$f":"'1c'!AU22","v":0},{"$f":"'1c'!AV22","v":0},{"$f":"'1c'!AW22","v":0},{"$f":"'1c'!AX22","v":0},{"$f":"'1c'!AY22","v":0},{"$f":"'1c'!AZ22","v":0},{"$f":"'1c'!BA22","v":0},{"$f":"'1c'!BB22","v":0},{"$f":"'1c'!BC22","v":0},{"$f":"'1c'!BD22","v":0},{"$f":"'1c'!BE22","v":0}]
[{"$f":"'1c'!A23","v":"1c"},{"$f":"'1c'!B23","v":0},{"$f":"'1c'!C23","v":0},{"$f":"'1c'!D23","v":"lehrer21"},{"$f":"'1c'!E23","v":0},{"$f":"'1c'!F23","v":0},{"$f":"'1c'!G23","v":0},{"$f":"'1c'!H23","v":0},{"$f":"'1c'!I23","v":0},{"$f":"'1c'!J23","v":0},{"$f":"'1c'!K23","v":0},{"$f":"'1c'!L23","v":0},{"$f":"'1c'!M23","v":0},{"$f":"'1c'!N23","v":0},{"$f":"'1c'!O23","v":0},{"$f":"'1c'!P23","v":0},{"$f":"'1c'!Q23","v":0},{"$f":"'1c'!R23","v":0},{"$f":"'1c'!S23","v":0},{"$f":"'1c'!T23","v":0},{"$f":"'1c'!U23","v":0},{"$f":"'1c'!V23","v":0},{"$f":"'1c'!W23","v":0},{"$f":"'1c'!X23","v":0},{"$f":"'1c'!Y23","v":0},{"$f":"'1c'!Z23","v":0},{"$f":"'1c'!AA23","v":0},{"$f":"'1c'!AB23","v":0},{"$f":"'1c'!AC23","v":0},{"$f":"'1c'!AD23","v":0},{"$f":"'1c'!AE23","v":0},{"$f":"'1c'!AF23","v":0},{"$f":"'1c'!AG23","v":0},{"$f":"'1c'!AH23","v":0},{"$f":"'1c'!AI23","v":0},{"$f":"'1c'!AJ23","v":0},{"$f":"'1c'!AK23","v":0},{"$f":"'1c'!AL23","v":0},{"$f":"'1c'!AM23","v":0},{"$f":"'1c'!AN23","v":0},{"$f":"'1c'!AO23","v":0},{"$f":"'1c'!AP23","v":0},{"$f":"'1c'!AQ23","v":0},{"$f":"'1c'!AR23","v":0},{"$f":"'1c'!AS23","v":0},{"$f":"'1c'!AT23","v":0},{"$f":"'1c'!AU23","v":0},{"$f":"'1c'!AV23","v":0},{"$f":"'1c'!AW23","v":0},{"$f":"'1c'!AX23","v":0},{"$f":"'1c'!AY23","v":0},{"$f":"'1c'!AZ23","v":0},{"$f":"'1c'!BA23","v":0},{"$f":"'1c'!BB23","v":0},{"$f":"'1c'!BC23","v":0},{"$f":"'1c'!BD23","v":0},{"$f":"'1c'!BE23","v":0}]
[{"$f":"'1c'!A24","v":"1c"},{"$f":"'1c'!B24","v":0},{"$f":"'1c'!C24","v":0},{"$f":"'1c'!D24","v":"lehrer22"},{"$f":"'1c'!E24","v":0},{"$f":"'1c'!F24","v":0},{"$f":"'1c'!G24","v":0},{"$f":"'1c'!H24","v":0},{"$f":"'1c'!I24","v":0},{"$f":"'1c'!J24","v":0},{"$f":"'1c'!K24","v":0},{"$f":"'1c'!L24","v":0},{"$f":"'1c'!M24","v":0},{"$f":"'1c'!N24","v":0},{"$f":"'1c'!O24","v":0},{"$f":"'1c'!P24","v":0},{"$f":"'1c'!Q24","v":0},{"$f":"'1c'!R24","v":0},{"$f":"'1c'!S24","v":0},{"$f":"'1c'!T24","v":0},{"$f":"'1c'!U24","v":0},{"$f":"'1c'!V24","v":0},{"$f":"'1c'!W24","v":0},{"$f":"'1c'!X24","v":0},{"$f":"'1c'!Y24","v":0},{"$f":"'1c'!Z24","v":0},{"$f":"'1c'!AA24","v":0},{"$f":"'1c'!AB24","v":0},{"$f":"'1c'!AC24","v":0},{"$f":"'1c'!AD24","v":0},{"$f":"'1c'!AE24","v":0},{"$f":"'1c'!AF24","v":0},{"$f":"'1c'!AG24","v":0},{"$f":"'1c'!AH24","v":0},{"$f":"'1c'!AI24","v":0},{"$f":"'1c'!AJ24","v":0},{"$f":"'1c'!AK24","v":0},{"$f":"'1c'!AL24","v":0},{"$f":"'1c'!AM24","v":0},{"$f":"'1c'!AN24","v":0},{"$f":"'1c'!AO24","v":0},{"$f":"'1c'!AP24","v":0},{"$f":"'1c'!AQ24","v":0},{"$f":"'1c'!AR24","v":0},{"$f":"'1c'!AS24","v":0},{"$f":"'1c'!AT24","v":0},{"$f":"'1c'!AU24","v":0},{"$f":"'1c'!AV24","v":0},{"$f":"'1c'!AW24","v":0},{"$f":"'1c'!AX24","v":0},{"$f":"'1c'!AY24","v":0},{"$f":"'1c'!AZ24","v":0},{"$f":"'1c'!BA24","v":0},{"$f":"'1c'!BB24","v":0},{"$f":"'1c'!BC24","v":0},{"$f":"'1c'!BD24","v":0},{"$f":"'1c'!BE24","v":0}]
[{"$f":"'1c'!A25","v":"1c"},{"$f":"'1c'!B25","v":0},{"$f":"'1c'!C25","v":0},{"$f":"'1c'!D25","v":"lehrer23"},{"$f":"'1c'!E25","v":0},{"$f":"'1c'!F25","v":0},{"$f":"'1c'!G25","v":0},{"$f":"'1c'!H25","v":0},{"$f":"'1c'!I25","v":0},{"$f":"'1c'!J25","v":0},{"$f":"'1c'!K25","v":0},{"$f":"'1c'!L25","v":0},{"$f":"'1c'!M25","v":0},{"$f":"'1c'!N25","v":0},{"$f":"'1c'!O25","v":0},{"$f":"'1c'!P25","v":0},{"$f":"'1c'!Q25","v":0},{"$f":"'1c'!R25","v":0},{"$f":"'1c'!S25","v":0},{"$f":"'1c'!T25","v":0},{"$f":"'1c'!U25","v":0},{"$f":"'1c'!V25","v":0},{"$f":"'1c'!W25","v":0},{"$f":"'1c'!X25","v":0},{"$f":"'1c'!Y25","v":0},{"$f":"'1c'!Z25","v":0},{"$f":"'1c'!AA25","v":0},{"$f":"'1c'!AB25","v":0},{"$f":"'1c'!AC25","v":0},{"$f":"'1c'!AD25","v":0},{"$f":"'1c'!AE25","v":0},{"$f":"'1c'!AF25","v":0},{"$f":"'1c'!AG25","v":0},{"$f":"'1c'!AH25","v":0},{"$f":"'1c'!AI25","v":0},{"$f":"'1c'!AJ25","v":0},{"$f":"'1c'!AK25","v":0},{"$f":"'1c'!AL25","v":0},{"$f":"'1c'!AM25","v":0},{"$f":"'1c'!AN25","v":0},{"$f":"'1c'!AO25","v":0},{"$f":"'1c'!AP25","v":0},{"$f":"'1c'!AQ25","v":0},{"$f":"'1c'!AR25","v":0},{"$f":"'1c'!AS25","v":0},{"$f":"'1c'!AT25","v":0},{"$f":"'1c'!AU25","v":0},{"$f":"'1c'!AV25","v":0},{"$f":"'1c'!AW25","v":0},{"$f":"'1c'!AX25","v":0},{"$f":"'1c'!AY25","v":0},{"$f":"'1c'!AZ25","v":0},{"$f":"'1c'!BA25","v":0},{"$f":"'1c'!BB25","v":0},{"$f":"'1c'!BC25","v":0},{"$f":"'1c'!BD25","v":0},{"$f":"'1c'!BE25","v":0}]
[{"$f":"'1c'!A26","v":"1c"},{"$f":"'1c'!B26","v":0},{"$f":"'1c'!C26","v":0},{"$f":"'1c'!D26","v":"lehrer24"},{"$f":"'1c'!E26","v":0},{"$f":"'1c'!F26","v":0},{"$f":"'1c'!G26","v":0},{"$f":"'1c'!H26","v":0},{"$f":"'1c'!I26","v":0},{"$f":"'1c'!J26","v":0},{"$f":"'1c'!K26","v":0},{"$f":"'1c'!L26","v":0},{"$f":"'1c'!M26","v":0},{"$f":"'1c'!N26","v":0},{"$f":"'1c'!O26","v":0},{"$f":"'1c'!P26","v":0},{"$f":"'1c'!Q26","v":0},{"$f":"'1c'!R26","v":0},{"$f":"'1c'!S26","v":0},{"$f":"'1c'!T26","v":0},{"$f":"'1c'!U26","v":0},{"$f":"'1c'!V26","v":0},{"$f":"'1c'!W26","v":0},{"$f":"'1c'!X26","v":0},{"$f":"'1c'!Y26","v":0},{"$f":"'1c'!Z26","v":0},{"$f":"'1c'!AA26","v":0},{"$f":"'1c'!AB26","v":0},{"$f":"'1c'!AC26","v":0},{"$f":"'1c'!AD26","v":0},{"$f":"'1c'!AE26","v":0},{"$f":"'1c'!AF26","v":0},{"$f":"'1c'!AG26","v":0},{"$f":"'1c'!AH26","v":0},{"$f":"'1c'!AI26","v":0},{"$f":"'1c'!AJ26","v":0},{"$f":"'1c'!AK26","v":0},{"$f":"'1c'!AL26","v":0},{"$f":"'1c'!AM26","v":0},{"$f":"'1c'!AN26","v":0},{"$f":"'1c'!AO26","v":0},{"$f":"'1c'!AP26","v":0},{"$f":"'1c'!AQ26","v":0},{"$f":"'1c'!AR26","v":0},{"$f":"'1c'!AS26","v":0},{"$f":"'1c'!AT26","v":0},{"$f":"'1c'!AU26","v":0},{"$f":"'1c'!AV26","v":0},{"$f":"'1c'!AW26","v":0},{"$f":"'1c'!AX26","v":0},{"$f":"'1c'!AY26","v":0},{"$f":"'1c'!AZ26","v":0},{"$f":"'1c'!BA26","v":0},{"$f":"'1c'!BB26","v":0},{"$f":"'1c'!BC26","v":0},{"$f":"'1c'!BD26","v":0},{"$f":"'1c'!BE26","v":0}]
[{"$f":"'1c'!A27","v":"1c"},{"$f":"'1c'!B27","v":0},{"$f":"'1c'!C27","v":0},{"$f":"'1c'!D27","v":"lehrer25"},{"$f":"'1c'!E27","v":0},{"$f":"'1c'!F27","v":0},{"$f":"'1c'!G27","v":0},{"$f":"'1c'!H27","v":0},{"$f":"'1c'!I27","v":0},{"$f":"'1c'!J27","v":0},{"$f":"'1c'!K27","v":0},{"$f":"'1c'!L27","v":0},{"$f":"'1c'!M27","v":0},{"$f":"'1c'!N27","v":0},{"$f":"'1c'!O27","v":0},{"$f":"'1c'!P27","v":0},{"$f":"'1c'!Q27","v":0},{"$f":"'1c'!R27","v":0},{"$f":"'1c'!S27","v":0},{"$f":"'1c'!T27","v":0},{"$f":"'1c'!U27","v":0},{"$f":"'1c'!V27","v":0},{"$f":"'1c'!W27","v":0},{"$f":"'1c'!X27","v":0},{"$f":"'1c'!Y27","v":0},{"$f":"'1c'!Z27","v":0},{"$f":"'1c'!AA27","v":0},{"$f":"'1c'!AB27","v":0},{"$f":"'1c'!AC27","v":0},{"$f":"'1c'!AD27","v":0},{"$f":"'1c'!AE27","v":0},{"$f":"'1c'!AF27","v":0},{"$f":"'1c'!AG27","v":0},{"$f":"'1c'!AH27","v":0},{"$f":"'1c'!AI27","v":0},{"$f":"'1c'!AJ27","v":0},{"$f":"'1c'!AK27","v":0},{"$f":"'1c'!AL27","v":0},{"$f":"'1c'!AM27","v":0},{"$f":"'1c'!AN27","v":0},{"$f":"'1c'!AO27","v":0},{"$f":"'1c'!AP27","v":0},{"$f":"'1c'!AQ27","v":0},{"$f":"'1c'!AR27","v":0},{"$f":"'1c'!AS27","v":0},{"$f":"'1c'!AT27","v":0},{"$f":"'1c'!AU27","v":0},{"$f":"'1c'!AV27","v":0},{"$f":"'1c'!AW27","v":0},{"$f":"'1c'!AX27","v":0},{"$f":"'1c'!AY27","v":0},{"$f":"'1c'!AZ27","v":0},{"$f":"'1c'!BA27","v":0},{"$f":"'1c'!BB27","v":0},{"$f":"'1c'!BC27","v":0},{"$f":"'1c'!BD27","v":0},{"$f":"'1c'!BE27","v":0}]
[{"$f":"'1c'!A28","v":"1c"},{"$f":"'1c'!B28","v":0},{"$f":"'1c'!C28","v":0},{"$f":"'1c'!D28","v":"lehrer26"},{"$f":"'1c'!E28","v":0},{"$f":"'1c'!F28","v":0},{"$f":"'1c'!G28","v":0},{"$f":"'1c'!H28","v":0},{"$f":"'1c'!I28","v":0},{"$f":"'1c'!J28","v":0},{"$f":"'1c'!K28","v":0},{"$f":"'1c'!L28","v":0},{"$f":"'1c'!M28","v":0},{"$f":"'1c'!N28","v":0},{"$f":"'1c'!O28","v":0},{"$f":"'1c'!P28","v":0},{"$f":"'1c'!Q28","v":0},{"$f":"'1c'!R28","v":0},{"$f":"'1c'!S28","v":0},{"$f":"'1c'!T28","v":0},{"$f":"'1c'!U28","v":0},{"$f":"'1c'!V28","v":0},{"$f":"'1c'!W28","v":0},{"$f":"'1c'!X28","v":0},{"$f":"'1c'!Y28","v":0},{"$f":"'1c'!Z28","v":0},{"$f":"'1c'!AA28","v":0},{"$f":"'1c'!AB28","v":0},{"$f":"'1c'!AC28","v":0},{"$f":"'1c'!AD28","v":0},{"$f":"'1c'!AE28","v":0},{"$f":"'1c'!AF28","v":0},{"$f":"'1c'!AG28","v":0},{"$f":"'1c'!AH28","v":0},{"$f":"'1c'!AI28","v":0},{"$f":"'1c'!AJ28","v":0},{"$f":"'1c'!AK28","v":0},{"$f":"'1c'!AL28","v":0},{"$f":"'1c'!AM28","v":0},{"$f":"'1c'!AN28","v":0},{"$f":"'1c'!AO28","v":0},{"$f":"'1c'!AP28","v":0},{"$f":"'1c'!AQ28","v":0},{"$f":"'1c'!AR28","v":0},{"$f":"'1c'!AS28","v":0},{"$f":"'1c'!AT28","v":0},{"$f":"'1c'!AU28","v":0},{"$f":"'1c'!AV28","v":0},{"$f":"'1c'!AW28","v":0},{"$f":"'1c'!AX28","v":0},{"$f":"'1c'!AY28","v":0},{"$f":"'1c'!AZ28","v":0},{"$f":"'1c'!BA28","v":0},{"$f":"'1c'!BB28","v":0},{"$f":"'1c'!BC28","v":0},{"$f":"'1c'!BD28","v":0},{"$f":"'1c'!BE28","v":0}]
[{"$f":"'1c'!A29","v":"1c"},{"$f":"'1c'!B29","v":0},{"$f":"'1c'!C29","v":0},{"$f":"'1c'!D29","v":"lehrer27"},{"$f":"'1c'!E29","v":0},{"$f":"'1c'!F29","v":0},{"$f":"'1c'!G29","v":0},{"$f":"'1c'!H29","v":0},{"$f":"'1c'!I29","v":0},{"$f":"'1c'!J29","v":0},{"$f":"'1c'!K29","v":0},{"$f":"'1c'!L29","v":0},{"$f":"'1c'!M29","v":0},{"$f":"'1c'!N29","v":0},{"$f":"'1c'!O29","v":0},{"$f":"'1c'!P29","v":0},{"$f":"'1c'!Q29","v":0},{"$f":"'1c'!R29","v":0},{"$f":"'1c'!S29","v":0},{"$f":"'1c'!T29","v":0},{"$f":"'1c'!U29","v":0},{"$f":"'1c'!V29","v":0},{"$f":"'1c'!W29","v":0},{"$f":"'1c'!X29","v":0},{"$f":"'1c'!Y29","v":0},{"$f":"'1c'!Z29","v":0},{"$f":"'1c'!AA29","v":0},{"$f":"'1c'!AB29","v":0},{"$f":"'1c'!AC29","v":0},{"$f":"'1c'!AD29","v":0},{"$f":"'1c'!AE29","v":0},{"$f":"'1c'!AF29","v":0},{"$f":"'1c'!AG29","v":0},{"$f":"'1c'!AH29","v":0},{"$f":"'1c'!AI29","v":0},{"$f":"'1c'!AJ29","v":0},{"$f":"'1c'!AK29","v":0},{"$f":"'1c'!AL29","v":0},{"$f":"'1c'!AM29","v":0},{"$f":"'1c'!AN29","v":0},{"$f":"'1c'!AO29","v":0},{"$f":"'1c'!AP29","v":0},{"$f":"'1c'!AQ29","v":0},{"$f":"'1c'!AR29","v":0},{"$f":"'1c'!AS29","v":0},{"$f":"'1c'!AT29","v":0},{"$f":"'1c'!AU29","v":0},{"$f":"'1c'!AV29","v":0},{"$f":"'1c'!AW29","v":0},{"$f":"'1c'!AX29","v":0},{"$f":"'1c'!AY29","v":0},{"$f":"'1c'!AZ29","v":0},{"$f":"'1c'!BA29","v":0},{"$f":"'1c'!BB29","v":0},{"$f":"'1c'!BC29","v":0},{"$f":"'1c'!BD29","v":0},{"$f":"'1c'!BE29","v":0}]
[{"$f":"'1c'!A30","v":"1c"},{"$f":"'1c'!B30","v":0},{"$f":"'1c'!C30","v":0},{"$f":"'1c'!D30","v":"lehrer28"},{"$f":"'1c'!E30","v":0},{"$f":"'1c'!F30","v":0},{"$f":"'1c'!G30","v":0},{"$f":"'1c'!H30","v":0},{"$f":"'1c'!I30","v":0},{"$f":"'1c'!J30","v":0},{"$f":"'1c'!K30","v":0},{"$f":"'1c'!L30","v":0},{"$f":"'1c'!M30","v":0},{"$f":"'1c'!N30","v":0},{"$f":"'1c'!O30","v":0},{"$f":"'1c'!P30","v":0},{"$f":"'1c'!Q30","v":0},{"$f":"'1c'!R30","v":0},{"$f":"'1c'!S30","v":0},{"$f":"'1c'!T30","v":0},{"$f":"'1c'!U30","v":0},{"$f":"'1c'!V30","v":0},{"$f":"'1c'!W30","v":0},{"$f":"'1c'!X30","v":0},{"$f":"'1c'!Y30","v":0},{"$f":"'1c'!Z30","v":0},{"$f":"'1c'!AA30","v":0},{"$f":"'1c'!AB30","v":0},{"$f":"'1c'!AC30","v":0},{"$f":"'1c'!AD30","v":0},{"$f":"'1c'!AE30","v":0},{"$f":"'1c'!AF30","v":0},{"$f":"'1c'!AG30","v":0},{"$f":"'1c'!AH30","v":0},{"$f":"'1c'!AI30","v":0},{"$f":"'1c'!AJ30","v":0},{"$f":"'1c'!AK30","v":0},{"$f":"'1c'!AL30","v":0},{"$f":"'1c'!AM30","v":0},{"$f":"'1c'!AN30","v":0},{"$f":"'1c'!AO30","v":0},{"$f":"'1c'!AP30","v":0},{"$f":"'1c'!AQ30","v":0},{"$f":"'1c'!AR30","v":0},{"$f":"'1c'!AS30","v":0},{"$f":"'1c'!AT30","v":0},{"$f":"'1c'!AU30","v":0},{"$f":"'1c'!AV30","v":0},{"$f":"'1c'!AW30","v":0},{"$f":"'1c'!AX30","v":0},{"$f":"'1c'!AY30","v":0},{"$f":"'1c'!AZ30","v":0},{"$f":"'1c'!BA30","v":0},{"$f":"'1c'!BB30","v":0},{"$f":"'1c'!BC30","v":0},{"$f":"'1c'!BD30","v":0},{"$f":"'1c'!BE30","v":0}]
[{"$f":"'1c'!A31","v":"1c"},{"$f":"'1c'!B31","v":0},{"$f":"'1c'!C31","v":0},{"$f":"'1c'!D31","v":"lehrer29"},{"$f":"'1c'!E31","v":0},{"$f":"'1c'!F31","v":0},{"$f":"'1c'!G31","v":0},{"$f":"'1c'!H31","v":0},{"$f":"'1c'!I31","v":0},{"$f":"'1c'!J31","v":0},{"$f":"'1c'!K31","v":0},{"$f":"'1c'!L31","v":0},{"$f":"'1c'!M31","v":0},{"$f":"'1c'!N31","v":0},{"$f":"'1c'!O31","v":0},{"$f":"'1c'!P31","v":0},{"$f":"'1c'!Q31","v":0},{"$f":"'1c'!R31","v":0},{"$f":"'1c'!S31","v":0},{"$f":"'1c'!T31","v":0},{"$f":"'1c'!U31","v":0},{"$f":"'1c'!V31","v":0},{"$f":"'1c'!W31","v":0},{"$f":"'1c'!X31","v":0},{"$f":"'1c'!Y31","v":0},{"$f":"'1c'!Z31","v":0},{"$f":"'1c'!AA31","v":0},{"$f":"'1c'!AB31","v":0},{"$f":"'1c'!AC31","v":0},{"$f":"'1c'!AD31","v":0},{"$f":"'1c'!AE31","v":0},{"$f":"'1c'!AF31","v":0},{"$f":"'1c'!AG31","v":0},{"$f":"'1c'!AH31","v":0},{"$f":"'1c'!AI31","v":0},{"$f":"'1c'!AJ31","v":0},{"$f":"'1c'!AK31","v":0},{"$f":"'1c'!AL31","v":0},{"$f":"'1c'!AM31","v":0},{"$f":"'1c'!AN31","v":0},{"$f":"'1c'!AO31","v":0},{"$f":"'1c'!AP31","v":0},{"$f":"'1c'!AQ31","v":0},{"$f":"'1c'!AR31","v":0},{"$f":"'1c'!AS31","v":0},{"$f":"'1c'!AT31","v":0},{"$f":"'1c'!AU31","v":0},{"$f":"'1c'!AV31","v":0},{"$f":"'1c'!AW31","v":0},{"$f":"'1c'!AX31","v":0},{"$f":"'1c'!AY31","v":0},{"$f":"'1c'!AZ31","v":0},{"$f":"'1c'!BA31","v":0},{"$f":"'1c'!BB31","v":0},{"$f":"'1c'!BC31","v":0},{"$f":"'1c'!BD31","v":0},{"$f":"'1c'!BE31","v":0}]
[{"$f":"'1c'!A32","v":"1c"},{"$f":"'1c'!B32","v":0},{"$f":"'1c'!C32","v":0},{"$f":"'1c'!D32","v":"lehrer30"},{"$f":"'1c'!E32","v":0},{"$f":"'1c'!F32","v":0},{"$f":"'1c'!G32","v":0},{"$f":"'1c'!H32","v":0},{"$f":"'1c'!I32","v":0},{"$f":"'1c'!J32","v":0},{"$f":"'1c'!K32","v":0},{"$f":"'1c'!L32","v":0},{"$f":"'1c'!M32","v":0},{"$f":"'1c'!N32","v":0},{"$f":"'1c'!O32","v":0},{"$f":"'1c'!P32","v":0},{"$f":"'1c'!Q32","v":0},{"$f":"'1c'!R32","v":0},{"$f":"'1c'!S32","v":0},{"$f":"'1c'!T32","v":0},{"$f":"'1c'!U32","v":0},{"$f":"'1c'!V32","v":0},{"$f":"'1c'!W32","v":0},{"$f":"'1c'!X32","v":0},{"$f":"'1c'!Y32","v":0},{"$f":"'1c'!Z32","v":0},{"$f":"'1c'!AA32","v":0},{"$f":"'1c'!AB32","v":0},{"$f":"'1c'!AC32","v":0},{"$f":"'1c'!AD32","v":0},{"$f":"'1c'!AE32","v":0},{"$f":"'1c'!AF32","v":0},{"$f":"'1c'!AG32","v":0},{"$f":"'1c'!AH32","v":0},{"$f":"'1c'!AI32","v":0},{"$f":"'1c'!AJ32","v":0},{"$f":"'1c'!AK32","v":0},{"$f":"'1c'!AL32","v":0},{"$f":"'1c'!AM32","v":0},{"$f":"'1c'!AN32","v":0},{"$f":"'1c'!AO32","v":0},{"$f":"'1c'!AP32","v":0},{"$f":"'1c'!AQ32","v":0},{"$f":"'1c'!AR32","v":0},{"$f":"'1c'!AS32","v":0},{"$f":"'1c'!AT32","v":0},{"$f":"'1c'!AU32","v":0},{"$f":"'1c'!AV32","v":0},{"$f":"'1c'!AW32","v":0},{"$f":"'1c'!AX32","v":0},{"$f":"'1c'!AY32","v":0},{"$f":"'1c'!AZ32","v":0},{"$f":"'1c'!BA32","v":0},{"$f":"'1c'!BB32","v":0},{"$f":"'1c'!BC32","v":0},{"$f":"'1c'!BD32","v":0},{"$f":"'1c'!BE32","v":0}]
[{"$f":"'1c'!A33","v":"1c"},{"$f":"'1c'!B33","v":0},{"$f":"'1c'!C33","v":0},{"$f":"'1c'!D33","v":"lehrer31"},{"$f":"'1c'!E33","v":0},{"$f":"'1c'!F33","v":0},{"$f":"'1c'!G33","v":0},{"$f":"'1c'!H33","v":0},{"$f":"'1c'!I33","v":0},{"$f":"'1c'!J33","v":0},{"$f":"'1c'!K33","v":0},{"$f":"'1c'!L33","v":0},{"$f":"'1c'!M33","v":0},{"$f":"'1c'!N33","v":0},{"$f":"'1c'!O33","v":0},{"$f":"'1c'!P33","v":0},{"$f":"'1c'!Q33","v":0},{"$f":"'1c'!R33","v":0},{"$f":"'1c'!S33","v":0},{"$f":"'1c'!T33","v":0},{"$f":"'1c'!U33","v":0},{"$f":"'1c'!V33","v":0},{"$f":"'1c'!W33","v":0},{"$f":"'1c'!X33","v":0},{"$f":"'1c'!Y33","v":0},{"$f":"'1c'!Z33","v":0},{"$f":"'1c'!AA33","v":0},{"$f":"'1c'!AB33","v":0},{"$f":"'1c'!AC33","v":0},{"$f":"'1c'!AD33","v":0},{"$f":"'1c'!AE33","v":0},{"$f":"'1c'!AF33","v":0},{"$f":"'1c'!AG33","v":0},{"$f":"'1c'!AH33","v":0},{"$f":"'1c'!AI33","v":0},{"$f":"'1c'!AJ33","v":0},{"$f":"'1c'!AK33","v":0},{"$f":"'1c'!AL33","v":0},{"$f":"'1c'!AM33","v":0},{"$f":"'1c'!AN33","v":0},{"$f":"'1c'!AO33","v":0},{"$f":"'1c'!AP33","v":0},{"$f":"'1c'!AQ33","v":0},{"$f":"'1c'!AR33","v":0},{"$f":"'1c'!AS33","v":0},{"$f":"'1c'!AT33","v":0},{"$f":"'1c'!AU33","v":0},{"$f":"'1c'!AV33","v":0},{"$f":"'1c'!AW33","v":0},{"$f":"'1c'!AX33","v":0},{"$f":"'1c'!AY33","v":0},{"$f":"'1c'!AZ33","v":0},{"$f":"'1c'!BA33","v":0},{"$f":"'1c'!BB33","v":0},{"$f":"'1c'!BC33","v":0},{"$f":"'1c'!BD33","v":0},{"$f":"'1c'!BE33","v":0}]
[{"$f":"'1c'!A34","v":"1c"},{"$f":"'1c'!B34","v":0},{"$f":"'1c'!C34","v":0},{"$f":"'1c'!D34","v":"lehrer32"},{"$f":"'1c'!E34","v":0},{"$f":"'1c'!F34","v":0},{"$f":"'1c'!G34","v":0},{"$f":"'1c'!H34","v":0},{"$f":"'1c'!I34","v":0},{"$f":"'1c'!J34","v":0},{"$f":"'1c'!K34","v":0},{"$f":"'1c'!L34","v":0},{"$f":"'1c'!M34","v":0},{"$f":"'1c'!N34","v":0},{"$f":"'1c'!O34","v":0},{"$f":"'1c'!P34","v":0},{"$f":"'1c'!Q34","v":0},{"$f":"'1c'!R34","v":0},{"$f":"'1c'!S34","v":0},{"$f":"'1c'!T34","v":0},{"$f":"'1c'!U34","v":0},{"$f":"'1c'!V34","v":0},{"$f":"'1c'!W34","v":0},{"$f":"'1c'!X34","v":0},{"$f":"'1c'!Y34","v":0},{"$f":"'1c'!Z34","v":0},{"$f":"'1c'!AA34","v":0},{"$f":"'1c'!AB34","v":0},{"$f":"'1c'!AC34","v":0},{"$f":"'1c'!AD34","v":0},{"$f":"'1c'!AE34","v":0},{"$f":"'1c'!AF34","v":0},{"$f":"'1c'!AG34","v":0},{"$f":"'1c'!AH34","v":0},{"$f":"'1c'!AI34","v":0},{"$f":"'1c'!AJ34","v":0},{"$f":"'1c'!AK34","v":0},{"$f":"'1c'!AL34","v":0},{"$f":"'1c'!AM34","v":0},{"$f":"'1c'!AN34","v":0},{"$f":"'1c'!AO34","v":0},{"$f":"'1c'!AP34","v":0},{"$f":"'1c'!AQ34","v":0},{"$f":"'1c'!AR34","v":0},{"$f":"'1c'!AS34","v":0},{"$f":"'1c'!AT34","v":0},{"$f":"'1c'!AU34","v":0},{"$f":"'1c'!AV34","v":0},{"$f":"'1c'!AW34","v":0},{"$f":"'1c'!AX34","v":0},{"$f":"'1c'!AY34","v":0},{"$f":"'1c'!AZ34","v":0},{"$f":"'1c'!BA34","v":0},{"$f":"'1c'!BB34","v":0},{"$f":"'1c'!BC34","v":0},{"$f":"'1c'!BD34","v":0},{"$f":"'1c'!BE34","v":0}]
[{"$f":"'1c'!A35","v":"1c"},{"$f":"'1c'!B35","v":0},{"$f":"'1c'!C35","v":0},{"$f":"'1c'!D35","v":"lehrer33"},{"$f":"'1c'!E35","v":0},{"$f":"'1c'!F35","v":0},{"$f":"'1c'!G35","v":0},{"$f":"'1c'!H35","v":0},{"$f":"'1c'!I35","v":0},{"$f":"'1c'!J35","v":0},{"$f":"'1c'!K35","v":0},{"$f":"'1c'!L35","v":0},{"$f":"'1c'!M35","v":0},{"$f":"'1c'!N35","v":0},{"$f":"'1c'!O35","v":0},{"$f":"'1c'!P35","v":0},{"$f":"'1c'!Q35","v":0},{"$f":"'1c'!R35","v":0},{"$f":"'1c'!S35","v":0},{"$f":"'1c'!T35","v":0},{"$f":"'1c'!U35","v":0},{"$f":"'1c'!V35","v":0},{"$f":"'1c'!W35","v":0},{"$f":"'1c'!X35","v":0},{"$f":"'1c'!Y35","v":0},{"$f":"'1c'!Z35","v":0},{"$f":"'1c'!AA35","v":0},{"$f":"'1c'!AB35","v":0},{"$f":"'1c'!AC35","v":0},{"$f":"'1c'!AD35","v":0},{"$f":"'1c'!AE35","v":0},{"$f":"'1c'!AF35","v":0},{"$f":"'1c'!AG35","v":0},{"$f":"'1c'!AH35","v":0},{"$f":"'1c'!AI35","v":0},{"$f":"'1c'!AJ35","v":0},{"$f":"'1c'!AK35","v":0},{"$f":"'1c'!AL35","v":0},{"$f":"'1c'!AM35","v":0},{"$f":"'1c'!AN35","v":0},{"$f":"'1c'!AO35","v":0},{"$f":"'1c'!AP35","v":0},{"$f":"'1c'!AQ35","v":0},{"$f":"'1c'!AR35","v":0},{"$f":"'1c'!AS35","v":0},{"$f":"'1c'!AT35","v":0},{"$f":"'1c'!AU35","v":0},{"$f":"'1c'!AV35","v":0},{"$f":"'1c'!AW35","v":0},{"$f":"'1c'!AX35","v":0},{"$f":"'1c'!AY35","v":0},{"$f":"'1c'!AZ35","v":0},{"$f":"'1c'!BA35","v":0},{"$f":"'1c'!BB35","v":0},{"$f":"'1c'!BC35","v":0},{"$f":"'1c'!BD35","v":0},{"$f":"'1c'!BE35","v":0}]
[{"$f":"'1c'!A36","v":"1c"},{"$f":"'1c'!B36","v":0},{"$f":"'1c'!C36","v":0},{"$f":"'1c'!D36","v":"lehrer34"},{"$f":"'1c'!E36","v":0},{"$f":"'1c'!F36","v":0},{"$f":"'1c'!G36","v":0},{"$f":"'1c'!H36","v":0},{"$f":"'1c'!I36","v":0},{"$f":"'1c'!J36","v":0},{"$f":"'1c'!K36","v":0},{"$f":"'1c'!L36","v":0},{"$f":"'1c'!M36","v":0},{"$f":"'1c'!N36","v":0},{"$f":"'1c'!O36","v":0},{"$f":"'1c'!P36","v":0},{"$f":"'1c'!Q36","v":0},{"$f":"'1c'!R36","v":0},{"$f":"'1c'!S36","v":0},{"$f":"'1c'!T36","v":0},{"$f":"'1c'!U36","v":0},{"$f":"'1c'!V36","v":0},{"$f":"'1c'!W36","v":0},{"$f":"'1c'!X36","v":0},{"$f":"'1c'!Y36","v":0},{"$f":"'1c'!Z36","v":0},{"$f":"'1c'!AA36","v":0},{"$f":"'1c'!AB36","v":0},{"$f":"'1c'!AC36","v":0},{"$f":"'1c'!AD36","v":0},{"$f":"'1c'!AE36","v":0},{"$f":"'1c'!AF36","v":0},{"$f":"'1c'!AG36","v":0},{"$f":"'1c'!AH36","v":0},{"$f":"'1c'!AI36","v":0},{"$f":"'1c'!AJ36","v":0},{"$f":"'1c'!AK36","v":0},{"$f":"'1c'!AL36","v":0},{"$f":"'1c'!AM36","v":0},{"$f":"'1c'!AN36","v":0},{"$f":"'1c'!AO36","v":0},{"$f":"'1c'!AP36","v":0},{"$f":"'1c'!AQ36","v":0},{"$f":"'1c'!AR36","v":0},{"$f":"'1c'!AS36","v":0},{"$f":"'1c'!AT36","v":0},{"$f":"'1c'!AU36","v":0},{"$f":"'1c'!AV36","v":0},{"$f":"'1c'!AW36","v":0},{"$f":"'1c'!AX36","v":0},{"$f":"'1c'!AY36","v":0},{"$f":"'1c'!AZ36","v":0},{"$f":"'1c'!BA36","v":0},{"$f":"'1c'!BB36","v":0},{"$f":"'1c'!BC36","v":0},{"$f":"'1c'!BD36","v":0},{"$f":"'1c'!BE36","v":0}]
[{"$f":"'1c'!A37","v":"1c"},{"$f":"'1c'!B37","v":0},{"$f":"'1c'!C37","v":0},{"$f":"'1c'!D37","v":"lehrer35"},{"$f":"'1c'!E37","v":0},{"$f":"'1c'!F37","v":0},{"$f":"'1c'!G37","v":0},{"$f":"'1c'!H37","v":0},{"$f":"'1c'!I37","v":0},{"$f":"'1c'!J37","v":0},{"$f":"'1c'!K37","v":0},{"$f":"'1c'!L37","v":0},{"$f":"'1c'!M37","v":0},{"$f":"'1c'!N37","v":0},{"$f":"'1c'!O37","v":0},{"$f":"'1c'!P37","v":0},{"$f":"'1c'!Q37","v":0},{"$f":"'1c'!R37","v":0},{"$f":"'1c'!S37","v":0},{"$f":"'1c'!T37","v":0},{"$f":"'1c'!U37","v":0},{"$f":"'1c'!V37","v":0},{"$f":"'1c'!W37","v":0},{"$f":"'1c'!X37","v":0},{"$f":"'1c'!Y37","v":0},{"$f":"'1c'!Z37","v":0},{"$f":"'1c'!AA37","v":0},{"$f":"'1c'!AB37","v":0},{"$f":"'1c'!AC37","v":0},{"$f":"'1c'!AD37","v":0},{"$f":"'1c'!AE37","v":0},{"$f":"'1c'!AF37","v":0},{"$f":"'1c'!AG37","v":0},{"$f":"'1c'!AH37","v":0},{"$f":"'1c'!AI37","v":0},{"$f":"'1c'!AJ37","v":0},{"$f":"'1c'!AK37","v":0},{"$f":"'1c'!AL37","v":0},{"$f":"'1c'!AM37","v":0},{"$f":"'1c'!AN37","v":0},{"$f":"'1c'!AO37","v":0},{"$f":"'1c'!AP37","v":0},{"$f":"'1c'!AQ37","v":0},{"$f":"'1c'!AR37","v":0},{"$f":"'1c'!AS37","v":0},{"$f":"'1c'!AT37","v":0},{"$f":"'1c'!AU37","v":0},{"$f":"'1c'!AV37","v":0},{"$f":"'1c'!AW37","v":0},{"$f":"'1c'!AX37","v":0},{"$f":"'1c'!AY37","v":0},{"$f":"'1c'!AZ37","v":0},{"$f":"'1c'!BA37","v":0},{"$f":"'1c'!BB37","v":0},{"$f":"'1c'!BC37","v":0},{"$f":"'1c'!BD37","v":0},{"$f":"'1c'!BE37","v":0}]
[{"$f":"'1c'!A38","v":"1c"},{"$f":"'1c'!B38","v":0},{"$f":"'1c'!C38","v":0},{"$f":"'1c'!D38","v":"lehrer36"},{"$f":"'1c'!E38","v":0},{"$f":"'1c'!F38","v":0},{"$f":"'1c'!G38","v":0},{"$f":"'1c'!H38","v":0},{"$f":"'1c'!I38","v":0},{"$f":"'1c'!J38","v":0},{"$f":"'1c'!K38","v":0},{"$f":"'1c'!L38","v":0},{"$f":"'1c'!M38","v":0},{"$f":"'1c'!N38","v":0},{"$f":"'1c'!O38","v":0},{"$f":"'1c'!P38","v":0},{"$f":"'1c'!Q38","v":0},{"$f":"'1c'!R38","v":0},{"$f":"'1c'!S38","v":0},{"$f":"'1c'!T38","v":0},{"$f":"'1c'!U38","v":0},{"$f":"'1c'!V38","v":0},{"$f":"'1c'!W38","v":0},{"$f":"'1c'!X38","v":0},{"$f":"'1c'!Y38","v":0},{"$f":"'1c'!Z38","v":0},{"$f":"'1c'!AA38","v":0},{"$f":"'1c'!AB38","v":0},{"$f":"'1c'!AC38","v":0},{"$f":"'1c'!AD38","v":0},{"$f":"'1c'!AE38","v":0},{"$f":"'1c'!AF38","v":0},{"$f":"'1c'!AG38","v":0},{"$f":"'1c'!AH38","v":0},{"$f":"'1c'!AI38","v":0},{"$f":"'1c'!AJ38","v":0},{"$f":"'1c'!AK38","v":0},{"$f":"'1c'!AL38","v":0},{"$f":"'1c'!AM38","v":0},{"$f":"'1c'!AN38","v":0},{"$f":"'1c'!AO38","v":0},{"$f":"'1c'!AP38","v":0},{"$f":"'1c'!AQ38","v":0},{"$f":"'1c'!AR38","v":0},{"$f":"'1c'!AS38","v":0},{"$f":"'1c'!AT38","v":0},{"$f":"'1c'!AU38","v":0},{"$f":"'1c'!AV38","v":0},{"$f":"'1c'!AW38","v":0},{"$f":"'1c'!AX38","v":0},{"$f":"'1c'!AY38","v":0},{"$f":"'1c'!AZ38","v":0},{"$f":"'1c'!BA38","v":0},{"$f":"'1c'!BB38","v":0},{"$f":"'1c'!BC38","v":0},{"$f":"'1c'!BD38","v":0},{"$f":"'1c'!BE38","v":0}]
[{"$f":"'1c'!A39","v":"1c"},{"$f":"'1c'!B39","v":0},{"$f":"'1c'!C39","v":0},{"$f":"'1c'!D39","v":"lehrer37"},{"$f":"'1c'!E39","v":0},{"$f":"'1c'!F39","v":0},{"$f":"'1c'!G39","v":0},{"$f":"'1c'!H39","v":0},{"$f":"'1c'!I39","v":0},{"$f":"'1c'!J39","v":0},{"$f":"'1c'!K39","v":0},{"$f":"'1c'!L39","v":0},{"$f":"'1c'!M39","v":0},{"$f":"'1c'!N39","v":0},{"$f":"'1c'!O39","v":0},{"$f":"'1c'!P39","v":0},{"$f":"'1c'!Q39","v":0},{"$f":"'1c'!R39","v":0},{"$f":"'1c'!S39","v":0},{"$f":"'1c'!T39","v":0},{"$f":"'1c'!U39","v":0},{"$f":"'1c'!V39","v":0},{"$f":"'1c'!W39","v":0},{"$f":"'1c'!X39","v":0},{"$f":"'1c'!Y39","v":0},{"$f":"'1c'!Z39","v":0},{"$f":"'1c'!AA39","v":0},{"$f":"'1c'!AB39","v":0},{"$f":"'1c'!AC39","v":0},{"$f":"'1c'!AD39","v":0},{"$f":"'1c'!AE39","v":0},{"$f":"'1c'!AF39","v":0},{"$f":"'1c'!AG39","v":0},{"$f":"'1c'!AH39","v":0},{"$f":"'1c'!AI39","v":0},{"$f":"'1c'!AJ39","v":0},{"$f":"'1c'!AK39","v":0},{"$f":"'1c'!AL39","v":0},{"$f":"'1c'!AM39","v":0},{"$f":"'1c'!AN39","v":0},{"$f":"'1c'!AO39","v":0},{"$f":"'1c'!AP39","v":0},{"$f":"'1c'!AQ39","v":0},{"$f":"'1c'!AR39","v":0},{"$f":"'1c'!AS39","v":0},{"$f":"'1c'!AT39","v":0},{"$f":"'1c'!AU39","v":0},{"$f":"'1c'!AV39","v":0},{"$f":"'1c'!AW39","v":0},{"$f":"'1c'!AX39","v":0},{"$f":"'1c'!AY39","v":0},{"$f":"'1c'!AZ39","v":0},{"$f":"'1c'!BA39","v":0},{"$f":"'1c'!BB39","v":0},{"$f":"'1c'!BC39","v":0},{"$f":"'1c'!BD39","v":0},{"$f":"'1c'!BE39","v":0}]
[{"$f":"'1c'!A40","v":"1c"},{"$f":"'1c'!B40","v":0},{"$f":"'1c'!C40","v":0},{"$f":"'1c'!D40","v":"lehrer38"},{"$f":"'1c'!E40","v":0},{"$f":"'1c'!F40","v":0},{"$f":"'1c'!G40","v":0},{"$f":"'1c'!H40","v":0},{"$f":"'1c'!I40","v":0},{"$f":"'1c'!J40","v":0},{"$f":"'1c'!K40","v":0},{"$f":"'1c'!L40","v":0},{"$f":"'1c'!M40","v":0},{"$f":"'1c'!N40","v":0},{"$f":"'1c'!O40","v":0},{"$f":"'1c'!P40","v":0},{"$f":"'1c'!Q40","v":0},{"$f":"'1c'!R40","v":0},{"$f":"'1c'!S40","v":0},{"$f":"'1c'!T40","v":0},{"$f":"'1c'!U40","v":0},{"$f":"'1c'!V40","v":0},{"$f":"'1c'!W40","v":0},{"$f":"'1c'!X40","v":0},{"$f":"'1c'!Y40","v":0},{"$f":"'1c'!Z40","v":0},{"$f":"'1c'!AA40","v":0},{"$f":"'1c'!AB40","v":0},{"$f":"'1c'!AC40","v":0},{"$f":"'1c'!AD40","v":0},{"$f":"'1c'!AE40","v":0},{"$f":"'1c'!AF40","v":0},{"$f":"'1c'!AG40","v":0},{"$f":"'1c'!AH40","v":0},{"$f":"'1c'!AI40","v":0},{"$f":"'1c'!AJ40","v":0},{"$f":"'1c'!AK40","v":0},{"$f":"'1c'!AL40","v":0},{"$f":"'1c'!AM40","v":0},{"$f":"'1c'!AN40","v":0},{"$f":"'1c'!AO40","v":0},{"$f":"'1c'!AP40","v":0},{"$f":"'1c'!AQ40","v":0},{"$f":"'1c'!AR40","v":0},{"$f":"'1c'!AS40","v":0},{"$f":"'1c'!AT40","v":0},{"$f":"'1c'!AU40","v":0},{"$f":"'1c'!AV40","v":0},{"$f":"'1c'!AW40","v":0},{"$f":"'1c'!AX40","v":0},{"$f":"'1c'!AY40","v":0},{"$f":"'1c'!AZ40","v":0},{"$f":"'1c'!BA40","v":0},{"$f":"'1c'!BB40","v":0},{"$f":"'1c'!BC40","v":0},{"$f":"'1c'!BD40","v":0},{"$f":"'1c'!BE40","v":0}]
[{"$f":"'1c'!A41","v":"1c"},{"$f":"'1c'!B41","v":0},{"$f":"'1c'!C41","v":0},{"$f":"'1c'!D41","v":"lehrer39"},{"$f":"'1c'!E41","v":0},{"$f":"'1c'!F41","v":0},{"$f":"'1c'!G41","v":0},{"$f":"'1c'!H41","v":0},{"$f":"'1c'!I41","v":0},{"$f":"'1c'!J41","v":0},{"$f":"'1c'!K41","v":0},{"$f":"'1c'!L41","v":0},{"$f":"'1c'!M41","v":0},{"$f":"'1c'!N41","v":0},{"$f":"'1c'!O41","v":0},{"$f":"'1c'!P41","v":0},{"$f":"'1c'!Q41","v":0},{"$f":"'1c'!R41","v":0},{"$f":"'1c'!S41","v":0},{"$f":"'1c'!T41","v":0},{"$f":"'1c'!U41","v":0},{"$f":"'1c'!V41","v":0},{"$f":"'1c'!W41","v":0},{"$f":"'1c'!X41","v":0},{"$f":"'1c'!Y41","v":0},{"$f":"'1c'!Z41","v":0},{"$f":"'1c'!AA41","v":0},{"$f":"'1c'!AB41","v":0},{"$f":"'1c'!AC41","v":0},{"$f":"'1c'!AD41","v":0},{"$f":"'1c'!AE41","v":0},{"$f":"'1c'!AF41","v":0},{"$f":"'1c'!AG41","v":0},{"$f":"'1c'!AH41","v":0},{"$f":"'1c'!AI41","v":0},{"$f":"'1c'!AJ41","v":0},{"$f":"'1c'!AK41","v":0},{"$f":"'1c'!AL41","v":0},{"$f":"'1c'!AM41","v":0},{"$f":"'1c'!AN41","v":0},{"$f":"'1c'!AO41","v":0},{"$f":"'1c'!AP41","v":0},{"$f":"'1c'!AQ41","v":0},{"$f":"'1c'!AR41","v":0},{"$f":"'1c'!AS41","v":0},{"$f":"'1c'!AT41","v":0},{"$f":"'1c'!AU41","v":0},{"$f":"'1c'!AV41","v":0},{"$f":"'1c'!AW41","v":0},{"$f":"'1c'!AX41","v":0},{"$f":"'1c'!AY41","v":0},{"$f":"'1c'!AZ41","v":0},{"$f":"'1c'!BA41","v":0},{"$f":"'1c'!BB41","v":0},{"$f":"'1c'!BC41","v":0},{"$f":"'1c'!BD41","v":0},{"$f":"'1c'!BE41","v":0}]
[{"$f":"'1c'!A42","v":"1c"},{"$f":"'1c'!B42","v":0},{"$f":"'1c'!C42","v":0},{"$f":"'1c'!D42","v":"lehrer40"},{"$f":"'1c'!E42","v":0},{"$f":"'1c'!F42","v":0},{"$f":"'1c'!G42","v":0},{"$f":"'1c'!H42","v":0},{"$f":"'1c'!I42","v":0},{"$f":"'1c'!J42","v":0},{"$f":"'1c'!K42","v":0},{"$f":"'1c'!L42","v":0},{"$f":"'1c'!M42","v":0},{"$f":"'1c'!N42","v":0},{"$f":"'1c'!O42","v":0},{"$f":"'1c'!P42","v":0},{"$f":"'1c'!Q42","v":0},{"$f":"'1c'!R42","v":0},{"$f":"'1c'!S42","v":0},{"$f":"'1c'!T42","v":0},{"$f":"'1c'!U42","v":0},{"$f":"'1c'!V42","v":0},{"$f":"'1c'!W42","v":0},{"$f":"'1c'!X42","v":0},{"$f":"'1c'!Y42","v":0},{"$f":"'1c'!Z42","v":0},{"$f":"'1c'!AA42","v":0},{"$f":"'1c'!AB42","v":0},{"$f":"'1c'!AC42","v":0},{"$f":"'1c'!AD42","v":0},{"$f":"'1c'!AE42","v":0},{"$f":"'1c'!AF42","v":0},{"$f":"'1c'!AG42","v":0},{"$f":"'1c'!AH42","v":0},{"$f":"'1c'!AI42","v":0},{"$f":"'1c'!AJ42","v":0},{"$f":"'1c'!AK42","v":0},{"$f":"'1c'!AL42","v":0},{"$f":"'1c'!AM42","v":0},{"$f":"'1c'!AN42","v":0},{"$f":"'1c'!AO42","v":0},{"$f":"'1c'!AP42","v":0},{"$f":"'1c'!AQ42","v":0},{"$f":"'1c'!AR42","v":0},{"$f":"'1c'!AS42","v":0},{"$f":"'1c'!AT42","v":0},{"$f":"'1c'!AU42","v":0},{"$f":"'1c'!AV42","v":0},{"$f":"'1c'!AW42","v":0},{"$f":"'1c'!AX42","v":0},{"$f":"'1c'!AY42","v":0},{"$f":"'1c'!AZ42","v":0},{"$f":"'1c'!BA42","v":0},{"$f":"'1c'!BB42","v":0},{"$f":"'1c'!BC42","v":0},{"$f":"'1c'!BD42","v":0},{"$f":"'1c'!BE42","v":0}]
[{"$f":"'1c'!A43","v":"1c"},{"$f":"'1c'!B43","v":0},{"$f":"'1c'!C43","v":0},{"$f":"'1c'!D43","v":"lehrer41"},{"$f":"'1c'!E43","v":0},{"$f":"'1c'!F43","v":0},{"$f":"'1c'!G43","v":0},{"$f":"'1c'!H43","v":0},{"$f":"'1c'!I43","v":0},{"$f":"'1c'!J43","v":0},{"$f":"'1c'!K43","v":0},{"$f":"'1c'!L43","v":0},{"$f":"'1c'!M43","v":0},{"$f":"'1c'!N43","v":0},{"$f":"'1c'!O43","v":0},{"$f":"'1c'!P43","v":0},{"$f":"'1c'!Q43","v":0},{"$f":"'1c'!R43","v":0},{"$f":"'1c'!S43","v":0},{"$f":"'1c'!T43","v":0},{"$f":"'1c'!U43","v":0},{"$f":"'1c'!V43","v":0},{"$f":"'1c'!W43","v":0},{"$f":"'1c'!X43","v":0},{"$f":"'1c'!Y43","v":0},{"$f":"'1c'!Z43","v":0},{"$f":"'1c'!AA43","v":0},{"$f":"'1c'!AB43","v":0},{"$f":"'1c'!AC43","v":0},{"$f":"'1c'!AD43","v":0},{"$f":"'1c'!AE43","v":0},{"$f":"'1c'!AF43","v":0},{"$f":"'1c'!AG43","v":0},{"$f":"'1c'!AH43","v":0},{"$f":"'1c'!AI43","v":0},{"$f":"'1c'!AJ43","v":0},{"$f":"'1c'!AK43","v":0},{"$f":"'1c'!AL43","v":0},{"$f":"'1c'!AM43","v":0},{"$f":"'1c'!AN43","v":0},{"$f":"'1c'!AO43","v":0},{"$f":"'1c'!AP43","v":0},{"$f":"'1c'!AQ43","v":0},{"$f":"'1c'!AR43","v":0},{"$f":"'1c'!AS43","v":0},{"$f":"'1c'!AT43","v":0},{"$f":"'1c'!AU43","v":0},{"$f":"'1c'!AV43","v":0},{"$f":"'1c'!AW43","v":0},{"$f":"'1c'!AX43","v":0},{"$f":"'1c'!AY43","v":0},{"$f":"'1c'!AZ43","v":0},{"$f":"'1c'!BA43","v":0},{"$f":"'1c'!BB43","v":0},{"$f":"'1c'!BC43","v":0},{"$f":"'1c'!BD43","v":0},{"$f":"'1c'!BE43","v":0}]
[{"$f":"'1c'!A44","v":"1c"},{"$f":"'1c'!B44","v":0},{"$f":"'1c'!C44","v":0},{"$f":"'1c'!D44","v":"lehrer42"},{"$f":"'1c'!E44","v":0},{"$f":"'1c'!F44","v":0},{"$f":"'1c'!G44","v":0},{"$f":"'1c'!H44","v":0},{"$f":"'1c'!I44","v":0},{"$f":"'1c'!J44","v":0},{"$f":"'1c'!K44","v":0},{"$f":"'1c'!L44","v":0},{"$f":"'1c'!M44","v":0},{"$f":"'1c'!N44","v":0},{"$f":"'1c'!O44","v":0},{"$f":"'1c'!P44","v":0},{"$f":"'1c'!Q44","v":0},{"$f":"'1c'!R44","v":0},{"$f":"'1c'!S44","v":0},{"$f":"'1c'!T44","v":0},{"$f":"'1c'!U44","v":0},{"$f":"'1c'!V44","v":0},{"$f":"'1c'!W44","v":0},{"$f":"'1c'!X44","v":0},{"$f":"'1c'!Y44","v":0},{"$f":"'1c'!Z44","v":0},{"$f":"'1c'!AA44","v":0},{"$f":"'1c'!AB44","v":0},{"$f":"'1c'!AC44","v":0},{"$f":"'1c'!AD44","v":0},{"$f":"'1c'!AE44","v":0},{"$f":"'1c'!AF44","v":0},{"$f":"'1c'!AG44","v":0},{"$f":"'1c'!AH44","v":0},{"$f":"'1c'!AI44","v":0},{"$f":"'1c'!AJ44","v":0},{"$f":"'1c'!AK44","v":0},{"$f":"'1c'!AL44","v":0},{"$f":"'1c'!AM44","v":0},{"$f":"'1c'!AN44","v":0},{"$f":"'1c'!AO44","v":0},{"$f":"'1c'!AP44","v":0},{"$f":"'1c'!AQ44","v":0},{"$f":"'1c'!AR44","v":0},{"$f":"'1c'!AS44","v":0},{"$f":"'1c'!AT44","v":0},{"$f":"'1c'!AU44","v":0},{"$f":"'1c'!AV44","v":0},{"$f":"'1c'!AW44","v":0},{"$f":"'1c'!AX44","v":0},{"$f":"'1c'!AY44","v":0},{"$f":"'1c'!AZ44","v":0},{"$f":"'1c'!BA44","v":0},{"$f":"'1c'!BB44","v":0},{"$f":"'1c'!BC44","v":0},{"$f":"'1c'!BD44","v":0},{"$f":"'1c'!BE44","v":0}]
[{"$f":"'1c'!A45","v":"1c"},{"$f":"'1c'!B45","v":0},{"$f":"'1c'!C45","v":0},{"$f":"'1c'!D45","v":"lehrer43"},{"$f":"'1c'!E45","v":0},{"$f":"'1c'!F45","v":0},{"$f":"'1c'!G45","v":0},{"$f":"'1c'!H45","v":0},{"$f":"'1c'!I45","v":0},{"$f":"'1c'!J45","v":0},{"$f":"'1c'!K45","v":0},{"$f":"'1c'!L45","v":0},{"$f":"'1c'!M45","v":0},{"$f":"'1c'!N45","v":0},{"$f":"'1c'!O45","v":0},{"$f":"'1c'!P45","v":0},{"$f":"'1c'!Q45","v":0},{"$f":"'1c'!R45","v":0},{"$f":"'1c'!S45","v":0},{"$f":"'1c'!T45","v":0},{"$f":"'1c'!U45","v":0},{"$f":"'1c'!V45","v":0},{"$f":"'1c'!W45","v":0},{"$f":"'1c'!X45","v":0},{"$f":"'1c'!Y45","v":0},{"$f":"'1c'!Z45","v":0},{"$f":"'1c'!AA45","v":0},{"$f":"'1c'!AB45","v":0},{"$f":"'1c'!AC45","v":0},{"$f":"'1c'!AD45","v":0},{"$f":"'1c'!AE45","v":0},{"$f":"'1c'!AF45","v":0},{"$f":"'1c'!AG45","v":0},{"$f":"'1c'!AH45","v":0},{"$f":"'1c'!AI45","v":0},{"$f":"'1c'!AJ45","v":0},{"$f":"'1c'!AK45","v":0},{"$f":"'1c'!AL45","v":0},{"$f":"'1c'!AM45","v":0},{"$f":"'1c'!AN45","v":0},{"$f":"'1c'!AO45","v":0},{"$f":"'1c'!AP45","v":0},{"$f":"'1c'!AQ45","v":0},{"$f":"'1c'!AR45","v":0},{"$f":"'1c'!AS45","v":0},{"$f":"'1c'!AT45","v":0},{"$f":"'1c'!AU45","v":0},{"$f":"'1c'!AV45","v":0},{"$f":"'1c'!AW45","v":0},{"$f":"'1c'!AX45","v":0},{"$f":"'1c'!AY45","v":0},{"$f":"'1c'!AZ45","v":0},{"$f":"'1c'!BA45","v":0},{"$f":"'1c'!BB45","v":0},{"$f":"'1c'!BC45","v":0},{"$f":"'1c'!BD45","v":0},{"$f":"'1c'!BE45","v":0}]
[{"$f":"'1c'!A46","v":"1c"},{"$f":"'1c'!B46","v":0},{"$f":"'1c'!C46","v":0},{"$f":"'1c'!D46","v":"lehrer44"},{"$f":"'1c'!E46","v":0},{"$f":"'1c'!F46","v":0},{"$f":"'1c'!G46","v":0},{"$f":"'1c'!H46","v":0},{"$f":"'1c'!I46","v":0},{"$f":"'1c'!J46","v":0},{"$f":"'1c'!K46","v":0},{"$f":"'1c'!L46","v":0},{"$f":"'1c'!M46","v":0},{"$f":"'1c'!N46","v":0},{"$f":"'1c'!O46","v":0},{"$f":"'1c'!P46","v":0},{"$f":"'1c'!Q46","v":0},{"$f":"'1c'!R46","v":0},{"$f":"'1c'!S46","v":0},{"$f":"'1c'!T46","v":0},{"$f":"'1c'!U46","v":0},{"$f":"'1c'!V46","v":0},{"$f":"'1c'!W46","v":0},{"$f":"'1c'!X46","v":0},{"$f":"'1c'!Y46","v":0},{"$f":"'1c'!Z46","v":0},{"$f":"'1c'!AA46","v":0},{"$f":"'1c'!AB46","v":0},{"$f":"'1c'!AC46","v":0},{"$f":"'1c'!AD46","v":0},{"$f":"'1c'!AE46","v":0},{"$f":"'1c'!AF46","v":0},{"$f":"'1c'!AG46","v":0},{"$f":"'1c'!AH46","v":0},{"$f":"'1c'!AI46","v":0},{"$f":"'1c'!AJ46","v":0},{"$f":"'1c'!AK46","v":0},{"$f":"'1c'!AL46","v":0},{"$f":"'1c'!AM46","v":0},{"$f":"'1c'!AN46","v":0},{"$f":"'1c'!AO46","v":0},{"$f":"'1c'!AP46","v":0},{"$f":"'1c'!AQ46","v":0},{"$f":"'1c'!AR46","v":0},{"$f":"'1c'!AS46","v":0},{"$f":"'1c'!AT46","v":0},{"$f":"'1c'!AU46","v":0},{"$f":"'1c'!AV46","v":0},{"$f":"'1c'!AW46","v":0},{"$f":"'1c'!AX46","v":0},{"$f":"'1c'!AY46","v":0},{"$f":"'1c'!AZ46","v":0},{"$f":"'1c'!BA46","v":0},{"$f":"'1c'!BB46","v":0},{"$f":"'1c'!BC46","v":0},{"$f":"'1c'!BD46","v":0},{"$f":"'1c'!BE46","v":0}]
[{"$f":"'1c'!A47","v":"1c"},{"$f":"'1c'!B47","v":0},{"$f":"'1c'!C47","v":0},{"$f":"'1c'!D47","v":"lehrer45"},{"$f":"'1c'!E47","v":0},{"$f":"'1c'!F47","v":0},{"$f":"'1c'!G47","v":0},{"$f":"'1c'!H47","v":0},{"$f":"'1c'!I47","v":0},{"$f":"'1c'!J47","v":0},{"$f":"'1c'!K47","v":0},{"$f":"'1c'!L47","v":0},{"$f":"'1c'!M47","v":0},{"$f":"'1c'!N47","v":0},{"$f":"'1c'!O47","v":0},{"$f":"'1c'!P47","v":0},{"$f":"'1c'!Q47","v":0},{"$f":"'1c'!R47","v":0},{"$f":"'1c'!S47","v":0},{"$f":"'1c'!T47","v":0},{"$f":"'1c'!U47","v":0},{"$f":"'1c'!V47","v":0},{"$f":"'1c'!W47","v":0},{"$f":"'1c'!X47","v":0},{"$f":"'1c'!Y47","v":0},{"$f":"'1c'!Z47","v":0},{"$f":"'1c'!AA47","v":0},{"$f":"'1c'!AB47","v":0},{"$f":"'1c'!AC47","v":0},{"$f":"'1c'!AD47","v":0},{"$f":"'1c'!AE47","v":0},{"$f":"'1c'!AF47","v":0},{"$f":"'1c'!AG47","v":0},{"$f":"'1c'!AH47","v":0},{"$f":"'1c'!AI47","v":0},{"$f":"'1c'!AJ47","v":0},{"$f":"'1c'!AK47","v":0},{"$f":"'1c'!AL47","v":0},{"$f":"'1c'!AM47","v":0},{"$f":"'1c'!AN47","v":0},{"$f":"'1c'!AO47","v":0},{"$f":"'1c'!AP47","v":0},{"$f":"'1c'!AQ47","v":0},{"$f":"'1c'!AR47","v":0},{"$f":"'1c'!AS47","v":0},{"$f":"'1c'!AT47","v":0},{"$f":"'1c'!AU47","v":0},{"$f":"'1c'!AV47","v":0},{"$f":"'1c'!AW47","v":0},{"$f":"'1c'!AX47","v":0},{"$f":"'1c'!AY47","v":0},{"$f":"'1c'!AZ47","v":0},{"$f":"'1c'!BA47","v":0},{"$f":"'1c'!BB47","v":0},{"$f":"'1c'!BC47","v":0},{"$f":"'1c'!BD47","v":0},{"$f":"'1c'!BE47","v":0}]
[{"$f":"'1c'!A48","v":"1c"},{"$f":"'1c'!B48","v":0},{"$f":"'1c'!C48","v":0},{"$f":"'1c'!D48","v":"lehrer46"},{"$f":"'1c'!E48","v":0},{"$f":"'1c'!F48","v":0},{"$f":"'1c'!G48","v":0},{"$f":"'1c'!H48","v":0},{"$f":"'1c'!I48","v":0},{"$f":"'1c'!J48","v":0},{"$f":"'1c'!K48","v":0},{"$f":"'1c'!L48","v":0},{"$f":"'1c'!M48","v":0},{"$f":"'1c'!N48","v":0},{"$f":"'1c'!O48","v":0},{"$f":"'1c'!P48","v":0},{"$f":"'1c'!Q48","v":0},{"$f":"'1c'!R48","v":0},{"$f":"'1c'!S48","v":0},{"$f":"'1c'!T48","v":0},{"$f":"'1c'!U48","v":0},{"$f":"'1c'!V48","v":0},{"$f":"'1c'!W48","v":0},{"$f":"'1c'!X48","v":0},{"$f":"'1c'!Y48","v":0},{"$f":"'1c'!Z48","v":0},{"$f":"'1c'!AA48","v":0},{"$f":"'1c'!AB48","v":0},{"$f":"'1c'!AC48","v":0},{"$f":"'1c'!AD48","v":0},{"$f":"'1c'!AE48","v":0},{"$f":"'1c'!AF48","v":0},{"$f":"'1c'!AG48","v":0},{"$f":"'1c'!AH48","v":0},{"$f":"'1c'!AI48","v":0},{"$f":"'1c'!AJ48","v":0},{"$f":"'1c'!AK48","v":0},{"$f":"'1c'!AL48","v":0},{"$f":"'1c'!AM48","v":0},{"$f":"'1c'!AN48","v":0},{"$f":"'1c'!AO48","v":0},{"$f":"'1c'!AP48","v":0},{"$f":"'1c'!AQ48","v":0},{"$f":"'1c'!AR48","v":0},{"$f":"'1c'!AS48","v":0},{"$f":"'1c'!AT48","v":0},{"$f":"'1c'!AU48","v":0},{"$f":"'1c'!AV48","v":0},{"$f":"'1c'!AW48","v":0},{"$f":"'1c'!AX48","v":0},{"$f":"'1c'!AY48","v":0},{"$f":"'1c'!AZ48","v":0},{"$f":"'1c'!BA48","v":0},{"$f":"'1c'!BB48","v":0},{"$f":"'1c'!BC48","v":0},{"$f":"'1c'!BD48","v":0},{"$f":"'1c'!BE48","v":0}]
[{"$f":"'1c'!A49","v":"1c"},{"$f":"'1c'!B49","v":0},{"$f":"'1c'!C49","v":0},{"$f":"'1c'!D49","v":"lehrer47"},{"$f":"'1c'!E49","v":0},{"$f":"'1c'!F49","v":0},{"$f":"'1c'!G49","v":0},{"$f":"'1c'!H49","v":0},{"$f":"'1c'!I49","v":0},{"$f":"'1c'!J49","v":0},{"$f":"'1c'!K49","v":0},{"$f":"'1c'!L49","v":0},{"$f":"'1c'!M49","v":0},{"$f":"'1c'!N49","v":0},{"$f":"'1c'!O49","v":0},{"$f":"'1c'!P49","v":0},{"$f":"'1c'!Q49","v":0},{"$f":"'1c'!R49","v":0},{"$f":"'1c'!S49","v":0},{"$f":"'1c'!T49","v":0},{"$f":"'1c'!U49","v":0},{"$f":"'1c'!V49","v":0},{"$f":"'1c'!W49","v":0},{"$f":"'1c'!X49","v":0},{"$f":"'1c'!Y49","v":0},{"$f":"'1c'!Z49","v":0},{"$f":"'1c'!AA49","v":0},{"$f":"'1c'!AB49","v":0},{"$f":"'1c'!AC49","v":0},{"$f":"'1c'!AD49","v":0},{"$f":"'1c'!AE49","v":0},{"$f":"'1c'!AF49","v":0},{"$f":"'1c'!AG49","v":0},{"$f":"'1c'!AH49","v":0},{"$f":"'1c'!AI49","v":0},{"$f":"'1c'!AJ49","v":0},{"$f":"'1c'!AK49","v":0},{"$f":"'1c'!AL49","v":0},{"$f":"'1c'!AM49","v":0},{"$f":"'1c'!AN49","v":0},{"$f":"'1c'!AO49","v":0},{"$f":"'1c'!AP49","v":0},{"$f":"'1c'!AQ49","v":0},{"$f":"'1c'!AR49","v":0},{"$f":"'1c'!AS49","v":0},{"$f":"'1c'!AT49","v":0},{"$f":"'1c'!AU49","v":0},{"$f":"'1c'!AV49","v":0},{"$f":"'1c'!AW49","v":0},{"$f":"'1c'!AX49","v":0},{"$f":"'1c'!AY49","v":0},{"$f":"'1c'!AZ49","v":0},{"$f":"'1c'!BA49","v":0},{"$f":"'1c'!BB49","v":0},{"$f":"'1c'!BC49","v":0},{"$f":"'1c'!BD49","v":0},{"$f":"'1c'!BE49","v":0}]
[{"$f":"'1c'!A50","v":"1c"},{"$f":"'1c'!B50","v":0},{"$f":"'1c'!C50","v":0},{"$f":"'1c'!D50","v":"lehrer48"},{"$f":"'1c'!E50","v":0},{"$f":"'1c'!F50","v":0},{"$f":"'1c'!G50","v":0},{"$f":"'1c'!H50","v":0},{"$f":"'1c'!I50","v":0},{"$f":"'1c'!J50","v":0},{"$f":"'1c'!K50","v":0},{"$f":"'1c'!L50","v":0},{"$f":"'1c'!M50","v":0},{"$f":"'1c'!N50","v":0},{"$f":"'1c'!O50","v":0},{"$f":"'1c'!P50","v":0},{"$f":"'1c'!Q50","v":0},{"$f":"'1c'!R50","v":0},{"$f":"'1c'!S50","v":0},{"$f":"'1c'!T50","v":0},{"$f":"'1c'!U50","v":0},{"$f":"'1c'!V50","v":0},{"$f":"'1c'!W50","v":0},{"$f":"'1c'!X50","v":0},{"$f":"'1c'!Y50","v":0},{"$f":"'1c'!Z50","v":0},{"$f":"'1c'!AA50","v":0},{"$f":"'1c'!AB50","v":0},{"$f":"'1c'!AC50","v":0},{"$f":"'1c'!AD50","v":0},{"$f":"'1c'!AE50","v":0},{"$f":"'1c'!AF50","v":0},{"$f":"'1c'!AG50","v":0},{"$f":"'1c'!AH50","v":0},{"$f":"'1c'!AI50","v":0},{"$f":"'1c'!AJ50","v":0},{"$f":"'1c'!AK50","v":0},{"$f":"'1c'!AL50","v":0},{"$f":"'1c'!AM50","v":0},{"$f":"'1c'!AN50","v":0},{"$f":"'1c'!AO50","v":0},{"$f":"'1c'!AP50","v":0},{"$f":"'1c'!AQ50","v":0},{"$f":"'1c'!AR50","v":0},{"$f":"'1c'!AS50","v":0},{"$f":"'1c'!AT50","v":0},{"$f":"'1c'!AU50","v":0},{"$f":"'1c'!AV50","v":0},{"$f":"'1c'!AW50","v":0},{"$f":"'1c'!AX50","v":0},{"$f":"'1c'!AY50","v":0},{"$f":"'1c'!AZ50","v":0},{"$f":"'1c'!BA50","v":0},{"$f":"'1c'!BB50","v":0},{"$f":"'1c'!BC50","v":0},{"$f":"'1c'!BD50","v":0},{"$f":"'1c'!BE50","v":0}]
[{"$f":"'1d'!A3","v":"1d"},{"$f":"'1d'!B3","v":0},{"$f":"'1d'!C3","v":0},{"$f":"'1d'!D3","v":"lehrer01"},{"$f":"'1d'!E3","v":0},{"$f":"'1d'!F3","v":0},{"$f":"'1d'!G3","v":0},{"$f":"'1d'!H3","v":0},{"$f":"'1d'!I3","v":0},{"$f":"'1d'!J3","v":0},{"$f":"'1d'!K3","v":0},{"$f":"'1d'!L3","v":0},{"$f":"'1d'!M3","v":0},{"$f":"'1d'!N3","v":0},{"$f":"'1d'!O3","v":0},{"$f":"'1d'!P3","v":0},{"$f":"'1d'!Q3","v":0},{"$f":"'1d'!R3","v":0},{"$f":"'1d'!S3","v":0},{"$f":"'1d'!T3","v":0},{"$f":"'1d'!U3","v":0},{"$f":"'1d'!V3","v":0},{"$f":"'1d'!W3","v":0},{"$f":"'1d'!X3","v":0},{"$f":"'1d'!Y3","v":0},{"$f":"'1d'!Z3","v":0},{"$f":"'1d'!AA3","v":0},{"$f":"'1d'!AB3","v":0},{"$f":"'1d'!AC3","v":0},{"$f":"'1d'!AD3","v":0},{"$f":"'1d'!AE3","v":0},{"$f":"'1d'!AF3","v":0},{"$f":"'1d'!AG3","v":0},{"$f":"'1d'!AH3","v":0},{"$f":"'1d'!AI3","v":0},{"$f":"'1d'!AJ3","v":0},{"$f":"'1d'!AK3","v":0},{"$f":"'1d'!AL3","v":0},{"$f":"'1d'!AM3","v":0},{"$f":"'1d'!AN3","v":0},{"$f":"'1d'!AO3","v":0},{"$f":"'1d'!AP3","v":0},{"$f":"'1d'!AQ3","v":0},{"$f":"'1d'!AR3","v":0},{"$f":"'1d'!AS3","v":0},{"$f":"'1d'!AT3","v":0},{"$f":"'1d'!AU3","v":0},{"$f":"'1d'!AV3","v":0},{"$f":"'1d'!AW3","v":0},{"$f":"'1d'!AX3","v":0},{"$f":"'1d'!AY3","v":0},{"$f":"'1d'!AZ3","v":0},{"$f":"'1d'!BA3","v":0},{"$f":"'1d'!BB3","v":0},{"$f":"'1d'!BC3","v":0},{"$f":"'1d'!BD3","v":0},{"$f":"'1d'!BE3","v":0}]
[{"$f":"'1d'!A4","v":"1d"},{"$f":"'1d'!B4","v":0},{"$f":"'1d'!C4","v":0},{"$f":"'1d'!D4","v":"lehrer02"},{"$f":"'1d'!E4","v":0},{"$f":"'1d'!F4","v":0},{"$f":"'1d'!G4","v":0},{"$f":"'1d'!H4","v":0},{"$f":"'1d'!I4","v":0},{"$f":"'1d'!J4","v":0},{"$f":"'1d'!K4","v":0},{"$f":"'1d'!L4","v":0},{"$f":"'1d'!M4","v":0},{"$f":"'1d'!N4","v":0},{"$f":"'1d'!O4","v":0},{"$f":"'1d'!P4","v":0},{"$f":"'1d'!Q4","v":0},{"$f":"'1d'!R4","v":0},{"$f":"'1d'!S4","v":0},{"$f":"'1d'!T4","v":0},{"$f":"'1d'!U4","v":0},{"$f":"'1d'!V4","v":0},{"$f":"'1d'!W4","v":0},{"$f":"'1d'!X4","v":0},{"$f":"'1d'!Y4","v":0},{"$f":"'1d'!Z4","v":0},{"$f":"'1d'!AA4","v":0},{"$f":"'1d'!AB4","v":0},{"$f":"'1d'!AC4","v":0},{"$f":"'1d'!AD4","v":0},{"$f":"'1d'!AE4","v":0},{"$f":"'1d'!AF4","v":0},{"$f":"'1d'!AG4","v":0},{"$f":"'1d'!AH4","v":0},{"$f":"'1d'!AI4","v":0},{"$f":"'1d'!AJ4","v":0},{"$f":"'1d'!AK4","v":0},{"$f":"'1d'!AL4","v":0},{"$f":"'1d'!AM4","v":0},{"$f":"'1d'!AN4","v":0},{"$f":"'1d'!AO4","v":0},{"$f":"'1d'!AP4","v":0},{"$f":"'1d'!AQ4","v":0},{"$f":"'1d'!AR4","v":0},{"$f":"'1d'!AS4","v":0},{"$f":"'1d'!AT4","v":0},{"$f":"'1d'!AU4","v":0},{"$f":"'1d'!AV4","v":0},{"$f":"'1d'!AW4","v":0},{"$f":"'1d'!AX4","v":0},{"$f":"'1d'!AY4","v":0},{"$f":"'1d'!AZ4","v":0},{"$f":"'1d'!BA4","v":0},{"$f":"'1d'!BB4","v":0},{"$f":"'1d'!BC4","v":0},{"$f":"'1d'!BD4","v":0},{"$f":"'1d'!BE4","v":0}]
[{"$f":"'1d'!A5","v":"1d"},{"$f":"'1d'!B5","v":0},{"$f":"'1d'!C5","v":0},{"$f":"'1d'!D5","v":"lehrer03"},{"$f":"'1d'!E5","v":0},{"$f":"'1d'!F5","v":0},{"$f":"'1d'!G5","v":0},{"$f":"'1d'!H5","v":0},{"$f":"'1d'!I5","v":0},{"$f":"'1d'!J5","v":0},{"$f":"'1d'!K5","v":0},{"$f":"'1d'!L5","v":0},{"$f":"'1d'!M5","v":0},{"$f":"'1d'!N5","v":0},{"$f":"'1d'!O5","v":0},{"$f":"'1d'!P5","v":0},{"$f":"'1d'!Q5","v":0},{"$f":"'1d'!R5","v":0},{"$f":"'1d'!S5","v":0},{"$f":"'1d'!T5","v":0},{"$f":"'1d'!U5","v":0},{"$f":"'1d'!V5","v":0},{"$f":"'1d'!W5","v":0},{"$f":"'1d'!X5","v":0},{"$f":"'1d'!Y5","v":0},{"$f":"'1d'!Z5","v":0},{"$f":"'1d'!AA5","v":0},{"$f":"'1d'!AB5","v":0},{"$f":"'1d'!AC5","v":0},{"$f":"'1d'!AD5","v":0},{"$f":"'1d'!AE5","v":0},{"$f":"'1d'!AF5","v":0},{"$f":"'1d'!AG5","v":0},{"$f":"'1d'!AH5","v":0},{"$f":"'1d'!AI5","v":0},{"$f":"'1d'!AJ5","v":0},{"$f":"'1d'!AK5","v":0},{"$f":"'1d'!AL5","v":0},{"$f":"'1d'!AM5","v":0},{"$f":"'1d'!AN5","v":0},{"$f":"'1d'!AO5","v":0},{"$f":"'1d'!AP5","v":0},{"$f":"'1d'!AQ5","v":0},{"$f":"'1d'!AR5","v":0},{"$f":"'1d'!AS5","v":0},{"$f":"'1d'!AT5","v":0},{"$f":"'1d'!AU5","v":0},{"$f":"'1d'!AV5","v":0},{"$f":"'1d'!AW5","v":0},{"$f":"'1d'!AX5","v":0},{"$f":"'1d'!AY5","v":0},{"$f":"'1d'!AZ5","v":0},{"$f":"'1d'!BA5","v":0},{"$f":"'1d'!BB5","v":0},{"$f":"'1d'!BC5","v":0},{"$f":"'1d'!BD5","v":0},{"$f":"'1d'!BE5","v":0}]
[{"$f":"'1d'!A6","v":"1d"},{"$f":"'1d'!B6","v":0},{"$f":"'1d'!C6","v":0},{"$f":"'1d'!D6","v":"lehrer04"},{"$f":"'1d'!E6","v":0},{"$f":"'1d'!F6","v":0},{"$f":"'1d'!G6","v":0},{"$f":"'1d'!H6","v":0},{"$f":"'1d'!I6","v":0},{"$f":"'1d'!J6","v":0},{"$f":"'1d'!K6","v":0},{"$f":"'1d'!L6","v":0},{"$f":"'1d'!M6","v":0},{"$f":"'1d'!N6","v":0},{"$f":"'1d'!O6","v":0},{"$f":"'1d'!P6","v":0},{"$f":"'1d'!Q6","v":0},{"$f":"'1d'!R6","v":0},{"$f":"'1d'!S6","v":0},{"$f":"'1d'!T6","v":0},{"$f":"'1d'!U6","v":0},{"$f":"'1d'!V6","v":0},{"$f":"'1d'!W6","v":0},{"$f":"'1d'!X6","v":0},{"$f":"'1d'!Y6","v":0},{"$f":"'1d'!Z6","v":0},{"$f":"'1d'!AA6","v":0},{"$f":"'1d'!AB6","v":0},{"$f":"'1d'!AC6","v":0},{"$f":"'1d'!AD6","v":0},{"$f":"'1d'!AE6","v":0},{"$f":"'1d'!AF6","v":0},{"$f":"'1d'!AG6","v":0},{"$f":"'1d'!AH6","v":0},{"$f":"'1d'!AI6","v":0},{"$f":"'1d'!AJ6","v":0},{"$f":"'1d'!AK6","v":0},{"$f":"'1d'!AL6","v":0},{"$f":"'1d'!AM6","v":0},{"$f":"'1d'!AN6","v":0},{"$f":"'1d'!AO6","v":0},{"$f":"'1d'!AP6","v":0},{"$f":"'1d'!AQ6","v":0},{"$f":"'1d'!AR6","v":0},{"$f":"'1d'!AS6","v":0},{"$f":"'1d'!AT6","v":0},{"$f":"'1d'!AU6","v":0},{"$f":"'1d'!AV6","v":0},{"$f":"'1d'!AW6","v":0},{"$f":"'1d'!AX6","v":0},{"$f":"'1d'!AY6","v":0},{"$f":"'1d'!AZ6","v":0},{"$f":"'1d'!BA6","v":0},{"$f":"'1d'!BB6","v":0},{"$f":"'1d'!BC6","v":0},{"$f":"'1d'!BD6","v":0},{"$f":"'1d'!BE6","v":0}]
[{"$f":"'1d'!A7","v":"1d"},{"$f":"'1d'!B7","v":0},{"$f":"'1d'!C7","v":0},{"$f":"'1d'!D7","v":"lehrer05"},{"$f":"'1d'!E7","v":0},{"$f":"'1d'!F7","v":0},{"$f":"'1d'!G7","v":0},{"$f":"'1d'!H7","v":0},{"$f":"'1d'!I7","v":0},{"$f":"'1d'!J7","v":0},{"$f":"'1d'!K7","v":0},{"$f":"'1d'!L7","v":0},{"$f":"'1d'!M7","v":0},{"$f":"'1d'!N7","v":0},{"$f":"'1d'!O7","v":0},{"$f":"'1d'!P7","v":0},{"$f":"'1d'!Q7","v":0},{"$f":"'1d'!R7","v":0},{"$f":"'1d'!S7","v":0},{"$f":"'1d'!T7","v":0},{"$f":"'1d'!U7","v":0},{"$f":"'1d'!V7","v":0},{"$f":"'1d'!W7","v":0},{"$f":"'1d'!X7","v":0},{"$f":"'1d'!Y7","v":0},{"$f":"'1d'!Z7","v":0},{"$f":"'1d'!AA7","v":0},{"$f":"'1d'!AB7","v":0},{"$f":"'1d'!AC7","v":0},{"$f":"'1d'!AD7","v":0},{"$f":"'1d'!AE7","v":0},{"$f":"'1d'!AF7","v":0},{"$f":"'1d'!AG7","v":0},{"$f":"'1d'!AH7","v":0},{"$f":"'1d'!AI7","v":0},{"$f":"'1d'!AJ7","v":0},{"$f":"'1d'!AK7","v":0},{"$f":"'1d'!AL7","v":0},{"$f":"'1d'!AM7","v":0},{"$f":"'1d'!AN7","v":0},{"$f":"'1d'!AO7","v":0},{"$f":"'1d'!AP7","v":0},{"$f":"'1d'!AQ7","v":0},{"$f":"'1d'!AR7","v":0},{"$f":"'1d'!AS7","v":0},{"$f":"'1d'!AT7","v":0},{"$f":"'1d'!AU7","v":0},{"$f":"'1d'!AV7","v":0},{"$f":"'1d'!AW7","v":0},{"$f":"'1d'!AX7","v":0},{"$f":"'1d'!AY7","v":0},{"$f":"'1d'!AZ7","v":0},{"$f":"'1d'!BA7","v":0},{"$f":"'1d'!BB7","v":0},{"$f":"'1d'!BC7","v":0},{"$f":"'1d'!BD7","v":0},{"$f":"'1d'!BE7","v":0}]
[{"$f":"'1d'!A8","v":"1d"},{"$f":"'1d'!B8","v":0},{"$f":"'1d'!C8","v":0},{"$f":"'1d'!D8","v":"lehrer06"},{"$f":"'1d'!E8","v":0},{"$f":"'1d'!F8","v":0},{"$f":"'1d'!G8","v":0},{"$f":"'1d'!H8","v":0},{"$f":"'1d'!I8","v":0},{"$f":"'1d'!J8","v":0},{"$f":"'1d'!K8","v":0},{"$f":"'1d'!L8","v":0},{"$f":"'1d'!M8","v":0},{"$f":"'1d'!N8","v":0},{"$f":"'1d'!O8","v":0},{"$f":"'1d'!P8","v":0},{"$f":"'1d'!Q8","v":0},{"$f":"'1d'!R8","v":0},{"$f":"'1d'!S8","v":0},{"$f":"'1d'!T8","v":0},{"$f":"'1d'!U8","v":0},{"$f":"'1d'!V8","v":0},{"$f":"'1d'!W8","v":0},{"$f":"'1d'!X8","v":0},{"$f":"'1d'!Y8","v":0},{"$f":"'1d'!Z8","v":0},{"$f":"'1d'!AA8","v":0},{"$f":"'1d'!AB8","v":0},{"$f":"'1d'!AC8","v":0},{"$f":"'1d'!AD8","v":0},{"$f":"'1d'!AE8","v":0},{"$f":"'1d'!AF8","v":0},{"$f":"'1d'!AG8","v":0},{"$f":"'1d'!AH8","v":0},{"$f":"'1d'!AI8","v":0},{"$f":"'1d'!AJ8","v":0},{"$f":"'1d'!AK8","v":0},{"$f":"'1d'!AL8","v":0},{"$f":"'1d'!AM8","v":0},{"$f":"'1d'!AN8","v":0},{"$f":"'1d'!AO8","v":0},{"$f":"'1d'!AP8","v":0},{"$f":"'1d'!AQ8","v":0},{"$f":"'1d'!AR8","v":0},{"$f":"'1d'!AS8","v":0},{"$f":"'1d'!AT8","v":0},{"$f":"'1d'!AU8","v":0},{"$f":"'1d'!AV8","v":0},{"$f":"'1d'!AW8","v":0},{"$f":"'1d'!AX8","v":0},{"$f":"'1d'!AY8","v":0},{"$f":"'1d'!AZ8","v":0},{"$f":"'1d'!BA8","v":0},{"$f":"'1d'!BB8","v":0},{"$f":"'1d'!BC8","v":0},{"$f":"'1d'!BD8","v":0},{"$f":"'1d'!BE8","v":0}]
[{"$f":"'1d'!A9","v":"1d"},{"$f":"'1d'!B9","v":0},{"$f":"'1d'!C9","v":0},{"$f":"'1d'!D9","v":"lehrer07"},{"$f":"'1d'!E9","v":0},{"$f":"'1d'!F9","v":0},{"$f":"'1d'!G9","v":0},{"$f":"'1d'!H9","v":0},{"$f":"'1d'!I9","v":0},{"$f":"'1d'!J9","v":0},{"$f":"'1d'!K9","v":0},{"$f":"'1d'!L9","v":0},{"$f":"'1d'!M9","v":0},{"$f":"'1d'!N9","v":0},{"$f":"'1d'!O9","v":0},{"$f":"'1d'!P9","v":0},{"$f":"'1d'!Q9","v":0},{"$f":"'1d'!R9","v":0},{"$f":"'1d'!S9","v":0},{"$f":"'1d'!T9","v":0},{"$f":"'1d'!U9","v":0},{"$f":"'1d'!V9","v":0},{"$f":"'1d'!W9","v":0},{"$f":"'1d'!X9","v":0},{"$f":"'1d'!Y9","v":0},{"$f":"'1d'!Z9","v":0},{"$f":"'1d'!AA9","v":0},{"$f":"'1d'!AB9","v":0},{"$f":"'1d'!AC9","v":0},{"$f":"'1d'!AD9","v":0},{"$f":"'1d'!AE9","v":0},{"$f":"'1d'!AF9","v":0},{"$f":"'1d'!AG9","v":0},{"$f":"'1d'!AH9","v":0},{"$f":"'1d'!AI9","v":0},{"$f":"'1d'!AJ9","v":0},{"$f":"'1d'!AK9","v":0},{"$f":"'1d'!AL9","v":0},{"$f":"'1d'!AM9","v":0},{"$f":"'1d'!AN9","v":0},{"$f":"'1d'!AO9","v":0},{"$f":"'1d'!AP9","v":0},{"$f":"'1d'!AQ9","v":0},{"$f":"'1d'!AR9","v":0},{"$f":"'1d'!AS9","v":0},{"$f":"'1d'!AT9","v":0},{"$f":"'1d'!AU9","v":0},{"$f":"'1d'!AV9","v":0},{"$f":"'1d'!AW9","v":0},{"$f":"'1d'!AX9","v":0},{"$f":"'1d'!AY9","v":0},{"$f":"'1d'!AZ9","v":0},{"$f":"'1d'!BA9","v":0},{"$f":"'1d'!BB9","v":0},{"$f":"'1d'!BC9","v":0},{"$f":"'1d'!BD9","v":0},{"$f":"'1d'!BE9","v":0}]
[{"$f":"'1d'!A10","v":"1d"},{"$f":"'1d'!B10","v":0},{"$f":"'1d'!C10","v":0},{"$f":"'1d'!D10","v":"lehrer08"},{"$f":"'1d'!E10","v":0},{"$f":"'1d'!F10","v":0},{"$f":"'1d'!G10","v":0},{"$f":"'1d'!H10","v":0},{"$f":"'1d'!I10","v":0},{"$f":"'1d'!J10","v":0},{"$f":"'1d'!K10","v":0},{"$f":"'1d'!L10","v":0},{"$f":"'1d'!M10","v":0},{"$f":"'1d'!N10","v":0},{"$f":"'1d'!O10","v":0},{"$f":"'1d'!P10","v":0},{"$f":"'1d'!Q10","v":0},{"$f":"'1d'!R10","v":0},{"$f":"'1d'!S10","v":0},{"$f":"'1d'!T10","v":0},{"$f":"'1d'!U10","v":0},{"$f":"'1d'!V10","v":0},{"$f":"'1d'!W10","v":0},{"$f":"'1d'!X10","v":0},{"$f":"'1d'!Y10","v":0},{"$f":"'1d'!Z10","v":0},{"$f":"'1d'!AA10","v":0},{"$f":"'1d'!AB10","v":0},{"$f":"'1d'!AC10","v":0},{"$f":"'1d'!AD10","v":0},{"$f":"'1d'!AE10","v":0},{"$f":"'1d'!AF10","v":0},{"$f":"'1d'!AG10","v":0},{"$f":"'1d'!AH10","v":0},{"$f":"'1d'!AI10","v":0},{"$f":"'1d'!AJ10","v":0},{"$f":"'1d'!AK10","v":0},{"$f":"'1d'!AL10","v":0},{"$f":"'1d'!AM10","v":0},{"$f":"'1d'!AN10","v":0},{"$f":"'1d'!AO10","v":0},{"$f":"'1d'!AP10","v":0},{"$f":"'1d'!AQ10","v":0},{"$f":"'1d'!AR10","v":0},{"$f":"'1d'!AS10","v":0},{"$f":"'1d'!AT10","v":0},{"$f":"'1d'!AU10","v":0},{"$f":"'1d'!AV10","v":0},{"$f":"'1d'!AW10","v":0},{"$f":"'1d'!AX10","v":0},{"$f":"'1d'!AY10","v":0},{"$f":"'1d'!AZ10","v":0},{"$f":"'1d'!BA10","v":0},{"$f":"'1d'!BB10","v":0},{"$f":"'1d'!BC10","v":0},{"$f":"'1d'!BD10","v":0},{"$f":"'1d'!BE10","v":0}]
[{"$f":"'1d'!A11","v":"1d"},{"$f":"'1d'!B11","v":0},{"$f":"'1d'!C11","v":0},{"$f":"'1d'!D11","v":"lehrer09"},{"$f":"'1d'!E11","v":0},{"$f":"'1d'!F11","v":0},{"$f":"'1d'!G11","v":0},{"$f":"'1d'!H11","v":0},{"$f":"'1d'!I11","v":0},{"$f":"'1d'!J11","v":0},{"$f":"'1d'!K11","v":0},{"$f":"'1d'!L11","v":0},{"$f":"'1d'!M11","v":0},{"$f":"'1d'!N11","v":0},{"$f":"'1d'!O11","v":0},{"$f":"'1d'!P11","v":0},{"$f":"'1d'!Q11","v":0},{"$f":"'1d'!R11","v":0},{"$f":"'1d'!S11","v":0},{"$f":"'1d'!T11","v":0},{"$f":"'1d'!U11","v":0},{"$f":"'1d'!V11","v":0},{"$f":"'1d'!W11","v":0},{"$f":"'1d'!X11","v":0},{"$f":"'1d'!Y11","v":0},{"$f":"'1d'!Z11","v":0},{"$f":"'1d'!AA11","v":0},{"$f":"'1d'!AB11","v":0},{"$f":"'1d'!AC11","v":0},{"$f":"'1d'!AD11","v":0},{"$f":"'1d'!AE11","v":0},{"$f":"'1d'!AF11","v":0},{"$f":"'1d'!AG11","v":0},{"$f":"'1d'!AH11","v":0},{"$f":"'1d'!AI11","v":0},{"$f":"'1d'!AJ11","v":0},{"$f":"'1d'!AK11","v":0},{"$f":"'1d'!AL11","v":0},{"$f":"'1d'!AM11","v":0},{"$f":"'1d'!AN11","v":0},{"$f":"'1d'!AO11","v":0},{"$f":"'1d'!AP11","v":0},{"$f":"'1d'!AQ11","v":0},{"$f":"'1d'!AR11","v":0},{"$f":"'1d'!AS11","v":0},{"$f":"'1d'!AT11","v":0},{"$f":"'1d'!AU11","v":0},{"$f":"'1d'!AV11","v":0},{"$f":"'1d'!AW11","v":0},{"$f":"'1d'!AX11","v":0},{"$f":"'1d'!AY11","v":0},{"$f":"'1d'!AZ11","v":0},{"$f":"'1d'!BA11","v":0},{"$f":"'1d'!BB11","v":0},{"$f":"'1d'!BC11","v":0},{"$f":"'1d'!BD11","v":0},{"$f":"'1d'!BE11","v":0}]
[{"$f":"'1d'!A12","v":"1d"},{"$f":"'1d'!B12","v":0},{"$f":"'1d'!C12","v":0},{"$f":"'1d'!D12","v":"lehrer10"},{"$f":"'1d'!E12","v":0},{"$f":"'1d'!F12","v":0},{"$f":"'1d'!G12","v":0},{"$f":"'1d'!H12","v":0},{"$f":"'1d'!I12","v":0},{"$f":"'1d'!J12","v":0},{"$f":"'1d'!K12","v":0},{"$f":"'1d'!L12","v":0},{"$f":"'1d'!M12","v":0},{"$f":"'1d'!N12","v":0},{"$f":"'1d'!O12","v":0},{"$f":"'1d'!P12","v":0},{"$f":"'1d'!Q12","v":0},{"$f":"'1d'!R12","v":0},{"$f":"'1d'!S12","v":0},{"$f":"'1d'!T12","v":0},{"$f":"'1d'!U12","v":0},{"$f":"'1d'!V12","v":0},{"$f":"'1d'!W12","v":0},{"$f":"'1d'!X12","v":0},{"$f":"'1d'!Y12","v":0},{"$f":"'1d'!Z12","v":0},{"$f":"'1d'!AA12","v":0},{"$f":"'1d'!AB12","v":0},{"$f":"'1d'!AC12","v":0},{"$f":"'1d'!AD12","v":0},{"$f":"'1d'!AE12","v":0},{"$f":"'1d'!AF12","v":0},{"$f":"'1d'!AG12","v":0},{"$f":"'1d'!AH12","v":0},{"$f":"'1d'!AI12","v":0},{"$f":"'1d'!AJ12","v":0},{"$f":"'1d'!AK12","v":0},{"$f":"'1d'!AL12","v":0},{"$f":"'1d'!AM12","v":0},{"$f":"'1d'!AN12","v":0},{"$f":"'1d'!AO12","v":0},{"$f":"'1d'!AP12","v":0},{"$f":"'1d'!AQ12","v":0},{"$f":"'1d'!AR12","v":0},{"$f":"'1d'!AS12","v":0},{"$f":"'1d'!AT12","v":0},{"$f":"'1d'!AU12","v":0},{"$f":"'1d'!AV12","v":0},{"$f":"'1d'!AW12","v":0},{"$f":"'1d'!AX12","v":0},{"$f":"'1d'!AY12","v":0},{"$f":"'1d'!AZ12","v":0},{"$f":"'1d'!BA12","v":0},{"$f":"'1d'!BB12","v":0},{"$f":"'1d'!BC12","v":0},{"$f":"'1d'!BD12","v":0},{"$f":"'1d'!BE12","v":0}]
[{"$f":"'1d'!A13","v":"1d"},{"$f":"'1d'!B13","v":0},{"$f":"'1d'!C13","v":0},{"$f":"'1d'!D13","v":"lehrer11"},{"$f":"'1d'!E13","v":0},{"$f":"'1d'!F13","v":0},{"$f":"'1d'!G13","v":0},{"$f":"'1d'!H13","v":0},{"$f":"'1d'!I13","v":0},{"$f":"'1d'!J13","v":0},{"$f":"'1d'!K13","v":0},{"$f":"'1d'!L13","v":0},{"$f":"'1d'!M13","v":0},{"$f":"'1d'!N13","v":0},{"$f":"'1d'!O13","v":0},{"$f":"'1d'!P13","v":0},{"$f":"'1d'!Q13","v":0},{"$f":"'1d'!R13","v":0},{"$f":"'1d'!S13","v":0},{"$f":"'1d'!T13","v":0},{"$f":"'1d'!U13","v":0},{"$f":"'1d'!V13","v":0},{"$f":"'1d'!W13","v":0},{"$f":"'1d'!X13","v":0},{"$f":"'1d'!Y13","v":0},{"$f":"'1d'!Z13","v":0},{"$f":"'1d'!AA13","v":0},{"$f":"'1d'!AB13","v":0},{"$f":"'1d'!AC13","v":0},{"$f":"'1d'!AD13","v":0},{"$f":"'1d'!AE13","v":0},{"$f":"'1d'!AF13","v":0},{"$f":"'1d'!AG13","v":0},{"$f":"'1d'!AH13","v":0},{"$f":"'1d'!AI13","v":0},{"$f":"'1d'!AJ13","v":0},{"$f":"'1d'!AK13","v":0},{"$f":"'1d'!AL13","v":0},{"$f":"'1d'!AM13","v":0},{"$f":"'1d'!AN13","v":0},{"$f":"'1d'!AO13","v":0},{"$f":"'1d'!AP13","v":0},{"$f":"'1d'!AQ13","v":0},{"$f":"'1d'!AR13","v":0},{"$f":"'1d'!AS13","v":0},{"$f":"'1d'!AT13","v":0},{"$f":"'1d'!AU13","v":0},{"$f":"'1d'!AV13","v":0},{"$f":"'1d'!AW13","v":0},{"$f":"'1d'!AX13","v":0},{"$f":"'1d'!AY13","v":0},{"$f":"'1d'!AZ13","v":0},{"$f":"'1d'!BA13","v":0},{"$f":"'1d'!BB13","v":0},{"$f":"'1d'!BC13","v":0},{"$f":"'1d'!BD13","v":0},{"$f":"'1d'!BE13","v":0}]
[{"$f":"'1d'!A14","v":"1d"},{"$f":"'1d'!B14","v":0},{"$f":"'1d'!C14","v":0},{"$f":"'1d'!D14","v":"lehrer12"},{"$f":"'1d'!E14","v":0},{"$f":"'1d'!F14","v":0},{"$f":"'1d'!G14","v":0},{"$f":"'1d'!H14","v":0},{"$f":"'1d'!I14","v":0},{"$f":"'1d'!J14","v":0},{"$f":"'1d'!K14","v":0},{"$f":"'1d'!L14","v":0},{"$f":"'1d'!M14","v":0},{"$f":"'1d'!N14","v":0},{"$f":"'1d'!O14","v":0},{"$f":"'1d'!P14","v":0},{"$f":"'1d'!Q14","v":0},{"$f":"'1d'!R14","v":0},{"$f":"'1d'!S14","v":0},{"$f":"'1d'!T14","v":0},{"$f":"'1d'!U14","v":0},{"$f":"'1d'!V14","v":0},{"$f":"'1d'!W14","v":0},{"$f":"'1d'!X14","v":0},{"$f":"'1d'!Y14","v":0},{"$f":"'1d'!Z14","v":0},{"$f":"'1d'!AA14","v":0},{"$f":"'1d'!AB14","v":0},{"$f":"'1d'!AC14","v":0},{"$f":"'1d'!AD14","v":0},{"$f":"'1d'!AE14","v":0},{"$f":"'1d'!AF14","v":0},{"$f":"'1d'!AG14","v":0},{"$f":"'1d'!AH14","v":0},{"$f":"'1d'!AI14","v":0},{"$f":"'1d'!AJ14","v":0},{"$f":"'1d'!AK14","v":0},{"$f":"'1d'!AL14","v":0},{"$f":"'1d'!AM14","v":0},{"$f":"'1d'!AN14","v":0},{"$f":"'1d'!AO14","v":0},{"$f":"'1d'!AP14","v":0},{"$f":"'1d'!AQ14","v":0},{"$f":"'1d'!AR14","v":0},{"$f":"'1d'!AS14","v":0},{"$f":"'1d'!AT14","v":0},{"$f":"'1d'!AU14","v":0},{"$f":"'1d'!AV14","v":0},{"$f":"'1d'!AW14","v":0},{"$f":"'1d'!AX14","v":0},{"$f":"'1d'!AY14","v":0},{"$f":"'1d'!AZ14","v":0},{"$f":"'1d'!BA14","v":0},{"$f":"'1d'!BB14","v":0},{"$f":"'1d'!BC14","v":0},{"$f":"'1d'!BD14","v":0},{"$f":"'1d'!BE14","v":0}]
[{"$f":"'1d'!A15","v":"1d"},{"$f":"'1d'!B15","v":0},{"$f":"'1d'!C15","v":0},{"$f":"'1d'!D15","v":"lehrer13"},{"$f":"'1d'!E15","v":0},{"$f":"'1d'!F15","v":0},{"$f":"'1d'!G15","v":0},{"$f":"'1d'!H15","v":0},{"$f":"'1d'!I15","v":0},{"$f":"'1d'!J15","v":0},{"$f":"'1d'!K15","v":0},{"$f":"'1d'!L15","v":0},{"$f":"'1d'!M15","v":0},{"$f":"'1d'!N15","v":0},{"$f":"'1d'!O15","v":0},{"$f":"'1d'!P15","v":0},{"$f":"'1d'!Q15","v":0},{"$f":"'1d'!R15","v":0},{"$f":"'1d'!S15","v":0},{"$f":"'1d'!T15","v":0},{"$f":"'1d'!U15","v":0},{"$f":"'1d'!V15","v":0},{"$f":"'1d'!W15","v":0},{"$f":"'1d'!X15","v":0},{"$f":"'1d'!Y15","v":0},{"$f":"'1d'!Z15","v":0},{"$f":"'1d'!AA15","v":0},{"$f":"'1d'!AB15","v":0},{"$f":"'1d'!AC15","v":0},{"$f":"'1d'!AD15","v":0},{"$f":"'1d'!AE15","v":0},{"$f":"'1d'!AF15","v":0},{"$f":"'1d'!AG15","v":0},{"$f":"'1d'!AH15","v":0},{"$f":"'1d'!AI15","v":0},{"$f":"'1d'!AJ15","v":0},{"$f":"'1d'!AK15","v":0},{"$f":"'1d'!AL15","v":0},{"$f":"'1d'!AM15","v":0},{"$f":"'1d'!AN15","v":0},{"$f":"'1d'!AO15","v":0},{"$f":"'1d'!AP15","v":0},{"$f":"'1d'!AQ15","v":0},{"$f":"'1d'!AR15","v":0},{"$f":"'1d'!AS15","v":0},{"$f":"'1d'!AT15","v":0},{"$f":"'1d'!AU15","v":0},{"$f":"'1d'!AV15","v":0},{"$f":"'1d'!AW15","v":0},{"$f":"'1d'!AX15","v":0},{"$f":"'1d'!AY15","v":0},{"$f":"'1d'!AZ15","v":0},{"$f":"'1d'!BA15","v":0},{"$f":"'1d'!BB15","v":0},{"$f":"'1d'!BC15","v":0},{"$f":"'1d'!BD15","v":0},{"$f":"'1d'!BE15","v":0}]
[{"$f":"'1d'!A16","v":"1d"},{"$f":"'1d'!B16","v":0},{"$f":"'1d'!C16","v":0},{"$f":"'1d'!D16","v":"lehrer14"},{"$f":"'1d'!E16","v":0},{"$f":"'1d'!F16","v":0},{"$f":"'1d'!G16","v":0},{"$f":"'1d'!H16","v":0},{"$f":"'1d'!I16","v":0},{"$f":"'1d'!J16","v":0},{"$f":"'1d'!K16","v":0},{"$f":"'1d'!L16","v":0},{"$f":"'1d'!M16","v":0},{"$f":"'1d'!N16","v":0},{"$f":"'1d'!O16","v":0},{"$f":"'1d'!P16","v":0},{"$f":"'1d'!Q16","v":0},{"$f":"'1d'!R16","v":0},{"$f":"'1d'!S16","v":0},{"$f":"'1d'!T16","v":0},{"$f":"'1d'!U16","v":0},{"$f":"'1d'!V16","v":0},{"$f":"'1d'!W16","v":0},{"$f":"'1d'!X16","v":0},{"$f":"'1d'!Y16","v":0},{"$f":"'1d'!Z16","v":0},{"$f":"'1d'!AA16","v":0},{"$f":"'1d'!AB16","v":0},{"$f":"'1d'!AC16","v":0},{"$f":"'1d'!AD16","v":0},{"$f":"'1d'!AE16","v":0},{"$f":"'1d'!AF16","v":0},{"$f":"'1d'!AG16","v":0},{"$f":"'1d'!AH16","v":0},{"$f":"'1d'!AI16","v":0},{"$f":"'1d'!AJ16","v":0},{"$f":"'1d'!AK16","v":0},{"$f":"'1d'!AL16","v":0},{"$f":"'1d'!AM16","v":0},{"$f":"'1d'!AN16","v":0},{"$f":"'1d'!AO16","v":0},{"$f":"'1d'!AP16","v":0},{"$f":"'1d'!AQ16","v":0},{"$f":"'1d'!AR16","v":0},{"$f":"'1d'!AS16","v":0},{"$f":"'1d'!AT16","v":0},{"$f":"'1d'!AU16","v":0},{"$f":"'1d'!AV16","v":0},{"$f":"'1d'!AW16","v":0},{"$f":"'1d'!AX16","v":0},{"$f":"'1d'!AY16","v":0},{"$f":"'1d'!AZ16","v":0},{"$f":"'1d'!BA16","v":0},{"$f":"'1d'!BB16","v":0},{"$f":"'1d'!BC16","v":0},{"$f":"'1d'!BD16","v":0},{"$f":"'1d'!BE16","v":0}]
[{"$f":"'1d'!A17","v":"1d"},{"$f":"'1d'!B17","v":0},{"$f":"'1d'!C17","v":0},{"$f":"'1d'!D17","v":"lehrer15"},{"$f":"'1d'!E17","v":0},{"$f":"'1d'!F17","v":0},{"$f":"'1d'!G17","v":0},{"$f":"'1d'!H17","v":0},{"$f":"'1d'!I17","v":0},{"$f":"'1d'!J17","v":0},{"$f":"'1d'!K17","v":0},{"$f":"'1d'!L17","v":0},{"$f":"'1d'!M17","v":0},{"$f":"'1d'!N17","v":0},{"$f":"'1d'!O17","v":0},{"$f":"'1d'!P17","v":0},{"$f":"'1d'!Q17","v":0},{"$f":"'1d'!R17","v":0},{"$f":"'1d'!S17","v":0},{"$f":"'1d'!T17","v":0},{"$f":"'1d'!U17","v":0},{"$f":"'1d'!V17","v":0},{"$f":"'1d'!W17","v":0},{"$f":"'1d'!X17","v":0},{"$f":"'1d'!Y17","v":0},{"$f":"'1d'!Z17","v":0},{"$f":"'1d'!AA17","v":0},{"$f":"'1d'!AB17","v":0},{"$f":"'1d'!AC17","v":0},{"$f":"'1d'!AD17","v":0},{"$f":"'1d'!AE17","v":0},{"$f":"'1d'!AF17","v":0},{"$f":"'1d'!AG17","v":0},{"$f":"'1d'!AH17","v":0},{"$f":"'1d'!AI17","v":0},{"$f":"'1d'!AJ17","v":0},{"$f":"'1d'!AK17","v":0},{"$f":"'1d'!AL17","v":0},{"$f":"'1d'!AM17","v":0},{"$f":"'1d'!AN17","v":0},{"$f":"'1d'!AO17","v":0},{"$f":"'1d'!AP17","v":0},{"$f":"'1d'!AQ17","v":0},{"$f":"'1d'!AR17","v":0},{"$f":"'1d'!AS17","v":0},{"$f":"'1d'!AT17","v":0},{"$f":"'1d'!AU17","v":0},{"$f":"'1d'!AV17","v":0},{"$f":"'1d'!AW17","v":0},{"$f":"'1d'!AX17","v":0},{"$f":"'1d'!AY17","v":0},{"$f":"'1d'!AZ17","v":0},{"$f":"'1d'!BA17","v":0},{"$f":"'1d'!BB17","v":0},{"$f":"'1d'!BC17","v":0},{"$f":"'1d'!BD17","v":0},{"$f":"'1d'!BE17","v":0}]
[{"$f":"'1d'!A18","v":"1d"},{"$f":"'1d'!B18","v":0},{"$f":"'1d'!C18","v":0},{"$f":"'1d'!D18","v":"lehrer16"},{"$f":"'1d'!E18","v":0},{"$f":"'1d'!F18","v":0},{"$f":"'1d'!G18","v":0},{"$f":"'1d'!H18","v":0},{"$f":"'1d'!I18","v":0},{"$f":"'1d'!J18","v":0},{"$f":"'1d'!K18","v":0},{"$f":"'1d'!L18","v":0},{"$f":"'1d'!M18","v":0},{"$f":"'1d'!N18","v":0},{"$f":"'1d'!O18","v":0},{"$f":"'1d'!P18","v":0},{"$f":"'1d'!Q18","v":0},{"$f":"'1d'!R18","v":0},{"$f":"'1d'!S18","v":0},{"$f":"'1d'!T18","v":0},{"$f":"'1d'!U18","v":0},{"$f":"'1d'!V18","v":0},{"$f":"'1d'!W18","v":0},{"$f":"'1d'!X18","v":0},{"$f":"'1d'!Y18","v":0},{"$f":"'1d'!Z18","v":0},{"$f":"'1d'!AA18","v":0},{"$f":"'1d'!AB18","v":0},{"$f":"'1d'!AC18","v":0},{"$f":"'1d'!AD18","v":0},{"$f":"'1d'!AE18","v":0},{"$f":"'1d'!AF18","v":0},{"$f":"'1d'!AG18","v":0},{"$f":"'1d'!AH18","v":0},{"$f":"'1d'!AI18","v":0},{"$f":"'1d'!AJ18","v":0},{"$f":"'1d'!AK18","v":0},{"$f":"'1d'!AL18","v":0},{"$f":"'1d'!AM18","v":0},{"$f":"'1d'!AN18","v":0},{"$f":"'1d'!AO18","v":0},{"$f":"'1d'!AP18","v":0},{"$f":"'1d'!AQ18","v":0},{"$f":"'1d'!AR18","v":0},{"$f":"'1d'!AS18","v":0},{"$f":"'1d'!AT18","v":0},{"$f":"'1d'!AU18","v":0},{"$f":"'1d'!AV18","v":0},{"$f":"'1d'!AW18","v":0},{"$f":"'1d'!AX18","v":0},{"$f":"'1d'!AY18","v":0},{"$f":"'1d'!AZ18","v":0},{"$f":"'1d'!BA18","v":0},{"$f":"'1d'!BB18","v":0},{"$f":"'1d'!BC18","v":0},{"$f":"'1d'!BD18","v":0},{"$f":"'1d'!BE18","v":0}]
[{"$f":"'1d'!A19","v":"1d"},{"$f":"'1d'!B19","v":0},{"$f":"'1d'!C19","v":0},{"$f":"'1d'!D19","v":"lehrer17"},{"$f":"'1d'!E19","v":0},{"$f":"'1d'!F19","v":0},{"$f":"'1d'!G19","v":0},{"$f":"'1d'!H19","v":0},{"$f":"'1d'!I19","v":0},{"$f":"'1d'!J19","v":0},{"$f":"'1d'!K19","v":0},{"$f":"'1d'!L19","v":0},{"$f":"'1d'!M19","v":0},{"$f":"'1d'!N19","v":0},{"$f":"'1d'!O19","v":0},{"$f":"'1d'!P19","v":0},{"$f":"'1d'!Q19","v":0},{"$f":"'1d'!R19","v":0},{"$f":"'1d'!S19","v":0},{"$f":"'1d'!T19","v":0},{"$f":"'1d'!U19","v":0},{"$f":"'1d'!V19","v":0},{"$f":"'1d'!W19","v":0},{"$f":"'1d'!X19","v":0},{"$f":"'1d'!Y19","v":0},{"$f":"'1d'!Z19","v":0},{"$f":"'1d'!AA19","v":0},{"$f":"'1d'!AB19","v":0},{"$f":"'1d'!AC19","v":0},{"$f":"'1d'!AD19","v":0},{"$f":"'1d'!AE19","v":0},{"$f":"'1d'!AF19","v":0},{"$f":"'1d'!AG19","v":0},{"$f":"'1d'!AH19","v":0},{"$f":"'1d'!AI19","v":0},{"$f":"'1d'!AJ19","v":0},{"$f":"'1d'!AK19","v":0},{"$f":"'1d'!AL19","v":0},{"$f":"'1d'!AM19","v":0},{"$f":"'1d'!AN19","v":0},{"$f":"'1d'!AO19","v":0},{"$f":"'1d'!AP19","v":0},{"$f":"'1d'!AQ19","v":0},{"$f":"'1d'!AR19","v":0},{"$f":"'1d'!AS19","v":0},{"$f":"'1d'!AT19","v":0},{"$f":"'1d'!AU19","v":0},{"$f":"'1d'!AV19","v":0},{"$f":"'1d'!AW19","v":0},{"$f":"'1d'!AX19","v":0},{"$f":"'1d'!AY19","v":0},{"$f":"'1d'!AZ19","v":0},{"$f":"'1d'!BA19","v":0},{"$f":"'1d'!BB19","v":0},{"$f":"'1d'!BC19","v":0},{"$f":"'1d'!BD19","v":0},{"$f":"'1d'!BE19","v":0}]
[{"$f":"'1d'!A20","v":"1d"},{"$f":"'1d'!B20","v":0},{"$f":"'1d'!C20","v":0},{"$f":"'1d'!D20","v":"lehrer18"},{"$f":"'1d'!E20","v":0},{"$f":"'1d'!F20","v":0},{"$f":"'1d'!G20","v":0},{"$f":"'1d'!H20","v":0},{"$f":"'1d'!I20","v":0},{"$f":"'1d'!J20","v":0},{"$f":"'1d'!K20","v":0},{"$f":"'1d'!L20","v":0},{"$f":"'1d'!M20","v":0},{"$f":"'1d'!N20","v":0},{"$f":"'1d'!O20","v":0},{"$f":"'1d'!P20","v":0},{"$f":"'1d'!Q20","v":0},{"$f":"'1d'!R20","v":0},{"$f":"'1d'!S20","v":0},{"$f":"'1d'!T20","v":0},{"$f":"'1d'!U20","v":0},{"$f":"'1d'!V20","v":0},{"$f":"'1d'!W20","v":0},{"$f":"'1d'!X20","v":0},{"$f":"'1d'!Y20","v":0},{"$f":"'1d'!Z20","v":0},{"$f":"'1d'!AA20","v":0},{"$f":"'1d'!AB20","v":0},{"$f":"'1d'!AC20","v":0},{"$f":"'1d'!AD20","v":0},{"$f":"'1d'!AE20","v":0},{"$f":"'1d'!AF20","v":0},{"$f":"'1d'!AG20","v":0},{"$f":"'1d'!AH20","v":0},{"$f":"'1d'!AI20","v":0},{"$f":"'1d'!AJ20","v":0},{"$f":"'1d'!AK20","v":0},{"$f":"'1d'!AL20","v":0},{"$f":"'1d'!AM20","v":0},{"$f":"'1d'!AN20","v":0},{"$f":"'1d'!AO20","v":0},{"$f":"'1d'!AP20","v":0},{"$f":"'1d'!AQ20","v":0},{"$f":"'1d'!AR20","v":0},{"$f":"'1d'!AS20","v":0},{"$f":"'1d'!AT20","v":0},{"$f":"'1d'!AU20","v":0},{"$f":"'1d'!AV20","v":0},{"$f":"'1d'!AW20","v":0},{"$f":"'1d'!AX20","v":0},{"$f":"'1d'!AY20","v":0},{"$f":"'1d'!AZ20","v":0},{"$f":"'1d'!BA20","v":0},{"$f":"'1d'!BB20","v":0},{"$f":"'1d'!BC20","v":0},{"$f":"'1d'!BD20","v":0},{"$f":"'1d'!BE20","v":0}]
[{"$f":"'1d'!A21","v":"1d"},{"$f":"'1d'!B21","v":0},{"$f":"'1d'!C21","v":0},{"$f":"'1d'!D21","v":"lehrer19"},{"$f":"'1d'!E21","v":0},{"$f":"'1d'!F21","v":0},{"$f":"'1d'!G21","v":0},{"$f":"'1d'!H21","v":0},{"$f":"'1d'!I21","v":0},{"$f":"'1d'!J21","v":0},{"$f":"'1d'!K21","v":0},{"$f":"'1d'!L21","v":0},{"$f":"'1d'!M21","v":0},{"$f":"'1d'!N21","v":0},{"$f":"'1d'!O21","v":0},{"$f":"'1d'!P21","v":0},{"$f":"'1d'!Q21","v":0},{"$f":"'1d'!R21","v":0},{"$f":"'1d'!S21","v":0},{"$f":"'1d'!T21","v":0},{"$f":"'1d'!U21","v":0},{"$f":"'1d'!V21","v":0},{"$f":"'1d'!W21","v":0},{"$f":"'1d'!X21","v":0},{"$f":"'1d'!Y21","v":0},{"$f":"'1d'!Z21","v":0},{"$f":"'1d'!AA21","v":0},{"$f":"'1d'!AB21","v":0},{"$f":"'1d'!AC21","v":0},{"$f":"'1d'!AD21","v":0},{"$f":"'1d'!AE21","v":0},{"$f":"'1d'!AF21","v":0},{"$f":"'1d'!AG21","v":0},{"$f":"'1d'!AH21","v":0},{"$f":"'1d'!AI21","v":0},{"$f":"'1d'!AJ21","v":0},{"$f":"'1d'!AK21","v":0},{"$f":"'1d'!AL21","v":0},{"$f":"'1d'!AM21","v":0},{"$f":"'1d'!AN21","v":0},{"$f":"'1d'!AO21","v":0},{"$f":"'1d'!AP21","v":0},{"$f":"'1d'!AQ21","v":0},{"$f":"'1d'!AR21","v":0},{"$f":"'1d'!AS21","v":0},{"$f":"'1d'!AT21","v":0},{"$f":"'1d'!AU21","v":0},{"$f":"'1d'!AV21","v":0},{"$f":"'1d'!AW21","v":0},{"$f":"'1d'!AX21","v":0},{"$f":"'1d'!AY21","v":0},{"$f":"'1d'!AZ21","v":0},{"$f":"'1d'!BA21","v":0},{"$f":"'1d'!BB21","v":0},{"$f":"'1d'!BC21","v":0},{"$f":"'1d'!BD21","v":0},{"$f":"'1d'!BE21","v":0}]
[{"$f":"'1d'!A22","v":"1d"},{"$f":"'1d'!B22","v":0},{"$f":"'1d'!C22","v":0},{"$f":"'1d'!D22","v":"lehrer20"},{"$f":"'1d'!E22","v":0},{"$f":"'1d'!F22","v":0},{"$f":"'1d'!G22","v":0},{"$f":"'1d'!H22","v":0},{"$f":"'1d'!I22","v":0},{"$f":"'1d'!J22","v":0},{"$f":"'1d'!K22","v":0},{"$f":"'1d'!L22","v":0},{"$f":"'1d'!M22","v":0},{"$f":"'1d'!N22","v":0},{"$f":"'1d'!O22","v":0},{"$f":"'1d'!P22","v":0},{"$f":"'1d'!Q22","v":0},{"$f":"'1d'!R22","v":0},{"$f":"'1d'!S22","v":0},{"$f":"'1d'!T22","v":0},{"$f":"'1d'!U22","v":0},{"$f":"'1d'!V22","v":0},{"$f":"'1d'!W22","v":0},{"$f":"'1d'!X22","v":0},{"$f":"'1d'!Y22","v":0},{"$f":"'1d'!Z22","v":0},{"$f":"'1d'!AA22","v":0},{"$f":"'1d'!AB22","v":0},{"$f":"'1d'!AC22","v":0},{"$f":"'1d'!AD22","v":0},{"$f":"'1d'!AE22","v":0},{"$f":"'1d'!AF22","v":0},{"$f":"'1d'!AG22","v":0},{"$f":"'1d'!AH22","v":0},{"$f":"'1d'!AI22","v":0},{"$f":"'1d'!AJ22","v":0},{"$f":"'1d'!AK22","v":0},{"$f":"'1d'!AL22","v":0},{"$f":"'1d'!AM22","v":0},{"$f":"'1d'!AN22","v":0},{"$f":"'1d'!AO22","v":0},{"$f":"'1d'!AP22","v":0},{"$f":"'1d'!AQ22","v":0},{"$f":"'1d'!AR22","v":0},{"$f":"'1d'!AS22","v":0},{"$f":"'1d'!AT22","v":0},{"$f":"'1d'!AU22","v":0},{"$f":"'1d'!AV22","v":0},{"$f":"'1d'!AW22","v":0},{"$f":"'1d'!AX22","v":0},{"$f":"'1d'!AY22","v":0},{"$f":"'1d'!AZ22","v":0},{"$f":"'1d'!BA22","v":0},{"$f":"'1d'!BB22","v":0},{"$f":"'1d'!BC22","v":0},{"$f":"'1d'!BD22","v":0},{"$f":"'1d'!BE22","v":0}]
[{"$f":"'1d'!A23","v":"1d"},{"$f":"'1d'!B23","v":0},{"$f":"'1d'!C23","v":0},{"$f":"'1d'!D23","v":"lehrer21"},{"$f":"'1d'!E23","v":0},{"$f":"'1d'!F23","v":0},{"$f":"'1d'!G23","v":0},{"$f":"'1d'!H23","v":0},{"$f":"'1d'!I23","v":0},{"$f":"'1d'!J23","v":0},{"$f":"'1d'!K23","v":0},{"$f":"'1d'!L23","v":0},{"$f":"'1d'!M23","v":0},{"$f":"'1d'!N23","v":0},{"$f":"'1d'!O23","v":0},{"$f":"'1d'!P23","v":0},{"$f":"'1d'!Q23","v":0},{"$f":"'1d'!R23","v":0},{"$f":"'1d'!S23","v":0},{"$f":"'1d'!T23","v":0},{"$f":"'1d'!U23","v":0},{"$f":"'1d'!V23","v":0},{"$f":"'1d'!W23","v":0},{"$f":"'1d'!X23","v":0},{"$f":"'1d'!Y23","v":0},{"$f":"'1d'!Z23","v":0},{"$f":"'1d'!AA23","v":0},{"$f":"'1d'!AB23","v":0},{"$f":"'1d'!AC23","v":0},{"$f":"'1d'!AD23","v":0},{"$f":"'1d'!AE23","v":0},{"$f":"'1d'!AF23","v":0},{"$f":"'1d'!AG23","v":0},{"$f":"'1d'!AH23","v":0},{"$f":"'1d'!AI23","v":0},{"$f":"'1d'!AJ23","v":0},{"$f":"'1d'!AK23","v":0},{"$f":"'1d'!AL23","v":0},{"$f":"'1d'!AM23","v":0},{"$f":"'1d'!AN23","v":0},{"$f":"'1d'!AO23","v":0},{"$f":"'1d'!AP23","v":0},{"$f":"'1d'!AQ23","v":0},{"$f":"'1d'!AR23","v":0},{"$f":"'1d'!AS23","v":0},{"$f":"'1d'!AT23","v":0},{"$f":"'1d'!AU23","v":0},{"$f":"'1d'!AV23","v":0},{"$f":"'1d'!AW23","v":0},{"$f":"'1d'!AX23","v":0},{"$f":"'1d'!AY23","v":0},{"$f":"'1d'!AZ23","v":0},{"$f":"'1d'!BA23","v":0},{"$f":"'1d'!BB23","v":0},{"$f":"'1d'!BC23","v":0},{"$f":"'1d'!BD23","v":0},{"$f":"'1d'!BE23","v":0}]
[{"$f":"'1d'!A24","v":"1d"},{"$f":"'1d'!B24","v":0},{"$f":"'1d'!C24","v":0},{"$f":"'1d'!D24","v":"lehrer22"},{"$f":"'1d'!E24","v":0},{"$f":"'1d'!F24","v":0},{"$f":"'1d'!G24","v":0},{"$f":"'1d'!H24","v":0},{"$f":"'1d'!I24","v":0},{"$f":"'1d'!J24","v":0},{"$f":"'1d'!K24","v":0},{"$f":"'1d'!L24","v":0},{"$f":"'1d'!M24","v":0},{"$f":"'1d'!N24","v":0},{"$f":"'1d'!O24","v":0},{"$f":"'1d'!P24","v":0},{"$f":"'1d'!Q24","v":0},{"$f":"'1d'!R24","v":0},{"$f":"'1d'!S24","v":0},{"$f":"'1d'!T24","v":0},{"$f":"'1d'!U24","v":0},{"$f":"'1d'!V24","v":0},{"$f":"'1d'!W24","v":0},{"$f":"'1d'!X24","v":0},{"$f":"'1d'!Y24","v":0},{"$f":"'1d'!Z24","v":0},{"$f":"'1d'!AA24","v":0},{"$f":"'1d'!AB24","v":0},{"$f":"'1d'!AC24","v":0},{"$f":"'1d'!AD24","v":0},{"$f":"'1d'!AE24","v":0},{"$f":"'1d'!AF24","v":0},{"$f":"'1d'!AG24","v":0},{"$f":"'1d'!AH24","v":0},{"$f":"'1d'!AI24","v":0},{"$f":"'1d'!AJ24","v":0},{"$f":"'1d'!AK24","v":0},{"$f":"'1d'!AL24","v":0},{"$f":"'1d'!AM24","v":0},{"$f":"'1d'!AN24","v":0},{"$f":"'1d'!AO24","v":0},{"$f":"'1d'!AP24","v":0},{"$f":"'1d'!AQ24","v":0},{"$f":"'1d'!AR24","v":0},{"$f":"'1d'!AS24","v":0},{"$f":"'1d'!AT24","v":0},{"$f":"'1d'!AU24","v":0},{"$f":"'1d'!AV24","v":0},{"$f":"'1d'!AW24","v":0},{"$f":"'1d'!AX24","v":0},{"$f":"'1d'!AY24","v":0},{"$f":"'1d'!AZ24","v":0},{"$f":"'1d'!BA24","v":0},{"$f":"'1d'!BB24","v":0},{"$f":"'1d'!BC24","v":0},{"$f":"'1d'!BD24","v":0},{"$f":"'1d'!BE24","v":0}]
[{"$f":"'1d'!A25","v":"1d"},{"$f":"'1d'!B25","v":0},{"$f":"'1d'!C25","v":0},{"$f":"'1d'!D25","v":"lehrer23"},{"$f":"'1d'!E25","v":0},{"$f":"'1d'!F25","v":0},{"$f":"'1d'!G25","v":0},{"$f":"'1d'!H25","v":0},{"$f":"'1d'!I25","v":0},{"$f":"'1d'!J25","v":0},{"$f":"'1d'!K25","v":0},{"$f":"'1d'!L25","v":0},{"$f":"'1d'!M25","v":0},{"$f":"'1d'!N25","v":0},{"$f":"'1d'!O25","v":0},{"$f":"'1d'!P25","v":0},{"$f":"'1d'!Q25","v":0},{"$f":"'1d'!R25","v":0},{"$f":"'1d'!S25","v":0},{"$f":"'1d'!T25","v":0},{"$f":"'1d'!U25","v":0},{"$f":"'1d'!V25","v":0},{"$f":"'1d'!W25","v":0},{"$f":"'1d'!X25","v":0},{"$f":"'1d'!Y25","v":0},{"$f":"'1d'!Z25","v":0},{"$f":"'1d'!AA25","v":0},{"$f":"'1d'!AB25","v":0},{"$f":"'1d'!AC25","v":0},{"$f":"'1d'!AD25","v":0},{"$f":"'1d'!AE25","v":0},{"$f":"'1d'!AF25","v":0},{"$f":"'1d'!AG25","v":0},{"$f":"'1d'!AH25","v":0},{"$f":"'1d'!AI25","v":0},{"$f":"'1d'!AJ25","v":0},{"$f":"'1d'!AK25","v":0},{"$f":"'1d'!AL25","v":0},{"$f":"'1d'!AM25","v":0},{"$f":"'1d'!AN25","v":0},{"$f":"'1d'!AO25","v":0},{"$f":"'1d'!AP25","v":0},{"$f":"'1d'!AQ25","v":0},{"$f":"'1d'!AR25","v":0},{"$f":"'1d'!AS25","v":0},{"$f":"'1d'!AT25","v":0},{"$f":"'1d'!AU25","v":0},{"$f":"'1d'!AV25","v":0},{"$f":"'1d'!AW25","v":0},{"$f":"'1d'!AX25","v":0},{"$f":"'1d'!AY25","v":0},{"$f":"'1d'!AZ25","v":0},{"$f":"'1d'!BA25","v":0},{"$f":"'1d'!BB25","v":0},{"$f":"'1d'!BC25","v":0},{"$f":"'1d'!BD25","v":0},{"$f":"'1d'!BE25","v":0}]
[{"$f":"'1d'!A26","v":"1d"},{"$f":"'1d'!B26","v":0},{"$f":"'1d'!C26","v":0},{"$f":"'1d'!D26","v":"lehrer24"},{"$f":"'1d'!E26","v":0},{"$f":"'1d'!F26","v":0},{"$f":"'1d'!G26","v":0},{"$f":"'1d'!H26","v":0},{"$f":"'1d'!I26","v":0},{"$f":"'1d'!J26","v":0},{"$f":"'1d'!K26","v":0},{"$f":"'1d'!L26","v":0},{"$f":"'1d'!M26","v":0},{"$f":"'1d'!N26","v":0},{"$f":"'1d'!O26","v":0},{"$f":"'1d'!P26","v":0},{"$f":"'1d'!Q26","v":0},{"$f":"'1d'!R26","v":0},{"$f":"'1d'!S26","v":0},{"$f":"'1d'!T26","v":0},{"$f":"'1d'!U26","v":0},{"$f":"'1d'!V26","v":0},{"$f":"'1d'!W26","v":0},{"$f":"'1d'!X26","v":0},{"$f":"'1d'!Y26","v":0},{"$f":"'1d'!Z26","v":0},{"$f":"'1d'!AA26","v":0},{"$f":"'1d'!AB26","v":0},{"$f":"'1d'!AC26","v":0},{"$f":"'1d'!AD26","v":0},{"$f":"'1d'!AE26","v":0},{"$f":"'1d'!AF26","v":0},{"$f":"'1d'!AG26","v":0},{"$f":"'1d'!AH26","v":0},{"$f":"'1d'!AI26","v":0},{"$f":"'1d'!AJ26","v":0},{"$f":"'1d'!AK26","v":0},{"$f":"'1d'!AL26","v":0},{"$f":"'1d'!AM26","v":0},{"$f":"'1d'!AN26","v":0},{"$f":"'1d'!AO26","v":0},{"$f":"'1d'!AP26","v":0},{"$f":"'1d'!AQ26","v":0},{"$f":"'1d'!AR26","v":0},{"$f":"'1d'!AS26","v":0},{"$f":"'1d'!AT26","v":0},{"$f":"'1d'!AU26","v":0},{"$f":"'1d'!AV26","v":0},{"$f":"'1d'!AW26","v":0},{"$f":"'1d'!AX26","v":0},{"$f":"'1d'!AY26","v":0},{"$f":"'1d'!AZ26","v":0},{"$f":"'1d'!BA26","v":0},{"$f":"'1d'!BB26","v":0},{"$f":"'1d'!BC26","v":0},{"$f":"'1d'!BD26","v":0},{"$f":"'1d'!BE26","v":0}]
[{"$f":"'1d'!A27","v":"1d"},{"$f":"'1d'!B27","v":0},{"$f":"'1d'!C27","v":0},{"$f":"'1d'!D27","v":"lehrer25"},{"$f":"'1d'!E27","v":0},{"$f":"'1d'!F27","v":0},{"$f":"'1d'!G27","v":0},{"$f":"'1d'!H27","v":0},{"$f":"'1d'!I27","v":0},{"$f":"'1d'!J27","v":0},{"$f":"'1d'!K27","v":0},{"$f":"'1d'!L27","v":0},{"$f":"'1d'!M27","v":0},{"$f":"'1d'!N27","v":0},{"$f":"'1d'!O27","v":0},{"$f":"'1d'!P27","v":0},{"$f":"'1d'!Q27","v":0},{"$f":"'1d'!R27","v":0},{"$f":"'1d'!S27","v":0},{"$f":"'1d'!T27","v":0},{"$f":"'1d'!U27","v":0},{"$f":"'1d'!V27","v":0},{"$f":"'1d'!W27","v":0},{"$f":"'1d'!X27","v":0},{"$f":"'1d'!Y27","v":0},{"$f":"'1d'!Z27","v":0},{"$f":"'1d'!AA27","v":0},{"$f":"'1d'!AB27","v":0},{"$f":"'1d'!AC27","v":0},{"$f":"'1d'!AD27","v":0},{"$f":"'1d'!AE27","v":0},{"$f":"'1d'!AF27","v":0},{"$f":"'1d'!AG27","v":0},{"$f":"'1d'!AH27","v":0},{"$f":"'1d'!AI27","v":0},{"$f":"'1d'!AJ27","v":0},{"$f":"'1d'!AK27","v":0},{"$f":"'1d'!AL27","v":0},{"$f":"'1d'!AM27","v":0},{"$f":"'1d'!AN27","v":0},{"$f":"'1d'!AO27","v":0},{"$f":"'1d'!AP27","v":0},{"$f":"'1d'!AQ27","v":0},{"$f":"'1d'!AR27","v":0},{"$f":"'1d'!AS27","v":0},{"$f":"'1d'!AT27","v":0},{"$f":"'1d'!AU27","v":0},{"$f":"'1d'!AV27","v":0},{"$f":"'1d'!AW27","v":0},{"$f":"'1d'!AX27","v":0},{"$f":"'1d'!AY27","v":0},{"$f":"'1d'!AZ27","v":0},{"$f":"'1d'!BA27","v":0},{"$f":"'1d'!BB27","v":0},{"$f":"'1d'!BC27","v":0},{"$f":"'1d'!BD27","v":0},{"$f":"'1d'!BE27","v":0}]
[{"$f":"'1d'!A28","v":"1d"},{"$f":"'1d'!B28","v":0},{"$f":"'1d'!C28","v":0},{"$f":"'1d'!D28","v":"lehrer26"},{"$f":"'1d'!E28","v":0},{"$f":"'1d'!F28","v":0},{"$f":"'1d'!G28","v":0},{"$f":"'1d'!H28","v":0},{"$f":"'1d'!I28","v":0},{"$f":"'1d'!J28","v":0},{"$f":"'1d'!K28","v":0},{"$f":"'1d'!L28","v":0},{"$f":"'1d'!M28","v":0},{"$f":"'1d'!N28","v":0},{"$f":"'1d'!O28","v":0},{"$f":"'1d'!P28","v":0},{"$f":"'1d'!Q28","v":0},{"$f":"'1d'!R28","v":0},{"$f":"'1d'!S28","v":0},{"$f":"'1d'!T28","v":0},{"$f":"'1d'!U28","v":0},{"$f":"'1d'!V28","v":0},{"$f":"'1d'!W28","v":0},{"$f":"'1d'!X28","v":0},{"$f":"'1d'!Y28","v":0},{"$f":"'1d'!Z28","v":0},{"$f":"'1d'!AA28","v":0},{"$f":"'1d'!AB28","v":0},{"$f":"'1d'!AC28","v":0},{"$f":"'1d'!AD28","v":0},{"$f":"'1d'!AE28","v":0},{"$f":"'1d'!AF28","v":0},{"$f":"'1d'!AG28","v":0},{"$f":"'1d'!AH28","v":0},{"$f":"'1d'!AI28","v":0},{"$f":"'1d'!AJ28","v":0},{"$f":"'1d'!AK28","v":0},{"$f":"'1d'!AL28","v":0},{"$f":"'1d'!AM28","v":0},{"$f":"'1d'!AN28","v":0},{"$f":"'1d'!AO28","v":0},{"$f":"'1d'!AP28","v":0},{"$f":"'1d'!AQ28","v":0},{"$f":"'1d'!AR28","v":0},{"$f":"'1d'!AS28","v":0},{"$f":"'1d'!AT28","v":0},{"$f":"'1d'!AU28","v":0},{"$f":"'1d'!AV28","v":0},{"$f":"'1d'!AW28","v":0},{"$f":"'1d'!AX28","v":0},{"$f":"'1d'!AY28","v":0},{"$f":"'1d'!AZ28","v":0},{"$f":"'1d'!BA28","v":0},{"$f":"'1d'!BB28","v":0},{"$f":"'1d'!BC28","v":0},{"$f":"'1d'!BD28","v":0},{"$f":"'1d'!BE28","v":0}]
[{"$f":"'1d'!A29","v":"1d"},{"$f":"'1d'!B29","v":0},{"$f":"'1d'!C29","v":0},{"$f":"'1d'!D29","v":"lehrer27"},{"$f":"'1d'!E29","v":0},{"$f":"'1d'!F29","v":0},{"$f":"'1d'!G29","v":0},{"$f":"'1d'!H29","v":0},{"$f":"'1d'!I29","v":0},{"$f":"'1d'!J29","v":0},{"$f":"'1d'!K29","v":0},{"$f":"'1d'!L29","v":0},{"$f":"'1d'!M29","v":0},{"$f":"'1d'!N29","v":0},{"$f":"'1d'!O29","v":0},{"$f":"'1d'!P29","v":0},{"$f":"'1d'!Q29","v":0},{"$f":"'1d'!R29","v":0},{"$f":"'1d'!S29","v":0},{"$f":"'1d'!T29","v":0},{"$f":"'1d'!U29","v":0},{"$f":"'1d'!V29","v":0},{"$f":"'1d'!W29","v":0},{"$f":"'1d'!X29","v":0},{"$f":"'1d'!Y29","v":0},{"$f":"'1d'!Z29","v":0},{"$f":"'1d'!AA29","v":0},{"$f":"'1d'!AB29","v":0},{"$f":"'1d'!AC29","v":0},{"$f":"'1d'!AD29","v":0},{"$f":"'1d'!AE29","v":0},{"$f":"'1d'!AF29","v":0},{"$f":"'1d'!AG29","v":0},{"$f":"'1d'!AH29","v":0},{"$f":"'1d'!AI29","v":0},{"$f":"'1d'!AJ29","v":0},{"$f":"'1d'!AK29","v":0},{"$f":"'1d'!AL29","v":0},{"$f":"'1d'!AM29","v":0},{"$f":"'1d'!AN29","v":0},{"$f":"'1d'!AO29","v":0},{"$f":"'1d'!AP29","v":0},{"$f":"'1d'!AQ29","v":0},{"$f":"'1d'!AR29","v":0},{"$f":"'1d'!AS29","v":0},{"$f":"'1d'!AT29","v":0},{"$f":"'1d'!AU29","v":0},{"$f":"'1d'!AV29","v":0},{"$f":"'1d'!AW29","v":0},{"$f":"'1d'!AX29","v":0},{"$f":"'1d'!AY29","v":0},{"$f":"'1d'!AZ29","v":0},{"$f":"'1d'!BA29","v":0},{"$f":"'1d'!BB29","v":0},{"$f":"'1d'!BC29","v":0},{"$f":"'1d'!BD29","v":0},{"$f":"'1d'!BE29","v":0}]
[{"$f":"'1d'!A30","v":"1d"},{"$f":"'1d'!B30","v":0},{"$f":"'1d'!C30","v":0},{"$f":"'1d'!D30","v":"lehrer28"},{"$f":"'1d'!E30","v":0},{"$f":"'1d'!F30","v":0},{"$f":"'1d'!G30","v":0},{"$f":"'1d'!H30","v":0},{"$f":"'1d'!I30","v":0},{"$f":"'1d'!J30","v":0},{"$f":"'1d'!K30","v":0},{"$f":"'1d'!L30","v":0},{"$f":"'1d'!M30","v":0},{"$f":"'1d'!N30","v":0},{"$f":"'1d'!O30","v":0},{"$f":"'1d'!P30","v":0},{"$f":"'1d'!Q30","v":0},{"$f":"'1d'!R30","v":0},{"$f":"'1d'!S30","v":0},{"$f":"'1d'!T30","v":0},{"$f":"'1d'!U30","v":0},{"$f":"'1d'!V30","v":0},{"$f":"'1d'!W30","v":0},{"$f":"'1d'!X30","v":0},{"$f":"'1d'!Y30","v":0},{"$f":"'1d'!Z30","v":0},{"$f":"'1d'!AA30","v":0},{"$f":"'1d'!AB30","v":0},{"$f":"'1d'!AC30","v":0},{"$f":"'1d'!AD30","v":0},{"$f":"'1d'!AE30","v":0},{"$f":"'1d'!AF30","v":0},{"$f":"'1d'!AG30","v":0},{"$f":"'1d'!AH30","v":0},{"$f":"'1d'!AI30","v":0},{"$f":"'1d'!AJ30","v":0},{"$f":"'1d'!AK30","v":0},{"$f":"'1d'!AL30","v":0},{"$f":"'1d'!AM30","v":0},{"$f":"'1d'!AN30","v":0},{"$f":"'1d'!AO30","v":0},{"$f":"'1d'!AP30","v":0},{"$f":"'1d'!AQ30","v":0},{"$f":"'1d'!AR30","v":0},{"$f":"'1d'!AS30","v":0},{"$f":"'1d'!AT30","v":0},{"$f":"'1d'!AU30","v":0},{"$f":"'1d'!AV30","v":0},{"$f":"'1d'!AW30","v":0},{"$f":"'1d'!AX30","v":0},{"$f":"'1d'!AY30","v":0},{"$f":"'1d'!AZ30","v":0},{"$f":"'1d'!BA30","v":0},{"$f":"'1d'!BB30","v":0},{"$f":"'1d'!BC30","v":0},{"$f":"'1d'!BD30","v":0},{"$f":"'1d'!BE30","v":0}]
[{"$f":"'1d'!A31","v":"1d"},{"$f":"'1d'!B31","v":0},{"$f":"'1d'!C31","v":0},{"$f":"'1d'!D31","v":"lehrer29"},{"$f":"'1d'!E31","v":0},{"$f":"'1d'!F31","v":0},{"$f":"'1d'!G31","v":0},{"$f":"'1d'!H31","v":0},{"$f":"'1d'!I31","v":0},{"$f":"'1d'!J31","v":0},{"$f":"'1d'!K31","v":0},{"$f":"'1d'!L31","v":0},{"$f":"'1d'!M31","v":0},{"$f":"'1d'!N31","v":0},{"$f":"'1d'!O31","v":0},{"$f":"'1d'!P31","v":0},{"$f":"'1d'!Q31","v":0},{"$f":"'1d'!R31","v":0},{"$f":"'1d'!S31","v":0},{"$f":"'1d'!T31","v":0},{"$f":"'1d'!U31","v":0},{"$f":"'1d'!V31","v":0},{"$f":"'1d'!W31","v":0},{"$f":"'1d'!X31","v":0},{"$f":"'1d'!Y31","v":0},{"$f":"'1d'!Z31","v":0},{"$f":"'1d'!AA31","v":0},{"$f":"'1d'!AB31","v":0},{"$f":"'1d'!AC31","v":0},{"$f":"'1d'!AD31","v":0},{"$f":"'1d'!AE31","v":0},{"$f":"'1d'!AF31","v":0},{"$f":"'1d'!AG31","v":0},{"$f":"'1d'!AH31","v":0},{"$f":"'1d'!AI31","v":0},{"$f":"'1d'!AJ31","v":0},{"$f":"'1d'!AK31","v":0},{"$f":"'1d'!AL31","v":0},{"$f":"'1d'!AM31","v":0},{"$f":"'1d'!AN31","v":0},{"$f":"'1d'!AO31","v":0},{"$f":"'1d'!AP31","v":0},{"$f":"'1d'!AQ31","v":0},{"$f":"'1d'!AR31","v":0},{"$f":"'1d'!AS31","v":0},{"$f":"'1d'!AT31","v":0},{"$f":"'1d'!AU31","v":0},{"$f":"'1d'!AV31","v":0},{"$f":"'1d'!AW31","v":0},{"$f":"'1d'!AX31","v":0},{"$f":"'1d'!AY31","v":0},{"$f":"'1d'!AZ31","v":0},{"$f":"'1d'!BA31","v":0},{"$f":"'1d'!BB31","v":0},{"$f":"'1d'!BC31","v":0},{"$f":"'1d'!BD31","v":0},{"$f":"'1d'!BE31","v":0}]
[{"$f":"'1d'!A32","v":"1d"},{"$f":"'1d'!B32","v":0},{"$f":"'1d'!C32","v":0},{"$f":"'1d'!D32","v":"lehrer30"},{"$f":"'1d'!E32","v":0},{"$f":"'1d'!F32","v":0},{"$f":"'1d'!G32","v":0},{"$f":"'1d'!H32","v":0},{"$f":"'1d'!I32","v":0},{"$f":"'1d'!J32","v":0},{"$f":"'1d'!K32","v":0},{"$f":"'1d'!L32","v":0},{"$f":"'1d'!M32","v":0},{"$f":"'1d'!N32","v":0},{"$f":"'1d'!O32","v":0},{"$f":"'1d'!P32","v":0},{"$f":"'1d'!Q32","v":0},{"$f":"'1d'!R32","v":0},{"$f":"'1d'!S32","v":0},{"$f":"'1d'!T32","v":0},{"$f":"'1d'!U32","v":0},{"$f":"'1d'!V32","v":0},{"$f":"'1d'!W32","v":0},{"$f":"'1d'!X32","v":0},{"$f":"'1d'!Y32","v":0},{"$f":"'1d'!Z32","v":0},{"$f":"'1d'!AA32","v":0},{"$f":"'1d'!AB32","v":0},{"$f":"'1d'!AC32","v":0},{"$f":"'1d'!AD32","v":0},{"$f":"'1d'!AE32","v":0},{"$f":"'1d'!AF32","v":0},{"$f":"'1d'!AG32","v":0},{"$f":"'1d'!AH32","v":0},{"$f":"'1d'!AI32","v":0},{"$f":"'1d'!AJ32","v":0},{"$f":"'1d'!AK32","v":0},{"$f":"'1d'!AL32","v":0},{"$f":"'1d'!AM32","v":0},{"$f":"'1d'!AN32","v":0},{"$f":"'1d'!AO32","v":0},{"$f":"'1d'!AP32","v":0},{"$f":"'1d'!AQ32","v":0},{"$f":"'1d'!AR32","v":0},{"$f":"'1d'!AS32","v":0},{"$f":"'1d'!AT32","v":0},{"$f":"'1d'!AU32","v":0},{"$f":"'1d'!AV32","v":0},{"$f":"'1d'!AW32","v":0},{"$f":"'1d'!AX32","v":0},{"$f":"'1d'!AY32","v":0},{"$f":"'1d'!AZ32","v":0},{"$f":"'1d'!BA32","v":0},{"$f":"'1d'!BB32","v":0},{"$f":"'1d'!BC32","v":0},{"$f":"'1d'!BD32","v":0},{"$f":"'1d'!BE32","v":0}]
[{"$f":"'1d'!A33","v":"1d"},{"$f":"'1d'!B33","v":0},{"$f":"'1d'!C33","v":0},{"$f":"'1d'!D33","v":"lehrer31"},{"$f":"'1d'!E33","v":0},{"$f":"'1d'!F33","v":0},{"$f":"'1d'!G33","v":0},{"$f":"'1d'!H33","v":0},{"$f":"'1d'!I33","v":0},{"$f":"'1d'!J33","v":0},{"$f":"'1d'!K33","v":0},{"$f":"'1d'!L33","v":0},{"$f":"'1d'!M33","v":0},{"$f":"'1d'!N33","v":0},{"$f":"'1d'!O33","v":0},{"$f":"'1d'!P33","v":0},{"$f":"'1d'!Q33","v":0},{"$f":"'1d'!R33","v":0},{"$f":"'1d'!S33","v":0},{"$f":"'1d'!T33","v":0},{"$f":"'1d'!U33","v":0},{"$f":"'1d'!V33","v":0},{"$f":"'1d'!W33","v":0},{"$f":"'1d'!X33","v":0},{"$f":"'1d'!Y33","v":0},{"$f":"'1d'!Z33","v":0},{"$f":"'1d'!AA33","v":0},{"$f":"'1d'!AB33","v":0},{"$f":"'1d'!AC33","v":0},{"$f":"'1d'!AD33","v":0},{"$f":"'1d'!AE33","v":0},{"$f":"'1d'!AF33","v":0},{"$f":"'1d'!AG33","v":0},{"$f":"'1d'!AH33","v":0},{"$f":"'1d'!AI33","v":0},{"$f":"'1d'!AJ33","v":0},{"$f":"'1d'!AK33","v":0},{"$f":"'1d'!AL33","v":0},{"$f":"'1d'!AM33","v":0},{"$f":"'1d'!AN33","v":0},{"$f":"'1d'!AO33","v":0},{"$f":"'1d'!AP33","v":0},{"$f":"'1d'!AQ33","v":0},{"$f":"'1d'!AR33","v":0},{"$f":"'1d'!AS33","v":0},{"$f":"'1d'!AT33","v":0},{"$f":"'1d'!AU33","v":0},{"$f":"'1d'!AV33","v":0},{"$f":"'1d'!AW33","v":0},{"$f":"'1d'!AX33","v":0},{"$f":"'1d'!AY33","v":0},{"$f":"'1d'!AZ33","v":0},{"$f":"'1d'!BA33","v":0},{"$f":"'1d'!BB33","v":0},{"$f":"'1d'!BC33","v":0},{"$f":"'1d'!BD33","v":0},{"$f":"'1d'!BE33","v":0}]
[{"$f":"'1d'!A34","v":"1d"},{"$f":"'1d'!B34","v":0},{"$f":"'1d'!C34","v":0},{"$f":"'1d'!D34","v":"lehrer32"},{"$f":"'1d'!E34","v":0},{"$f":"'1d'!F34","v":0},{"$f":"'1d'!G34","v":0},{"$f":"'1d'!H34","v":0},{"$f":"'1d'!I34","v":0},{"$f":"'1d'!J34","v":0},{"$f":"'1d'!K34","v":0},{"$f":"'1d'!L34","v":0},{"$f":"'1d'!M34","v":0},{"$f":"'1d'!N34","v":0},{"$f":"'1d'!O34","v":0},{"$f":"'1d'!P34","v":0},{"$f":"'1d'!Q34","v":0},{"$f":"'1d'!R34","v":0},{"$f":"'1d'!S34","v":0},{"$f":"'1d'!T34","v":0},{"$f":"'1d'!U34","v":0},{"$f":"'1d'!V34","v":0},{"$f":"'1d'!W34","v":0},{"$f":"'1d'!X34","v":0},{"$f":"'1d'!Y34","v":0},{"$f":"'1d'!Z34","v":0},{"$f":"'1d'!AA34","v":0},{"$f":"'1d'!AB34","v":0},{"$f":"'1d'!AC34","v":0},{"$f":"'1d'!AD34","v":0},{"$f":"'1d'!AE34","v":0},{"$f":"'1d'!AF34","v":0},{"$f":"'1d'!AG34","v":0},{"$f":"'1d'!AH34","v":0},{"$f":"'1d'!AI34","v":0},{"$f":"'1d'!AJ34","v":0},{"$f":"'1d'!AK34","v":0},{"$f":"'1d'!AL34","v":0},{"$f":"'1d'!AM34","v":0},{"$f":"'1d'!AN34","v":0},{"$f":"'1d'!AO34","v":0},{"$f":"'1d'!AP34","v":0},{"$f":"'1d'!AQ34","v":0},{"$f":"'1d'!AR34","v":0},{"$f":"'1d'!AS34","v":0},{"$f":"'1d'!AT34","v":0},{"$f":"'1d'!AU34","v":0},{"$f":"'1d'!AV34","v":0},{"$f":"'1d'!AW34","v":0},{"$f":"'1d'!AX34","v":0},{"$f":"'1d'!AY34","v":0},{"$f":"'1d'!AZ34","v":0},{"$f":"'1d'!BA34","v":0},{"$f":"'1d'!BB34","v":0},{"$f":"'1d'!BC34","v":0},{"$f":"'1d'!BD34","v":0},{"$f":"'1d'!BE34","v":0}]
[{"$f":"'1d'!A35","v":"1d"},{"$f":"'1d'!B35","v":0},{"$f":"'1d'!C35","v":0},{"$f":"'1d'!D35","v":"lehrer33"},{"$f":"'1d'!E35","v":0},{"$f":"'1d'!F35","v":0},{"$f":"'1d'!G35","v":0},{"$f":"'1d'!H35","v":0},{"$f":"'1d'!I35","v":0},{"$f":"'1d'!J35","v":0},{"$f":"'1d'!K35","v":0},{"$f":"'1d'!L35","v":0},{"$f":"'1d'!M35","v":0},{"$f":"'1d'!N35","v":0},{"$f":"'1d'!O35","v":0},{"$f":"'1d'!P35","v":0},{"$f":"'1d'!Q35","v":0},{"$f":"'1d'!R35","v":0},{"$f":"'1d'!S35","v":0},{"$f":"'1d'!T35","v":0},{"$f":"'1d'!U35","v":0},{"$f":"'1d'!V35","v":0},{"$f":"'1d'!W35","v":0},{"$f":"'1d'!X35","v":0},{"$f":"'1d'!Y35","v":0},{"$f":"'1d'!Z35","v":0},{"$f":"'1d'!AA35","v":0},{"$f":"'1d'!AB35","v":0},{"$f":"'1d'!AC35","v":0},{"$f":"'1d'!AD35","v":0},{"$f":"'1d'!AE35","v":0},{"$f":"'1d'!AF35","v":0},{"$f":"'1d'!AG35","v":0},{"$f":"'1d'!AH35","v":0},{"$f":"'1d'!AI35","v":0},{"$f":"'1d'!AJ35","v":0},{"$f":"'1d'!AK35","v":0},{"$f":"'1d'!AL35","v":0},{"$f":"'1d'!AM35","v":0},{"$f":"'1d'!AN35","v":0},{"$f":"'1d'!AO35","v":0},{"$f":"'1d'!AP35","v":0},{"$f":"'1d'!AQ35","v":0},{"$f":"'1d'!AR35","v":0},{"$f":"'1d'!AS35","v":0},{"$f":"'1d'!AT35","v":0},{"$f":"'1d'!AU35","v":0},{"$f":"'1d'!AV35","v":0},{"$f":"'1d'!AW35","v":0},{"$f":"'1d'!AX35","v":0},{"$f":"'1d'!AY35","v":0},{"$f":"'1d'!AZ35","v":0},{"$f":"'1d'!BA35","v":0},{"$f":"'1d'!BB35","v":0},{"$f":"'1d'!BC35","v":0},{"$f":"'1d'!BD35","v":0},{"$f":"'1d'!BE35","v":0}]
[{"$f":"'1d'!A36","v":"1d"},{"$f":"'1d'!B36","v":0},{"$f":"'1d'!C36","v":0},{"$f":"'1d'!D36","v":"lehrer34"},{"$f":"'1d'!E36","v":0},{"$f":"'1d'!F36","v":0},{"$f":"'1d'!G36","v":0},{"$f":"'1d'!H36","v":0},{"$f":"'1d'!I36","v":0},{"$f":"'1d'!J36","v":0},{"$f":"'1d'!K36","v":0},{"$f":"'1d'!L36","v":0},{"$f":"'1d'!M36","v":0},{"$f":"'1d'!N36","v":0},{"$f":"'1d'!O36","v":0},{"$f":"'1d'!P36","v":0},{"$f":"'1d'!Q36","v":0},{"$f":"'1d'!R36","v":0},{"$f":"'1d'!S36","v":0},{"$f":"'1d'!T36","v":0},{"$f":"'1d'!U36","v":0},{"$f":"'1d'!V36","v":0},{"$f":"'1d'!W36","v":0},{"$f":"'1d'!X36","v":0},{"$f":"'1d'!Y36","v":0},{"$f":"'1d'!Z36","v":0},{"$f":"'1d'!AA36","v":0},{"$f":"'1d'!AB36","v":0},{"$f":"'1d'!AC36","v":0},{"$f":"'1d'!AD36","v":0},{"$f":"'1d'!AE36","v":0},{"$f":"'1d'!AF36","v":0},{"$f":"'1d'!AG36","v":0},{"$f":"'1d'!AH36","v":0},{"$f":"'1d'!AI36","v":0},{"$f":"'1d'!AJ36","v":0},{"$f":"'1d'!AK36","v":0},{"$f":"'1d'!AL36","v":0},{"$f":"'1d'!AM36","v":0},{"$f":"'1d'!AN36","v":0},{"$f":"'1d'!AO36","v":0},{"$f":"'1d'!AP36","v":0},{"$f":"'1d'!AQ36","v":0},{"$f":"'1d'!AR36","v":0},{"$f":"'1d'!AS36","v":0},{"$f":"'1d'!AT36","v":0},{"$f":"'1d'!AU36","v":0},{"$f":"'1d'!AV36","v":0},{"$f":"'1d'!AW36","v":0},{"$f":"'1d'!AX36","v":0},{"$f":"'1d'!AY36","v":0},{"$f":"'1d'!AZ36","v":0},{"$f":"'1d'!BA36","v":0},{"$f":"'1d'!BB36","v":0},{"$f":"'1d'!BC36","v":0},{"$f":"'1d'!BD36","v":0},{"$f":"'1d'!BE36","v":0}]
[{"$f":"'1d'!A37","v":"1d"},{"$f":"'1d'!B37","v":0},{"$f":"'1d'!C37","v":0},{"$f":"'1d'!D37","v":"lehrer35"},{"$f":"'1d'!E37","v":0},{"$f":"'1d'!F37","v":0},{"$f":"'1d'!G37","v":0},{"$f":"'1d'!H37","v":0},{"$f":"'1d'!I37","v":0},{"$f":"'1d'!J37","v":0},{"$f":"'1d'!K37","v":0},{"$f":"'1d'!L37","v":0},{"$f":"'1d'!M37","v":0},{"$f":"'1d'!N37","v":0},{"$f":"'1d'!O37","v":0},{"$f":"'1d'!P37","v":0},{"$f":"'1d'!Q37","v":0},{"$f":"'1d'!R37","v":0},{"$f":"'1d'!S37","v":0},{"$f":"'1d'!T37","v":0},{"$f":"'1d'!U37","v":0},{"$f":"'1d'!V37","v":0},{"$f":"'1d'!W37","v":0},{"$f":"'1d'!X37","v":0},{"$f":"'1d'!Y37","v":0},{"$f":"'1d'!Z37","v":0},{"$f":"'1d'!AA37","v":0},{"$f":"'1d'!AB37","v":0},{"$f":"'1d'!AC37","v":0},{"$f":"'1d'!AD37","v":0},{"$f":"'1d'!AE37","v":0},{"$f":"'1d'!AF37","v":0},{"$f":"'1d'!AG37","v":0},{"$f":"'1d'!AH37","v":0},{"$f":"'1d'!AI37","v":0},{"$f":"'1d'!AJ37","v":0},{"$f":"'1d'!AK37","v":0},{"$f":"'1d'!AL37","v":0},{"$f":"'1d'!AM37","v":0},{"$f":"'1d'!AN37","v":0},{"$f":"'1d'!AO37","v":0},{"$f":"'1d'!AP37","v":0},{"$f":"'1d'!AQ37","v":0},{"$f":"'1d'!AR37","v":0},{"$f":"'1d'!AS37","v":0},{"$f":"'1d'!AT37","v":0},{"$f":"'1d'!AU37","v":0},{"$f":"'1d'!AV37","v":0},{"$f":"'1d'!AW37","v":0},{"$f":"'1d'!AX37","v":0},{"$f":"'1d'!AY37","v":0},{"$f":"'1d'!AZ37","v":0},{"$f":"'1d'!BA37","v":0},{"$f":"'1d'!BB37","v":0},{"$f":"'1d'!BC37","v":0},{"$f":"'1d'!BD37","v":0},{"$f":"'1d'!BE37","v":0}]
[{"$f":"'1d'!A38","v":"1d"},{"$f":"'1d'!B38","v":0},{"$f":"'1d'!C38","v":0},{"$f":"'1d'!D38","v":"lehrer36"},{"$f":"'1d'!E38","v":0},{"$f":"'1d'!F38","v":0},{"$f":"'1d'!G38","v":0},{"$f":"'1d'!H38","v":0},{"$f":"'1d'!I38","v":0},{"$f":"'1d'!J38","v":0},{"$f":"'1d'!K38","v":0},{"$f":"'1d'!L38","v":0},{"$f":"'1d'!M38","v":0},{"$f":"'1d'!N38","v":0},{"$f":"'1d'!O38","v":0},{"$f":"'1d'!P38","v":0},{"$f":"'1d'!Q38","v":0},{"$f":"'1d'!R38","v":0},{"$f":"'1d'!S38","v":0},{"$f":"'1d'!T38","v":0},{"$f":"'1d'!U38","v":0},{"$f":"'1d'!V38","v":0},{"$f":"'1d'!W38","v":0},{"$f":"'1d'!X38","v":0},{"$f":"'1d'!Y38","v":0},{"$f":"'1d'!Z38","v":0},{"$f":"'1d'!AA38","v":0},{"$f":"'1d'!AB38","v":0},{"$f":"'1d'!AC38","v":0},{"$f":"'1d'!AD38","v":0},{"$f":"'1d'!AE38","v":0},{"$f":"'1d'!AF38","v":0},{"$f":"'1d'!AG38","v":0},{"$f":"'1d'!AH38","v":0},{"$f":"'1d'!AI38","v":0},{"$f":"'1d'!AJ38","v":0},{"$f":"'1d'!AK38","v":0},{"$f":"'1d'!AL38","v":0},{"$f":"'1d'!AM38","v":0},{"$f":"'1d'!AN38","v":0},{"$f":"'1d'!AO38","v":0},{"$f":"'1d'!AP38","v":0},{"$f":"'1d'!AQ38","v":0},{"$f":"'1d'!AR38","v":0},{"$f":"'1d'!AS38","v":0},{"$f":"'1d'!AT38","v":0},{"$f":"'1d'!AU38","v":0},{"$f":"'1d'!AV38","v":0},{"$f":"'1d'!AW38","v":0},{"$f":"'1d'!AX38","v":0},{"$f":"'1d'!AY38","v":0},{"$f":"'1d'!AZ38","v":0},{"$f":"'1d'!BA38","v":0},{"$f":"'1d'!BB38","v":0},{"$f":"'1d'!BC38","v":0},{"$f":"'1d'!BD38","v":0},{"$f":"'1d'!BE38","v":0}]
[{"$f":"'1d'!A39","v":"1d"},{"$f":"'1d'!B39","v":0},{"$f":"'1d'!C39","v":0},{"$f":"'1d'!D39","v":"lehrer37"},{"$f":"'1d'!E39","v":0},{"$f":"'1d'!F39","v":0},{"$f":"'1d'!G39","v":0},{"$f":"'1d'!H39","v":0},{"$f":"'1d'!I39","v":0},{"$f":"'1d'!J39","v":0},{"$f":"'1d'!K39","v":0},{"$f":"'1d'!L39","v":0},{"$f":"'1d'!M39","v":0},{"$f":"'1d'!N39","v":0},{"$f":"'1d'!O39","v":0},{"$f":"'1d'!P39","v":0},{"$f":"'1d'!Q39","v":0},{"$f":"'1d'!R39","v":0},{"$f":"'1d'!S39","v":0},{"$f":"'1d'!T39","v":0},{"$f":"'1d'!U39","v":0},{"$f":"'1d'!V39","v":0},{"$f":"'1d'!W39","v":0},{"$f":"'1d'!X39","v":0},{"$f":"'1d'!Y39","v":0},{"$f":"'1d'!Z39","v":0},{"$f":"'1d'!AA39","v":0},{"$f":"'1d'!AB39","v":0},{"$f":"'1d'!AC39","v":0},{"$f":"'1d'!AD39","v":0},{"$f":"'1d'!AE39","v":0},{"$f":"'1d'!AF39","v":0},{"$f":"'1d'!AG39","v":0},{"$f":"'1d'!AH39","v":0},{"$f":"'1d'!AI39","v":0},{"$f":"'1d'!AJ39","v":0},{"$f":"'1d'!AK39","v":0},{"$f":"'1d'!AL39","v":0},{"$f":"'1d'!AM39","v":0},{"$f":"'1d'!AN39","v":0},{"$f":"'1d'!AO39","v":0},{"$f":"'1d'!AP39","v":0},{"$f":"'1d'!AQ39","v":0},{"$f":"'1d'!AR39","v":0},{"$f":"'1d'!AS39","v":0},{"$f":"'1d'!AT39","v":0},{"$f":"'1d'!AU39","v":0},{"$f":"'1d'!AV39","v":0},{"$f":"'1d'!AW39","v":0},{"$f":"'1d'!AX39","v":0},{"$f":"'1d'!AY39","v":0},{"$f":"'1d'!AZ39","v":0},{"$f":"'1d'!BA39","v":0},{"$f":"'1d'!BB39","v":0},{"$f":"'1d'!BC39","v":0},{"$f":"'1d'!BD39","v":0},{"$f":"'1d'!BE39","v":0}]
[{"$f":"'1d'!A40","v":"1d"},{"$f":"'1d'!B40","v":0},{"$f":"'1d'!C40","v":0},{"$f":"'1d'!D40","v":"lehrer38"},{"$f":"'1d'!E40","v":0},{"$f":"'1d'!F40","v":0},{"$f":"'1d'!G40","v":0},{"$f":"'1d'!H40","v":0},{"$f":"'1d'!I40","v":0},{"$f":"'1d'!J40","v":0},{"$f":"'1d'!K40","v":0},{"$f":"'1d'!L40","v":0},{"$f":"'1d'!M40","v":0},{"$f":"'1d'!N40","v":0},{"$f":"'1d'!O40","v":0},{"$f":"'1d'!P40","v":0},{"$f":"'1d'!Q40","v":0},{"$f":"'1d'!R40","v":0},{"$f":"'1d'!S40","v":0},{"$f":"'1d'!T40","v":0},{"$f":"'1d'!U40","v":0},{"$f":"'1d'!V40","v":0},{"$f":"'1d'!W40","v":0},{"$f":"'1d'!X40","v":0},{"$f":"'1d'!Y40","v":0},{"$f":"'1d'!Z40","v":0},{"$f":"'1d'!AA40","v":0},{"$f":"'1d'!AB40","v":0},{"$f":"'1d'!AC40","v":0},{"$f":"'1d'!AD40","v":0},{"$f":"'1d'!AE40","v":0},{"$f":"'1d'!AF40","v":0},{"$f":"'1d'!AG40","v":0},{"$f":"'1d'!AH40","v":0},{"$f":"'1d'!AI40","v":0},{"$f":"'1d'!AJ40","v":0},{"$f":"'1d'!AK40","v":0},{"$f":"'1d'!AL40","v":0},{"$f":"'1d'!AM40","v":0},{"$f":"'1d'!AN40","v":0},{"$f":"'1d'!AO40","v":0},{"$f":"'1d'!AP40","v":0},{"$f":"'1d'!AQ40","v":0},{"$f":"'1d'!AR40","v":0},{"$f":"'1d'!AS40","v":0},{"$f":"'1d'!AT40","v":0},{"$f":"'1d'!AU40","v":0},{"$f":"'1d'!AV40","v":0},{"$f":"'1d'!AW40","v":0},{"$f":"'1d'!AX40","v":0},{"$f":"'1d'!AY40","v":0},{"$f":"'1d'!AZ40","v":0},{"$f":"'1d'!BA40","v":0},{"$f":"'1d'!BB40","v":0},{"$f":"'1d'!BC40","v":0},{"$f":"'1d'!BD40","v":0},{"$f":"'1d'!BE40","v":0}]
[{"$f":"'1d'!A41","v":"1d"},{"$f":"'1d'!B41","v":0},{"$f":"'1d'!C41","v":0},{"$f":"'1d'!D41","v":"lehrer39"},{"$f":"'1d'!E41","v":0},{"$f":"'1d'!F41","v":0},{"$f":"'1d'!G41","v":0},{"$f":"'1d'!H41","v":0},{"$f":"'1d'!I41","v":0},{"$f":"'1d'!J41","v":0},{"$f":"'1d'!K41","v":0},{"$f":"'1d'!L41","v":0},{"$f":"'1d'!M41","v":0},{"$f":"'1d'!N41","v":0},{"$f":"'1d'!O41","v":0},{"$f":"'1d'!P41","v":0},{"$f":"'1d'!Q41","v":0},{"$f":"'1d'!R41","v":0},{"$f":"'1d'!S41","v":0},{"$f":"'1d'!T41","v":0},{"$f":"'1d'!U41","v":0},{"$f":"'1d'!V41","v":0},{"$f":"'1d'!W41","v":0},{"$f":"'1d'!X41","v":0},{"$f":"'1d'!Y41","v":0},{"$f":"'1d'!Z41","v":0},{"$f":"'1d'!AA41","v":0},{"$f":"'1d'!AB41","v":0},{"$f":"'1d'!AC41","v":0},{"$f":"'1d'!AD41","v":0},{"$f":"'1d'!AE41","v":0},{"$f":"'1d'!AF41","v":0},{"$f":"'1d'!AG41","v":0},{"$f":"'1d'!AH41","v":0},{"$f":"'1d'!AI41","v":0},{"$f":"'1d'!AJ41","v":0},{"$f":"'1d'!AK41","v":0},{"$f":"'1d'!AL41","v":0},{"$f":"'1d'!AM41","v":0},{"$f":"'1d'!AN41","v":0},{"$f":"'1d'!AO41","v":0},{"$f":"'1d'!AP41","v":0},{"$f":"'1d'!AQ41","v":0},{"$f":"'1d'!AR41","v":0},{"$f":"'1d'!AS41","v":0},{"$f":"'1d'!AT41","v":0},{"$f":"'1d'!AU41","v":0},{"$f":"'1d'!AV41","v":0},{"$f":"'1d'!AW41","v":0},{"$f":"'1d'!AX41","v":0},{"$f":"'1d'!AY41","v":0},{"$f":"'1d'!AZ41","v":0},{"$f":"'1d'!BA41","v":0},{"$f":"'1d'!BB41","v":0},{"$f":"'1d'!BC41","v":0},{"$f":"'1d'!BD41","v":0},{"$f":"'1d'!BE41","v":0}]
[{"$f":"'1d'!A42","v":"1d"},{"$f":"'1d'!B42","v":0},{"$f":"'1d'!C42","v":0},{"$f":"'1d'!D42","v":"lehrer40"},{"$f":"'1d'!E42","v":0},{"$f":"'1d'!F42","v":0},{"$f":"'1d'!G42","v":0},{"$f":"'1d'!H42","v":0},{"$f":"'1d'!I42","v":0},{"$f":"'1d'!J42","v":0},{"$f":"'1d'!K42","v":0},{"$f":"'1d'!L42","v":0},{"$f":"'1d'!M42","v":0},{"$f":"'1d'!N42","v":0},{"$f":"'1d'!O42","v":0},{"$f":"'1d'!P42","v":0},{"$f":"'1d'!Q42","v":0},{"$f":"'1d'!R42","v":0},{"$f":"'1d'!S42","v":0},{"$f":"'1d'!T42","v":0},{"$f":"'1d'!U42","v":0},{"$f":"'1d'!V42","v":0},{"$f":"'1d'!W42","v":0},{"$f":"'1d'!X42","v":0},{"$f":"'1d'!Y42","v":0},{"$f":"'1d'!Z42","v":0},{"$f":"'1d'!AA42","v":0},{"$f":"'1d'!AB42","v":0},{"$f":"'1d'!AC42","v":0},{"$f":"'1d'!AD42","v":0},{"$f":"'1d'!AE42","v":0},{"$f":"'1d'!AF42","v":0},{"$f":"'1d'!AG42","v":0},{"$f":"'1d'!AH42","v":0},{"$f":"'1d'!AI42","v":0},{"$f":"'1d'!AJ42","v":0},{"$f":"'1d'!AK42","v":0},{"$f":"'1d'!AL42","v":0},{"$f":"'1d'!AM42","v":0},{"$f":"'1d'!AN42","v":0},{"$f":"'1d'!AO42","v":0},{"$f":"'1d'!AP42","v":0},{"$f":"'1d'!AQ42","v":0},{"$f":"'1d'!AR42","v":0},{"$f":"'1d'!AS42","v":0},{"$f":"'1d'!AT42","v":0},{"$f":"'1d'!AU42","v":0},{"$f":"'1d'!AV42","v":0},{"$f":"'1d'!AW42","v":0},{"$f":"'1d'!AX42","v":0},{"$f":"'1d'!AY42","v":0},{"$f":"'1d'!AZ42","v":0},{"$f":"'1d'!BA42","v":0},{"$f":"'1d'!BB42","v":0},{"$f":"'1d'!BC42","v":0},{"$f":"'1d'!BD42","v":0},{"$f":"'1d'!BE42","v":0}]
[{"$f":"'1d'!A43","v":"1d"},{"$f":"'1d'!B43","v":0},{"$f":"'1d'!C43","v":0},{"$f":"'1d'!D43","v":"lehrer41"},{"$f":"'1d'!E43","v":0},{"$f":"'1d'!F43","v":0},{"$f":"'1d'!G43","v":0},{"$f":"'1d'!H43","v":0},{"$f":"'1d'!I43","v":0},{"$f":"'1d'!J43","v":0},{"$f":"'1d'!K43","v":0},{"$f":"'1d'!L43","v":0},{"$f":"'1d'!M43","v":0},{"$f":"'1d'!N43","v":0},{"$f":"'1d'!O43","v":0},{"$f":"'1d'!P43","v":0},{"$f":"'1d'!Q43","v":0},{"$f":"'1d'!R43","v":0},{"$f":"'1d'!S43","v":0},{"$f":"'1d'!T43","v":0},{"$f":"'1d'!U43","v":0},{"$f":"'1d'!V43","v":0},{"$f":"'1d'!W43","v":0},{"$f":"'1d'!X43","v":0},{"$f":"'1d'!Y43","v":0},{"$f":"'1d'!Z43","v":0},{"$f":"'1d'!AA43","v":0},{"$f":"'1d'!AB43","v":0},{"$f":"'1d'!AC43","v":0},{"$f":"'1d'!AD43","v":0},{"$f":"'1d'!AE43","v":0},{"$f":"'1d'!AF43","v":0},{"$f":"'1d'!AG43","v":0},{"$f":"'1d'!AH43","v":0},{"$f":"'1d'!AI43","v":0},{"$f":"'1d'!AJ43","v":0},{"$f":"'1d'!AK43","v":0},{"$f":"'1d'!AL43","v":0},{"$f":"'1d'!AM43","v":0},{"$f":"'1d'!AN43","v":0},{"$f":"'1d'!AO43","v":0},{"$f":"'1d'!AP43","v":0},{"$f":"'1d'!AQ43","v":0},{"$f":"'1d'!AR43","v":0},{"$f":"'1d'!AS43","v":0},{"$f":"'1d'!AT43","v":0},{"$f":"'1d'!AU43","v":0},{"$f":"'1d'!AV43","v":0},{"$f":"'1d'!AW43","v":0},{"$f":"'1d'!AX43","v":0},{"$f":"'1d'!AY43","v":0},{"$f":"'1d'!AZ43","v":0},{"$f":"'1d'!BA43","v":0},{"$f":"'1d'!BB43","v":0},{"$f":"'1d'!BC43","v":0},{"$f":"'1d'!BD43","v":0},{"$f":"'1d'!BE43","v":0}]
[{"$f":"'1d'!A44","v":"1d"},{"$f":"'1d'!B44","v":0},{"$f":"'1d'!C44","v":0},{"$f":"'1d'!D44","v":"lehrer42"},{"$f":"'1d'!E44","v":0},{"$f":"'1d'!F44","v":0},{"$f":"'1d'!G44","v":0},{"$f":"'1d'!H44","v":0},{"$f":"'1d'!I44","v":0},{"$f":"'1d'!J44","v":0},{"$f":"'1d'!K44","v":0},{"$f":"'1d'!L44","v":0},{"$f":"'1d'!M44","v":0},{"$f":"'1d'!N44","v":0},{"$f":"'1d'!O44","v":0},{"$f":"'1d'!P44","v":0},{"$f":"'1d'!Q44","v":0},{"$f":"'1d'!R44","v":0},{"$f":"'1d'!S44","v":0},{"$f":"'1d'!T44","v":0},{"$f":"'1d'!U44","v":0},{"$f":"'1d'!V44","v":0},{"$f":"'1d'!W44","v":0},{"$f":"'1d'!X44","v":0},{"$f":"'1d'!Y44","v":0},{"$f":"'1d'!Z44","v":0},{"$f":"'1d'!AA44","v":0},{"$f":"'1d'!AB44","v":0},{"$f":"'1d'!AC44","v":0},{"$f":"'1d'!AD44","v":0},{"$f":"'1d'!AE44","v":0},{"$f":"'1d'!AF44","v":0},{"$f":"'1d'!AG44","v":0},{"$f":"'1d'!AH44","v":0},{"$f":"'1d'!AI44","v":0},{"$f":"'1d'!AJ44","v":0},{"$f":"'1d'!AK44","v":0},{"$f":"'1d'!AL44","v":0},{"$f":"'1d'!AM44","v":0},{"$f":"'1d'!AN44","v":0},{"$f":"'1d'!AO44","v":0},{"$f":"'1d'!AP44","v":0},{"$f":"'1d'!AQ44","v":0},{"$f":"'1d'!AR44","v":0},{"$f":"'1d'!AS44","v":0},{"$f":"'1d'!AT44","v":0},{"$f":"'1d'!AU44","v":0},{"$f":"'1d'!AV44","v":0},{"$f":"'1d'!AW44","v":0},{"$f":"'1d'!AX44","v":0},{"$f":"'1d'!AY44","v":0},{"$f":"'1d'!AZ44","v":0},{"$f":"'1d'!BA44","v":0},{"$f":"'1d'!BB44","v":0},{"$f":"'1d'!BC44","v":0},{"$f":"'1d'!BD44","v":0},{"$f":"'1d'!BE44","v":0}]
[{"$f":"'1d'!A45","v":"1d"},{"$f":"'1d'!B45","v":0},{"$f":"'1d'!C45","v":0},{"$f":"'1d'!D45","v":"lehrer43"},{"$f":"'1d'!E45","v":0},{"$f":"'1d'!F45","v":0},{"$f":"'1d'!G45","v":0},{"$f":"'1d'!H45","v":0},{"$f":"'1d'!I45","v":0},{"$f":"'1d'!J45","v":0},{"$f":"'1d'!K45","v":0},{"$f":"'1d'!L45","v":0},{"$f":"'1d'!M45","v":0},{"$f":"'1d'!N45","v":0},{"$f":"'1d'!O45","v":0},{"$f":"'1d'!P45","v":0},{"$f":"'1d'!Q45","v":0},{"$f":"'1d'!R45","v":0},{"$f":"'1d'!S45","v":0},{"$f":"'1d'!T45","v":0},{"$f":"'1d'!U45","v":0},{"$f":"'1d'!V45","v":0},{"$f":"'1d'!W45","v":0},{"$f":"'1d'!X45","v":0},{"$f":"'1d'!Y45","v":0},{"$f":"'1d'!Z45","v":0},{"$f":"'1d'!AA45","v":0},{"$f":"'1d'!AB45","v":0},{"$f":"'1d'!AC45","v":0},{"$f":"'1d'!AD45","v":0},{"$f":"'1d'!AE45","v":0},{"$f":"'1d'!AF45","v":0},{"$f":"'1d'!AG45","v":0},{"$f":"'1d'!AH45","v":0},{"$f":"'1d'!AI45","v":0},{"$f":"'1d'!AJ45","v":0},{"$f":"'1d'!AK45","v":0},{"$f":"'1d'!AL45","v":0},{"$f":"'1d'!AM45","v":0},{"$f":"'1d'!AN45","v":0},{"$f":"'1d'!AO45","v":0},{"$f":"'1d'!AP45","v":0},{"$f":"'1d'!AQ45","v":0},{"$f":"'1d'!AR45","v":0},{"$f":"'1d'!AS45","v":0},{"$f":"'1d'!AT45","v":0},{"$f":"'1d'!AU45","v":0},{"$f":"'1d'!AV45","v":0},{"$f":"'1d'!AW45","v":0},{"$f":"'1d'!AX45","v":0},{"$f":"'1d'!AY45","v":0},{"$f":"'1d'!AZ45","v":0},{"$f":"'1d'!BA45","v":0},{"$f":"'1d'!BB45","v":0},{"$f":"'1d'!BC45","v":0},{"$f":"'1d'!BD45","v":0},{"$f":"'1d'!BE45","v":0}]
[{"$f":"'1d'!A46","v":"1d"},{"$f":"'1d'!B46","v":0},{"$f":"'1d'!C46","v":0},{"$f":"'1d'!D46","v":"lehrer44"},{"$f":"'1d'!E46","v":0},{"$f":"'1d'!F46","v":0},{"$f":"'1d'!G46","v":0},{"$f":"'1d'!H46","v":0},{"$f":"'1d'!I46","v":0},{"$f":"'1d'!J46","v":0},{"$f":"'1d'!K46","v":0},{"$f":"'1d'!L46","v":0},{"$f":"'1d'!M46","v":0},{"$f":"'1d'!N46","v":0},{"$f":"'1d'!O46","v":0},{"$f":"'1d'!P46","v":0},{"$f":"'1d'!Q46","v":0},{"$f":"'1d'!R46","v":0},{"$f":"'1d'!S46","v":0},{"$f":"'1d'!T46","v":0},{"$f":"'1d'!U46","v":0},{"$f":"'1d'!V46","v":0},{"$f":"'1d'!W46","v":0},{"$f":"'1d'!X46","v":0},{"$f":"'1d'!Y46","v":0},{"$f":"'1d'!Z46","v":0},{"$f":"'1d'!AA46","v":0},{"$f":"'1d'!AB46","v":0},{"$f":"'1d'!AC46","v":0},{"$f":"'1d'!AD46","v":0},{"$f":"'1d'!AE46","v":0},{"$f":"'1d'!AF46","v":0},{"$f":"'1d'!AG46","v":0},{"$f":"'1d'!AH46","v":0},{"$f":"'1d'!AI46","v":0},{"$f":"'1d'!AJ46","v":0},{"$f":"'1d'!AK46","v":0},{"$f":"'1d'!AL46","v":0},{"$f":"'1d'!AM46","v":0},{"$f":"'1d'!AN46","v":0},{"$f":"'1d'!AO46","v":0},{"$f":"'1d'!AP46","v":0},{"$f":"'1d'!AQ46","v":0},{"$f":"'1d'!AR46","v":0},{"$f":"'1d'!AS46","v":0},{"$f":"'1d'!AT46","v":0},{"$f":"'1d'!AU46","v":0},{"$f":"'1d'!AV46","v":0},{"$f":"'1d'!AW46","v":0},{"$f":"'1d'!AX46","v":0},{"$f":"'1d'!AY46","v":0},{"$f":"'1d'!AZ46","v":0},{"$f":"'1d'!BA46","v":0},{"$f":"'1d'!BB46","v":0},{"$f":"'1d'!BC46","v":0},{"$f":"'1d'!BD46","v":0},{"$f":"'1d'!BE46","v":0}]
[{"$f":"'1d'!A47","v":"1d"},{"$f":"'1d'!B47","v":0},{"$f":"'1d'!C47","v":0},{"$f":"'1d'!D47","v":"lehrer45"},{"$f":"'1d'!E47","v":0},{"$f":"'1d'!F47","v":0},{"$f":"'1d'!G47","v":0},{"$f":"'1d'!H47","v":0},{"$f":"'1d'!I47","v":0},{"$f":"'1d'!J47","v":0},{"$f":"'1d'!K47","v":0},{"$f":"'1d'!L47","v":0},{"$f":"'1d'!M47","v":0},{"$f":"'1d'!N47","v":0},{"$f":"'1d'!O47","v":0},{"$f":"'1d'!P47","v":0},{"$f":"'1d'!Q47","v":0},{"$f":"'1d'!R47","v":0},{"$f":"'1d'!S47","v":0},{"$f":"'1d'!T47","v":0},{"$f":"'1d'!U47","v":0},{"$f":"'1d'!V47","v":0},{"$f":"'1d'!W47","v":0},{"$f":"'1d'!X47","v":0},{"$f":"'1d'!Y47","v":0},{"$f":"'1d'!Z47","v":0},{"$f":"'1d'!AA47","v":0},{"$f":"'1d'!AB47","v":0},{"$f":"'1d'!AC47","v":0},{"$f":"'1d'!AD47","v":0},{"$f":"'1d'!AE47","v":0},{"$f":"'1d'!AF47","v":0},{"$f":"'1d'!AG47","v":0},{"$f":"'1d'!AH47","v":0},{"$f":"'1d'!AI47","v":0},{"$f":"'1d'!AJ47","v":0},{"$f":"'1d'!AK47","v":0},{"$f":"'1d'!AL47","v":0},{"$f":"'1d'!AM47","v":0},{"$f":"'1d'!AN47","v":0},{"$f":"'1d'!AO47","v":0},{"$f":"'1d'!AP47","v":0},{"$f":"'1d'!AQ47","v":0},{"$f":"'1d'!AR47","v":0},{"$f":"'1d'!AS47","v":0},{"$f":"'1d'!AT47","v":0},{"$f":"'1d'!AU47","v":0},{"$f":"'1d'!AV47","v":0},{"$f":"'1d'!AW47","v":0},{"$f":"'1d'!AX47","v":0},{"$f":"'1d'!AY47","v":0},{"$f":"'1d'!AZ47","v":0},{"$f":"'1d'!BA47","v":0},{"$f":"'1d'!BB47","v":0},{"$f":"'1d'!BC47","v":0},{"$f":"'1d'!BD47","v":0},{"$f":"'1d'!BE47","v":0}]
[{"$f":"'1d'!A48","v":"1d"},{"$f":"'1d'!B48","v":0},{"$f":"'1d'!C48","v":0},{"$f":"'1d'!D48","v":"lehrer46"},{"$f":"'1d'!E48","v":0},{"$f":"'1d'!F48","v":0},{"$f":"'1d'!G48","v":0},{"$f":"'1d'!H48","v":0},{"$f":"'1d'!I48","v":0},{"$f":"'1d'!J48","v":0},{"$f":"'1d'!K48","v":0},{"$f":"'1d'!L48","v":0},{"$f":"'1d'!M48","v":0},{"$f":"'1d'!N48","v":0},{"$f":"'1d'!O48","v":0},{"$f":"'1d'!P48","v":0},{"$f":"'1d'!Q48","v":0},{"$f":"'1d'!R48","v":0},{"$f":"'1d'!S48","v":0},{"$f":"'1d'!T48","v":0},{"$f":"'1d'!U48","v":0},{"$f":"'1d'!V48","v":0},{"$f":"'1d'!W48","v":0},{"$f":"'1d'!X48","v":0},{"$f":"'1d'!Y48","v":0},{"$f":"'1d'!Z48","v":0},{"$f":"'1d'!AA48","v":0},{"$f":"'1d'!AB48","v":0},{"$f":"'1d'!AC48","v":0},{"$f":"'1d'!AD48","v":0},{"$f":"'1d'!AE48","v":0},{"$f":"'1d'!AF48","v":0},{"$f":"'1d'!AG48","v":0},{"$f":"'1d'!AH48","v":0},{"$f":"'1d'!AI48","v":0},{"$f":"'1d'!AJ48","v":0},{"$f":"'1d'!AK48","v":0},{"$f":"'1d'!AL48","v":0},{"$f":"'1d'!AM48","v":0},{"$f":"'1d'!AN48","v":0},{"$f":"'1d'!AO48","v":0},{"$f":"'1d'!AP48","v":0},{"$f":"'1d'!AQ48","v":0},{"$f":"'1d'!AR48","v":0},{"$f":"'1d'!AS48","v":0},{"$f":"'1d'!AT48","v":0},{"$f":"'1d'!AU48","v":0},{"$f":"'1d'!AV48","v":0},{"$f":"'1d'!AW48","v":0},{"$f":"'1d'!AX48","v":0},{"$f":"'1d'!AY48","v":0},{"$f":"'1d'!AZ48","v":0},{"$f":"'1d'!BA48","v":0},{"$f":"'1d'!BB48","v":0},{"$f":"'1d'!BC48","v":0},{"$f":"'1d'!BD48","v":0},{"$f":"'1d'!BE48","v":0}]
[{"$f":"'1d'!A49","v":"1d"},{"$f":"'1d'!B49","v":0},{"$f":"'1d'!C49","v":0},{"$f":"'1d'!D49","v":"lehrer47"},{"$f":"'1d'!E49","v":0},{"$f":"'1d'!F49","v":0},{"$f":"'1d'!G49","v":0},{"$f":"'1d'!H49","v":0},{"$f":"'1d'!I49","v":0},{"$f":"'1d'!J49","v":0},{"$f":"'1d'!K49","v":0},{"$f":"'1d'!L49","v":0},{"$f":"'1d'!M49","v":0},{"$f":"'1d'!N49","v":0},{"$f":"'1d'!O49","v":0},{"$f":"'1d'!P49","v":0},{"$f":"'1d'!Q49","v":0},{"$f":"'1d'!R49","v":0},{"$f":"'1d'!S49","v":0},{"$f":"'1d'!T49","v":0},{"$f":"'1d'!U49","v":0},{"$f":"'1d'!V49","v":0},{"$f":"'1d'!W49","v":0},{"$f":"'1d'!X49","v":0},{"$f":"'1d'!Y49","v":0},{"$f":"'1d'!Z49","v":0},{"$f":"'1d'!AA49","v":0},{"$f":"'1d'!AB49","v":0},{"$f":"'1d'!AC49","v":0},{"$f":"'1d'!AD49","v":0},{"$f":"'1d'!AE49","v":0},{"$f":"'1d'!AF49","v":0},{"$f":"'1d'!AG49","v":0},{"$f":"'1d'!AH49","v":0},{"$f":"'1d'!AI49","v":0},{"$f":"'1d'!AJ49","v":0},{"$f":"'1d'!AK49","v":0},{"$f":"'1d'!AL49","v":0},{"$f":"'1d'!AM49","v":0},{"$f":"'1d'!AN49","v":0},{"$f":"'1d'!AO49","v":0},{"$f":"'1d'!AP49","v":0},{"$f":"'1d'!AQ49","v":0},{"$f":"'1d'!AR49","v":0},{"$f":"'1d'!AS49","v":0},{"$f":"'1d'!AT49","v":0},{"$f":"'1d'!AU49","v":0},{"$f":"'1d'!AV49","v":0},{"$f":"'1d'!AW49","v":0},{"$f":"'1d'!AX49","v":0},{"$f":"'1d'!AY49","v":0},{"$f":"'1d'!AZ49","v":0},{"$f":"'1d'!BA49","v":0},{"$f":"'1d'!BB49","v":0},{"$f":"'1d'!BC49","v":0},{"$f":"'1d'!BD49","v":0},{"$f":"'1d'!BE49","v":0}]
[{"$f":"'1d'!A50","v":"1d"},{"$f":"'1d'!B50","v":0},{"$f":"'1d'!C50","v":0},{"$f":"'1d'!D50","v":"lehrer48"},{"$f":"'1d'!E50","v":0},{"$f":"'1d'!F50","v":0},{"$f":"'1d'!G50","v":0},{"$f":"'1d'!H50","v":0},{"$f":"'1d'!I50","v":0},{"$f":"'1d'!J50","v":0},{"$f":"'1d'!K50","v":0},{"$f":"'1d'!L50","v":0},{"$f":"'1d'!M50","v":0},{"$f":"'1d'!N50","v":0},{"$f":"'1d'!O50","v":0},{"$f":"'1d'!P50","v":0},{"$f":"'1d'!Q50","v":0},{"$f":"'1d'!R50","v":0},{"$f":"'1d'!S50","v":0},{"$f":"'1d'!T50","v":0},{"$f":"'1d'!U50","v":0},{"$f":"'1d'!V50","v":0},{"$f":"'1d'!W50","v":0},{"$f":"'1d'!X50","v":0},{"$f":"'1d'!Y50","v":0},{"$f":"'1d'!Z50","v":0},{"$f":"'1d'!AA50","v":0},{"$f":"'1d'!AB50","v":0},{"$f":"'1d'!AC50","v":0},{"$f":"'1d'!AD50","v":0},{"$f":"'1d'!AE50","v":0},{"$f":"'1d'!AF50","v":0},{"$f":"'1d'!AG50","v":0},{"$f":"'1d'!AH50","v":0},{"$f":"'1d'!AI50","v":0},{"$f":"'1d'!AJ50","v":0},{"$f":"'1d'!AK50","v":0},{"$f":"'1d'!AL50","v":0},{"$f":"'1d'!AM50","v":0},{"$f":"'1d'!AN50","v":0},{"$f":"'1d'!AO50","v":0},{"$f":"'1d'!AP50","v":0},{"$f":"'1d'!AQ50","v":0},{"$f":"'1d'!AR50","v":0},{"$f":"'1d'!AS50","v":0},{"$f":"'1d'!AT50","v":0},{"$f":"'1d'!AU50","v":0},{"$f":"'1d'!AV50","v":0},{"$f":"'1d'!AW50","v":0},{"$f":"'1d'!AX50","v":0},{"$f":"'1d'!AY50","v":0},{"$f":"'1d'!AZ50","v":0},{"$f":"'1d'!BA50","v":0},{"$f":"'1d'!BB50","v":0},{"$f":"'1d'!BC50","v":0},{"$f":"'1d'!BD50","v":0},{"$f":"'1d'!BE50","v":0}]
[{"$f":"'2c'!A3","v":"2c"},{"$f":"'2c'!B3","v":0},{"$f":"'2c'!C3","v":0},{"$f":"'2c'!D3","v":"lehrer01"},{"$f":"'2c'!E3","v":0},{"$f":"'2c'!F3","v":0},{"$f":"'2c'!G3","v":0},{"$f":"'2c'!H3","v":0},{"$f":"'2c'!I3","v":0},{"$f":"'2c'!J3","v":0},{"$f":"'2c'!K3","v":0},{"$f":"'2c'!L3","v":0},{"$f":"'2c'!M3","v":0},{"$f":"'2c'!N3","v":0},{"$f":"'2c'!O3","v":0},{"$f":"'2c'!P3","v":0},{"$f":"'2c'!Q3","v":0},{"$f":"'2c'!R3","v":0},{"$f":"'2c'!S3","v":0},{"$f":"'2c'!T3","v":0},{"$f":"'2c'!U3","v":0},{"$f":"'2c'!V3","v":0},{"$f":"'2c'!W3","v":0},{"$f":"'2c'!X3","v":0},{"$f":"'2c'!Y3","v":0},{"$f":"'2c'!Z3","v":0},{"$f":"'2c'!AA3","v":0},{"$f":"'2c'!AB3","v":0},{"$f":"'2c'!AC3","v":0},{"$f":"'2c'!AD3","v":0},{"$f":"'2c'!AE3","v":0},{"$f":"'2c'!AF3","v":0},{"$f":"'2c'!AG3","v":0},{"$f":"'2c'!AH3","v":0},{"$f":"'2c'!AI3","v":0},{"$f":"'2c'!AJ3","v":0},{"$f":"'2c'!AK3","v":0},{"$f":"'2c'!AL3","v":0},{"$f":"'2c'!AM3","v":0},{"$f":"'2c'!AN3","v":0},{"$f":"'2c'!AO3","v":0},{"$f":"'2c'!AP3","v":0},{"$f":"'2c'!AQ3","v":0},{"$f":"'2c'!AR3","v":0},{"$f":"'2c'!AS3","v":0},{"$f":"'2c'!AT3","v":0},{"$f":"'2c'!AU3","v":0},{"$f":"'2c'!AV3","v":0},{"$f":"'2c'!AW3","v":0},{"$f":"'2c'!AX3","v":0},{"$f":"'2c'!AY3","v":0},{"$f":"'2c'!AZ3","v":0},{"$f":"'2c'!BA3","v":0},{"$f":"'2c'!BB3","v":0},{"$f":"'2c'!BC3","v":0},{"$f":"'2c'!BD3","v":0},{"$f":"'2c'!BE3","v":0}]
[{"$f":"'2c'!A4","v":"2c"},{"$f":"'2c'!B4","v":0},{"$f":"'2c'!C4","v":0},{"$f":"'2c'!D4","v":"lehrer02"},{"$f":"'2c'!E4","v":0},{"$f":"'2c'!F4","v":0},{"$f":"'2c'!G4","v":0},{"$f":"'2c'!H4","v":0},{"$f":"'2c'!I4","v":0},{"$f":"'2c'!J4","v":0},{"$f":"'2c'!K4","v":0},{"$f":"'2c'!L4","v":0},{"$f":"'2c'!M4","v":0},{"$f":"'2c'!N4","v":0},{"$f":"'2c'!O4","v":0},{"$f":"'2c'!P4","v":0},{"$f":"'2c'!Q4","v":0},{"$f":"'2c'!R4","v":0},{"$f":"'2c'!S4","v":0},{"$f":"'2c'!T4","v":0},{"$f":"'2c'!U4","v":0},{"$f":"'2c'!V4","v":0},{"$f":"'2c'!W4","v":0},{"$f":"'2c'!X4","v":0},{"$f":"'2c'!Y4","v":0},{"$f":"'2c'!Z4","v":0},{"$f":"'2c'!AA4","v":0},{"$f":"'2c'!AB4","v":0},{"$f":"'2c'!AC4","v":0},{"$f":"'2c'!AD4","v":0},{"$f":"'2c'!AE4","v":0},{"$f":"'2c'!AF4","v":0},{"$f":"'2c'!AG4","v":0},{"$f":"'2c'!AH4","v":0},{"$f":"'2c'!AI4","v":0},{"$f":"'2c'!AJ4","v":0},{"$f":"'2c'!AK4","v":0},{"$f":"'2c'!AL4","v":0},{"$f":"'2c'!AM4","v":0},{"$f":"'2c'!AN4","v":0},{"$f":"'2c'!AO4","v":0},{"$f":"'2c'!AP4","v":0},{"$f":"'2c'!AQ4","v":0},{"$f":"'2c'!AR4","v":0},{"$f":"'2c'!AS4","v":0},{"$f":"'2c'!AT4","v":0},{"$f":"'2c'!AU4","v":0},{"$f":"'2c'!AV4","v":0},{"$f":"'2c'!AW4","v":0},{"$f":"'2c'!AX4","v":0},{"$f":"'2c'!AY4","v":0},{"$f":"'2c'!AZ4","v":0},{"$f":"'2c'!BA4","v":0},{"$f":"'2c'!BB4","v":0},{"$f":"'2c'!BC4","v":0},{"$f":"'2c'!BD4","v":0},{"$f":"'2c'!BE4","v":0}]
[{"$f":"'2c'!A5","v":"2c"},{"$f":"'2c'!B5","v":0},{"$f":"'2c'!C5","v":0},{"$f":"'2c'!D5","v":"lehrer03"},{"$f":"'2c'!E5","v":0},{"$f":"'2c'!F5","v":0},{"$f":"'2c'!G5","v":0},{"$f":"'2c'!H5","v":0},{"$f":"'2c'!I5","v":0},{"$f":"'2c'!J5","v":0},{"$f":"'2c'!K5","v":0},{"$f":"'2c'!L5","v":0},{"$f":"'2c'!M5","v":0},{"$f":"'2c'!N5","v":0},{"$f":"'2c'!O5","v":0},{"$f":"'2c'!P5","v":0},{"$f":"'2c'!Q5","v":0},{"$f":"'2c'!R5","v":0},{"$f":"'2c'!S5","v":0},{"$f":"'2c'!T5","v":0},{"$f":"'2c'!U5","v":0},{"$f":"'2c'!V5","v":0},{"$f":"'2c'!W5","v":0},{"$f":"'2c'!X5","v":0},{"$f":"'2c'!Y5","v":0},{"$f":"'2c'!Z5","v":0},{"$f":"'2c'!AA5","v":0},{"$f":"'2c'!AB5","v":0},{"$f":"'2c'!AC5","v":0},{"$f":"'2c'!AD5","v":0},{"$f":"'2c'!AE5","v":0},{"$f":"'2c'!AF5","v":0},{"$f":"'2c'!AG5","v":0},{"$f":"'2c'!AH5","v":0},{"$f":"'2c'!AI5","v":0},{"$f":"'2c'!AJ5","v":0},{"$f":"'2c'!AK5","v":0},{"$f":"'2c'!AL5","v":0},{"$f":"'2c'!AM5","v":0},{"$f":"'2c'!AN5","v":0},{"$f":"'2c'!AO5","v":0},{"$f":"'2c'!AP5","v":0},{"$f":"'2c'!AQ5","v":0},{"$f":"'2c'!AR5","v":0},{"$f":"'2c'!AS5","v":0},{"$f":"'2c'!AT5","v":0},{"$f":"'2c'!AU5","v":0},{"$f":"'2c'!AV5","v":0},{"$f":"'2c'!AW5","v":0},{"$f":"'2c'!AX5","v":0},{"$f":"'2c'!AY5","v":0},{"$f":"'2c'!AZ5","v":0},{"$f":"'2c'!BA5","v":0},{"$f":"'2c'!BB5","v":0},{"$f":"'2c'!BC5","v":0},{"$f":"'2c'!BD5","v":0},{"$f":"'2c'!BE5","v":0}]
[{"$f":"'2c'!A6","v":"2c"},{"$f":"'2c'!B6","v":0},{"$f":"'2c'!C6","v":0},{"$f":"'2c'!D6","v":"lehrer04"},{"$f":"'2c'!E6","v":0},{"$f":"'2c'!F6","v":0},{"$f":"'2c'!G6","v":0},{"$f":"'2c'!H6","v":0},{"$f":"'2c'!I6","v":0},{"$f":"'2c'!J6","v":0},{"$f":"'2c'!K6","v":0},{"$f":"'2c'!L6","v":0},{"$f":"'2c'!M6","v":0},{"$f":"'2c'!N6","v":0},{"$f":"'2c'!O6","v":0},{"$f":"'2c'!P6","v":0},{"$f":"'2c'!Q6","v":0},{"$f":"'2c'!R6","v":0},{"$f":"'2c'!S6","v":0},{"$f":"'2c'!T6","v":0},{"$f":"'2c'!U6","v":0},{"$f":"'2c'!V6","v":0},{"$f":"'2c'!W6","v":0},{"$f":"'2c'!X6","v":0},{"$f":"'2c'!Y6","v":0},{"$f":"'2c'!Z6","v":0},{"$f":"'2c'!AA6","v":0},{"$f":"'2c'!AB6","v":0},{"$f":"'2c'!AC6","v":0},{"$f":"'2c'!AD6","v":0},{"$f":"'2c'!AE6","v":0},{"$f":"'2c'!AF6","v":0},{"$f":"'2c'!AG6","v":0},{"$f":"'2c'!AH6","v":0},{"$f":"'2c'!AI6","v":0},{"$f":"'2c'!AJ6","v":0},{"$f":"'2c'!AK6","v":0},{"$f":"'2c'!AL6","v":0},{"$f":"'2c'!AM6","v":0},{"$f":"'2c'!AN6","v":0},{"$f":"'2c'!AO6","v":0},{"$f":"'2c'!AP6","v":0},{"$f":"'2c'!AQ6","v":0},{"$f":"'2c'!AR6","v":0},{"$f":"'2c'!AS6","v":0},{"$f":"'2c'!AT6","v":0},{"$f":"'2c'!AU6","v":0},{"$f":"'2c'!AV6","v":0},{"$f":"'2c'!AW6","v":0},{"$f":"'2c'!AX6","v":0},{"$f":"'2c'!AY6","v":0},{"$f":"'2c'!AZ6","v":0},{"$f":"'2c'!BA6","v":0},{"$f":"'2c'!BB6","v":0},{"$f":"'2c'!BC6","v":0},{"$f":"'2c'!BD6","v":0},{"$f":"'2c'!BE6","v":0}]
[{"$f":"'2c'!A7","v":"2c"},{"$f":"'2c'!B7","v":0},{"$f":"'2c'!C7","v":0},{"$f":"'2c'!D7","v":"lehrer05"},{"$f":"'2c'!E7","v":0},{"$f":"'2c'!F7","v":0},{"$f":"'2c'!G7","v":0},{"$f":"'2c'!H7","v":0},{"$f":"'2c'!I7","v":0},{"$f":"'2c'!J7","v":0},{"$f":"'2c'!K7","v":0},{"$f":"'2c'!L7","v":0},{"$f":"'2c'!M7","v":0},{"$f":"'2c'!N7","v":0},{"$f":"'2c'!O7","v":0},{"$f":"'2c'!P7","v":0},{"$f":"'2c'!Q7","v":0},{"$f":"'2c'!R7","v":0},{"$f":"'2c'!S7","v":0},{"$f":"'2c'!T7","v":0},{"$f":"'2c'!U7","v":0},{"$f":"'2c'!V7","v":0},{"$f":"'2c'!W7","v":0},{"$f":"'2c'!X7","v":0},{"$f":"'2c'!Y7","v":0},{"$f":"'2c'!Z7","v":0},{"$f":"'2c'!AA7","v":0},{"$f":"'2c'!AB7","v":0},{"$f":"'2c'!AC7","v":0},{"$f":"'2c'!AD7","v":0},{"$f":"'2c'!AE7","v":0},{"$f":"'2c'!AF7","v":0},{"$f":"'2c'!AG7","v":0},{"$f":"'2c'!AH7","v":0},{"$f":"'2c'!AI7","v":0},{"$f":"'2c'!AJ7","v":0},{"$f":"'2c'!AK7","v":0},{"$f":"'2c'!AL7","v":0},{"$f":"'2c'!AM7","v":0},{"$f":"'2c'!AN7","v":0},{"$f":"'2c'!AO7","v":0},{"$f":"'2c'!AP7","v":0},{"$f":"'2c'!AQ7","v":0},{"$f":"'2c'!AR7","v":0},{"$f":"'2c'!AS7","v":0},{"$f":"'2c'!AT7","v":0},{"$f":"'2c'!AU7","v":0},{"$f":"'2c'!AV7","v":0},{"$f":"'2c'!AW7","v":0},{"$f":"'2c'!AX7","v":0},{"$f":"'2c'!AY7","v":0},{"$f":"'2c'!AZ7","v":0},{"$f":"'2c'!BA7","v":0},{"$f":"'2c'!BB7","v":0},{"$f":"'2c'!BC7","v":0},{"$f":"'2c'!BD7","v":0},{"$f":"'2c'!BE7","v":0}]
[{"$f":"'2c'!A8","v":"2c"},{"$f":"'2c'!B8","v":0},{"$f":"'2c'!C8","v":0},{"$f":"'2c'!D8","v":"lehrer06"},{"$f":"'2c'!E8","v":0},{"$f":"'2c'!F8","v":0},{"$f":"'2c'!G8","v":0},{"$f":"'2c'!H8","v":0},{"$f":"'2c'!I8","v":0},{"$f":"'2c'!J8","v":0},{"$f":"'2c'!K8","v":0},{"$f":"'2c'!L8","v":0},{"$f":"'2c'!M8","v":0},{"$f":"'2c'!N8","v":0},{"$f":"'2c'!O8","v":0},{"$f":"'2c'!P8","v":0},{"$f":"'2c'!Q8","v":0},{"$f":"'2c'!R8","v":0},{"$f":"'2c'!S8","v":0},{"$f":"'2c'!T8","v":0},{"$f":"'2c'!U8","v":0},{"$f":"'2c'!V8","v":0},{"$f":"'2c'!W8","v":0},{"$f":"'2c'!X8","v":0},{"$f":"'2c'!Y8","v":0},{"$f":"'2c'!Z8","v":0},{"$f":"'2c'!AA8","v":0},{"$f":"'2c'!AB8","v":0},{"$f":"'2c'!AC8","v":0},{"$f":"'2c'!AD8","v":0},{"$f":"'2c'!AE8","v":0},{"$f":"'2c'!AF8","v":0},{"$f":"'2c'!AG8","v":0},{"$f":"'2c'!AH8","v":0},{"$f":"'2c'!AI8","v":0},{"$f":"'2c'!AJ8","v":0},{"$f":"'2c'!AK8","v":0},{"$f":"'2c'!AL8","v":0},{"$f":"'2c'!AM8","v":0},{"$f":"'2c'!AN8","v":0},{"$f":"'2c'!AO8","v":0},{"$f":"'2c'!AP8","v":0},{"$f":"'2c'!AQ8","v":0},{"$f":"'2c'!AR8","v":0},{"$f":"'2c'!AS8","v":0},{"$f":"'2c'!AT8","v":0},{"$f":"'2c'!AU8","v":0},{"$f":"'2c'!AV8","v":0},{"$f":"'2c'!AW8","v":0},{"$f":"'2c'!AX8","v":0},{"$f":"'2c'!AY8","v":0},{"$f":"'2c'!AZ8","v":0},{"$f":"'2c'!BA8","v":0},{"$f":"'2c'!BB8","v":0},{"$f":"'2c'!BC8","v":0},{"$f":"'2c'!BD8","v":0},{"$f":"'2c'!BE8","v":0}]
[{"$f":"'2c'!A9","v":"2c"},{"$f":"'2c'!B9","v":0},{"$f":"'2c'!C9","v":0},{"$f":"'2c'!D9","v":"lehrer07"},{"$f":"'2c'!E9","v":0},{"$f":"'2c'!F9","v":0},{"$f":"'2c'!G9","v":0},{"$f":"'2c'!H9","v":0},{"$f":"'2c'!I9","v":0},{"$f":"'2c'!J9","v":0},{"$f":"'2c'!K9","v":0},{"$f":"'2c'!L9","v":0},{"$f":"'2c'!M9","v":0},{"$f":"'2c'!N9","v":0},{"$f":"'2c'!O9","v":0},{"$f":"'2c'!P9","v":0},{"$f":"'2c'!Q9","v":0},{"$f":"'2c'!R9","v":0},{"$f":"'2c'!S9","v":0},{"$f":"'2c'!T9","v":0},{"$f":"'2c'!U9","v":0},{"$f":"'2c'!V9","v":0},{"$f":"'2c'!W9","v":0},{"$f":"'2c'!X9","v":0},{"$f":"'2c'!Y9","v":0},{"$f":"'2c'!Z9","v":0},{"$f":"'2c'!AA9","v":0},{"$f":"'2c'!AB9","v":0},{"$f":"'2c'!AC9","v":0},{"$f":"'2c'!AD9","v":0},{"$f":"'2c'!AE9","v":0},{"$f":"'2c'!AF9","v":0},{"$f":"'2c'!AG9","v":0},{"$f":"'2c'!AH9","v":0},{"$f":"'2c'!AI9","v":0},{"$f":"'2c'!AJ9","v":0},{"$f":"'2c'!AK9","v":0},{"$f":"'2c'!AL9","v":0},{"$f":"'2c'!AM9","v":0},{"$f":"'2c'!AN9","v":0},{"$f":"'2c'!AO9","v":0},{"$f":"'2c'!AP9","v":0},{"$f":"'2c'!AQ9","v":0},{"$f":"'2c'!AR9","v":0},{"$f":"'2c'!AS9","v":0},{"$f":"'2c'!AT9","v":0},{"$f":"'2c'!AU9","v":0},{"$f":"'2c'!AV9","v":0},{"$f":"'2c'!AW9","v":0},{"$f":"'2c'!AX9","v":0},{"$f":"'2c'!AY9","v":0},{"$f":"'2c'!AZ9","v":0},{"$f":"'2c'!BA9","v":0},{"$f":"'2c'!BB9","v":0},{"$f":"'2c'!BC9","v":0},{"$f":"'2c'!BD9","v":0},{"$f":"'2c'!BE9","v":0}]
[{"$f":"'2c'!A10","v":"2c"},{"$f":"'2c'!B10","v":0},{"$f":"'2c'!C10","v":0},{"$f":"'2c'!D10","v":"lehrer08"},{"$f":"'2c'!E10","v":0},{"$f":"'2c'!F10","v":0},{"$f":"'2c'!G10","v":0},{"$f":"'2c'!H10","v":0},{"$f":"'2c'!I10","v":0},{"$f":"'2c'!J10","v":0},{"$f":"'2c'!K10","v":0},{"$f":"'2c'!L10","v":0},{"$f":"'2c'!M10","v":0},{"$f":"'2c'!N10","v":0},{"$f":"'2c'!O10","v":0},{"$f":"'2c'!P10","v":0},{"$f":"'2c'!Q10","v":0},{"$f":"'2c'!R10","v":0},{"$f":"'2c'!S10","v":0},{"$f":"'2c'!T10","v":0},{"$f":"'2c'!U10","v":0},{"$f":"'2c'!V10","v":0},{"$f":"'2c'!W10","v":0},{"$f":"'2c'!X10","v":0},{"$f":"'2c'!Y10","v":0},{"$f":"'2c'!Z10","v":0},{"$f":"'2c'!AA10","v":0},{"$f":"'2c'!AB10","v":0},{"$f":"'2c'!AC10","v":0},{"$f":"'2c'!AD10","v":0},{"$f":"'2c'!AE10","v":0},{"$f":"'2c'!AF10","v":0},{"$f":"'2c'!AG10","v":0},{"$f":"'2c'!AH10","v":0},{"$f":"'2c'!AI10","v":0},{"$f":"'2c'!AJ10","v":0},{"$f":"'2c'!AK10","v":0},{"$f":"'2c'!AL10","v":0},{"$f":"'2c'!AM10","v":0},{"$f":"'2c'!AN10","v":0},{"$f":"'2c'!AO10","v":0},{"$f":"'2c'!AP10","v":0},{"$f":"'2c'!AQ10","v":0},{"$f":"'2c'!AR10","v":0},{"$f":"'2c'!AS10","v":0},{"$f":"'2c'!AT10","v":0},{"$f":"'2c'!AU10","v":0},{"$f":"'2c'!AV10","v":0},{"$f":"'2c'!AW10","v":0},{"$f":"'2c'!AX10","v":0},{"$f":"'2c'!AY10","v":0},{"$f":"'2c'!AZ10","v":0},{"$f":"'2c'!BA10","v":0},{"$f":"'2c'!BB10","v":0},{"$f":"'2c'!BC10","v":0},{"$f":"'2c'!BD10","v":0},{"$f":"'2c'!BE10","v":0}]
[{"$f":"'2c'!A11","v":"2c"},{"$f":"'2c'!B11","v":0},{"$f":"'2c'!C11","v":0},{"$f":"'2c'!D11","v":"lehrer09"},{"$f":"'2c'!E11","v":0},{"$f":"'2c'!F11","v":0},{"$f":"'2c'!G11","v":0},{"$f":"'2c'!H11","v":0},{"$f":"'2c'!I11","v":0},{"$f":"'2c'!J11","v":0},{"$f":"'2c'!K11","v":0},{"$f":"'2c'!L11","v":0},{"$f":"'2c'!M11","v":0},{"$f":"'2c'!N11","v":0},{"$f":"'2c'!O11","v":0},{"$f":"'2c'!P11","v":0},{"$f":"'2c'!Q11","v":0},{"$f":"'2c'!R11","v":0},{"$f":"'2c'!S11","v":0},{"$f":"'2c'!T11","v":0},{"$f":"'2c'!U11","v":0},{"$f":"'2c'!V11","v":0},{"$f":"'2c'!W11","v":0},{"$f":"'2c'!X11","v":0},{"$f":"'2c'!Y11","v":0},{"$f":"'2c'!Z11","v":0},{"$f":"'2c'!AA11","v":0},{"$f":"'2c'!AB11","v":0},{"$f":"'2c'!AC11","v":0},{"$f":"'2c'!AD11","v":0},{"$f":"'2c'!AE11","v":0},{"$f":"'2c'!AF11","v":0},{"$f":"'2c'!AG11","v":0},{"$f":"'2c'!AH11","v":0},{"$f":"'2c'!AI11","v":0},{"$f":"'2c'!AJ11","v":0},{"$f":"'2c'!AK11","v":0},{"$f":"'2c'!AL11","v":0},{"$f":"'2c'!AM11","v":0},{"$f":"'2c'!AN11","v":0},{"$f":"'2c'!AO11","v":0},{"$f":"'2c'!AP11","v":0},{"$f":"'2c'!AQ11","v":0},{"$f":"'2c'!AR11","v":0},{"$f":"'2c'!AS11","v":0},{"$f":"'2c'!AT11","v":0},{"$f":"'2c'!AU11","v":0},{"$f":"'2c'!AV11","v":0},{"$f":"'2c'!AW11","v":0},{"$f":"'2c'!AX11","v":0},{"$f":"'2c'!AY11","v":0},{"$f":"'2c'!AZ11","v":0},{"$f":"'2c'!BA11","v":0},{"$f":"'2c'!BB11","v":0},{"$f":"'2c'!BC11","v":0},{"$f":"'2c'!BD11","v":0},{"$f":"'2c'!BE11","v":0}]
[{"$f":"'2c'!A12","v":"2c"},{"$f":"'2c'!B12","v":0},{"$f":"'2c'!C12","v":0},{"$f":"'2c'!D12","v":"lehrer10"},{"$f":"'2c'!E12","v":0},{"$f":"'2c'!F12","v":0},{"$f":"'2c'!G12","v":0},{"$f":"'2c'!H12","v":0},{"$f":"'2c'!I12","v":0},{"$f":"'2c'!J12","v":0},{"$f":"'2c'!K12","v":0},{"$f":"'2c'!L12","v":0},{"$f":"'2c'!M12","v":0},{"$f":"'2c'!N12","v":0},{"$f":"'2c'!O12","v":0},{"$f":"'2c'!P12","v":0},{"$f":"'2c'!Q12","v":0},{"$f":"'2c'!R12","v":0},{"$f":"'2c'!S12","v":0},{"$f":"'2c'!T12","v":0},{"$f":"'2c'!U12","v":0},{"$f":"'2c'!V12","v":0},{"$f":"'2c'!W12","v":0},{"$f":"'2c'!X12","v":0},{"$f":"'2c'!Y12","v":0},{"$f":"'2c'!Z12","v":0},{"$f":"'2c'!AA12","v":0},{"$f":"'2c'!AB12","v":0},{"$f":"'2c'!AC12","v":0},{"$f":"'2c'!AD12","v":0},{"$f":"'2c'!AE12","v":0},{"$f":"'2c'!AF12","v":0},{"$f":"'2c'!AG12","v":0},{"$f":"'2c'!AH12","v":0},{"$f":"'2c'!AI12","v":0},{"$f":"'2c'!AJ12","v":0},{"$f":"'2c'!AK12","v":0},{"$f":"'2c'!AL12","v":0},{"$f":"'2c'!AM12","v":0},{"$f":"'2c'!AN12","v":0},{"$f":"'2c'!AO12","v":0},{"$f":"'2c'!AP12","v":0},{"$f":"'2c'!AQ12","v":0},{"$f":"'2c'!AR12","v":0},{"$f":"'2c'!AS12","v":0},{"$f":"'2c'!AT12","v":0},{"$f":"'2c'!AU12","v":0},{"$f":"'2c'!AV12","v":0},{"$f":"'2c'!AW12","v":0},{"$f":"'2c'!AX12","v":0},{"$f":"'2c'!AY12","v":0},{"$f":"'2c'!AZ12","v":0},{"$f":"'2c'!BA12","v":0},{"$f":"'2c'!BB12","v":0},{"$f":"'2c'!BC12","v":0},{"$f":"'2c'!BD12","v":0},{"$f":"'2c'!BE12","v":0}]
[{"$f":"'2c'!A13","v":"2c"},{"$f":"'2c'!B13","v":0},{"$f":"'2c'!C13","v":0},{"$f":"'2c'!D13","v":"lehrer11"},{"$f":"'2c'!E13","v":0},{"$f":"'2c'!F13","v":0},{"$f":"'2c'!G13","v":0},{"$f":"'2c'!H13","v":0},{"$f":"'2c'!I13","v":0},{"$f":"'2c'!J13","v":0},{"$f":"'2c'!K13","v":0},{"$f":"'2c'!L13","v":0},{"$f":"'2c'!M13","v":0},{"$f":"'2c'!N13","v":0},{"$f":"'2c'!O13","v":0},{"$f":"'2c'!P13","v":0},{"$f":"'2c'!Q13","v":0},{"$f":"'2c'!R13","v":0},{"$f":"'2c'!S13","v":0},{"$f":"'2c'!T13","v":0},{"$f":"'2c'!U13","v":0},{"$f":"'2c'!V13","v":0},{"$f":"'2c'!W13","v":0},{"$f":"'2c'!X13","v":0},{"$f":"'2c'!Y13","v":0},{"$f":"'2c'!Z13","v":0},{"$f":"'2c'!AA13","v":0},{"$f":"'2c'!AB13","v":0},{"$f":"'2c'!AC13","v":0},{"$f":"'2c'!AD13","v":0},{"$f":"'2c'!AE13","v":0},{"$f":"'2c'!AF13","v":0},{"$f":"'2c'!AG13","v":0},{"$f":"'2c'!AH13","v":0},{"$f":"'2c'!AI13","v":0},{"$f":"'2c'!AJ13","v":0},{"$f":"'2c'!AK13","v":0},{"$f":"'2c'!AL13","v":0},{"$f":"'2c'!AM13","v":0},{"$f":"'2c'!AN13","v":0},{"$f":"'2c'!AO13","v":0},{"$f":"'2c'!AP13","v":0},{"$f":"'2c'!AQ13","v":0},{"$f":"'2c'!AR13","v":0},{"$f":"'2c'!AS13","v":0},{"$f":"'2c'!AT13","v":0},{"$f":"'2c'!AU13","v":0},{"$f":"'2c'!AV13","v":0},{"$f":"'2c'!AW13","v":0},{"$f":"'2c'!AX13","v":0},{"$f":"'2c'!AY13","v":0},{"$f":"'2c'!AZ13","v":0},{"$f":"'2c'!BA13","v":0},{"$f":"'2c'!BB13","v":0},{"$f":"'2c'!BC13","v":0},{"$f":"'2c'!BD13","v":0},{"$f":"'2c'!BE13","v":0}]
[{"$f":"'2c'!A14","v":"2c"},{"$f":"'2c'!B14","v":0},{"$f":"'2c'!C14","v":0},{"$f":"'2c'!D14","v":"lehrer12"},{"$f":"'2c'!E14","v":0},{"$f":"'2c'!F14","v":0},{"$f":"'2c'!G14","v":0},{"$f":"'2c'!H14","v":0},{"$f":"'2c'!I14","v":0},{"$f":"'2c'!J14","v":0},{"$f":"'2c'!K14","v":0},{"$f":"'2c'!L14","v":0},{"$f":"'2c'!M14","v":0},{"$f":"'2c'!N14","v":0},{"$f":"'2c'!O14","v":0},{"$f":"'2c'!P14","v":0},{"$f":"'2c'!Q14","v":0},{"$f":"'2c'!R14","v":0},{"$f":"'2c'!S14","v":0},{"$f":"'2c'!T14","v":0},{"$f":"'2c'!U14","v":0},{"$f":"'2c'!V14","v":0},{"$f":"'2c'!W14","v":0},{"$f":"'2c'!X14","v":0},{"$f":"'2c'!Y14","v":0},{"$f":"'2c'!Z14","v":0},{"$f":"'2c'!AA14","v":0},{"$f":"'2c'!AB14","v":0},{"$f":"'2c'!AC14","v":0},{"$f":"'2c'!AD14","v":0},{"$f":"'2c'!AE14","v":0},{"$f":"'2c'!AF14","v":0},{"$f":"'2c'!AG14","v":0},{"$f":"'2c'!AH14","v":0},{"$f":"'2c'!AI14","v":0},{"$f":"'2c'!AJ14","v":0},{"$f":"'2c'!AK14","v":0},{"$f":"'2c'!AL14","v":0},{"$f":"'2c'!AM14","v":0},{"$f":"'2c'!AN14","v":0},{"$f":"'2c'!AO14","v":0},{"$f":"'2c'!AP14","v":0},{"$f":"'2c'!AQ14","v":0},{"$f":"'2c'!AR14","v":0},{"$f":"'2c'!AS14","v":0},{"$f":"'2c'!AT14","v":0},{"$f":"'2c'!AU14","v":0},{"$f":"'2c'!AV14","v":0},{"$f":"'2c'!AW14","v":0},{"$f":"'2c'!AX14","v":0},{"$f":"'2c'!AY14","v":0},{"$f":"'2c'!AZ14","v":0},{"$f":"'2c'!BA14","v":0},{"$f":"'2c'!BB14","v":0},{"$f":"'2c'!BC14","v":0},{"$f":"'2c'!BD14","v":0},{"$f":"'2c'!BE14","v":0}]
[{"$f":"'2c'!A15","v":"2c"},{"$f":"'2c'!B15","v":0},{"$f":"'2c'!C15","v":0},{"$f":"'2c'!D15","v":"lehrer13"},{"$f":"'2c'!E15","v":0},{"$f":"'2c'!F15","v":0},{"$f":"'2c'!G15","v":0},{"$f":"'2c'!H15","v":0},{"$f":"'2c'!I15","v":0},{"$f":"'2c'!J15","v":0},{"$f":"'2c'!K15","v":0},{"$f":"'2c'!L15","v":0},{"$f":"'2c'!M15","v":0},{"$f":"'2c'!N15","v":0},{"$f":"'2c'!O15","v":0},{"$f":"'2c'!P15","v":0},{"$f":"'2c'!Q15","v":0},{"$f":"'2c'!R15","v":0},{"$f":"'2c'!S15","v":0},{"$f":"'2c'!T15","v":0},{"$f":"'2c'!U15","v":0},{"$f":"'2c'!V15","v":0},{"$f":"'2c'!W15","v":0},{"$f":"'2c'!X15","v":0},{"$f":"'2c'!Y15","v":0},{"$f":"'2c'!Z15","v":0},{"$f":"'2c'!AA15","v":0},{"$f":"'2c'!AB15","v":0},{"$f":"'2c'!AC15","v":0},{"$f":"'2c'!AD15","v":0},{"$f":"'2c'!AE15","v":0},{"$f":"'2c'!AF15","v":0},{"$f":"'2c'!AG15","v":0},{"$f":"'2c'!AH15","v":0},{"$f":"'2c'!AI15","v":0},{"$f":"'2c'!AJ15","v":0},{"$f":"'2c'!AK15","v":0},{"$f":"'2c'!AL15","v":0},{"$f":"'2c'!AM15","v":0},{"$f":"'2c'!AN15","v":0},{"$f":"'2c'!AO15","v":0},{"$f":"'2c'!AP15","v":0},{"$f":"'2c'!AQ15","v":0},{"$f":"'2c'!AR15","v":0},{"$f":"'2c'!AS15","v":0},{"$f":"'2c'!AT15","v":0},{"$f":"'2c'!AU15","v":0},{"$f":"'2c'!AV15","v":0},{"$f":"'2c'!AW15","v":0},{"$f":"'2c'!AX15","v":0},{"$f":"'2c'!AY15","v":0},{"$f":"'2c'!AZ15","v":0},{"$f":"'2c'!BA15","v":0},{"$f":"'2c'!BB15","v":0},{"$f":"'2c'!BC15","v":0},{"$f":"'2c'!BD15","v":0},{"$f":"'2c'!BE15","v":0}]
[{"$f":"'2c'!A16","v":"2c"},{"$f":"'2c'!B16","v":0},{"$f":"'2c'!C16","v":0},{"$f":"'2c'!D16","v":"lehrer14"},{"$f":"'2c'!E16","v":0},{"$f":"'2c'!F16","v":0},{"$f":"'2c'!G16","v":0},{"$f":"'2c'!H16","v":0},{"$f":"'2c'!I16","v":0},{"$f":"'2c'!J16","v":0},{"$f":"'2c'!K16","v":0},{"$f":"'2c'!L16","v":0},{"$f":"'2c'!M16","v":0},{"$f":"'2c'!N16","v":0},{"$f":"'2c'!O16","v":0},{"$f":"'2c'!P16","v":0},{"$f":"'2c'!Q16","v":0},{"$f":"'2c'!R16","v":0},{"$f":"'2c'!S16","v":0},{"$f":"'2c'!T16","v":0},{"$f":"'2c'!U16","v":0},{"$f":"'2c'!V16","v":0},{"$f":"'2c'!W16","v":0},{"$f":"'2c'!X16","v":0},{"$f":"'2c'!Y16","v":0},{"$f":"'2c'!Z16","v":0},{"$f":"'2c'!AA16","v":0},{"$f":"'2c'!AB16","v":0},{"$f":"'2c'!AC16","v":0},{"$f":"'2c'!AD16","v":0},{"$f":"'2c'!AE16","v":0},{"$f":"'2c'!AF16","v":0},{"$f":"'2c'!AG16","v":0},{"$f":"'2c'!AH16","v":0},{"$f":"'2c'!AI16","v":0},{"$f":"'2c'!AJ16","v":0},{"$f":"'2c'!AK16","v":0},{"$f":"'2c'!AL16","v":0},{"$f":"'2c'!AM16","v":0},{"$f":"'2c'!AN16","v":0},{"$f":"'2c'!AO16","v":0},{"$f":"'2c'!AP16","v":0},{"$f":"'2c'!AQ16","v":0},{"$f":"'2c'!AR16","v":0},{"$f":"'2c'!AS16","v":0},{"$f":"'2c'!AT16","v":0},{"$f":"'2c'!AU16","v":0},{"$f":"'2c'!AV16","v":0},{"$f":"'2c'!AW16","v":0},{"$f":"'2c'!AX16","v":0},{"$f":"'2c'!AY16","v":0},{"$f":"'2c'!AZ16","v":0},{"$f":"'2c'!BA16","v":0},{"$f":"'2c'!BB16","v":0},{"$f":"'2c'!BC16","v":0},{"$f":"'2c'!BD16","v":0},{"$f":"'2c'!BE16","v":0}]
[{"$f":"'2c'!A17","v":"2c"},{"$f":"'2c'!B17","v":0},{"$f":"'2c'!C17","v":0},{"$f":"'2c'!D17","v":"lehrer15"},{"$f":"'2c'!E17","v":0},{"$f":"'2c'!F17","v":0},{"$f":"'2c'!G17","v":0},{"$f":"'2c'!H17","v":0},{"$f":"'2c'!I17","v":0},{"$f":"'2c'!J17","v":0},{"$f":"'2c'!K17","v":0},{"$f":"'2c'!L17","v":0},{"$f":"'2c'!M17","v":0},{"$f":"'2c'!N17","v":0},{"$f":"'2c'!O17","v":0},{"$f":"'2c'!P17","v":0},{"$f":"'2c'!Q17","v":0},{"$f":"'2c'!R17","v":0},{"$f":"'2c'!S17","v":0},{"$f":"'2c'!T17","v":0},{"$f":"'2c'!U17","v":0},{"$f":"'2c'!V17","v":0},{"$f":"'2c'!W17","v":0},{"$f":"'2c'!X17","v":0},{"$f":"'2c'!Y17","v":0},{"$f":"'2c'!Z17","v":0},{"$f":"'2c'!AA17","v":0},{"$f":"'2c'!AB17","v":0},{"$f":"'2c'!AC17","v":0},{"$f":"'2c'!AD17","v":0},{"$f":"'2c'!AE17","v":0},{"$f":"'2c'!AF17","v":0},{"$f":"'2c'!AG17","v":0},{"$f":"'2c'!AH17","v":0},{"$f":"'2c'!AI17","v":0},{"$f":"'2c'!AJ17","v":0},{"$f":"'2c'!AK17","v":0},{"$f":"'2c'!AL17","v":0},{"$f":"'2c'!AM17","v":0},{"$f":"'2c'!AN17","v":0},{"$f":"'2c'!AO17","v":0},{"$f":"'2c'!AP17","v":0},{"$f":"'2c'!AQ17","v":0},{"$f":"'2c'!AR17","v":0},{"$f":"'2c'!AS17","v":0},{"$f":"'2c'!AT17","v":0},{"$f":"'2c'!AU17","v":0},{"$f":"'2c'!AV17","v":0},{"$f":"'2c'!AW17","v":0},{"$f":"'2c'!AX17","v":0},{"$f":"'2c'!AY17","v":0},{"$f":"'2c'!AZ17","v":0},{"$f":"'2c'!BA17","v":0},{"$f":"'2c'!BB17","v":0},{"$f":"'2c'!BC17","v":0},{"$f":"'2c'!BD17","v":0},{"$f":"'2c'!BE17","v":0}]
[{"$f":"'2c'!A18","v":"2c"},{"$f":"'2c'!B18","v":0},{"$f":"'2c'!C18","v":0},{"$f":"'2c'!D18","v":"lehrer16"},{"$f":"'2c'!E18","v":0},{"$f":"'2c'!F18","v":0},{"$f":"'2c'!G18","v":0},{"$f":"'2c'!H18","v":0},{"$f":"'2c'!I18","v":0},{"$f":"'2c'!J18","v":0},{"$f":"'2c'!K18","v":0},{"$f":"'2c'!L18","v":0},{"$f":"'2c'!M18","v":0},{"$f":"'2c'!N18","v":0},{"$f":"'2c'!O18","v":0},{"$f":"'2c'!P18","v":0},{"$f":"'2c'!Q18","v":0},{"$f":"'2c'!R18","v":0},{"$f":"'2c'!S18","v":0},{"$f":"'2c'!T18","v":0},{"$f":"'2c'!U18","v":0},{"$f":"'2c'!V18","v":0},{"$f":"'2c'!W18","v":0},{"$f":"'2c'!X18","v":0},{"$f":"'2c'!Y18","v":0},{"$f":"'2c'!Z18","v":0},{"$f":"'2c'!AA18","v":0},{"$f":"'2c'!AB18","v":0},{"$f":"'2c'!AC18","v":0},{"$f":"'2c'!AD18","v":0},{"$f":"'2c'!AE18","v":0},{"$f":"'2c'!AF18","v":0},{"$f":"'2c'!AG18","v":0},{"$f":"'2c'!AH18","v":0},{"$f":"'2c'!AI18","v":0},{"$f":"'2c'!AJ18","v":0},{"$f":"'2c'!AK18","v":0},{"$f":"'2c'!AL18","v":0},{"$f":"'2c'!AM18","v":0},{"$f":"'2c'!AN18","v":0},{"$f":"'2c'!AO18","v":0},{"$f":"'2c'!AP18","v":0},{"$f":"'2c'!AQ18","v":0},{"$f":"'2c'!AR18","v":0},{"$f":"'2c'!AS18","v":0},{"$f":"'2c'!AT18","v":0},{"$f":"'2c'!AU18","v":0},{"$f":"'2c'!AV18","v":0},{"$f":"'2c'!AW18","v":0},{"$f":"'2c'!AX18","v":0},{"$f":"'2c'!AY18","v":0},{"$f":"'2c'!AZ18","v":0},{"$f":"'2c'!BA18","v":0},{"$f":"'2c'!BB18","v":0},{"$f":"'2c'!BC18","v":0},{"$f":"'2c'!BD18","v":0},{"$f":"'2c'!BE18","v":0}]
[{"$f":"'2c'!A19","v":"2c"},{"$f":"'2c'!B19","v":0},{"$f":"'2c'!C19","v":0},{"$f":"'2c'!D19","v":"lehrer17"},{"$f":"'2c'!E19","v":0},{"$f":"'2c'!F19","v":0},{"$f":"'2c'!G19","v":0},{"$f":"'2c'!H19","v":0},{"$f":"'2c'!I19","v":0},{"$f":"'2c'!J19","v":0},{"$f":"'2c'!K19","v":0},{"$f":"'2c'!L19","v":0},{"$f":"'2c'!M19","v":0},{"$f":"'2c'!N19","v":0},{"$f":"'2c'!O19","v":0},{"$f":"'2c'!P19","v":0},{"$f":"'2c'!Q19","v":0},{"$f":"'2c'!R19","v":0},{"$f":"'2c'!S19","v":0},{"$f":"'2c'!T19","v":0},{"$f":"'2c'!U19","v":0},{"$f":"'2c'!V19","v":0},{"$f":"'2c'!W19","v":0},{"$f":"'2c'!X19","v":0},{"$f":"'2c'!Y19","v":0},{"$f":"'2c'!Z19","v":0},{"$f":"'2c'!AA19","v":0},{"$f":"'2c'!AB19","v":0},{"$f":"'2c'!AC19","v":0},{"$f":"'2c'!AD19","v":0},{"$f":"'2c'!AE19","v":0},{"$f":"'2c'!AF19","v":0},{"$f":"'2c'!AG19","v":0},{"$f":"'2c'!AH19","v":0},{"$f":"'2c'!AI19","v":0},{"$f":"'2c'!AJ19","v":0},{"$f":"'2c'!AK19","v":0},{"$f":"'2c'!AL19","v":0},{"$f":"'2c'!AM19","v":0},{"$f":"'2c'!AN19","v":0},{"$f":"'2c'!AO19","v":0},{"$f":"'2c'!AP19","v":0},{"$f":"'2c'!AQ19","v":0},{"$f":"'2c'!AR19","v":0},{"$f":"'2c'!AS19","v":0},{"$f":"'2c'!AT19","v":0},{"$f":"'2c'!AU19","v":0},{"$f":"'2c'!AV19","v":0},{"$f":"'2c'!AW19","v":0},{"$f":"'2c'!AX19","v":0},{"$f":"'2c'!AY19","v":0},{"$f":"'2c'!AZ19","v":0},{"$f":"'2c'!BA19","v":0},{"$f":"'2c'!BB19","v":0},{"$f":"'2c'!BC19","v":0},{"$f":"'2c'!BD19","v":0},{"$f":"'2c'!BE19","v":0}]
[{"$f":"'2c'!A20","v":"2c"},{"$f":"'2c'!B20","v":0},{"$f":"'2c'!C20","v":0},{"$f":"'2c'!D20","v":"lehrer18"},{"$f":"'2c'!E20","v":0},{"$f":"'2c'!F20","v":0},{"$f":"'2c'!G20","v":0},{"$f":"'2c'!H20","v":0},{"$f":"'2c'!I20","v":0},{"$f":"'2c'!J20","v":0},{"$f":"'2c'!K20","v":0},{"$f":"'2c'!L20","v":0},{"$f":"'2c'!M20","v":0},{"$f":"'2c'!N20","v":0},{"$f":"'2c'!O20","v":0},{"$f":"'2c'!P20","v":0},{"$f":"'2c'!Q20","v":0},{"$f":"'2c'!R20","v":0},{"$f":"'2c'!S20","v":0},{"$f":"'2c'!T20","v":0},{"$f":"'2c'!U20","v":0},{"$f":"'2c'!V20","v":0},{"$f":"'2c'!W20","v":0},{"$f":"'2c'!X20","v":0},{"$f":"'2c'!Y20","v":0},{"$f":"'2c'!Z20","v":0},{"$f":"'2c'!AA20","v":0},{"$f":"'2c'!AB20","v":0},{"$f":"'2c'!AC20","v":0},{"$f":"'2c'!AD20","v":0},{"$f":"'2c'!AE20","v":0},{"$f":"'2c'!AF20","v":0},{"$f":"'2c'!AG20","v":0},{"$f":"'2c'!AH20","v":0},{"$f":"'2c'!AI20","v":0},{"$f":"'2c'!AJ20","v":0},{"$f":"'2c'!AK20","v":0},{"$f":"'2c'!AL20","v":0},{"$f":"'2c'!AM20","v":0},{"$f":"'2c'!AN20","v":0},{"$f":"'2c'!AO20","v":0},{"$f":"'2c'!AP20","v":0},{"$f":"'2c'!AQ20","v":0},{"$f":"'2c'!AR20","v":0},{"$f":"'2c'!AS20","v":0},{"$f":"'2c'!AT20","v":0},{"$f":"'2c'!AU20","v":0},{"$f":"'2c'!AV20","v":0},{"$f":"'2c'!AW20","v":0},{"$f":"'2c'!AX20","v":0},{"$f":"'2c'!AY20","v":0},{"$f":"'2c'!AZ20","v":0},{"$f":"'2c'!BA20","v":0},{"$f":"'2c'!BB20","v":0},{"$f":"'2c'!BC20","v":0},{"$f":"'2c'!BD20","v":0},{"$f":"'2c'!BE20","v":0}]
[{"$f":"'2c'!A21","v":"2c"},{"$f":"'2c'!B21","v":0},{"$f":"'2c'!C21","v":0},{"$f":"'2c'!D21","v":"lehrer19"},{"$f":"'2c'!E21","v":0},{"$f":"'2c'!F21","v":0},{"$f":"'2c'!G21","v":0},{"$f":"'2c'!H21","v":0},{"$f":"'2c'!I21","v":0},{"$f":"'2c'!J21","v":0},{"$f":"'2c'!K21","v":0},{"$f":"'2c'!L21","v":0},{"$f":"'2c'!M21","v":0},{"$f":"'2c'!N21","v":0},{"$f":"'2c'!O21","v":0},{"$f":"'2c'!P21","v":0},{"$f":"'2c'!Q21","v":0},{"$f":"'2c'!R21","v":0},{"$f":"'2c'!S21","v":0},{"$f":"'2c'!T21","v":0},{"$f":"'2c'!U21","v":0},{"$f":"'2c'!V21","v":0},{"$f":"'2c'!W21","v":0},{"$f":"'2c'!X21","v":0},{"$f":"'2c'!Y21","v":0},{"$f":"'2c'!Z21","v":0},{"$f":"'2c'!AA21","v":0},{"$f":"'2c'!AB21","v":0},{"$f":"'2c'!AC21","v":0},{"$f":"'2c'!AD21","v":0},{"$f":"'2c'!AE21","v":0},{"$f":"'2c'!AF21","v":0},{"$f":"'2c'!AG21","v":0},{"$f":"'2c'!AH21","v":0},{"$f":"'2c'!AI21","v":0},{"$f":"'2c'!AJ21","v":0},{"$f":"'2c'!AK21","v":0},{"$f":"'2c'!AL21","v":0},{"$f":"'2c'!AM21","v":0},{"$f":"'2c'!AN21","v":0},{"$f":"'2c'!AO21","v":0},{"$f":"'2c'!AP21","v":0},{"$f":"'2c'!AQ21","v":0},{"$f":"'2c'!AR21","v":0},{"$f":"'2c'!AS21","v":0},{"$f":"'2c'!AT21","v":0},{"$f":"'2c'!AU21","v":0},{"$f":"'2c'!AV21","v":0},{"$f":"'2c'!AW21","v":0},{"$f":"'2c'!AX21","v":0},{"$f":"'2c'!AY21","v":0},{"$f":"'2c'!AZ21","v":0},{"$f":"'2c'!BA21","v":0},{"$f":"'2c'!BB21","v":0},{"$f":"'2c'!BC21","v":0},{"$f":"'2c'!BD21","v":0},{"$f":"'2c'!BE21","v":0}]
[{"$f":"'2c'!A22","v":"2c"},{"$f":"'2c'!B22","v":0},{"$f":"'2c'!C22","v":0},{"$f":"'2c'!D22","v":"lehrer20"},{"$f":"'2c'!E22","v":0},{"$f":"'2c'!F22","v":0},{"$f":"'2c'!G22","v":0},{"$f":"'2c'!H22","v":0},{"$f":"'2c'!I22","v":0},{"$f":"'2c'!J22","v":0},{"$f":"'2c'!K22","v":0},{"$f":"'2c'!L22","v":0},{"$f":"'2c'!M22","v":0},{"$f":"'2c'!N22","v":0},{"$f":"'2c'!O22","v":0},{"$f":"'2c'!P22","v":0},{"$f":"'2c'!Q22","v":0},{"$f":"'2c'!R22","v":0},{"$f":"'2c'!S22","v":0},{"$f":"'2c'!T22","v":0},{"$f":"'2c'!U22","v":0},{"$f":"'2c'!V22","v":0},{"$f":"'2c'!W22","v":0},{"$f":"'2c'!X22","v":0},{"$f":"'2c'!Y22","v":0},{"$f":"'2c'!Z22","v":0},{"$f":"'2c'!AA22","v":0},{"$f":"'2c'!AB22","v":0},{"$f":"'2c'!AC22","v":0},{"$f":"'2c'!AD22","v":0},{"$f":"'2c'!AE22","v":0},{"$f":"'2c'!AF22","v":0},{"$f":"'2c'!AG22","v":0},{"$f":"'2c'!AH22","v":0},{"$f":"'2c'!AI22","v":0},{"$f":"'2c'!AJ22","v":0},{"$f":"'2c'!AK22","v":0},{"$f":"'2c'!AL22","v":0},{"$f":"'2c'!AM22","v":0},{"$f":"'2c'!AN22","v":0},{"$f":"'2c'!AO22","v":0},{"$f":"'2c'!AP22","v":0},{"$f":"'2c'!AQ22","v":0},{"$f":"'2c'!AR22","v":0},{"$f":"'2c'!AS22","v":0},{"$f":"'2c'!AT22","v":0},{"$f":"'2c'!AU22","v":0},{"$f":"'2c'!AV22","v":0},{"$f":"'2c'!AW22","v":0},{"$f":"'2c'!AX22","v":0},{"$f":"'2c'!AY22","v":0},{"$f":"'2c'!AZ22","v":0},{"$f":"'2c'!BA22","v":0},{"$f":"'2c'!BB22","v":0},{"$f":"'2c'!BC22","v":0},{"$f":"'2c'!BD22","v":0},{"$f":"'2c'!BE22","v":0}]
[{"$f":"'2c'!A23","v":"2c"},{"$f":"'2c'!B23","v":0},{"$f":"'2c'!C23","v":0},{"$f":"'2c'!D23","v":"lehrer21"},{"$f":"'2c'!E23","v":0},{"$f":"'2c'!F23","v":0},{"$f":"'2c'!G23","v":0},{"$f":"'2c'!H23","v":0},{"$f":"'2c'!I23","v":0},{"$f":"'2c'!J23","v":0},{"$f":"'2c'!K23","v":0},{"$f":"'2c'!L23","v":0},{"$f":"'2c'!M23","v":0},{"$f":"'2c'!N23","v":0},{"$f":"'2c'!O23","v":0},{"$f":"'2c'!P23","v":0},{"$f":"'2c'!Q23","v":0},{"$f":"'2c'!R23","v":0},{"$f":"'2c'!S23","v":0},{"$f":"'2c'!T23","v":0},{"$f":"'2c'!U23","v":0},{"$f":"'2c'!V23","v":0},{"$f":"'2c'!W23","v":0},{"$f":"'2c'!X23","v":0},{"$f":"'2c'!Y23","v":0},{"$f":"'2c'!Z23","v":0},{"$f":"'2c'!AA23","v":0},{"$f":"'2c'!AB23","v":0},{"$f":"'2c'!AC23","v":0},{"$f":"'2c'!AD23","v":0},{"$f":"'2c'!AE23","v":0},{"$f":"'2c'!AF23","v":0},{"$f":"'2c'!AG23","v":0},{"$f":"'2c'!AH23","v":0},{"$f":"'2c'!AI23","v":0},{"$f":"'2c'!AJ23","v":0},{"$f":"'2c'!AK23","v":0},{"$f":"'2c'!AL23","v":0},{"$f":"'2c'!AM23","v":0},{"$f":"'2c'!AN23","v":0},{"$f":"'2c'!AO23","v":0},{"$f":"'2c'!AP23","v":0},{"$f":"'2c'!AQ23","v":0},{"$f":"'2c'!AR23","v":0},{"$f":"'2c'!AS23","v":0},{"$f":"'2c'!AT23","v":0},{"$f":"'2c'!AU23","v":0},{"$f":"'2c'!AV23","v":0},{"$f":"'2c'!AW23","v":0},{"$f":"'2c'!AX23","v":0},{"$f":"'2c'!AY23","v":0},{"$f":"'2c'!AZ23","v":0},{"$f":"'2c'!BA23","v":0},{"$f":"'2c'!BB23","v":0},{"$f":"'2c'!BC23","v":0},{"$f":"'2c'!BD23","v":0},{"$f":"'2c'!BE23","v":0}]
[{"$f":"'2c'!A24","v":"2c"},{"$f":"'2c'!B24","v":0},{"$f":"'2c'!C24","v":0},{"$f":"'2c'!D24","v":"lehrer22"},{"$f":"'2c'!E24","v":0},{"$f":"'2c'!F24","v":0},{"$f":"'2c'!G24","v":0},{"$f":"'2c'!H24","v":0},{"$f":"'2c'!I24","v":0},{"$f":"'2c'!J24","v":0},{"$f":"'2c'!K24","v":0},{"$f":"'2c'!L24","v":0},{"$f":"'2c'!M24","v":0},{"$f":"'2c'!N24","v":0},{"$f":"'2c'!O24","v":0},{"$f":"'2c'!P24","v":0},{"$f":"'2c'!Q24","v":0},{"$f":"'2c'!R24","v":0},{"$f":"'2c'!S24","v":0},{"$f":"'2c'!T24","v":0},{"$f":"'2c'!U24","v":0},{"$f":"'2c'!V24","v":0},{"$f":"'2c'!W24","v":0},{"$f":"'2c'!X24","v":0},{"$f":"'2c'!Y24","v":0},{"$f":"'2c'!Z24","v":0},{"$f":"'2c'!AA24","v":0},{"$f":"'2c'!AB24","v":0},{"$f":"'2c'!AC24","v":0},{"$f":"'2c'!AD24","v":0},{"$f":"'2c'!AE24","v":0},{"$f":"'2c'!AF24","v":0},{"$f":"'2c'!AG24","v":0},{"$f":"'2c'!AH24","v":0},{"$f":"'2c'!AI24","v":0},{"$f":"'2c'!AJ24","v":0},{"$f":"'2c'!AK24","v":0},{"$f":"'2c'!AL24","v":0},{"$f":"'2c'!AM24","v":0},{"$f":"'2c'!AN24","v":0},{"$f":"'2c'!AO24","v":0},{"$f":"'2c'!AP24","v":0},{"$f":"'2c'!AQ24","v":0},{"$f":"'2c'!AR24","v":0},{"$f":"'2c'!AS24","v":0},{"$f":"'2c'!AT24","v":0},{"$f":"'2c'!AU24","v":0},{"$f":"'2c'!AV24","v":0},{"$f":"'2c'!AW24","v":0},{"$f":"'2c'!AX24","v":0},{"$f":"'2c'!AY24","v":0},{"$f":"'2c'!AZ24","v":0},{"$f":"'2c'!BA24","v":0},{"$f":"'2c'!BB24","v":0},{"$f":"'2c'!BC24","v":0},{"$f":"'2c'!BD24","v":0},{"$f":"'2c'!BE24","v":0}]
[{"$f":"'2c'!A25","v":"2c"},{"$f":"'2c'!B25","v":0},{"$f":"'2c'!C25","v":0},{"$f":"'2c'!D25","v":"lehrer23"},{"$f":"'2c'!E25","v":0},{"$f":"'2c'!F25","v":0},{"$f":"'2c'!G25","v":0},{"$f":"'2c'!H25","v":0},{"$f":"'2c'!I25","v":0},{"$f":"'2c'!J25","v":0},{"$f":"'2c'!K25","v":0},{"$f":"'2c'!L25","v":0},{"$f":"'2c'!M25","v":0},{"$f":"'2c'!N25","v":0},{"$f":"'2c'!O25","v":0},{"$f":"'2c'!P25","v":0},{"$f":"'2c'!Q25","v":0},{"$f":"'2c'!R25","v":0},{"$f":"'2c'!S25","v":0},{"$f":"'2c'!T25","v":0},{"$f":"'2c'!U25","v":0},{"$f":"'2c'!V25","v":0},{"$f":"'2c'!W25","v":0},{"$f":"'2c'!X25","v":0},{"$f":"'2c'!Y25","v":0},{"$f":"'2c'!Z25","v":0},{"$f":"'2c'!AA25","v":0},{"$f":"'2c'!AB25","v":0},{"$f":"'2c'!AC25","v":0},{"$f":"'2c'!AD25","v":0},{"$f":"'2c'!AE25","v":0},{"$f":"'2c'!AF25","v":0},{"$f":"'2c'!AG25","v":0},{"$f":"'2c'!AH25","v":0},{"$f":"'2c'!AI25","v":0},{"$f":"'2c'!AJ25","v":0},{"$f":"'2c'!AK25","v":0},{"$f":"'2c'!AL25","v":0},{"$f":"'2c'!AM25","v":0},{"$f":"'2c'!AN25","v":0},{"$f":"'2c'!AO25","v":0},{"$f":"'2c'!AP25","v":0},{"$f":"'2c'!AQ25","v":0},{"$f":"'2c'!AR25","v":0},{"$f":"'2c'!AS25","v":0},{"$f":"'2c'!AT25","v":0},{"$f":"'2c'!AU25","v":0},{"$f":"'2c'!AV25","v":0},{"$f":"'2c'!AW25","v":0},{"$f":"'2c'!AX25","v":0},{"$f":"'2c'!AY25","v":0},{"$f":"'2c'!AZ25","v":0},{"$f":"'2c'!BA25","v":0},{"$f":"'2c'!BB25","v":0},{"$f":"'2c'!BC25","v":0},{"$f":"'2c'!BD25","v":0},{"$f":"'2c'!BE25","v":0}]
[{"$f":"'2c'!A26","v":"2c"},{"$f":"'2c'!B26","v":0},{"$f":"'2c'!C26","v":0},{"$f":"'2c'!D26","v":"lehrer24"},{"$f":"'2c'!E26","v":0},{"$f":"'2c'!F26","v":0},{"$f":"'2c'!G26","v":0},{"$f":"'2c'!H26","v":0},{"$f":"'2c'!I26","v":0},{"$f":"'2c'!J26","v":0},{"$f":"'2c'!K26","v":0},{"$f":"'2c'!L26","v":0},{"$f":"'2c'!M26","v":0},{"$f":"'2c'!N26","v":0},{"$f":"'2c'!O26","v":0},{"$f":"'2c'!P26","v":0},{"$f":"'2c'!Q26","v":0},{"$f":"'2c'!R26","v":0},{"$f":"'2c'!S26","v":0},{"$f":"'2c'!T26","v":0},{"$f":"'2c'!U26","v":0},{"$f":"'2c'!V26","v":0},{"$f":"'2c'!W26","v":0},{"$f":"'2c'!X26","v":0},{"$f":"'2c'!Y26","v":0},{"$f":"'2c'!Z26","v":0},{"$f":"'2c'!AA26","v":0},{"$f":"'2c'!AB26","v":0},{"$f":"'2c'!AC26","v":0},{"$f":"'2c'!AD26","v":0},{"$f":"'2c'!AE26","v":0},{"$f":"'2c'!AF26","v":0},{"$f":"'2c'!AG26","v":0},{"$f":"'2c'!AH26","v":0},{"$f":"'2c'!AI26","v":0},{"$f":"'2c'!AJ26","v":0},{"$f":"'2c'!AK26","v":0},{"$f":"'2c'!AL26","v":0},{"$f":"'2c'!AM26","v":0},{"$f":"'2c'!AN26","v":0},{"$f":"'2c'!AO26","v":0},{"$f":"'2c'!AP26","v":0},{"$f":"'2c'!AQ26","v":0},{"$f":"'2c'!AR26","v":0},{"$f":"'2c'!AS26","v":0},{"$f":"'2c'!AT26","v":0},{"$f":"'2c'!AU26","v":0},{"$f":"'2c'!AV26","v":0},{"$f":"'2c'!AW26","v":0},{"$f":"'2c'!AX26","v":0},{"$f":"'2c'!AY26","v":0},{"$f":"'2c'!AZ26","v":0},{"$f":"'2c'!BA26","v":0},{"$f":"'2c'!BB26","v":0},{"$f":"'2c'!BC26","v":0},{"$f":"'2c'!BD26","v":0},{"$f":"'2c'!BE26","v":0}]
[{"$f":"'2c'!A27","v":"2c"},{"$f":"'2c'!B27","v":0},{"$f":"'2c'!C27","v":0},{"$f":"'2c'!D27","v":"lehrer25"},{"$f":"'2c'!E27","v":0},{"$f":"'2c'!F27","v":0},{"$f":"'2c'!G27","v":0},{"$f":"'2c'!H27","v":0},{"$f":"'2c'!I27","v":0},{"$f":"'2c'!J27","v":0},{"$f":"'2c'!K27","v":0},{"$f":"'2c'!L27","v":0},{"$f":"'2c'!M27","v":0},{"$f":"'2c'!N27","v":0},{"$f":"'2c'!O27","v":0},{"$f":"'2c'!P27","v":0},{"$f":"'2c'!Q27","v":0},{"$f":"'2c'!R27","v":0},{"$f":"'2c'!S27","v":0},{"$f":"'2c'!T27","v":0},{"$f":"'2c'!U27","v":0},{"$f":"'2c'!V27","v":0},{"$f":"'2c'!W27","v":0},{"$f":"'2c'!X27","v":0},{"$f":"'2c'!Y27","v":0},{"$f":"'2c'!Z27","v":0},{"$f":"'2c'!AA27","v":0},{"$f":"'2c'!AB27","v":0},{"$f":"'2c'!AC27","v":0},{"$f":"'2c'!AD27","v":0},{"$f":"'2c'!AE27","v":0},{"$f":"'2c'!AF27","v":0},{"$f":"'2c'!AG27","v":0},{"$f":"'2c'!AH27","v":0},{"$f":"'2c'!AI27","v":0},{"$f":"'2c'!AJ27","v":0},{"$f":"'2c'!AK27","v":0},{"$f":"'2c'!AL27","v":0},{"$f":"'2c'!AM27","v":0},{"$f":"'2c'!AN27","v":0},{"$f":"'2c'!AO27","v":0},{"$f":"'2c'!AP27","v":0},{"$f":"'2c'!AQ27","v":0},{"$f":"'2c'!AR27","v":0},{"$f":"'2c'!AS27","v":0},{"$f":"'2c'!AT27","v":0},{"$f":"'2c'!AU27","v":0},{"$f":"'2c'!AV27","v":0},{"$f":"'2c'!AW27","v":0},{"$f":"'2c'!AX27","v":0},{"$f":"'2c'!AY27","v":0},{"$f":"'2c'!AZ27","v":0},{"$f":"'2c'!BA27","v":0},{"$f":"'2c'!BB27","v":0},{"$f":"'2c'!BC27","v":0},{"$f":"'2c'!BD27","v":0},{"$f":"'2c'!BE27","v":0}]
[{"$f":"'2c'!A28","v":"2c"},{"$f":"'2c'!B28","v":0},{"$f":"'2c'!C28","v":0},{"$f":"'2c'!D28","v":"lehrer26"},{"$f":"'2c'!E28","v":0},{"$f":"'2c'!F28","v":0},{"$f":"'2c'!G28","v":0},{"$f":"'2c'!H28","v":0},{"$f":"'2c'!I28","v":0},{"$f":"'2c'!J28","v":0},{"$f":"'2c'!K28","v":0},{"$f":"'2c'!L28","v":0},{"$f":"'2c'!M28","v":0},{"$f":"'2c'!N28","v":0},{"$f":"'2c'!O28","v":0},{"$f":"'2c'!P28","v":0},{"$f":"'2c'!Q28","v":0},{"$f":"'2c'!R28","v":0},{"$f":"'2c'!S28","v":0},{"$f":"'2c'!T28","v":0},{"$f":"'2c'!U28","v":0},{"$f":"'2c'!V28","v":0},{"$f":"'2c'!W28","v":0},{"$f":"'2c'!X28","v":0},{"$f":"'2c'!Y28","v":0},{"$f":"'2c'!Z28","v":0},{"$f":"'2c'!AA28","v":0},{"$f":"'2c'!AB28","v":0},{"$f":"'2c'!AC28","v":0},{"$f":"'2c'!AD28","v":0},{"$f":"'2c'!AE28","v":0},{"$f":"'2c'!AF28","v":0},{"$f":"'2c'!AG28","v":0},{"$f":"'2c'!AH28","v":0},{"$f":"'2c'!AI28","v":0},{"$f":"'2c'!AJ28","v":0},{"$f":"'2c'!AK28","v":0},{"$f":"'2c'!AL28","v":0},{"$f":"'2c'!AM28","v":0},{"$f":"'2c'!AN28","v":0},{"$f":"'2c'!AO28","v":0},{"$f":"'2c'!AP28","v":0},{"$f":"'2c'!AQ28","v":0},{"$f":"'2c'!AR28","v":0},{"$f":"'2c'!AS28","v":0},{"$f":"'2c'!AT28","v":0},{"$f":"'2c'!AU28","v":0},{"$f":"'2c'!AV28","v":0},{"$f":"'2c'!AW28","v":0},{"$f":"'2c'!AX28","v":0},{"$f":"'2c'!AY28","v":0},{"$f":"'2c'!AZ28","v":0},{"$f":"'2c'!BA28","v":0},{"$f":"'2c'!BB28","v":0},{"$f":"'2c'!BC28","v":0},{"$f":"'2c'!BD28","v":0},{"$f":"'2c'!BE28","v":0}]
[{"$f":"'2c'!A29","v":"2c"},{"$f":"'2c'!B29","v":0},{"$f":"'2c'!C29","v":0},{"$f":"'2c'!D29","v":"lehrer27"},{"$f":"'2c'!E29","v":0},{"$f":"'2c'!F29","v":0},{"$f":"'2c'!G29","v":0},{"$f":"'2c'!H29","v":0},{"$f":"'2c'!I29","v":0},{"$f":"'2c'!J29","v":0},{"$f":"'2c'!K29","v":0},{"$f":"'2c'!L29","v":0},{"$f":"'2c'!M29","v":0},{"$f":"'2c'!N29","v":0},{"$f":"'2c'!O29","v":0},{"$f":"'2c'!P29","v":0},{"$f":"'2c'!Q29","v":0},{"$f":"'2c'!R29","v":0},{"$f":"'2c'!S29","v":0},{"$f":"'2c'!T29","v":0},{"$f":"'2c'!U29","v":0},{"$f":"'2c'!V29","v":0},{"$f":"'2c'!W29","v":0},{"$f":"'2c'!X29","v":0},{"$f":"'2c'!Y29","v":0},{"$f":"'2c'!Z29","v":0},{"$f":"'2c'!AA29","v":0},{"$f":"'2c'!AB29","v":0},{"$f":"'2c'!AC29","v":0},{"$f":"'2c'!AD29","v":0},{"$f":"'2c'!AE29","v":0},{"$f":"'2c'!AF29","v":0},{"$f":"'2c'!AG29","v":0},{"$f":"'2c'!AH29","v":0},{"$f":"'2c'!AI29","v":0},{"$f":"'2c'!AJ29","v":0},{"$f":"'2c'!AK29","v":0},{"$f":"'2c'!AL29","v":0},{"$f":"'2c'!AM29","v":0},{"$f":"'2c'!AN29","v":0},{"$f":"'2c'!AO29","v":0},{"$f":"'2c'!AP29","v":0},{"$f":"'2c'!AQ29","v":0},{"$f":"'2c'!AR29","v":0},{"$f":"'2c'!AS29","v":0},{"$f":"'2c'!AT29","v":0},{"$f":"'2c'!AU29","v":0},{"$f":"'2c'!AV29","v":0},{"$f":"'2c'!AW29","v":0},{"$f":"'2c'!AX29","v":0},{"$f":"'2c'!AY29","v":0},{"$f":"'2c'!AZ29","v":0},{"$f":"'2c'!BA29","v":0},{"$f":"'2c'!BB29","v":0},{"$f":"'2c'!BC29","v":0},{"$f":"'2c'!BD29","v":0},{"$f":"'2c'!BE29","v":0}]
[{"$f":"'2c'!A30","v":"2c"},{"$f":"'2c'!B30","v":0},{"$f":"'2c'!C30","v":0},{"$f":"'2c'!D30","v":"lehrer28"},{"$f":"'2c'!E30","v":0},{"$f":"'2c'!F30","v":0},{"$f":"'2c'!G30","v":0},{"$f":"'2c'!H30","v":0},{"$f":"'2c'!I30","v":0},{"$f":"'2c'!J30","v":0},{"$f":"'2c'!K30","v":0},{"$f":"'2c'!L30","v":0},{"$f":"'2c'!M30","v":0},{"$f":"'2c'!N30","v":0},{"$f":"'2c'!O30","v":0},{"$f":"'2c'!P30","v":0},{"$f":"'2c'!Q30","v":0},{"$f":"'2c'!R30","v":0},{"$f":"'2c'!S30","v":0},{"$f":"'2c'!T30","v":0},{"$f":"'2c'!U30","v":0},{"$f":"'2c'!V30","v":0},{"$f":"'2c'!W30","v":0},{"$f":"'2c'!X30","v":0},{"$f":"'2c'!Y30","v":0},{"$f":"'2c'!Z30","v":0},{"$f":"'2c'!AA30","v":0},{"$f":"'2c'!AB30","v":0},{"$f":"'2c'!AC30","v":0},{"$f":"'2c'!AD30","v":0},{"$f":"'2c'!AE30","v":0},{"$f":"'2c'!AF30","v":0},{"$f":"'2c'!AG30","v":0},{"$f":"'2c'!AH30","v":0},{"$f":"'2c'!AI30","v":0},{"$f":"'2c'!AJ30","v":0},{"$f":"'2c'!AK30","v":0},{"$f":"'2c'!AL30","v":0},{"$f":"'2c'!AM30","v":0},{"$f":"'2c'!AN30","v":0},{"$f":"'2c'!AO30","v":0},{"$f":"'2c'!AP30","v":0},{"$f":"'2c'!AQ30","v":0},{"$f":"'2c'!AR30","v":0},{"$f":"'2c'!AS30","v":0},{"$f":"'2c'!AT30","v":0},{"$f":"'2c'!AU30","v":0},{"$f":"'2c'!AV30","v":0},{"$f":"'2c'!AW30","v":0},{"$f":"'2c'!AX30","v":0},{"$f":"'2c'!AY30","v":0},{"$f":"'2c'!AZ30","v":0},{"$f":"'2c'!BA30","v":0},{"$f":"'2c'!BB30","v":0},{"$f":"'2c'!BC30","v":0},{"$f":"'2c'!BD30","v":0},{"$f":"'2c'!BE30","v":0}]
[{"$f":"'2c'!A31","v":"2c"},{"$f":"'2c'!B31","v":0},{"$f":"'2c'!C31","v":0},{"$f":"'2c'!D31","v":"lehrer29"},{"$f":"'2c'!E31","v":0},{"$f":"'2c'!F31","v":0},{"$f":"'2c'!G31","v":0},{"$f":"'2c'!H31","v":0},{"$f":"'2c'!I31","v":0},{"$f":"'2c'!J31","v":0},{"$f":"'2c'!K31","v":0},{"$f":"'2c'!L31","v":0},{"$f":"'2c'!M31","v":0},{"$f":"'2c'!N31","v":0},{"$f":"'2c'!O31","v":0},{"$f":"'2c'!P31","v":0},{"$f":"'2c'!Q31","v":0},{"$f":"'2c'!R31","v":0},{"$f":"'2c'!S31","v":0},{"$f":"'2c'!T31","v":0},{"$f":"'2c'!U31","v":0},{"$f":"'2c'!V31","v":0},{"$f":"'2c'!W31","v":0},{"$f":"'2c'!X31","v":0},{"$f":"'2c'!Y31","v":0},{"$f":"'2c'!Z31","v":0},{"$f":"'2c'!AA31","v":0},{"$f":"'2c'!AB31","v":0},{"$f":"'2c'!AC31","v":0},{"$f":"'2c'!AD31","v":0},{"$f":"'2c'!AE31","v":0},{"$f":"'2c'!AF31","v":0},{"$f":"'2c'!AG31","v":0},{"$f":"'2c'!AH31","v":0},{"$f":"'2c'!AI31","v":0},{"$f":"'2c'!AJ31","v":0},{"$f":"'2c'!AK31","v":0},{"$f":"'2c'!AL31","v":0},{"$f":"'2c'!AM31","v":0},{"$f":"'2c'!AN31","v":0},{"$f":"'2c'!AO31","v":0},{"$f":"'2c'!AP31","v":0},{"$f":"'2c'!AQ31","v":0},{"$f":"'2c'!AR31","v":0},{"$f":"'2c'!AS31","v":0},{"$f":"'2c'!AT31","v":0},{"$f":"'2c'!AU31","v":0},{"$f":"'2c'!AV31","v":0},{"$f":"'2c'!AW31","v":0},{"$f":"'2c'!AX31","v":0},{"$f":"'2c'!AY31","v":0},{"$f":"'2c'!AZ31","v":0},{"$f":"'2c'!BA31","v":0},{"$f":"'2c'!BB31","v":0},{"$f":"'2c'!BC31","v":0},{"$f":"'2c'!BD31","v":0},{"$f":"'2c'!BE31","v":0}]
[{"$f":"'2c'!A32","v":"2c"},{"$f":"'2c'!B32","v":0},{"$f":"'2c'!C32","v":0},{"$f":"'2c'!D32","v":"lehrer30"},{"$f":"'2c'!E32","v":0},{"$f":"'2c'!F32","v":0},{"$f":"'2c'!G32","v":0},{"$f":"'2c'!H32","v":0},{"$f":"'2c'!I32","v":0},{"$f":"'2c'!J32","v":0},{"$f":"'2c'!K32","v":0},{"$f":"'2c'!L32","v":0},{"$f":"'2c'!M32","v":0},{"$f":"'2c'!N32","v":0},{"$f":"'2c'!O32","v":0},{"$f":"'2c'!P32","v":0},{"$f":"'2c'!Q32","v":0},{"$f":"'2c'!R32","v":0},{"$f":"'2c'!S32","v":0},{"$f":"'2c'!T32","v":0},{"$f":"'2c'!U32","v":0},{"$f":"'2c'!V32","v":0},{"$f":"'2c'!W32","v":0},{"$f":"'2c'!X32","v":0},{"$f":"'2c'!Y32","v":0},{"$f":"'2c'!Z32","v":0},{"$f":"'2c'!AA32","v":0},{"$f":"'2c'!AB32","v":0},{"$f":"'2c'!AC32","v":0},{"$f":"'2c'!AD32","v":0},{"$f":"'2c'!AE32","v":0},{"$f":"'2c'!AF32","v":0},{"$f":"'2c'!AG32","v":0},{"$f":"'2c'!AH32","v":0},{"$f":"'2c'!AI32","v":0},{"$f":"'2c'!AJ32","v":0},{"$f":"'2c'!AK32","v":0},{"$f":"'2c'!AL32","v":0},{"$f":"'2c'!AM32","v":0},{"$f":"'2c'!AN32","v":0},{"$f":"'2c'!AO32","v":0},{"$f":"'2c'!AP32","v":0},{"$f":"'2c'!AQ32","v":0},{"$f":"'2c'!AR32","v":0},{"$f":"'2c'!AS32","v":0},{"$f":"'2c'!AT32","v":0},{"$f":"'2c'!AU32","v":0},{"$f":"'2c'!AV32","v":0},{"$f":"'2c'!AW32","v":0},{"$f":"'2c'!AX32","v":0},{"$f":"'2c'!AY32","v":0},{"$f":"'2c'!AZ32","v":0},{"$f":"'2c'!BA32","v":0},{"$f":"'2c'!BB32","v":0},{"$f":"'2c'!BC32","v":0},{"$f":"'2c'!BD32","v":0},{"$f":"'2c'!BE32","v":0}]
[{"$f":"'2c'!A33","v":"2c"},{"$f":"'2c'!B33","v":0},{"$f":"'2c'!C33","v":0},{"$f":"'2c'!D33","v":"lehrer31"},{"$f":"'2c'!E33","v":0},{"$f":"'2c'!F33","v":0},{"$f":"'2c'!G33","v":0},{"$f":"'2c'!H33","v":0},{"$f":"'2c'!I33","v":0},{"$f":"'2c'!J33","v":0},{"$f":"'2c'!K33","v":0},{"$f":"'2c'!L33","v":0},{"$f":"'2c'!M33","v":0},{"$f":"'2c'!N33","v":0},{"$f":"'2c'!O33","v":0},{"$f":"'2c'!P33","v":0},{"$f":"'2c'!Q33","v":0},{"$f":"'2c'!R33","v":0},{"$f":"'2c'!S33","v":0},{"$f":"'2c'!T33","v":0},{"$f":"'2c'!U33","v":0},{"$f":"'2c'!V33","v":0},{"$f":"'2c'!W33","v":0},{"$f":"'2c'!X33","v":0},{"$f":"'2c'!Y33","v":0},{"$f":"'2c'!Z33","v":0},{"$f":"'2c'!AA33","v":0},{"$f":"'2c'!AB33","v":0},{"$f":"'2c'!AC33","v":0},{"$f":"'2c'!AD33","v":0},{"$f":"'2c'!AE33","v":0},{"$f":"'2c'!AF33","v":0},{"$f":"'2c'!AG33","v":0},{"$f":"'2c'!AH33","v":0},{"$f":"'2c'!AI33","v":0},{"$f":"'2c'!AJ33","v":0},{"$f":"'2c'!AK33","v":0},{"$f":"'2c'!AL33","v":0},{"$f":"'2c'!AM33","v":0},{"$f":"'2c'!AN33","v":0},{"$f":"'2c'!AO33","v":0},{"$f":"'2c'!AP33","v":0},{"$f":"'2c'!AQ33","v":0},{"$f":"'2c'!AR33","v":0},{"$f":"'2c'!AS33","v":0},{"$f":"'2c'!AT33","v":0},{"$f":"'2c'!AU33","v":0},{"$f":"'2c'!AV33","v":0},{"$f":"'2c'!AW33","v":0},{"$f":"'2c'!AX33","v":0},{"$f":"'2c'!AY33","v":0},{"$f":"'2c'!AZ33","v":0},{"$f":"'2c'!BA33","v":0},{"$f":"'2c'!BB33","v":0},{"$f":"'2c'!BC33","v":0},{"$f":"'2c'!BD33","v":0},{"$f":"'2c'!BE33","v":0}]
[{"$f":"'2c'!A34","v":"2c"},{"$f":"'2c'!B34","v":0},{"$f":"'2c'!C34","v":0},{"$f":"'2c'!D34","v":"lehrer32"},{"$f":"'2c'!E34","v":0},{"$f":"'2c'!F34","v":0},{"$f":"'2c'!G34","v":0},{"$f":"'2c'!H34","v":0},{"$f":"'2c'!I34","v":0},{"$f":"'2c'!J34","v":0},{"$f":"'2c'!K34","v":0},{"$f":"'2c'!L34","v":0},{"$f":"'2c'!M34","v":0},{"$f":"'2c'!N34","v":0},{"$f":"'2c'!O34","v":0},{"$f":"'2c'!P34","v":0},{"$f":"'2c'!Q34","v":0},{"$f":"'2c'!R34","v":0},{"$f":"'2c'!S34","v":0},{"$f":"'2c'!T34","v":0},{"$f":"'2c'!U34","v":0},{"$f":"'2c'!V34","v":0},{"$f":"'2c'!W34","v":0},{"$f":"'2c'!X34","v":0},{"$f":"'2c'!Y34","v":0},{"$f":"'2c'!Z34","v":0},{"$f":"'2c'!AA34","v":0},{"$f":"'2c'!AB34","v":0},{"$f":"'2c'!AC34","v":0},{"$f":"'2c'!AD34","v":0},{"$f":"'2c'!AE34","v":0},{"$f":"'2c'!AF34","v":0},{"$f":"'2c'!AG34","v":0},{"$f":"'2c'!AH34","v":0},{"$f":"'2c'!AI34","v":0},{"$f":"'2c'!AJ34","v":0},{"$f":"'2c'!AK34","v":0},{"$f":"'2c'!AL34","v":0},{"$f":"'2c'!AM34","v":0},{"$f":"'2c'!AN34","v":0},{"$f":"'2c'!AO34","v":0},{"$f":"'2c'!AP34","v":0},{"$f":"'2c'!AQ34","v":0},{"$f":"'2c'!AR34","v":0},{"$f":"'2c'!AS34","v":0},{"$f":"'2c'!AT34","v":0},{"$f":"'2c'!AU34","v":0},{"$f":"'2c'!AV34","v":0},{"$f":"'2c'!AW34","v":0},{"$f":"'2c'!AX34","v":0},{"$f":"'2c'!AY34","v":0},{"$f":"'2c'!AZ34","v":0},{"$f":"'2c'!BA34","v":0},{"$f":"'2c'!BB34","v":0},{"$f":"'2c'!BC34","v":0},{"$f":"'2c'!BD34","v":0},{"$f":"'2c'!BE34","v":0}]
[{"$f":"'2c'!A35","v":"2c"},{"$f":"'2c'!B35","v":0},{"$f":"'2c'!C35","v":0},{"$f":"'2c'!D35","v":"lehrer33"},{"$f":"'2c'!E35","v":0},{"$f":"'2c'!F35","v":0},{"$f":"'2c'!G35","v":0},{"$f":"'2c'!H35","v":0},{"$f":"'2c'!I35","v":0},{"$f":"'2c'!J35","v":0},{"$f":"'2c'!K35","v":0},{"$f":"'2c'!L35","v":0},{"$f":"'2c'!M35","v":0},{"$f":"'2c'!N35","v":0},{"$f":"'2c'!O35","v":0},{"$f":"'2c'!P35","v":0},{"$f":"'2c'!Q35","v":0},{"$f":"'2c'!R35","v":0},{"$f":"'2c'!S35","v":0},{"$f":"'2c'!T35","v":0},{"$f":"'2c'!U35","v":0},{"$f":"'2c'!V35","v":0},{"$f":"'2c'!W35","v":0},{"$f":"'2c'!X35","v":0},{"$f":"'2c'!Y35","v":0},{"$f":"'2c'!Z35","v":0},{"$f":"'2c'!AA35","v":0},{"$f":"'2c'!AB35","v":0},{"$f":"'2c'!AC35","v":0},{"$f":"'2c'!AD35","v":0},{"$f":"'2c'!AE35","v":0},{"$f":"'2c'!AF35","v":0},{"$f":"'2c'!AG35","v":0},{"$f":"'2c'!AH35","v":0},{"$f":"'2c'!AI35","v":0},{"$f":"'2c'!AJ35","v":0},{"$f":"'2c'!AK35","v":0},{"$f":"'2c'!AL35","v":0},{"$f":"'2c'!AM35","v":0},{"$f":"'2c'!AN35","v":0},{"$f":"'2c'!AO35","v":0},{"$f":"'2c'!AP35","v":0},{"$f":"'2c'!AQ35","v":0},{"$f":"'2c'!AR35","v":0},{"$f":"'2c'!AS35","v":0},{"$f":"'2c'!AT35","v":0},{"$f":"'2c'!AU35","v":0},{"$f":"'2c'!AV35","v":0},{"$f":"'2c'!AW35","v":0},{"$f":"'2c'!AX35","v":0},{"$f":"'2c'!AY35","v":0},{"$f":"'2c'!AZ35","v":0},{"$f":"'2c'!BA35","v":0},{"$f":"'2c'!BB35","v":0},{"$f":"'2c'!BC35","v":0},{"$f":"'2c'!BD35","v":0},{"$f":"'2c'!BE35","v":0}]
[{"$f":"'2c'!A36","v":"2c"},{"$f":"'2c'!B36","v":0},{"$f":"'2c'!C36","v":0},{"$f":"'2c'!D36","v":"lehrer34"},{"$f":"'2c'!E36","v":0},{"$f":"'2c'!F36","v":0},{"$f":"'2c'!G36","v":0},{"$f":"'2c'!H36","v":0},{"$f":"'2c'!I36","v":0},{"$f":"'2c'!J36","v":0},{"$f":"'2c'!K36","v":0},{"$f":"'2c'!L36","v":0},{"$f":"'2c'!M36","v":0},{"$f":"'2c'!N36","v":0},{"$f":"'2c'!O36","v":0},{"$f":"'2c'!P36","v":0},{"$f":"'2c'!Q36","v":0},{"$f":"'2c'!R36","v":0},{"$f":"'2c'!S36","v":0},{"$f":"'2c'!T36","v":0},{"$f":"'2c'!U36","v":0},{"$f":"'2c'!V36","v":0},{"$f":"'2c'!W36","v":0},{"$f":"'2c'!X36","v":0},{"$f":"'2c'!Y36","v":0},{"$f":"'2c'!Z36","v":0},{"$f":"'2c'!AA36","v":0},{"$f":"'2c'!AB36","v":0},{"$f":"'2c'!AC36","v":0},{"$f":"'2c'!AD36","v":0},{"$f":"'2c'!AE36","v":0},{"$f":"'2c'!AF36","v":0},{"$f":"'2c'!AG36","v":0},{"$f":"'2c'!AH36","v":0},{"$f":"'2c'!AI36","v":0},{"$f":"'2c'!AJ36","v":0},{"$f":"'2c'!AK36","v":0},{"$f":"'2c'!AL36","v":0},{"$f":"'2c'!AM36","v":0},{"$f":"'2c'!AN36","v":0},{"$f":"'2c'!AO36","v":0},{"$f":"'2c'!AP36","v":0},{"$f":"'2c'!AQ36","v":0},{"$f":"'2c'!AR36","v":0},{"$f":"'2c'!AS36","v":0},{"$f":"'2c'!AT36","v":0},{"$f":"'2c'!AU36","v":0},{"$f":"'2c'!AV36","v":0},{"$f":"'2c'!AW36","v":0},{"$f":"'2c'!AX36","v":0},{"$f":"'2c'!AY36","v":0},{"$f":"'2c'!AZ36","v":0},{"$f":"'2c'!BA36","v":0},{"$f":"'2c'!BB36","v":0},{"$f":"'2c'!BC36","v":0},{"$f":"'2c'!BD36","v":0},{"$f":"'2c'!BE36","v":0}]
[{"$f":"'2c'!A37","v":"2c"},{"$f":"'2c'!B37","v":0},{"$f":"'2c'!C37","v":0},{"$f":"'2c'!D37","v":"lehrer35"},{"$f":"'2c'!E37","v":0},{"$f":"'2c'!F37","v":0},{"$f":"'2c'!G37","v":0},{"$f":"'2c'!H37","v":0},{"$f":"'2c'!I37","v":0},{"$f":"'2c'!J37","v":0},{"$f":"'2c'!K37","v":0},{"$f":"'2c'!L37","v":0},{"$f":"'2c'!M37","v":0},{"$f":"'2c'!N37","v":0},{"$f":"'2c'!O37","v":0},{"$f":"'2c'!P37","v":0},{"$f":"'2c'!Q37","v":0},{"$f":"'2c'!R37","v":0},{"$f":"'2c'!S37","v":0},{"$f":"'2c'!T37","v":0},{"$f":"'2c'!U37","v":0},{"$f":"'2c'!V37","v":0},{"$f":"'2c'!W37","v":0},{"$f":"'2c'!X37","v":0},{"$f":"'2c'!Y37","v":0},{"$f":"'2c'!Z37","v":0},{"$f":"'2c'!AA37","v":0},{"$f":"'2c'!AB37","v":0},{"$f":"'2c'!AC37","v":0},{"$f":"'2c'!AD37","v":0},{"$f":"'2c'!AE37","v":0},{"$f":"'2c'!AF37","v":0},{"$f":"'2c'!AG37","v":0},{"$f":"'2c'!AH37","v":0},{"$f":"'2c'!AI37","v":0},{"$f":"'2c'!AJ37","v":0},{"$f":"'2c'!AK37","v":0},{"$f":"'2c'!AL37","v":0},{"$f":"'2c'!AM37","v":0},{"$f":"'2c'!AN37","v":0},{"$f":"'2c'!AO37","v":0},{"$f":"'2c'!AP37","v":0},{"$f":"'2c'!AQ37","v":0},{"$f":"'2c'!AR37","v":0},{"$f":"'2c'!AS37","v":0},{"$f":"'2c'!AT37","v":0},{"$f":"'2c'!AU37","v":0},{"$f":"'2c'!AV37","v":0},{"$f":"'2c'!AW37","v":0},{"$f":"'2c'!AX37","v":0},{"$f":"'2c'!AY37","v":0},{"$f":"'2c'!AZ37","v":0},{"$f":"'2c'!BA37","v":0},{"$f":"'2c'!BB37","v":0},{"$f":"'2c'!BC37","v":0},{"$f":"'2c'!BD37","v":0},{"$f":"'2c'!BE37","v":0}]
[{"$f":"'2c'!A38","v":"2c"},{"$f":"'2c'!B38","v":0},{"$f":"'2c'!C38","v":0},{"$f":"'2c'!D38","v":"lehrer36"},{"$f":"'2c'!E38","v":0},{"$f":"'2c'!F38","v":0},{"$f":"'2c'!G38","v":0},{"$f":"'2c'!H38","v":0},{"$f":"'2c'!I38","v":0},{"$f":"'2c'!J38","v":0},{"$f":"'2c'!K38","v":0},{"$f":"'2c'!L38","v":0},{"$f":"'2c'!M38","v":0},{"$f":"'2c'!N38","v":0},{"$f":"'2c'!O38","v":0},{"$f":"'2c'!P38","v":0},{"$f":"'2c'!Q38","v":0},{"$f":"'2c'!R38","v":0},{"$f":"'2c'!S38","v":0},{"$f":"'2c'!T38","v":0},{"$f":"'2c'!U38","v":0},{"$f":"'2c'!V38","v":0},{"$f":"'2c'!W38","v":0},{"$f":"'2c'!X38","v":0},{"$f":"'2c'!Y38","v":0},{"$f":"'2c'!Z38","v":0},{"$f":"'2c'!AA38","v":0},{"$f":"'2c'!AB38","v":0},{"$f":"'2c'!AC38","v":0},{"$f":"'2c'!AD38","v":0},{"$f":"'2c'!AE38","v":0},{"$f":"'2c'!AF38","v":0},{"$f":"'2c'!AG38","v":0},{"$f":"'2c'!AH38","v":0},{"$f":"'2c'!AI38","v":0},{"$f":"'2c'!AJ38","v":0},{"$f":"'2c'!AK38","v":0},{"$f":"'2c'!AL38","v":0},{"$f":"'2c'!AM38","v":0},{"$f":"'2c'!AN38","v":0},{"$f":"'2c'!AO38","v":0},{"$f":"'2c'!AP38","v":0},{"$f":"'2c'!AQ38","v":0},{"$f":"'2c'!AR38","v":0},{"$f":"'2c'!AS38","v":0},{"$f":"'2c'!AT38","v":0},{"$f":"'2c'!AU38","v":0},{"$f":"'2c'!AV38","v":0},{"$f":"'2c'!AW38","v":0},{"$f":"'2c'!AX38","v":0},{"$f":"'2c'!AY38","v":0},{"$f":"'2c'!AZ38","v":0},{"$f":"'2c'!BA38","v":0},{"$f":"'2c'!BB38","v":0},{"$f":"'2c'!BC38","v":0},{"$f":"'2c'!BD38","v":0},{"$f":"'2c'!BE38","v":0}]
[{"$f":"'2c'!A39","v":"2c"},{"$f":"'2c'!B39","v":0},{"$f":"'2c'!C39","v":0},{"$f":"'2c'!D39","v":"lehrer37"},{"$f":"'2c'!E39","v":0},{"$f":"'2c'!F39","v":0},{"$f":"'2c'!G39","v":0},{"$f":"'2c'!H39","v":0},{"$f":"'2c'!I39","v":0},{"$f":"'2c'!J39","v":0},{"$f":"'2c'!K39","v":0},{"$f":"'2c'!L39","v":0},{"$f":"'2c'!M39","v":0},{"$f":"'2c'!N39","v":0},{"$f":"'2c'!O39","v":0},{"$f":"'2c'!P39","v":0},{"$f":"'2c'!Q39","v":0},{"$f":"'2c'!R39","v":0},{"$f":"'2c'!S39","v":0},{"$f":"'2c'!T39","v":0},{"$f":"'2c'!U39","v":0},{"$f":"'2c'!V39","v":0},{"$f":"'2c'!W39","v":0},{"$f":"'2c'!X39","v":0},{"$f":"'2c'!Y39","v":0},{"$f":"'2c'!Z39","v":0},{"$f":"'2c'!AA39","v":0},{"$f":"'2c'!AB39","v":0},{"$f":"'2c'!AC39","v":0},{"$f":"'2c'!AD39","v":0},{"$f":"'2c'!AE39","v":0},{"$f":"'2c'!AF39","v":0},{"$f":"'2c'!AG39","v":0},{"$f":"'2c'!AH39","v":0},{"$f":"'2c'!AI39","v":0},{"$f":"'2c'!AJ39","v":0},{"$f":"'2c'!AK39","v":0},{"$f":"'2c'!AL39","v":0},{"$f":"'2c'!AM39","v":0},{"$f":"'2c'!AN39","v":0},{"$f":"'2c'!AO39","v":0},{"$f":"'2c'!AP39","v":0},{"$f":"'2c'!AQ39","v":0},{"$f":"'2c'!AR39","v":0},{"$f":"'2c'!AS39","v":0},{"$f":"'2c'!AT39","v":0},{"$f":"'2c'!AU39","v":0},{"$f":"'2c'!AV39","v":0},{"$f":"'2c'!AW39","v":0},{"$f":"'2c'!AX39","v":0},{"$f":"'2c'!AY39","v":0},{"$f":"'2c'!AZ39","v":0},{"$f":"'2c'!BA39","v":0},{"$f":"'2c'!BB39","v":0},{"$f":"'2c'!BC39","v":0},{"$f":"'2c'!BD39","v":0},{"$f":"'2c'!BE39","v":0}]
[{"$f":"'2c'!A40","v":"2c"},{"$f":"'2c'!B40","v":0},{"$f":"'2c'!C40","v":0},{"$f":"'2c'!D40","v":"lehrer38"},{"$f":"'2c'!E40","v":0},{"$f":"'2c'!F40","v":0},{"$f":"'2c'!G40","v":0},{"$f":"'2c'!H40","v":0},{"$f":"'2c'!I40","v":0},{"$f":"'2c'!J40","v":0},{"$f":"'2c'!K40","v":0},{"$f":"'2c'!L40","v":0},{"$f":"'2c'!M40","v":0},{"$f":"'2c'!N40","v":0},{"$f":"'2c'!O40","v":0},{"$f":"'2c'!P40","v":0},{"$f":"'2c'!Q40","v":0},{"$f":"'2c'!R40","v":0},{"$f":"'2c'!S40","v":0},{"$f":"'2c'!T40","v":0},{"$f":"'2c'!U40","v":0},{"$f":"'2c'!V40","v":0},{"$f":"'2c'!W40","v":0},{"$f":"'2c'!X40","v":0},{"$f":"'2c'!Y40","v":0},{"$f":"'2c'!Z40","v":0},{"$f":"'2c'!AA40","v":0},{"$f":"'2c'!AB40","v":0},{"$f":"'2c'!AC40","v":0},{"$f":"'2c'!AD40","v":0},{"$f":"'2c'!AE40","v":0},{"$f":"'2c'!AF40","v":0},{"$f":"'2c'!AG40","v":0},{"$f":"'2c'!AH40","v":0},{"$f":"'2c'!AI40","v":0},{"$f":"'2c'!AJ40","v":0},{"$f":"'2c'!AK40","v":0},{"$f":"'2c'!AL40","v":0},{"$f":"'2c'!AM40","v":0},{"$f":"'2c'!AN40","v":0},{"$f":"'2c'!AO40","v":0},{"$f":"'2c'!AP40","v":0},{"$f":"'2c'!AQ40","v":0},{"$f":"'2c'!AR40","v":0},{"$f":"'2c'!AS40","v":0},{"$f":"'2c'!AT40","v":0},{"$f":"'2c'!AU40","v":0},{"$f":"'2c'!AV40","v":0},{"$f":"'2c'!AW40","v":0},{"$f":"'2c'!AX40","v":0},{"$f":"'2c'!AY40","v":0},{"$f":"'2c'!AZ40","v":0},{"$f":"'2c'!BA40","v":0},{"$f":"'2c'!BB40","v":0},{"$f":"'2c'!BC40","v":0},{"$f":"'2c'!BD40","v":0},{"$f":"'2c'!BE40","v":0}]
[{"$f":"'2c'!A41","v":"2c"},{"$f":"'2c'!B41","v":0},{"$f":"'2c'!C41","v":0},{"$f":"'2c'!D41","v":"lehrer39"},{"$f":"'2c'!E41","v":0},{"$f":"'2c'!F41","v":0},{"$f":"'2c'!G41","v":0},{"$f":"'2c'!H41","v":0},{"$f":"'2c'!I41","v":0},{"$f":"'2c'!J41","v":0},{"$f":"'2c'!K41","v":0},{"$f":"'2c'!L41","v":0},{"$f":"'2c'!M41","v":0},{"$f":"'2c'!N41","v":0},{"$f":"'2c'!O41","v":0},{"$f":"'2c'!P41","v":0},{"$f":"'2c'!Q41","v":0},{"$f":"'2c'!R41","v":0},{"$f":"'2c'!S41","v":0},{"$f":"'2c'!T41","v":0},{"$f":"'2c'!U41","v":0},{"$f":"'2c'!V41","v":0},{"$f":"'2c'!W41","v":0},{"$f":"'2c'!X41","v":0},{"$f":"'2c'!Y41","v":0},{"$f":"'2c'!Z41","v":0},{"$f":"'2c'!AA41","v":0},{"$f":"'2c'!AB41","v":0},{"$f":"'2c'!AC41","v":0},{"$f":"'2c'!AD41","v":0},{"$f":"'2c'!AE41","v":0},{"$f":"'2c'!AF41","v":0},{"$f":"'2c'!AG41","v":0},{"$f":"'2c'!AH41","v":0},{"$f":"'2c'!AI41","v":0},{"$f":"'2c'!AJ41","v":0},{"$f":"'2c'!AK41","v":0},{"$f":"'2c'!AL41","v":0},{"$f":"'2c'!AM41","v":0},{"$f":"'2c'!AN41","v":0},{"$f":"'2c'!AO41","v":0},{"$f":"'2c'!AP41","v":0},{"$f":"'2c'!AQ41","v":0},{"$f":"'2c'!AR41","v":0},{"$f":"'2c'!AS41","v":0},{"$f":"'2c'!AT41","v":0},{"$f":"'2c'!AU41","v":0},{"$f":"'2c'!AV41","v":0},{"$f":"'2c'!AW41","v":0},{"$f":"'2c'!AX41","v":0},{"$f":"'2c'!AY41","v":0},{"$f":"'2c'!AZ41","v":0},{"$f":"'2c'!BA41","v":0},{"$f":"'2c'!BB41","v":0},{"$f":"'2c'!BC41","v":0},{"$f":"'2c'!BD41","v":0},{"$f":"'2c'!BE41","v":0}]
[{"$f":"'2c'!A42","v":"2c"},{"$f":"'2c'!B42","v":0},{"$f":"'2c'!C42","v":0},{"$f":"'2c'!D42","v":"lehrer40"},{"$f":"'2c'!E42","v":0},{"$f":"'2c'!F42","v":0},{"$f":"'2c'!G42","v":0},{"$f":"'2c'!H42","v":0},{"$f":"'2c'!I42","v":0},{"$f":"'2c'!J42","v":0},{"$f":"'2c'!K42","v":0},{"$f":"'2c'!L42","v":0},{"$f":"'2c'!M42","v":0},{"$f":"'2c'!N42","v":0},{"$f":"'2c'!O42","v":0},{"$f":"'2c'!P42","v":0},{"$f":"'2c'!Q42","v":0},{"$f":"'2c'!R42","v":0},{"$f":"'2c'!S42","v":0},{"$f":"'2c'!T42","v":0},{"$f":"'2c'!U42","v":0},{"$f":"'2c'!V42","v":0},{"$f":"'2c'!W42","v":0},{"$f":"'2c'!X42","v":0},{"$f":"'2c'!Y42","v":0},{"$f":"'2c'!Z42","v":0},{"$f":"'2c'!AA42","v":0},{"$f":"'2c'!AB42","v":0},{"$f":"'2c'!AC42","v":0},{"$f":"'2c'!AD42","v":0},{"$f":"'2c'!AE42","v":0},{"$f":"'2c'!AF42","v":0},{"$f":"'2c'!AG42","v":0},{"$f":"'2c'!AH42","v":0},{"$f":"'2c'!AI42","v":0},{"$f":"'2c'!AJ42","v":0},{"$f":"'2c'!AK42","v":0},{"$f":"'2c'!AL42","v":0},{"$f":"'2c'!AM42","v":0},{"$f":"'2c'!AN42","v":0},{"$f":"'2c'!AO42","v":0},{"$f":"'2c'!AP42","v":0},{"$f":"'2c'!AQ42","v":0},{"$f":"'2c'!AR42","v":0},{"$f":"'2c'!AS42","v":0},{"$f":"'2c'!AT42","v":0},{"$f":"'2c'!AU42","v":0},{"$f":"'2c'!AV42","v":0},{"$f":"'2c'!AW42","v":0},{"$f":"'2c'!AX42","v":0},{"$f":"'2c'!AY42","v":0},{"$f":"'2c'!AZ42","v":0},{"$f":"'2c'!BA42","v":0},{"$f":"'2c'!BB42","v":0},{"$f":"'2c'!BC42","v":0},{"$f":"'2c'!BD42","v":0},{"$f":"'2c'!BE42","v":0}]
[{"$f":"'2c'!A43","v":"2c"},{"$f":"'2c'!B43","v":0},{"$f":"'2c'!C43","v":0},{"$f":"'2c'!D43","v":"lehrer41"},{"$f":"'2c'!E43","v":0},{"$f":"'2c'!F43","v":0},{"$f":"'2c'!G43","v":0},{"$f":"'2c'!H43","v":0},{"$f":"'2c'!I43","v":0},{"$f":"'2c'!J43","v":0},{"$f":"'2c'!K43","v":0},{"$f":"'2c'!L43","v":0},{"$f":"'2c'!M43","v":0},{"$f":"'2c'!N43","v":0},{"$f":"'2c'!O43","v":0},{"$f":"'2c'!P43","v":0},{"$f":"'2c'!Q43","v":0},{"$f":"'2c'!R43","v":0},{"$f":"'2c'!S43","v":0},{"$f":"'2c'!T43","v":0},{"$f":"'2c'!U43","v":0},{"$f":"'2c'!V43","v":0},{"$f":"'2c'!W43","v":0},{"$f":"'2c'!X43","v":0},{"$f":"'2c'!Y43","v":0},{"$f":"'2c'!Z43","v":0},{"$f":"'2c'!AA43","v":0},{"$f":"'2c'!AB43","v":0},{"$f":"'2c'!AC43","v":0},{"$f":"'2c'!AD43","v":0},{"$f":"'2c'!AE43","v":0},{"$f":"'2c'!AF43","v":0},{"$f":"'2c'!AG43","v":0},{"$f":"'2c'!AH43","v":0},{"$f":"'2c'!AI43","v":0},{"$f":"'2c'!AJ43","v":0},{"$f":"'2c'!AK43","v":0},{"$f":"'2c'!AL43","v":0},{"$f":"'2c'!AM43","v":0},{"$f":"'2c'!AN43","v":0},{"$f":"'2c'!AO43","v":0},{"$f":"'2c'!AP43","v":0},{"$f":"'2c'!AQ43","v":0},{"$f":"'2c'!AR43","v":0},{"$f":"'2c'!AS43","v":0},{"$f":"'2c'!AT43","v":0},{"$f":"'2c'!AU43","v":0},{"$f":"'2c'!AV43","v":0},{"$f":"'2c'!AW43","v":0},{"$f":"'2c'!AX43","v":0},{"$f":"'2c'!AY43","v":0},{"$f":"'2c'!AZ43","v":0},{"$f":"'2c'!BA43","v":0},{"$f":"'2c'!BB43","v":0},{"$f":"'2c'!BC43","v":0},{"$f":"'2c'!BD43","v":0},{"$f":"'2c'!BE43","v":0}]
[{"$f":"'2c'!A44","v":"2c"},{"$f":"'2c'!B44","v":0},{"$f":"'2c'!C44","v":0},{"$f":"'2c'!D44","v":"lehrer42"},{"$f":"'2c'!E44","v":0},{"$f":"'2c'!F44","v":0},{"$f":"'2c'!G44","v":0},{"$f":"'2c'!H44","v":0},{"$f":"'2c'!I44","v":0},{"$f":"'2c'!J44","v":0},{"$f":"'2c'!K44","v":0},{"$f":"'2c'!L44","v":0},{"$f":"'2c'!M44","v":0},{"$f":"'2c'!N44","v":0},{"$f":"'2c'!O44","v":0},{"$f":"'2c'!P44","v":0},{"$f":"'2c'!Q44","v":0},{"$f":"'2c'!R44","v":0},{"$f":"'2c'!S44","v":0},{"$f":"'2c'!T44","v":0},{"$f":"'2c'!U44","v":0},{"$f":"'2c'!V44","v":0},{"$f":"'2c'!W44","v":0},{"$f":"'2c'!X44","v":0},{"$f":"'2c'!Y44","v":0},{"$f":"'2c'!Z44","v":0},{"$f":"'2c'!AA44","v":0},{"$f":"'2c'!AB44","v":0},{"$f":"'2c'!AC44","v":0},{"$f":"'2c'!AD44","v":0},{"$f":"'2c'!AE44","v":0},{"$f":"'2c'!AF44","v":0},{"$f":"'2c'!AG44","v":0},{"$f":"'2c'!AH44","v":0},{"$f":"'2c'!AI44","v":0},{"$f":"'2c'!AJ44","v":0},{"$f":"'2c'!AK44","v":0},{"$f":"'2c'!AL44","v":0},{"$f":"'2c'!AM44","v":0},{"$f":"'2c'!AN44","v":0},{"$f":"'2c'!AO44","v":0},{"$f":"'2c'!AP44","v":0},{"$f":"'2c'!AQ44","v":0},{"$f":"'2c'!AR44","v":0},{"$f":"'2c'!AS44","v":0},{"$f":"'2c'!AT44","v":0},{"$f":"'2c'!AU44","v":0},{"$f":"'2c'!AV44","v":0},{"$f":"'2c'!AW44","v":0},{"$f":"'2c'!AX44","v":0},{"$f":"'2c'!AY44","v":0},{"$f":"'2c'!AZ44","v":0},{"$f":"'2c'!BA44","v":0},{"$f":"'2c'!BB44","v":0},{"$f":"'2c'!BC44","v":0},{"$f":"'2c'!BD44","v":0},{"$f":"'2c'!BE44","v":0}]
[{"$f":"'2c'!A45","v":"2c"},{"$f":"'2c'!B45","v":0},{"$f":"'2c'!C45","v":0},{"$f":"'2c'!D45","v":"lehrer43"},{"$f":"'2c'!E45","v":0},{"$f":"'2c'!F45","v":0},{"$f":"'2c'!G45","v":0},{"$f":"'2c'!H45","v":0},{"$f":"'2c'!I45","v":0},{"$f":"'2c'!J45","v":0},{"$f":"'2c'!K45","v":0},{"$f":"'2c'!L45","v":0},{"$f":"'2c'!M45","v":0},{"$f":"'2c'!N45","v":0},{"$f":"'2c'!O45","v":0},{"$f":"'2c'!P45","v":0},{"$f":"'2c'!Q45","v":0},{"$f":"'2c'!R45","v":0},{"$f":"'2c'!S45","v":0},{"$f":"'2c'!T45","v":0},{"$f":"'2c'!U45","v":0},{"$f":"'2c'!V45","v":0},{"$f":"'2c'!W45","v":0},{"$f":"'2c'!X45","v":0},{"$f":"'2c'!Y45","v":0},{"$f":"'2c'!Z45","v":0},{"$f":"'2c'!AA45","v":0},{"$f":"'2c'!AB45","v":0},{"$f":"'2c'!AC45","v":0},{"$f":"'2c'!AD45","v":0},{"$f":"'2c'!AE45","v":0},{"$f":"'2c'!AF45","v":0},{"$f":"'2c'!AG45","v":0},{"$f":"'2c'!AH45","v":0},{"$f":"'2c'!AI45","v":0},{"$f":"'2c'!AJ45","v":0},{"$f":"'2c'!AK45","v":0},{"$f":"'2c'!AL45","v":0},{"$f":"'2c'!AM45","v":0},{"$f":"'2c'!AN45","v":0},{"$f":"'2c'!AO45","v":0},{"$f":"'2c'!AP45","v":0},{"$f":"'2c'!AQ45","v":0},{"$f":"'2c'!AR45","v":0},{"$f":"'2c'!AS45","v":0},{"$f":"'2c'!AT45","v":0},{"$f":"'2c'!AU45","v":0},{"$f":"'2c'!AV45","v":0},{"$f":"'2c'!AW45","v":0},{"$f":"'2c'!AX45","v":0},{"$f":"'2c'!AY45","v":0},{"$f":"'2c'!AZ45","v":0},{"$f":"'2c'!BA45","v":0},{"$f":"'2c'!BB45","v":0},{"$f":"'2c'!BC45","v":0},{"$f":"'2c'!BD45","v":0},{"$f":"'2c'!BE45","v":0}]
[{"$f":"'2c'!A46","v":"2c"},{"$f":"'2c'!B46","v":0},{"$f":"'2c'!C46","v":0},{"$f":"'2c'!D46","v":"lehrer44"},{"$f":"'2c'!E46","v":0},{"$f":"'2c'!F46","v":0},{"$f":"'2c'!G46","v":0},{"$f":"'2c'!H46","v":0},{"$f":"'2c'!I46","v":0},{"$f":"'2c'!J46","v":0},{"$f":"'2c'!K46","v":0},{"$f":"'2c'!L46","v":0},{"$f":"'2c'!M46","v":0},{"$f":"'2c'!N46","v":0},{"$f":"'2c'!O46","v":0},{"$f":"'2c'!P46","v":0},{"$f":"'2c'!Q46","v":0},{"$f":"'2c'!R46","v":0},{"$f":"'2c'!S46","v":0},{"$f":"'2c'!T46","v":0},{"$f":"'2c'!U46","v":0},{"$f":"'2c'!V46","v":0},{"$f":"'2c'!W46","v":0},{"$f":"'2c'!X46","v":0},{"$f":"'2c'!Y46","v":0},{"$f":"'2c'!Z46","v":0},{"$f":"'2c'!AA46","v":0},{"$f":"'2c'!AB46","v":0},{"$f":"'2c'!AC46","v":0},{"$f":"'2c'!AD46","v":0},{"$f":"'2c'!AE46","v":0},{"$f":"'2c'!AF46","v":0},{"$f":"'2c'!AG46","v":0},{"$f":"'2c'!AH46","v":0},{"$f":"'2c'!AI46","v":0},{"$f":"'2c'!AJ46","v":0},{"$f":"'2c'!AK46","v":0},{"$f":"'2c'!AL46","v":0},{"$f":"'2c'!AM46","v":0},{"$f":"'2c'!AN46","v":0},{"$f":"'2c'!AO46","v":0},{"$f":"'2c'!AP46","v":0},{"$f":"'2c'!AQ46","v":0},{"$f":"'2c'!AR46","v":0},{"$f":"'2c'!AS46","v":0},{"$f":"'2c'!AT46","v":0},{"$f":"'2c'!AU46","v":0},{"$f":"'2c'!AV46","v":0},{"$f":"'2c'!AW46","v":0},{"$f":"'2c'!AX46","v":0},{"$f":"'2c'!AY46","v":0},{"$f":"'2c'!AZ46","v":0},{"$f":"'2c'!BA46","v":0},{"$f":"'2c'!BB46","v":0},{"$f":"'2c'!BC46","v":0},{"$f":"'2c'!BD46","v":0},{"$f":"'2c'!BE46","v":0}]
[{"$f":"'2c'!A47","v":"2c"},{"$f":"'2c'!B47","v":0},{"$f":"'2c'!C47","v":0},{"$f":"'2c'!D47","v":"lehrer45"},{"$f":"'2c'!E47","v":0},{"$f":"'2c'!F47","v":0},{"$f":"'2c'!G47","v":0},{"$f":"'2c'!H47","v":0},{"$f":"'2c'!I47","v":0},{"$f":"'2c'!J47","v":0},{"$f":"'2c'!K47","v":0},{"$f":"'2c'!L47","v":0},{"$f":"'2c'!M47","v":0},{"$f":"'2c'!N47","v":0},{"$f":"'2c'!O47","v":0},{"$f":"'2c'!P47","v":0},{"$f":"'2c'!Q47","v":0},{"$f":"'2c'!R47","v":0},{"$f":"'2c'!S47","v":0},{"$f":"'2c'!T47","v":0},{"$f":"'2c'!U47","v":0},{"$f":"'2c'!V47","v":0},{"$f":"'2c'!W47","v":0},{"$f":"'2c'!X47","v":0},{"$f":"'2c'!Y47","v":0},{"$f":"'2c'!Z47","v":0},{"$f":"'2c'!AA47","v":0},{"$f":"'2c'!AB47","v":0},{"$f":"'2c'!AC47","v":0},{"$f":"'2c'!AD47","v":0},{"$f":"'2c'!AE47","v":0},{"$f":"'2c'!AF47","v":0},{"$f":"'2c'!AG47","v":0},{"$f":"'2c'!AH47","v":0},{"$f":"'2c'!AI47","v":0},{"$f":"'2c'!AJ47","v":0},{"$f":"'2c'!AK47","v":0},{"$f":"'2c'!AL47","v":0},{"$f":"'2c'!AM47","v":0},{"$f":"'2c'!AN47","v":0},{"$f":"'2c'!AO47","v":0},{"$f":"'2c'!AP47","v":0},{"$f":"'2c'!AQ47","v":0},{"$f":"'2c'!AR47","v":0},{"$f":"'2c'!AS47","v":0},{"$f":"'2c'!AT47","v":0},{"$f":"'2c'!AU47","v":0},{"$f":"'2c'!AV47","v":0},{"$f":"'2c'!AW47","v":0},{"$f":"'2c'!AX47","v":0},{"$f":"'2c'!AY47","v":0},{"$f":"'2c'!AZ47","v":0},{"$f":"'2c'!BA47","v":0},{"$f":"'2c'!BB47","v":0},{"$f":"'2c'!BC47","v":0},{"$f":"'2c'!BD47","v":0},{"$f":"'2c'!BE47","v":0}]
[{"$f":"'2c'!A48","v":"2c"},{"$f":"'2c'!B48","v":0},{"$f":"'2c'!C48","v":0},{"$f":"'2c'!D48","v":"lehrer46"},{"$f":"'2c'!E48","v":0},{"$f":"'2c'!F48","v":0},{"$f":"'2c'!G48","v":0},{"$f":"'2c'!H48","v":0},{"$f":"'2c'!I48","v":0},{"$f":"'2c'!J48","v":0},{"$f":"'2c'!K48","v":0},{"$f":"'2c'!L48","v":0},{"$f":"'2c'!M48","v":0},{"$f":"'2c'!N48","v":0},{"$f":"'2c'!O48","v":0},{"$f":"'2c'!P48","v":0},{"$f":"'2c'!Q48","v":0},{"$f":"'2c'!R48","v":0},{"$f":"'2c'!S48","v":0},{"$f":"'2c'!T48","v":0},{"$f":"'2c'!U48","v":0},{"$f":"'2c'!V48","v":0},{"$f":"'2c'!W48","v":0},{"$f":"'2c'!X48","v":0},{"$f":"'2c'!Y48","v":0},{"$f":"'2c'!Z48","v":0},{"$f":"'2c'!AA48","v":0},{"$f":"'2c'!AB48","v":0},{"$f":"'2c'!AC48","v":0},{"$f":"'2c'!AD48","v":0},{"$f":"'2c'!AE48","v":0},{"$f":"'2c'!AF48","v":0},{"$f":"'2c'!AG48","v":0},{"$f":"'2c'!AH48","v":0},{"$f":"'2c'!AI48","v":0},{"$f":"'2c'!AJ48","v":0},{"$f":"'2c'!AK48","v":0},{"$f":"'2c'!AL48","v":0},{"$f":"'2c'!AM48","v":0},{"$f":"'2c'!AN48","v":0},{"$f":"'2c'!AO48","v":0},{"$f":"'2c'!AP48","v":0},{"$f":"'2c'!AQ48","v":0},{"$f":"'2c'!AR48","v":0},{"$f":"'2c'!AS48","v":0},{"$f":"'2c'!AT48","v":0},{"$f":"'2c'!AU48","v":0},{"$f":"'2c'!AV48","v":0},{"$f":"'2c'!AW48","v":0},{"$f":"'2c'!AX48","v":0},{"$f":"'2c'!AY48","v":0},{"$f":"'2c'!AZ48","v":0},{"$f":"'2c'!BA48","v":0},{"$f":"'2c'!BB48","v":0},{"$f":"'2c'!BC48","v":0},{"$f":"'2c'!BD48","v":0},{"$f":"'2c'!BE48","v":0}]
[{"$f":"'2c'!A49","v":"2c"},{"$f":"'2c'!B49","v":0},{"$f":"'2c'!C49","v":0},{"$f":"'2c'!D49","v":"lehrer47"},{"$f":"'2c'!E49","v":0},{"$f":"'2c'!F49","v":0},{"$f":"'2c'!G49","v":0},{"$f":"'2c'!H49","v":0},{"$f":"'2c'!I49","v":0},{"$f":"'2c'!J49","v":0},{"$f":"'2c'!K49","v":0},{"$f":"'2c'!L49","v":0},{"$f":"'2c'!M49","v":0},{"$f":"'2c'!N49","v":0},{"$f":"'2c'!O49","v":0},{"$f":"'2c'!P49","v":0},{"$f":"'2c'!Q49","v":0},{"$f":"'2c'!R49","v":0},{"$f":"'2c'!S49","v":0},{"$f":"'2c'!T49","v":0},{"$f":"'2c'!U49","v":0},{"$f":"'2c'!V49","v":0},{"$f":"'2c'!W49","v":0},{"$f":"'2c'!X49","v":0},{"$f":"'2c'!Y49","v":0},{"$f":"'2c'!Z49","v":0},{"$f":"'2c'!AA49","v":0},{"$f":"'2c'!AB49","v":0},{"$f":"'2c'!AC49","v":0},{"$f":"'2c'!AD49","v":0},{"$f":"'2c'!AE49","v":0},{"$f":"'2c'!AF49","v":0},{"$f":"'2c'!AG49","v":0},{"$f":"'2c'!AH49","v":0},{"$f":"'2c'!AI49","v":0},{"$f":"'2c'!AJ49","v":0},{"$f":"'2c'!AK49","v":0},{"$f":"'2c'!AL49","v":0},{"$f":"'2c'!AM49","v":0},{"$f":"'2c'!AN49","v":0},{"$f":"'2c'!AO49","v":0},{"$f":"'2c'!AP49","v":0},{"$f":"'2c'!AQ49","v":0},{"$f":"'2c'!AR49","v":0},{"$f":"'2c'!AS49","v":0},{"$f":"'2c'!AT49","v":0},{"$f":"'2c'!AU49","v":0},{"$f":"'2c'!AV49","v":0},{"$f":"'2c'!AW49","v":0},{"$f":"'2c'!AX49","v":0},{"$f":"'2c'!AY49","v":0},{"$f":"'2c'!AZ49","v":0},{"$f":"'2c'!BA49","v":0},{"$f":"'2c'!BB49","v":0},{"$f":"'2c'!BC49","v":0},{"$f":"'2c'!BD49","v":0},{"$f":"'2c'!BE49","v":0}]
[{"$f":"'2c'!A50","v":"2c"},{"$f":"'2c'!B50","v":0},{"$f":"'2c'!C50","v":0},{"$f":"'2c'!D50","v":"lehrer48"},{"$f":"'2c'!E50","v":0},{"$f":"'2c'!F50","v":0},{"$f":"'2c'!G50","v":0},{"$f":"'2c'!H50","v":0},{"$f":"'2c'!I50","v":0},{"$f":"'2c'!J50","v":0},{"$f":"'2c'!K50","v":0},{"$f":"'2c'!L50","v":0},{"$f":"'2c'!M50","v":0},{"$f":"'2c'!N50","v":0},{"$f":"'2c'!O50","v":0},{"$f":"'2c'!P50","v":0},{"$f":"'2c'!Q50","v":0},{"$f":"'2c'!R50","v":0},{"$f":"'2c'!S50","v":0},{"$f":"'2c'!T50","v":0},{"$f":"'2c'!U50","v":0},{"$f":"'2c'!V50","v":0},{"$f":"'2c'!W50","v":0},{"$f":"'2c'!X50","v":0},{"$f":"'2c'!Y50","v":0},{"$f":"'2c'!Z50","v":0},{"$f":"'2c'!AA50","v":0},{"$f":"'2c'!AB50","v":0},{"$f":"'2c'!AC50","v":0},{"$f":"'2c'!AD50","v":0},{"$f":"'2c'!AE50","v":0},{"$f":"'2c'!AF50","v":0},{"$f":"'2c'!AG50","v":0},{"$f":"'2c'!AH50","v":0},{"$f":"'2c'!AI50","v":0},{"$f":"'2c'!AJ50","v":0},{"$f":"'2c'!AK50","v":0},{"$f":"'2c'!AL50","v":0},{"$f":"'2c'!AM50","v":0},{"$f":"'2c'!AN50","v":0},{"$f":"'2c'!AO50","v":0},{"$f":"'2c'!AP50","v":0},{"$f":"'2c'!AQ50","v":0},{"$f":"'2c'!AR50","v":0},{"$f":"'2c'!AS50","v":0},{"$f":"'2c'!AT50","v":0},{"$f":"'2c'!AU50","v":0},{"$f":"'2c'!AV50","v":0},{"$f":"'2c'!AW50","v":0},{"$f":"'2c'!AX50","v":0},{"$f":"'2c'!AY50","v":0},{"$f":"'2c'!AZ50","v":0},{"$f":"'2c'!BA50","v":0},{"$f":"'2c'!BB50","v":0},{"$f":"'2c'!BC50","v":0},{"$f":"'2c'!BD50","v":0},{"$f":"'2c'!BE50","v":0}]
[{"$f":"'2d'!A3","v":"2d"},{"$f":"'2d'!B3","v":0},{"$f":"'2d'!C3","v":0},{"$f":"'2d'!D3","v":"lehrer01"},{"$f":"'2d'!E3","v":0},{"$f":"'2d'!F3","v":0},{"$f":"'2d'!G3","v":0},{"$f":"'2d'!H3","v":0},{"$f":"'2d'!I3","v":0},{"$f":"'2d'!J3","v":0},{"$f":"'2d'!K3","v":0},{"$f":"'2d'!L3","v":0},{"$f":"'2d'!M3","v":0},{"$f":"'2d'!N3","v":0},{"$f":"'2d'!O3","v":0},{"$f":"'2d'!P3","v":0},{"$f":"'2d'!Q3","v":0},{"$f":"'2d'!R3","v":0},{"$f":"'2d'!S3","v":0},{"$f":"'2d'!T3","v":0},{"$f":"'2d'!U3","v":0},{"$f":"'2d'!V3","v":0},{"$f":"'2d'!W3","v":0},{"$f":"'2d'!X3","v":0},{"$f":"'2d'!Y3","v":0},{"$f":"'2d'!Z3","v":0},{"$f":"'2d'!AA3","v":0},{"$f":"'2d'!AB3","v":0},{"$f":"'2d'!AC3","v":0},{"$f":"'2d'!AD3","v":0},{"$f":"'2d'!AE3","v":0},{"$f":"'2d'!AF3","v":0},{"$f":"'2d'!AG3","v":0},{"$f":"'2d'!AH3","v":0},{"$f":"'2d'!AI3","v":0},{"$f":"'2d'!AJ3","v":0},{"$f":"'2d'!AK3","v":0},{"$f":"'2d'!AL3","v":0},{"$f":"'2d'!AM3","v":0},{"$f":"'2d'!AN3","v":0},{"$f":"'2d'!AO3","v":0},{"$f":"'2d'!AP3","v":0},{"$f":"'2d'!AQ3","v":0},{"$f":"'2d'!AR3","v":0},{"$f":"'2d'!AS3","v":0},{"$f":"'2d'!AT3","v":0},{"$f":"'2d'!AU3","v":0},{"$f":"'2d'!AV3","v":0},{"$f":"'2d'!AW3","v":0},{"$f":"'2d'!AX3","v":0},{"$f":"'2d'!AY3","v":0},{"$f":"'2d'!AZ3","v":0},{"$f":"'2d'!BA3","v":0},{"$f":"'2d'!BB3","v":0},{"$f":"'2d'!BC3","v":0},{"$f":"'2d'!BD3","v":0},{"$f":"'2d'!BE3","v":0}]
[{"$f":"'2d'!A4","v":"2d"},{"$f":"'2d'!B4","v":0},{"$f":"'2d'!C4","v":0},{"$f":"'2d'!D4","v":"lehrer02"},{"$f":"'2d'!E4","v":0},{"$f":"'2d'!F4","v":0},{"$f":"'2d'!G4","v":0},{"$f":"'2d'!H4","v":0},{"$f":"'2d'!I4","v":0},{"$f":"'2d'!J4","v":0},{"$f":"'2d'!K4","v":0},{"$f":"'2d'!L4","v":0},{"$f":"'2d'!M4","v":0},{"$f":"'2d'!N4","v":0},{"$f":"'2d'!O4","v":0},{"$f":"'2d'!P4","v":0},{"$f":"'2d'!Q4","v":0},{"$f":"'2d'!R4","v":0},{"$f":"'2d'!S4","v":0},{"$f":"'2d'!T4","v":0},{"$f":"'2d'!U4","v":0},{"$f":"'2d'!V4","v":0},{"$f":"'2d'!W4","v":0},{"$f":"'2d'!X4","v":0},{"$f":"'2d'!Y4","v":0},{"$f":"'2d'!Z4","v":0},{"$f":"'2d'!AA4","v":0},{"$f":"'2d'!AB4","v":0},{"$f":"'2d'!AC4","v":0},{"$f":"'2d'!AD4","v":0},{"$f":"'2d'!AE4","v":0},{"$f":"'2d'!AF4","v":0},{"$f":"'2d'!AG4","v":0},{"$f":"'2d'!AH4","v":0},{"$f":"'2d'!AI4","v":0},{"$f":"'2d'!AJ4","v":0},{"$f":"'2d'!AK4","v":0},{"$f":"'2d'!AL4","v":0},{"$f":"'2d'!AM4","v":0},{"$f":"'2d'!AN4","v":0},{"$f":"'2d'!AO4","v":0},{"$f":"'2d'!AP4","v":0},{"$f":"'2d'!AQ4","v":0},{"$f":"'2d'!AR4","v":0},{"$f":"'2d'!AS4","v":0},{"$f":"'2d'!AT4","v":0},{"$f":"'2d'!AU4","v":0},{"$f":"'2d'!AV4","v":0},{"$f":"'2d'!AW4","v":0},{"$f":"'2d'!AX4","v":0},{"$f":"'2d'!AY4","v":0},{"$f":"'2d'!AZ4","v":0},{"$f":"'2d'!BA4","v":0},{"$f":"'2d'!BB4","v":0},{"$f":"'2d'!BC4","v":0},{"$f":"'2d'!BD4","v":0},{"$f":"'2d'!BE4","v":0}]
[{"$f":"'2d'!A5","v":"2d"},{"$f":"'2d'!B5","v":0},{"$f":"'2d'!C5","v":0},{"$f":"'2d'!D5","v":"lehrer03"},{"$f":"'2d'!E5","v":0},{"$f":"'2d'!F5","v":0},{"$f":"'2d'!G5","v":0},{"$f":"'2d'!H5","v":0},{"$f":"'2d'!I5","v":0},{"$f":"'2d'!J5","v":0},{"$f":"'2d'!K5","v":0},{"$f":"'2d'!L5","v":0},{"$f":"'2d'!M5","v":0},{"$f":"'2d'!N5","v":0},{"$f":"'2d'!O5","v":0},{"$f":"'2d'!P5","v":0},{"$f":"'2d'!Q5","v":0},{"$f":"'2d'!R5","v":0},{"$f":"'2d'!S5","v":0},{"$f":"'2d'!T5","v":0},{"$f":"'2d'!U5","v":0},{"$f":"'2d'!V5","v":0},{"$f":"'2d'!W5","v":0},{"$f":"'2d'!X5","v":0},{"$f":"'2d'!Y5","v":0},{"$f":"'2d'!Z5","v":0},{"$f":"'2d'!AA5","v":0},{"$f":"'2d'!AB5","v":0},{"$f":"'2d'!AC5","v":0},{"$f":"'2d'!AD5","v":0},{"$f":"'2d'!AE5","v":0},{"$f":"'2d'!AF5","v":0},{"$f":"'2d'!AG5","v":0},{"$f":"'2d'!AH5","v":0},{"$f":"'2d'!AI5","v":0},{"$f":"'2d'!AJ5","v":0},{"$f":"'2d'!AK5","v":0},{"$f":"'2d'!AL5","v":0},{"$f":"'2d'!AM5","v":0},{"$f":"'2d'!AN5","v":0},{"$f":"'2d'!AO5","v":0},{"$f":"'2d'!AP5","v":0},{"$f":"'2d'!AQ5","v":0},{"$f":"'2d'!AR5","v":0},{"$f":"'2d'!AS5","v":0},{"$f":"'2d'!AT5","v":0},{"$f":"'2d'!AU5","v":0},{"$f":"'2d'!AV5","v":0},{"$f":"'2d'!AW5","v":0},{"$f":"'2d'!AX5","v":0},{"$f":"'2d'!AY5","v":0},{"$f":"'2d'!AZ5","v":0},{"$f":"'2d'!BA5","v":0},{"$f":"'2d'!BB5","v":0},{"$f":"'2d'!BC5","v":0},{"$f":"'2d'!BD5","v":0},{"$f":"'2d'!BE5","v":0}]
[{"$f":"'2d'!A6","v":"2d"},{"$f":"'2d'!B6","v":0},{"$f":"'2d'!C6","v":0},{"$f":"'2d'!D6","v":"lehrer04"},{"$f":"'2d'!E6","v":0},{"$f":"'2d'!F6","v":0},{"$f":"'2d'!G6","v":0},{"$f":"'2d'!H6","v":0},{"$f":"'2d'!I6","v":0},{"$f":"'2d'!J6","v":0},{"$f":"'2d'!K6","v":0},{"$f":"'2d'!L6","v":0},{"$f":"'2d'!M6","v":0},{"$f":"'2d'!N6","v":0},{"$f":"'2d'!O6","v":0},{"$f":"'2d'!P6","v":0},{"$f":"'2d'!Q6","v":0},{"$f":"'2d'!R6","v":0},{"$f":"'2d'!S6","v":0},{"$f":"'2d'!T6","v":0},{"$f":"'2d'!U6","v":0},{"$f":"'2d'!V6","v":0},{"$f":"'2d'!W6","v":0},{"$f":"'2d'!X6","v":0},{"$f":"'2d'!Y6","v":0},{"$f":"'2d'!Z6","v":0},{"$f":"'2d'!AA6","v":0},{"$f":"'2d'!AB6","v":0},{"$f":"'2d'!AC6","v":0},{"$f":"'2d'!AD6","v":0},{"$f":"'2d'!AE6","v":0},{"$f":"'2d'!AF6","v":0},{"$f":"'2d'!AG6","v":0},{"$f":"'2d'!AH6","v":0},{"$f":"'2d'!AI6","v":0},{"$f":"'2d'!AJ6","v":0},{"$f":"'2d'!AK6","v":0},{"$f":"'2d'!AL6","v":0},{"$f":"'2d'!AM6","v":0},{"$f":"'2d'!AN6","v":0},{"$f":"'2d'!AO6","v":0},{"$f":"'2d'!AP6","v":0},{"$f":"'2d'!AQ6","v":0},{"$f":"'2d'!AR6","v":0},{"$f":"'2d'!AS6","v":0},{"$f":"'2d'!AT6","v":0},{"$f":"'2d'!AU6","v":0},{"$f":"'2d'!AV6","v":0},{"$f":"'2d'!AW6","v":0},{"$f":"'2d'!AX6","v":0},{"$f":"'2d'!AY6","v":0},{"$f":"'2d'!AZ6","v":0},{"$f":"'2d'!BA6","v":0},{"$f":"'2d'!BB6","v":0},{"$f":"'2d'!BC6","v":0},{"$f":"'2d'!BD6","v":0},{"$f":"'2d'!BE6","v":0}]
[{"$f":"'2d'!A7","v":"2d"},{"$f":"'2d'!B7","v":0},{"$f":"'2d'!C7","v":0},{"$f":"'2d'!D7","v":"lehrer05"},{"$f":"'2d'!E7","v":0},{"$f":"'2d'!F7","v":0},{"$f":"'2d'!G7","v":0},{"$f":"'2d'!H7","v":0},{"$f":"'2d'!I7","v":0},{"$f":"'2d'!J7","v":0},{"$f":"'2d'!K7","v":0},{"$f":"'2d'!L7","v":0},{"$f":"'2d'!M7","v":0},{"$f":"'2d'!N7","v":0},{"$f":"'2d'!O7","v":0},{"$f":"'2d'!P7","v":0},{"$f":"'2d'!Q7","v":0},{"$f":"'2d'!R7","v":0},{"$f":"'2d'!S7","v":0},{"$f":"'2d'!T7","v":0},{"$f":"'2d'!U7","v":0},{"$f":"'2d'!V7","v":0},{"$f":"'2d'!W7","v":0},{"$f":"'2d'!X7","v":0},{"$f":"'2d'!Y7","v":0},{"$f":"'2d'!Z7","v":0},{"$f":"'2d'!AA7","v":0},{"$f":"'2d'!AB7","v":0},{"$f":"'2d'!AC7","v":0},{"$f":"'2d'!AD7","v":0},{"$f":"'2d'!AE7","v":0},{"$f":"'2d'!AF7","v":0},{"$f":"'2d'!AG7","v":0},{"$f":"'2d'!AH7","v":0},{"$f":"'2d'!AI7","v":0},{"$f":"'2d'!AJ7","v":0},{"$f":"'2d'!AK7","v":0},{"$f":"'2d'!AL7","v":0},{"$f":"'2d'!AM7","v":0},{"$f":"'2d'!AN7","v":0},{"$f":"'2d'!AO7","v":0},{"$f":"'2d'!AP7","v":0},{"$f":"'2d'!AQ7","v":0},{"$f":"'2d'!AR7","v":0},{"$f":"'2d'!AS7","v":0},{"$f":"'2d'!AT7","v":0},{"$f":"'2d'!AU7","v":0},{"$f":"'2d'!AV7","v":0},{"$f":"'2d'!AW7","v":0},{"$f":"'2d'!AX7","v":0},{"$f":"'2d'!AY7","v":0},{"$f":"'2d'!AZ7","v":0},{"$f":"'2d'!BA7","v":0},{"$f":"'2d'!BB7","v":0},{"$f":"'2d'!BC7","v":0},{"$f":"'2d'!BD7","v":0},{"$f":"'2d'!BE7","v":0}]
[{"$f":"'2d'!A8","v":"2d"},{"$f":"'2d'!B8","v":0},{"$f":"'2d'!C8","v":0},{"$f":"'2d'!D8","v":"lehrer06"},{"$f":"'2d'!E8","v":0},{"$f":"'2d'!F8","v":0},{"$f":"'2d'!G8","v":0},{"$f":"'2d'!H8","v":0},{"$f":"'2d'!I8","v":0},{"$f":"'2d'!J8","v":0},{"$f":"'2d'!K8","v":0},{"$f":"'2d'!L8","v":0},{"$f":"'2d'!M8","v":0},{"$f":"'2d'!N8","v":0},{"$f":"'2d'!O8","v":0},{"$f":"'2d'!P8","v":0},{"$f":"'2d'!Q8","v":0},{"$f":"'2d'!R8","v":0},{"$f":"'2d'!S8","v":0},{"$f":"'2d'!T8","v":0},{"$f":"'2d'!U8","v":0},{"$f":"'2d'!V8","v":0},{"$f":"'2d'!W8","v":0},{"$f":"'2d'!X8","v":0},{"$f":"'2d'!Y8","v":0},{"$f":"'2d'!Z8","v":0},{"$f":"'2d'!AA8","v":0},{"$f":"'2d'!AB8","v":0},{"$f":"'2d'!AC8","v":0},{"$f":"'2d'!AD8","v":0},{"$f":"'2d'!AE8","v":0},{"$f":"'2d'!AF8","v":0},{"$f":"'2d'!AG8","v":0},{"$f":"'2d'!AH8","v":0},{"$f":"'2d'!AI8","v":0},{"$f":"'2d'!AJ8","v":0},{"$f":"'2d'!AK8","v":0},{"$f":"'2d'!AL8","v":0},{"$f":"'2d'!AM8","v":0},{"$f":"'2d'!AN8","v":0},{"$f":"'2d'!AO8","v":0},{"$f":"'2d'!AP8","v":0},{"$f":"'2d'!AQ8","v":0},{"$f":"'2d'!AR8","v":0},{"$f":"'2d'!AS8","v":0},{"$f":"'2d'!AT8","v":0},{"$f":"'2d'!AU8","v":0},{"$f":"'2d'!AV8","v":0},{"$f":"'2d'!AW8","v":0},{"$f":"'2d'!AX8","v":0},{"$f":"'2d'!AY8","v":0},{"$f":"'2d'!AZ8","v":0},{"$f":"'2d'!BA8","v":0},{"$f":"'2d'!BB8","v":0},{"$f":"'2d'!BC8","v":0},{"$f":"'2d'!BD8","v":0},{"$f":"'2d'!BE8","v":0}]
[{"$f":"'2d'!A9","v":"2d"},{"$f":"'2d'!B9","v":0},{"$f":"'2d'!C9","v":0},{"$f":"'2d'!D9","v":"lehrer07"},{"$f":"'2d'!E9","v":0},{"$f":"'2d'!F9","v":0},{"$f":"'2d'!G9","v":0},{"$f":"'2d'!H9","v":0},{"$f":"'2d'!I9","v":0},{"$f":"'2d'!J9","v":0},{"$f":"'2d'!K9","v":0},{"$f":"'2d'!L9","v":0},{"$f":"'2d'!M9","v":0},{"$f":"'2d'!N9","v":0},{"$f":"'2d'!O9","v":0},{"$f":"'2d'!P9","v":0},{"$f":"'2d'!Q9","v":0},{"$f":"'2d'!R9","v":0},{"$f":"'2d'!S9","v":0},{"$f":"'2d'!T9","v":0},{"$f":"'2d'!U9","v":0},{"$f":"'2d'!V9","v":0},{"$f":"'2d'!W9","v":0},{"$f":"'2d'!X9","v":0},{"$f":"'2d'!Y9","v":0},{"$f":"'2d'!Z9","v":0},{"$f":"'2d'!AA9","v":0},{"$f":"'2d'!AB9","v":0},{"$f":"'2d'!AC9","v":0},{"$f":"'2d'!AD9","v":0},{"$f":"'2d'!AE9","v":0},{"$f":"'2d'!AF9","v":0},{"$f":"'2d'!AG9","v":0},{"$f":"'2d'!AH9","v":0},{"$f":"'2d'!AI9","v":0},{"$f":"'2d'!AJ9","v":0},{"$f":"'2d'!AK9","v":0},{"$f":"'2d'!AL9","v":0},{"$f":"'2d'!AM9","v":0},{"$f":"'2d'!AN9","v":0},{"$f":"'2d'!AO9","v":0},{"$f":"'2d'!AP9","v":0},{"$f":"'2d'!AQ9","v":0},{"$f":"'2d'!AR9","v":0},{"$f":"'2d'!AS9","v":0},{"$f":"'2d'!AT9","v":0},{"$f":"'2d'!AU9","v":0},{"$f":"'2d'!AV9","v":0},{"$f":"'2d'!AW9","v":0},{"$f":"'2d'!AX9","v":0},{"$f":"'2d'!AY9","v":0},{"$f":"'2d'!AZ9","v":0},{"$f":"'2d'!BA9","v":0},{"$f":"'2d'!BB9","v":0},{"$f":"'2d'!BC9","v":0},{"$f":"'2d'!BD9","v":0},{"$f":"'2d'!BE9","v":0}]
[{"$f":"'2d'!A10","v":"2d"},{"$f":"'2d'!B10","v":0},{"$f":"'2d'!C10","v":0},{"$f":"'2d'!D10","v":"lehrer08"},{"$f":"'2d'!E10","v":0},{"$f":"'2d'!F10","v":0},{"$f":"'2d'!G10","v":0},{"$f":"'2d'!H10","v":0},{"$f":"'2d'!I10","v":0},{"$f":"'2d'!J10","v":0},{"$f":"'2d'!K10","v":0},{"$f":"'2d'!L10","v":0},{"$f":"'2d'!M10","v":0},{"$f":"'2d'!N10","v":0},{"$f":"'2d'!O10","v":0},{"$f":"'2d'!P10","v":0},{"$f":"'2d'!Q10","v":0},{"$f":"'2d'!R10","v":0},{"$f":"'2d'!S10","v":0},{"$f":"'2d'!T10","v":0},{"$f":"'2d'!U10","v":0},{"$f":"'2d'!V10","v":0},{"$f":"'2d'!W10","v":0},{"$f":"'2d'!X10","v":0},{"$f":"'2d'!Y10","v":0},{"$f":"'2d'!Z10","v":0},{"$f":"'2d'!AA10","v":0},{"$f":"'2d'!AB10","v":0},{"$f":"'2d'!AC10","v":0},{"$f":"'2d'!AD10","v":0},{"$f":"'2d'!AE10","v":0},{"$f":"'2d'!AF10","v":0},{"$f":"'2d'!AG10","v":0},{"$f":"'2d'!AH10","v":0},{"$f":"'2d'!AI10","v":0},{"$f":"'2d'!AJ10","v":0},{"$f":"'2d'!AK10","v":0},{"$f":"'2d'!AL10","v":0},{"$f":"'2d'!AM10","v":0},{"$f":"'2d'!AN10","v":0},{"$f":"'2d'!AO10","v":0},{"$f":"'2d'!AP10","v":0},{"$f":"'2d'!AQ10","v":0},{"$f":"'2d'!AR10","v":0},{"$f":"'2d'!AS10","v":0},{"$f":"'2d'!AT10","v":0},{"$f":"'2d'!AU10","v":0},{"$f":"'2d'!AV10","v":0},{"$f":"'2d'!AW10","v":0},{"$f":"'2d'!AX10","v":0},{"$f":"'2d'!AY10","v":0},{"$f":"'2d'!AZ10","v":0},{"$f":"'2d'!BA10","v":0},{"$f":"'2d'!BB10","v":0},{"$f":"'2d'!BC10","v":0},{"$f":"'2d'!BD10","v":0},{"$f":"'2d'!BE10","v":0}]
[{"$f":"'2d'!A11","v":"2d"},{"$f":"'2d'!B11","v":0},{"$f":"'2d'!C11","v":0},{"$f":"'2d'!D11","v":"lehrer09"},{"$f":"'2d'!E11","v":0},{"$f":"'2d'!F11","v":0},{"$f":"'2d'!G11","v":0},{"$f":"'2d'!H11","v":0},{"$f":"'2d'!I11","v":0},{"$f":"'2d'!J11","v":0},{"$f":"'2d'!K11","v":0},{"$f":"'2d'!L11","v":0},{"$f":"'2d'!M11","v":0},{"$f":"'2d'!N11","v":0},{"$f":"'2d'!O11","v":0},{"$f":"'2d'!P11","v":0},{"$f":"'2d'!Q11","v":0},{"$f":"'2d'!R11","v":0},{"$f":"'2d'!S11","v":0},{"$f":"'2d'!T11","v":0},{"$f":"'2d'!U11","v":0},{"$f":"'2d'!V11","v":0},{"$f":"'2d'!W11","v":0},{"$f":"'2d'!X11","v":0},{"$f":"'2d'!Y11","v":0},{"$f":"'2d'!Z11","v":0},{"$f":"'2d'!AA11","v":0},{"$f":"'2d'!AB11","v":0},{"$f":"'2d'!AC11","v":0},{"$f":"'2d'!AD11","v":0},{"$f":"'2d'!AE11","v":0},{"$f":"'2d'!AF11","v":0},{"$f":"'2d'!AG11","v":0},{"$f":"'2d'!AH11","v":0},{"$f":"'2d'!AI11","v":0},{"$f":"'2d'!AJ11","v":0},{"$f":"'2d'!AK11","v":0},{"$f":"'2d'!AL11","v":0},{"$f":"'2d'!AM11","v":0},{"$f":"'2d'!AN11","v":0},{"$f":"'2d'!AO11","v":0},{"$f":"'2d'!AP11","v":0},{"$f":"'2d'!AQ11","v":0},{"$f":"'2d'!AR11","v":0},{"$f":"'2d'!AS11","v":0},{"$f":"'2d'!AT11","v":0},{"$f":"'2d'!AU11","v":0},{"$f":"'2d'!AV11","v":0},{"$f":"'2d'!AW11","v":0},{"$f":"'2d'!AX11","v":0},{"$f":"'2d'!AY11","v":0},{"$f":"'2d'!AZ11","v":0},{"$f":"'2d'!BA11","v":0},{"$f":"'2d'!BB11","v":0},{"$f":"'2d'!BC11","v":0},{"$f":"'2d'!BD11","v":0},{"$f":"'2d'!BE11","v":0}]
[{"$f":"'2d'!A12","v":"2d"},{"$f":"'2d'!B12","v":0},{"$f":"'2d'!C12","v":0},{"$f":"'2d'!D12","v":"lehrer10"},{"$f":"'2d'!E12","v":0},{"$f":"'2d'!F12","v":0},{"$f":"'2d'!G12","v":0},{"$f":"'2d'!H12","v":0},{"$f":"'2d'!I12","v":0},{"$f":"'2d'!J12","v":0},{"$f":"'2d'!K12","v":0},{"$f":"'2d'!L12","v":0},{"$f":"'2d'!M12","v":0},{"$f":"'2d'!N12","v":0},{"$f":"'2d'!O12","v":0},{"$f":"'2d'!P12","v":0},{"$f":"'2d'!Q12","v":0},{"$f":"'2d'!R12","v":0},{"$f":"'2d'!S12","v":0},{"$f":"'2d'!T12","v":0},{"$f":"'2d'!U12","v":0},{"$f":"'2d'!V12","v":0},{"$f":"'2d'!W12","v":0},{"$f":"'2d'!X12","v":0},{"$f":"'2d'!Y12","v":0},{"$f":"'2d'!Z12","v":0},{"$f":"'2d'!AA12","v":0},{"$f":"'2d'!AB12","v":0},{"$f":"'2d'!AC12","v":0},{"$f":"'2d'!AD12","v":0},{"$f":"'2d'!AE12","v":0},{"$f":"'2d'!AF12","v":0},{"$f":"'2d'!AG12","v":0},{"$f":"'2d'!AH12","v":0},{"$f":"'2d'!AI12","v":0},{"$f":"'2d'!AJ12","v":0},{"$f":"'2d'!AK12","v":0},{"$f":"'2d'!AL12","v":0},{"$f":"'2d'!AM12","v":0},{"$f":"'2d'!AN12","v":0},{"$f":"'2d'!AO12","v":0},{"$f":"'2d'!AP12","v":0},{"$f":"'2d'!AQ12","v":0},{"$f":"'2d'!AR12","v":0},{"$f":"'2d'!AS12","v":0},{"$f":"'2d'!AT12","v":0},{"$f":"'2d'!AU12","v":0},{"$f":"'2d'!AV12","v":0},{"$f":"'2d'!AW12","v":0},{"$f":"'2d'!AX12","v":0},{"$f":"'2d'!AY12","v":0},{"$f":"'2d'!AZ12","v":0},{"$f":"'2d'!BA12","v":0},{"$f":"'2d'!BB12","v":0},{"$f":"'2d'!BC12","v":0},{"$f":"'2d'!BD12","v":0},{"$f":"'2d'!BE12","v":0}]
[{"$f":"'2d'!A13","v":"2d"},{"$f":"'2d'!B13","v":0},{"$f":"'2d'!C13","v":0},{"$f":"'2d'!D13","v":"lehrer11"},{"$f":"'2d'!E13","v":0},{"$f":"'2d'!F13","v":0},{"$f":"'2d'!G13","v":0},{"$f":"'2d'!H13","v":0},{"$f":"'2d'!I13","v":0},{"$f":"'2d'!J13","v":0},{"$f":"'2d'!K13","v":0},{"$f":"'2d'!L13","v":0},{"$f":"'2d'!M13","v":0},{"$f":"'2d'!N13","v":0},{"$f":"'2d'!O13","v":0},{"$f":"'2d'!P13","v":0},{"$f":"'2d'!Q13","v":0},{"$f":"'2d'!R13","v":0},{"$f":"'2d'!S13","v":0},{"$f":"'2d'!T13","v":0},{"$f":"'2d'!U13","v":0},{"$f":"'2d'!V13","v":0},{"$f":"'2d'!W13","v":0},{"$f":"'2d'!X13","v":0},{"$f":"'2d'!Y13","v":0},{"$f":"'2d'!Z13","v":0},{"$f":"'2d'!AA13","v":0},{"$f":"'2d'!AB13","v":0},{"$f":"'2d'!AC13","v":0},{"$f":"'2d'!AD13","v":0},{"$f":"'2d'!AE13","v":0},{"$f":"'2d'!AF13","v":0},{"$f":"'2d'!AG13","v":0},{"$f":"'2d'!AH13","v":0},{"$f":"'2d'!AI13","v":0},{"$f":"'2d'!AJ13","v":0},{"$f":"'2d'!AK13","v":0},{"$f":"'2d'!AL13","v":0},{"$f":"'2d'!AM13","v":0},{"$f":"'2d'!AN13","v":0},{"$f":"'2d'!AO13","v":0},{"$f":"'2d'!AP13","v":0},{"$f":"'2d'!AQ13","v":0},{"$f":"'2d'!AR13","v":0},{"$f":"'2d'!AS13","v":0},{"$f":"'2d'!AT13","v":0},{"$f":"'2d'!AU13","v":0},{"$f":"'2d'!AV13","v":0},{"$f":"'2d'!AW13","v":0},{"$f":"'2d'!AX13","v":0},{"$f":"'2d'!AY13","v":0},{"$f":"'2d'!AZ13","v":0},{"$f":"'2d'!BA13","v":0},{"$f":"'2d'!BB13","v":0},{"$f":"'2d'!BC13","v":0},{"$f":"'2d'!BD13","v":0},{"$f":"'2d'!BE13","v":0}]
[{"$f":"'2d'!A14","v":"2d"},{"$f":"'2d'!B14","v":0},{"$f":"'2d'!C14","v":0},{"$f":"'2d'!D14","v":"lehrer12"},{"$f":"'2d'!E14","v":0},{"$f":"'2d'!F14","v":0},{"$f":"'2d'!G14","v":0},{"$f":"'2d'!H14","v":0},{"$f":"'2d'!I14","v":0},{"$f":"'2d'!J14","v":0},{"$f":"'2d'!K14","v":0},{"$f":"'2d'!L14","v":0},{"$f":"'2d'!M14","v":0},{"$f":"'2d'!N14","v":0},{"$f":"'2d'!O14","v":0},{"$f":"'2d'!P14","v":0},{"$f":"'2d'!Q14","v":0},{"$f":"'2d'!R14","v":0},{"$f":"'2d'!S14","v":0},{"$f":"'2d'!T14","v":0},{"$f":"'2d'!U14","v":0},{"$f":"'2d'!V14","v":0},{"$f":"'2d'!W14","v":0},{"$f":"'2d'!X14","v":0},{"$f":"'2d'!Y14","v":0},{"$f":"'2d'!Z14","v":0},{"$f":"'2d'!AA14","v":0},{"$f":"'2d'!AB14","v":0},{"$f":"'2d'!AC14","v":0},{"$f":"'2d'!AD14","v":0},{"$f":"'2d'!AE14","v":0},{"$f":"'2d'!AF14","v":0},{"$f":"'2d'!AG14","v":0},{"$f":"'2d'!AH14","v":0},{"$f":"'2d'!AI14","v":0},{"$f":"'2d'!AJ14","v":0},{"$f":"'2d'!AK14","v":0},{"$f":"'2d'!AL14","v":0},{"$f":"'2d'!AM14","v":0},{"$f":"'2d'!AN14","v":0},{"$f":"'2d'!AO14","v":0},{"$f":"'2d'!AP14","v":0},{"$f":"'2d'!AQ14","v":0},{"$f":"'2d'!AR14","v":0},{"$f":"'2d'!AS14","v":0},{"$f":"'2d'!AT14","v":0},{"$f":"'2d'!AU14","v":0},{"$f":"'2d'!AV14","v":0},{"$f":"'2d'!AW14","v":0},{"$f":"'2d'!AX14","v":0},{"$f":"'2d'!AY14","v":0},{"$f":"'2d'!AZ14","v":0},{"$f":"'2d'!BA14","v":0},{"$f":"'2d'!BB14","v":0},{"$f":"'2d'!BC14","v":0},{"$f":"'2d'!BD14","v":0},{"$f":"'2d'!BE14","v":0}]
[{"$f":"'2d'!A15","v":"2d"},{"$f":"'2d'!B15","v":0},{"$f":"'2d'!C15","v":0},{"$f":"'2d'!D15","v":"lehrer13"},{"$f":"'2d'!E15","v":0},{"$f":"'2d'!F15","v":0},{"$f":"'2d'!G15","v":0},{"$f":"'2d'!H15","v":0},{"$f":"'2d'!I15","v":0},{"$f":"'2d'!J15","v":0},{"$f":"'2d'!K15","v":0},{"$f":"'2d'!L15","v":0},{"$f":"'2d'!M15","v":0},{"$f":"'2d'!N15","v":0},{"$f":"'2d'!O15","v":0},{"$f":"'2d'!P15","v":0},{"$f":"'2d'!Q15","v":0},{"$f":"'2d'!R15","v":0},{"$f":"'2d'!S15","v":0},{"$f":"'2d'!T15","v":0},{"$f":"'2d'!U15","v":0},{"$f":"'2d'!V15","v":0},{"$f":"'2d'!W15","v":0},{"$f":"'2d'!X15","v":0},{"$f":"'2d'!Y15","v":0},{"$f":"'2d'!Z15","v":0},{"$f":"'2d'!AA15","v":0},{"$f":"'2d'!AB15","v":0},{"$f":"'2d'!AC15","v":0},{"$f":"'2d'!AD15","v":0},{"$f":"'2d'!AE15","v":0},{"$f":"'2d'!AF15","v":0},{"$f":"'2d'!AG15","v":0},{"$f":"'2d'!AH15","v":0},{"$f":"'2d'!AI15","v":0},{"$f":"'2d'!AJ15","v":0},{"$f":"'2d'!AK15","v":0},{"$f":"'2d'!AL15","v":0},{"$f":"'2d'!AM15","v":0},{"$f":"'2d'!AN15","v":0},{"$f":"'2d'!AO15","v":0},{"$f":"'2d'!AP15","v":0},{"$f":"'2d'!AQ15","v":0},{"$f":"'2d'!AR15","v":0},{"$f":"'2d'!AS15","v":0},{"$f":"'2d'!AT15","v":0},{"$f":"'2d'!AU15","v":0},{"$f":"'2d'!AV15","v":0},{"$f":"'2d'!AW15","v":0},{"$f":"'2d'!AX15","v":0},{"$f":"'2d'!AY15","v":0},{"$f":"'2d'!AZ15","v":0},{"$f":"'2d'!BA15","v":0},{"$f":"'2d'!BB15","v":0},{"$f":"'2d'!BC15","v":0},{"$f":"'2d'!BD15","v":0},{"$f":"'2d'!BE15","v":0}]
[{"$f":"'2d'!A16","v":"2d"},{"$f":"'2d'!B16","v":0},{"$f":"'2d'!C16","v":0},{"$f":"'2d'!D16","v":"lehrer14"},{"$f":"'2d'!E16","v":0},{"$f":"'2d'!F16","v":0},{"$f":"'2d'!G16","v":0},{"$f":"'2d'!H16","v":0},{"$f":"'2d'!I16","v":0},{"$f":"'2d'!J16","v":0},{"$f":"'2d'!K16","v":0},{"$f":"'2d'!L16","v":0},{"$f":"'2d'!M16","v":0},{"$f":"'2d'!N16","v":0},{"$f":"'2d'!O16","v":0},{"$f":"'2d'!P16","v":0},{"$f":"'2d'!Q16","v":0},{"$f":"'2d'!R16","v":0},{"$f":"'2d'!S16","v":0},{"$f":"'2d'!T16","v":0},{"$f":"'2d'!U16","v":0},{"$f":"'2d'!V16","v":0},{"$f":"'2d'!W16","v":0},{"$f":"'2d'!X16","v":0},{"$f":"'2d'!Y16","v":0},{"$f":"'2d'!Z16","v":0},{"$f":"'2d'!AA16","v":0},{"$f":"'2d'!AB16","v":0},{"$f":"'2d'!AC16","v":0},{"$f":"'2d'!AD16","v":0},{"$f":"'2d'!AE16","v":0},{"$f":"'2d'!AF16","v":0},{"$f":"'2d'!AG16","v":0},{"$f":"'2d'!AH16","v":0},{"$f":"'2d'!AI16","v":0},{"$f":"'2d'!AJ16","v":0},{"$f":"'2d'!AK16","v":0},{"$f":"'2d'!AL16","v":0},{"$f":"'2d'!AM16","v":0},{"$f":"'2d'!AN16","v":0},{"$f":"'2d'!AO16","v":0},{"$f":"'2d'!AP16","v":0},{"$f":"'2d'!AQ16","v":0},{"$f":"'2d'!AR16","v":0},{"$f":"'2d'!AS16","v":0},{"$f":"'2d'!AT16","v":0},{"$f":"'2d'!AU16","v":0},{"$f":"'2d'!AV16","v":0},{"$f":"'2d'!AW16","v":0},{"$f":"'2d'!AX16","v":0},{"$f":"'2d'!AY16","v":0},{"$f":"'2d'!AZ16","v":0},{"$f":"'2d'!BA16","v":0},{"$f":"'2d'!BB16","v":0},{"$f":"'2d'!BC16","v":0},{"$f":"'2d'!BD16","v":0},{"$f":"'2d'!BE16","v":0}]
[{"$f":"'2d'!A17","v":"2d"},{"$f":"'2d'!B17","v":0},{"$f":"'2d'!C17","v":0},{"$f":"'2d'!D17","v":"lehrer15"},{"$f":"'2d'!E17","v":0},{"$f":"'2d'!F17","v":0},{"$f":"'2d'!G17","v":0},{"$f":"'2d'!H17","v":0},{"$f":"'2d'!I17","v":0},{"$f":"'2d'!J17","v":0},{"$f":"'2d'!K17","v":0},{"$f":"'2d'!L17","v":0},{"$f":"'2d'!M17","v":0},{"$f":"'2d'!N17","v":0},{"$f":"'2d'!O17","v":0},{"$f":"'2d'!P17","v":0},{"$f":"'2d'!Q17","v":0},{"$f":"'2d'!R17","v":0},{"$f":"'2d'!S17","v":0},{"$f":"'2d'!T17","v":0},{"$f":"'2d'!U17","v":0},{"$f":"'2d'!V17","v":0},{"$f":"'2d'!W17","v":0},{"$f":"'2d'!X17","v":0},{"$f":"'2d'!Y17","v":0},{"$f":"'2d'!Z17","v":0},{"$f":"'2d'!AA17","v":0},{"$f":"'2d'!AB17","v":0},{"$f":"'2d'!AC17","v":0},{"$f":"'2d'!AD17","v":0},{"$f":"'2d'!AE17","v":0},{"$f":"'2d'!AF17","v":0},{"$f":"'2d'!AG17","v":0},{"$f":"'2d'!AH17","v":0},{"$f":"'2d'!AI17","v":0},{"$f":"'2d'!AJ17","v":0},{"$f":"'2d'!AK17","v":0},{"$f":"'2d'!AL17","v":0},{"$f":"'2d'!AM17","v":0},{"$f":"'2d'!AN17","v":0},{"$f":"'2d'!AO17","v":0},{"$f":"'2d'!AP17","v":0},{"$f":"'2d'!AQ17","v":0},{"$f":"'2d'!AR17","v":0},{"$f":"'2d'!AS17","v":0},{"$f":"'2d'!AT17","v":0},{"$f":"'2d'!AU17","v":0},{"$f":"'2d'!AV17","v":0},{"$f":"'2d'!AW17","v":0},{"$f":"'2d'!AX17","v":0},{"$f":"'2d'!AY17","v":0},{"$f":"'2d'!AZ17","v":0},{"$f":"'2d'!BA17","v":0},{"$f":"'2d'!BB17","v":0},{"$f":"'2d'!BC17","v":0},{"$f":"'2d'!BD17","v":0},{"$f":"'2d'!BE17","v":0}]
[{"$f":"'2d'!A18","v":"2d"},{"$f":"'2d'!B18","v":0},{"$f":"'2d'!C18","v":0},{"$f":"'2d'!D18","v":"lehrer16"},{"$f":"'2d'!E18","v":0},{"$f":"'2d'!F18","v":0},{"$f":"'2d'!G18","v":0},{"$f":"'2d'!H18","v":0},{"$f":"'2d'!I18","v":0},{"$f":"'2d'!J18","v":0},{"$f":"'2d'!K18","v":0},{"$f":"'2d'!L18","v":0},{"$f":"'2d'!M18","v":0},{"$f":"'2d'!N18","v":0},{"$f":"'2d'!O18","v":0},{"$f":"'2d'!P18","v":0},{"$f":"'2d'!Q18","v":0},{"$f":"'2d'!R18","v":0},{"$f":"'2d'!S18","v":0},{"$f":"'2d'!T18","v":0},{"$f":"'2d'!U18","v":0},{"$f":"'2d'!V18","v":0},{"$f":"'2d'!W18","v":0},{"$f":"'2d'!X18","v":0},{"$f":"'2d'!Y18","v":0},{"$f":"'2d'!Z18","v":0},{"$f":"'2d'!AA18","v":0},{"$f":"'2d'!AB18","v":0},{"$f":"'2d'!AC18","v":0},{"$f":"'2d'!AD18","v":0},{"$f":"'2d'!AE18","v":0},{"$f":"'2d'!AF18","v":0},{"$f":"'2d'!AG18","v":0},{"$f":"'2d'!AH18","v":0},{"$f":"'2d'!AI18","v":0},{"$f":"'2d'!AJ18","v":0},{"$f":"'2d'!AK18","v":0},{"$f":"'2d'!AL18","v":0},{"$f":"'2d'!AM18","v":0},{"$f":"'2d'!AN18","v":0},{"$f":"'2d'!AO18","v":0},{"$f":"'2d'!AP18","v":0},{"$f":"'2d'!AQ18","v":0},{"$f":"'2d'!AR18","v":0},{"$f":"'2d'!AS18","v":0},{"$f":"'2d'!AT18","v":0},{"$f":"'2d'!AU18","v":0},{"$f":"'2d'!AV18","v":0},{"$f":"'2d'!AW18","v":0},{"$f":"'2d'!AX18","v":0},{"$f":"'2d'!AY18","v":0},{"$f":"'2d'!AZ18","v":0},{"$f":"'2d'!BA18","v":0},{"$f":"'2d'!BB18","v":0},{"$f":"'2d'!BC18","v":0},{"$f":"'2d'!BD18","v":0},{"$f":"'2d'!BE18","v":0}]
[{"$f":"'2d'!A19","v":"2d"},{"$f":"'2d'!B19","v":0},{"$f":"'2d'!C19","v":0},{"$f":"'2d'!D19","v":"lehrer17"},{"$f":"'2d'!E19","v":0},{"$f":"'2d'!F19","v":0},{"$f":"'2d'!G19","v":0},{"$f":"'2d'!H19","v":0},{"$f":"'2d'!I19","v":0},{"$f":"'2d'!J19","v":0},{"$f":"'2d'!K19","v":0},{"$f":"'2d'!L19","v":0},{"$f":"'2d'!M19","v":0},{"$f":"'2d'!N19","v":0},{"$f":"'2d'!O19","v":0},{"$f":"'2d'!P19","v":0},{"$f":"'2d'!Q19","v":0},{"$f":"'2d'!R19","v":0},{"$f":"'2d'!S19","v":0},{"$f":"'2d'!T19","v":0},{"$f":"'2d'!U19","v":0},{"$f":"'2d'!V19","v":0},{"$f":"'2d'!W19","v":0},{"$f":"'2d'!X19","v":0},{"$f":"'2d'!Y19","v":0},{"$f":"'2d'!Z19","v":0},{"$f":"'2d'!AA19","v":0},{"$f":"'2d'!AB19","v":0},{"$f":"'2d'!AC19","v":0},{"$f":"'2d'!AD19","v":0},{"$f":"'2d'!AE19","v":0},{"$f":"'2d'!AF19","v":0},{"$f":"'2d'!AG19","v":0},{"$f":"'2d'!AH19","v":0},{"$f":"'2d'!AI19","v":0},{"$f":"'2d'!AJ19","v":0},{"$f":"'2d'!AK19","v":0},{"$f":"'2d'!AL19","v":0},{"$f":"'2d'!AM19","v":0},{"$f":"'2d'!AN19","v":0},{"$f":"'2d'!AO19","v":0},{"$f":"'2d'!AP19","v":0},{"$f":"'2d'!AQ19","v":0},{"$f":"'2d'!AR19","v":0},{"$f":"'2d'!AS19","v":0},{"$f":"'2d'!AT19","v":0},{"$f":"'2d'!AU19","v":0},{"$f":"'2d'!AV19","v":0},{"$f":"'2d'!AW19","v":0},{"$f":"'2d'!AX19","v":0},{"$f":"'2d'!AY19","v":0},{"$f":"'2d'!AZ19","v":0},{"$f":"'2d'!BA19","v":0},{"$f":"'2d'!BB19","v":0},{"$f":"'2d'!BC19","v":0},{"$f":"'2d'!BD19","v":0},{"$f":"'2d'!BE19","v":0}]
[{"$f":"'2d'!A20","v":"2d"},{"$f":"'2d'!B20","v":0},{"$f":"'2d'!C20","v":0},{"$f":"'2d'!D20","v":"lehrer18"},{"$f":"'2d'!E20","v":0},{"$f":"'2d'!F20","v":0},{"$f":"'2d'!G20","v":0},{"$f":"'2d'!H20","v":0},{"$f":"'2d'!I20","v":0},{"$f":"'2d'!J20","v":0},{"$f":"'2d'!K20","v":0},{"$f":"'2d'!L20","v":0},{"$f":"'2d'!M20","v":0},{"$f":"'2d'!N20","v":0},{"$f":"'2d'!O20","v":0},{"$f":"'2d'!P20","v":0},{"$f":"'2d'!Q20","v":0},{"$f":"'2d'!R20","v":0},{"$f":"'2d'!S20","v":0},{"$f":"'2d'!T20","v":0},{"$f":"'2d'!U20","v":0},{"$f":"'2d'!V20","v":0},{"$f":"'2d'!W20","v":0},{"$f":"'2d'!X20","v":0},{"$f":"'2d'!Y20","v":0},{"$f":"'2d'!Z20","v":0},{"$f":"'2d'!AA20","v":0},{"$f":"'2d'!AB20","v":0},{"$f":"'2d'!AC20","v":0},{"$f":"'2d'!AD20","v":0},{"$f":"'2d'!AE20","v":0},{"$f":"'2d'!AF20","v":0},{"$f":"'2d'!AG20","v":0},{"$f":"'2d'!AH20","v":0},{"$f":"'2d'!AI20","v":0},{"$f":"'2d'!AJ20","v":0},{"$f":"'2d'!AK20","v":0},{"$f":"'2d'!AL20","v":0},{"$f":"'2d'!AM20","v":0},{"$f":"'2d'!AN20","v":0},{"$f":"'2d'!AO20","v":0},{"$f":"'2d'!AP20","v":0},{"$f":"'2d'!AQ20","v":0},{"$f":"'2d'!AR20","v":0},{"$f":"'2d'!AS20","v":0},{"$f":"'2d'!AT20","v":0},{"$f":"'2d'!AU20","v":0},{"$f":"'2d'!AV20","v":0},{"$f":"'2d'!AW20","v":0},{"$f":"'2d'!AX20","v":0},{"$f":"'2d'!AY20","v":0},{"$f":"'2d'!AZ20","v":0},{"$f":"'2d'!BA20","v":0},{"$f":"'2d'!BB20","v":0},{"$f":"'2d'!BC20","v":0},{"$f":"'2d'!BD20","v":0},{"$f":"'2d'!BE20","v":0}]
[{"$f":"'2d'!A21","v":"2d"},{"$f":"'2d'!B21","v":0},{"$f":"'2d'!C21","v":0},{"$f":"'2d'!D21","v":"lehrer19"},{"$f":"'2d'!E21","v":0},{"$f":"'2d'!F21","v":0},{"$f":"'2d'!G21","v":0},{"$f":"'2d'!H21","v":0},{"$f":"'2d'!I21","v":0},{"$f":"'2d'!J21","v":0},{"$f":"'2d'!K21","v":0},{"$f":"'2d'!L21","v":0},{"$f":"'2d'!M21","v":0},{"$f":"'2d'!N21","v":0},{"$f":"'2d'!O21","v":0},{"$f":"'2d'!P21","v":0},{"$f":"'2d'!Q21","v":0},{"$f":"'2d'!R21","v":0},{"$f":"'2d'!S21","v":0},{"$f":"'2d'!T21","v":0},{"$f":"'2d'!U21","v":0},{"$f":"'2d'!V21","v":0},{"$f":"'2d'!W21","v":0},{"$f":"'2d'!X21","v":0},{"$f":"'2d'!Y21","v":0},{"$f":"'2d'!Z21","v":0},{"$f":"'2d'!AA21","v":0},{"$f":"'2d'!AB21","v":0},{"$f":"'2d'!AC21","v":0},{"$f":"'2d'!AD21","v":0},{"$f":"'2d'!AE21","v":0},{"$f":"'2d'!AF21","v":0},{"$f":"'2d'!AG21","v":0},{"$f":"'2d'!AH21","v":0},{"$f":"'2d'!AI21","v":0},{"$f":"'2d'!AJ21","v":0},{"$f":"'2d'!AK21","v":0},{"$f":"'2d'!AL21","v":0},{"$f":"'2d'!AM21","v":0},{"$f":"'2d'!AN21","v":0},{"$f":"'2d'!AO21","v":0},{"$f":"'2d'!AP21","v":0},{"$f":"'2d'!AQ21","v":0},{"$f":"'2d'!AR21","v":0},{"$f":"'2d'!AS21","v":0},{"$f":"'2d'!AT21","v":0},{"$f":"'2d'!AU21","v":0},{"$f":"'2d'!AV21","v":0},{"$f":"'2d'!AW21","v":0},{"$f":"'2d'!AX21","v":0},{"$f":"'2d'!AY21","v":0},{"$f":"'2d'!AZ21","v":0},{"$f":"'2d'!BA21","v":0},{"$f":"'2d'!BB21","v":0},{"$f":"'2d'!BC21","v":0},{"$f":"'2d'!BD21","v":0},{"$f":"'2d'!BE21","v":0}]
[{"$f":"'2d'!A22","v":"2d"},{"$f":"'2d'!B22","v":0},{"$f":"'2d'!C22","v":0},{"$f":"'2d'!D22","v":"lehrer20"},{"$f":"'2d'!E22","v":0},{"$f":"'2d'!F22","v":0},{"$f":"'2d'!G22","v":0},{"$f":"'2d'!H22","v":0},{"$f":"'2d'!I22","v":0},{"$f":"'2d'!J22","v":0},{"$f":"'2d'!K22","v":0},{"$f":"'2d'!L22","v":0},{"$f":"'2d'!M22","v":0},{"$f":"'2d'!N22","v":0},{"$f":"'2d'!O22","v":0},{"$f":"'2d'!P22","v":0},{"$f":"'2d'!Q22","v":0},{"$f":"'2d'!R22","v":0},{"$f":"'2d'!S22","v":0},{"$f":"'2d'!T22","v":0},{"$f":"'2d'!U22","v":0},{"$f":"'2d'!V22","v":0},{"$f":"'2d'!W22","v":0},{"$f":"'2d'!X22","v":0},{"$f":"'2d'!Y22","v":0},{"$f":"'2d'!Z22","v":0},{"$f":"'2d'!AA22","v":0},{"$f":"'2d'!AB22","v":0},{"$f":"'2d'!AC22","v":0},{"$f":"'2d'!AD22","v":0},{"$f":"'2d'!AE22","v":0},{"$f":"'2d'!AF22","v":0},{"$f":"'2d'!AG22","v":0},{"$f":"'2d'!AH22","v":0},{"$f":"'2d'!AI22","v":0},{"$f":"'2d'!AJ22","v":0},{"$f":"'2d'!AK22","v":0},{"$f":"'2d'!AL22","v":0},{"$f":"'2d'!AM22","v":0},{"$f":"'2d'!AN22","v":0},{"$f":"'2d'!AO22","v":0},{"$f":"'2d'!AP22","v":0},{"$f":"'2d'!AQ22","v":0},{"$f":"'2d'!AR22","v":0},{"$f":"'2d'!AS22","v":0},{"$f":"'2d'!AT22","v":0},{"$f":"'2d'!AU22","v":0},{"$f":"'2d'!AV22","v":0},{"$f":"'2d'!AW22","v":0},{"$f":"'2d'!AX22","v":0},{"$f":"'2d'!AY22","v":0},{"$f":"'2d'!AZ22","v":0},{"$f":"'2d'!BA22","v":0},{"$f":"'2d'!BB22","v":0},{"$f":"'2d'!BC22","v":0},{"$f":"'2d'!BD22","v":0},{"$f":"'2d'!BE22","v":0}]
[{"$f":"'2d'!A23","v":"2d"},{"$f":"'2d'!B23","v":0},{"$f":"'2d'!C23","v":0},{"$f":"'2d'!D23","v":"lehrer21"},{"$f":"'2d'!E23","v":0},{"$f":"'2d'!F23","v":0},{"$f":"'2d'!G23","v":0},{"$f":"'2d'!H23","v":0},{"$f":"'2d'!I23","v":0},{"$f":"'2d'!J23","v":0},{"$f":"'2d'!K23","v":0},{"$f":"'2d'!L23","v":0},{"$f":"'2d'!M23","v":0},{"$f":"'2d'!N23","v":0},{"$f":"'2d'!O23","v":0},{"$f":"'2d'!P23","v":0},{"$f":"'2d'!Q23","v":0},{"$f":"'2d'!R23","v":0},{"$f":"'2d'!S23","v":0},{"$f":"'2d'!T23","v":0},{"$f":"'2d'!U23","v":0},{"$f":"'2d'!V23","v":0},{"$f":"'2d'!W23","v":0},{"$f":"'2d'!X23","v":0},{"$f":"'2d'!Y23","v":0},{"$f":"'2d'!Z23","v":0},{"$f":"'2d'!AA23","v":0},{"$f":"'2d'!AB23","v":0},{"$f":"'2d'!AC23","v":0},{"$f":"'2d'!AD23","v":0},{"$f":"'2d'!AE23","v":0},{"$f":"'2d'!AF23","v":0},{"$f":"'2d'!AG23","v":0},{"$f":"'2d'!AH23","v":0},{"$f":"'2d'!AI23","v":0},{"$f":"'2d'!AJ23","v":0},{"$f":"'2d'!AK23","v":0},{"$f":"'2d'!AL23","v":0},{"$f":"'2d'!AM23","v":0},{"$f":"'2d'!AN23","v":0},{"$f":"'2d'!AO23","v":0},{"$f":"'2d'!AP23","v":0},{"$f":"'2d'!AQ23","v":0},{"$f":"'2d'!AR23","v":0},{"$f":"'2d'!AS23","v":0},{"$f":"'2d'!AT23","v":0},{"$f":"'2d'!AU23","v":0},{"$f":"'2d'!AV23","v":0},{"$f":"'2d'!AW23","v":0},{"$f":"'2d'!AX23","v":0},{"$f":"'2d'!AY23","v":0},{"$f":"'2d'!AZ23","v":0},{"$f":"'2d'!BA23","v":0},{"$f":"'2d'!BB23","v":0},{"$f":"'2d'!BC23","v":0},{"$f":"'2d'!BD23","v":0},{"$f":"'2d'!BE23","v":0}]
[{"$f":"'2d'!A24","v":"2d"},{"$f":"'2d'!B24","v":0},{"$f":"'2d'!C24","v":0},{"$f":"'2d'!D24","v":"lehrer22"},{"$f":"'2d'!E24","v":0},{"$f":"'2d'!F24","v":0},{"$f":"'2d'!G24","v":0},{"$f":"'2d'!H24","v":0},{"$f":"'2d'!I24","v":0},{"$f":"'2d'!J24","v":0},{"$f":"'2d'!K24","v":0},{"$f":"'2d'!L24","v":0},{"$f":"'2d'!M24","v":0},{"$f":"'2d'!N24","v":0},{"$f":"'2d'!O24","v":0},{"$f":"'2d'!P24","v":0},{"$f":"'2d'!Q24","v":0},{"$f":"'2d'!R24","v":0},{"$f":"'2d'!S24","v":0},{"$f":"'2d'!T24","v":0},{"$f":"'2d'!U24","v":0},{"$f":"'2d'!V24","v":0},{"$f":"'2d'!W24","v":0},{"$f":"'2d'!X24","v":0},{"$f":"'2d'!Y24","v":0},{"$f":"'2d'!Z24","v":0},{"$f":"'2d'!AA24","v":0},{"$f":"'2d'!AB24","v":0},{"$f":"'2d'!AC24","v":0},{"$f":"'2d'!AD24","v":0},{"$f":"'2d'!AE24","v":0},{"$f":"'2d'!AF24","v":0},{"$f":"'2d'!AG24","v":0},{"$f":"'2d'!AH24","v":0},{"$f":"'2d'!AI24","v":0},{"$f":"'2d'!AJ24","v":0},{"$f":"'2d'!AK24","v":0},{"$f":"'2d'!AL24","v":0},{"$f":"'2d'!AM24","v":0},{"$f":"'2d'!AN24","v":0},{"$f":"'2d'!AO24","v":0},{"$f":"'2d'!AP24","v":0},{"$f":"'2d'!AQ24","v":0},{"$f":"'2d'!AR24","v":0},{"$f":"'2d'!AS24","v":0},{"$f":"'2d'!AT24","v":0},{"$f":"'2d'!AU24","v":0},{"$f":"'2d'!AV24","v":0},{"$f":"'2d'!AW24","v":0},{"$f":"'2d'!AX24","v":0},{"$f":"'2d'!AY24","v":0},{"$f":"'2d'!AZ24","v":0},{"$f":"'2d'!BA24","v":0},{"$f":"'2d'!BB24","v":0},{"$f":"'2d'!BC24","v":0},{"$f":"'2d'!BD24","v":0},{"$f":"'2d'!BE24","v":0}]
[{"$f":"'2d'!A25","v":"2d"},{"$f":"'2d'!B25","v":0},{"$f":"'2d'!C25","v":0},{"$f":"'2d'!D25","v":"lehrer23"},{"$f":"'2d'!E25","v":0},{"$f":"'2d'!F25","v":0},{"$f":"'2d'!G25","v":0},{"$f":"'2d'!H25","v":0},{"$f":"'2d'!I25","v":0},{"$f":"'2d'!J25","v":0},{"$f":"'2d'!K25","v":0},{"$f":"'2d'!L25","v":0},{"$f":"'2d'!M25","v":0},{"$f":"'2d'!N25","v":0},{"$f":"'2d'!O25","v":0},{"$f":"'2d'!P25","v":0},{"$f":"'2d'!Q25","v":0},{"$f":"'2d'!R25","v":0},{"$f":"'2d'!S25","v":0},{"$f":"'2d'!T25","v":0},{"$f":"'2d'!U25","v":0},{"$f":"'2d'!V25","v":0},{"$f":"'2d'!W25","v":0},{"$f":"'2d'!X25","v":0},{"$f":"'2d'!Y25","v":0},{"$f":"'2d'!Z25","v":0},{"$f":"'2d'!AA25","v":0},{"$f":"'2d'!AB25","v":0},{"$f":"'2d'!AC25","v":0},{"$f":"'2d'!AD25","v":0},{"$f":"'2d'!AE25","v":0},{"$f":"'2d'!AF25","v":0},{"$f":"'2d'!AG25","v":0},{"$f":"'2d'!AH25","v":0},{"$f":"'2d'!AI25","v":0},{"$f":"'2d'!AJ25","v":0},{"$f":"'2d'!AK25","v":0},{"$f":"'2d'!AL25","v":0},{"$f":"'2d'!AM25","v":0},{"$f":"'2d'!AN25","v":0},{"$f":"'2d'!AO25","v":0},{"$f":"'2d'!AP25","v":0},{"$f":"'2d'!AQ25","v":0},{"$f":"'2d'!AR25","v":0},{"$f":"'2d'!AS25","v":0},{"$f":"'2d'!AT25","v":0},{"$f":"'2d'!AU25","v":0},{"$f":"'2d'!AV25","v":0},{"$f":"'2d'!AW25","v":0},{"$f":"'2d'!AX25","v":0},{"$f":"'2d'!AY25","v":0},{"$f":"'2d'!AZ25","v":0},{"$f":"'2d'!BA25","v":0},{"$f":"'2d'!BB25","v":0},{"$f":"'2d'!BC25","v":0},{"$f":"'2d'!BD25","v":0},{"$f":"'2d'!BE25","v":0}]
[{"$f":"'2d'!A26","v":"2d"},{"$f":"'2d'!B26","v":0},{"$f":"'2d'!C26","v":0},{"$f":"'2d'!D26","v":"lehrer24"},{"$f":"'2d'!E26","v":0},{"$f":"'2d'!F26","v":0},{"$f":"'2d'!G26","v":0},{"$f":"'2d'!H26","v":0},{"$f":"'2d'!I26","v":0},{"$f":"'2d'!J26","v":0},{"$f":"'2d'!K26","v":0},{"$f":"'2d'!L26","v":0},{"$f":"'2d'!M26","v":0},{"$f":"'2d'!N26","v":0},{"$f":"'2d'!O26","v":0},{"$f":"'2d'!P26","v":0},{"$f":"'2d'!Q26","v":0},{"$f":"'2d'!R26","v":0},{"$f":"'2d'!S26","v":0},{"$f":"'2d'!T26","v":0},{"$f":"'2d'!U26","v":0},{"$f":"'2d'!V26","v":0},{"$f":"'2d'!W26","v":0},{"$f":"'2d'!X26","v":0},{"$f":"'2d'!Y26","v":0},{"$f":"'2d'!Z26","v":0},{"$f":"'2d'!AA26","v":0},{"$f":"'2d'!AB26","v":0},{"$f":"'2d'!AC26","v":0},{"$f":"'2d'!AD26","v":0},{"$f":"'2d'!AE26","v":0},{"$f":"'2d'!AF26","v":0},{"$f":"'2d'!AG26","v":0},{"$f":"'2d'!AH26","v":0},{"$f":"'2d'!AI26","v":0},{"$f":"'2d'!AJ26","v":0},{"$f":"'2d'!AK26","v":0},{"$f":"'2d'!AL26","v":0},{"$f":"'2d'!AM26","v":0},{"$f":"'2d'!AN26","v":0},{"$f":"'2d'!AO26","v":0},{"$f":"'2d'!AP26","v":0},{"$f":"'2d'!AQ26","v":0},{"$f":"'2d'!AR26","v":0},{"$f":"'2d'!AS26","v":0},{"$f":"'2d'!AT26","v":0},{"$f":"'2d'!AU26","v":0},{"$f":"'2d'!AV26","v":0},{"$f":"'2d'!AW26","v":0},{"$f":"'2d'!AX26","v":0},{"$f":"'2d'!AY26","v":0},{"$f":"'2d'!AZ26","v":0},{"$f":"'2d'!BA26","v":0},{"$f":"'2d'!BB26","v":0},{"$f":"'2d'!BC26","v":0},{"$f":"'2d'!BD26","v":0},{"$f":"'2d'!BE26","v":0}]
[{"$f":"'2d'!A27","v":"2d"},{"$f":"'2d'!B27","v":0},{"$f":"'2d'!C27","v":0},{"$f":"'2d'!D27","v":"lehrer25"},{"$f":"'2d'!E27","v":0},{"$f":"'2d'!F27","v":0},{"$f":"'2d'!G27","v":0},{"$f":"'2d'!H27","v":0},{"$f":"'2d'!I27","v":0},{"$f":"'2d'!J27","v":0},{"$f":"'2d'!K27","v":0},{"$f":"'2d'!L27","v":0},{"$f":"'2d'!M27","v":0},{"$f":"'2d'!N27","v":0},{"$f":"'2d'!O27","v":0},{"$f":"'2d'!P27","v":0},{"$f":"'2d'!Q27","v":0},{"$f":"'2d'!R27","v":0},{"$f":"'2d'!S27","v":0},{"$f":"'2d'!T27","v":0},{"$f":"'2d'!U27","v":0},{"$f":"'2d'!V27","v":0},{"$f":"'2d'!W27","v":0},{"$f":"'2d'!X27","v":0},{"$f":"'2d'!Y27","v":0},{"$f":"'2d'!Z27","v":0},{"$f":"'2d'!AA27","v":0},{"$f":"'2d'!AB27","v":0},{"$f":"'2d'!AC27","v":0},{"$f":"'2d'!AD27","v":0},{"$f":"'2d'!AE27","v":0},{"$f":"'2d'!AF27","v":0},{"$f":"'2d'!AG27","v":0},{"$f":"'2d'!AH27","v":0},{"$f":"'2d'!AI27","v":0},{"$f":"'2d'!AJ27","v":0},{"$f":"'2d'!AK27","v":0},{"$f":"'2d'!AL27","v":0},{"$f":"'2d'!AM27","v":0},{"$f":"'2d'!AN27","v":0},{"$f":"'2d'!AO27","v":0},{"$f":"'2d'!AP27","v":0},{"$f":"'2d'!AQ27","v":0},{"$f":"'2d'!AR27","v":0},{"$f":"'2d'!AS27","v":0},{"$f":"'2d'!AT27","v":0},{"$f":"'2d'!AU27","v":0},{"$f":"'2d'!AV27","v":0},{"$f":"'2d'!AW27","v":0},{"$f":"'2d'!AX27","v":0},{"$f":"'2d'!AY27","v":0},{"$f":"'2d'!AZ27","v":0},{"$f":"'2d'!BA27","v":0},{"$f":"'2d'!BB27","v":0},{"$f":"'2d'!BC27","v":0},{"$f":"'2d'!BD27","v":0},{"$f":"'2d'!BE27","v":0}]
[{"$f":"'2d'!A28","v":"2d"},{"$f":"'2d'!B28","v":0},{"$f":"'2d'!C28","v":0},{"$f":"'2d'!D28","v":"lehrer26"},{"$f":"'2d'!E28","v":0},{"$f":"'2d'!F28","v":0},{"$f":"'2d'!G28","v":0},{"$f":"'2d'!H28","v":0},{"$f":"'2d'!I28","v":0},{"$f":"'2d'!J28","v":0},{"$f":"'2d'!K28","v":0},{"$f":"'2d'!L28","v":0},{"$f":"'2d'!M28","v":0},{"$f":"'2d'!N28","v":0},{"$f":"'2d'!O28","v":0},{"$f":"'2d'!P28","v":0},{"$f":"'2d'!Q28","v":0},{"$f":"'2d'!R28","v":0},{"$f":"'2d'!S28","v":0},{"$f":"'2d'!T28","v":0},{"$f":"'2d'!U28","v":0},{"$f":"'2d'!V28","v":0},{"$f":"'2d'!W28","v":0},{"$f":"'2d'!X28","v":0},{"$f":"'2d'!Y28","v":0},{"$f":"'2d'!Z28","v":0},{"$f":"'2d'!AA28","v":0},{"$f":"'2d'!AB28","v":0},{"$f":"'2d'!AC28","v":0},{"$f":"'2d'!AD28","v":0},{"$f":"'2d'!AE28","v":0},{"$f":"'2d'!AF28","v":0},{"$f":"'2d'!AG28","v":0},{"$f":"'2d'!AH28","v":0},{"$f":"'2d'!AI28","v":0},{"$f":"'2d'!AJ28","v":0},{"$f":"'2d'!AK28","v":0},{"$f":"'2d'!AL28","v":0},{"$f":"'2d'!AM28","v":0},{"$f":"'2d'!AN28","v":0},{"$f":"'2d'!AO28","v":0},{"$f":"'2d'!AP28","v":0},{"$f":"'2d'!AQ28","v":0},{"$f":"'2d'!AR28","v":0},{"$f":"'2d'!AS28","v":0},{"$f":"'2d'!AT28","v":0},{"$f":"'2d'!AU28","v":0},{"$f":"'2d'!AV28","v":0},{"$f":"'2d'!AW28","v":0},{"$f":"'2d'!AX28","v":0},{"$f":"'2d'!AY28","v":0},{"$f":"'2d'!AZ28","v":0},{"$f":"'2d'!BA28","v":0},{"$f":"'2d'!BB28","v":0},{"$f":"'2d'!BC28","v":0},{"$f":"'2d'!BD28","v":0},{"$f":"'2d'!BE28","v":0}]
[{"$f":"'2d'!A29","v":"2d"},{"$f":"'2d'!B29","v":0},{"$f":"'2d'!C29","v":0},{"$f":"'2d'!D29","v":"lehrer27"},{"$f":"'2d'!E29","v":0},{"$f":"'2d'!F29","v":0},{"$f":"'2d'!G29","v":0},{"$f":"'2d'!H29","v":0},{"$f":"'2d'!I29","v":0},{"$f":"'2d'!J29","v":0},{"$f":"'2d'!K29","v":0},{"$f":"'2d'!L29","v":0},{"$f":"'2d'!M29","v":0},{"$f":"'2d'!N29","v":0},{"$f":"'2d'!O29","v":0},{"$f":"'2d'!P29","v":0},{"$f":"'2d'!Q29","v":0},{"$f":"'2d'!R29","v":0},{"$f":"'2d'!S29","v":0},{"$f":"'2d'!T29","v":0},{"$f":"'2d'!U29","v":0},{"$f":"'2d'!V29","v":0},{"$f":"'2d'!W29","v":0},{"$f":"'2d'!X29","v":0},{"$f":"'2d'!Y29","v":0},{"$f":"'2d'!Z29","v":0},{"$f":"'2d'!AA29","v":0},{"$f":"'2d'!AB29","v":0},{"$f":"'2d'!AC29","v":0},{"$f":"'2d'!AD29","v":0},{"$f":"'2d'!AE29","v":0},{"$f":"'2d'!AF29","v":0},{"$f":"'2d'!AG29","v":0},{"$f":"'2d'!AH29","v":0},{"$f":"'2d'!AI29","v":0},{"$f":"'2d'!AJ29","v":0},{"$f":"'2d'!AK29","v":0},{"$f":"'2d'!AL29","v":0},{"$f":"'2d'!AM29","v":0},{"$f":"'2d'!AN29","v":0},{"$f":"'2d'!AO29","v":0},{"$f":"'2d'!AP29","v":0},{"$f":"'2d'!AQ29","v":0},{"$f":"'2d'!AR29","v":0},{"$f":"'2d'!AS29","v":0},{"$f":"'2d'!AT29","v":0},{"$f":"'2d'!AU29","v":0},{"$f":"'2d'!AV29","v":0},{"$f":"'2d'!AW29","v":0},{"$f":"'2d'!AX29","v":0},{"$f":"'2d'!AY29","v":0},{"$f":"'2d'!AZ29","v":0},{"$f":"'2d'!BA29","v":0},{"$f":"'2d'!BB29","v":0},{"$f":"'2d'!BC29","v":0},{"$f":"'2d'!BD29","v":0},{"$f":"'2d'!BE29","v":0}]
[{"$f":"'2d'!A30","v":"2d"},{"$f":"'2d'!B30","v":0},{"$f":"'2d'!C30","v":0},{"$f":"'2d'!D30","v":"lehrer28"},{"$f":"'2d'!E30","v":0},{"$f":"'2d'!F30","v":0},{"$f":"'2d'!G30","v":0},{"$f":"'2d'!H30","v":0},{"$f":"'2d'!I30","v":0},{"$f":"'2d'!J30","v":0},{"$f":"'2d'!K30","v":0},{"$f":"'2d'!L30","v":0},{"$f":"'2d'!M30","v":0},{"$f":"'2d'!N30","v":0},{"$f":"'2d'!O30","v":0},{"$f":"'2d'!P30","v":0},{"$f":"'2d'!Q30","v":0},{"$f":"'2d'!R30","v":0},{"$f":"'2d'!S30","v":0},{"$f":"'2d'!T30","v":0},{"$f":"'2d'!U30","v":0},{"$f":"'2d'!V30","v":0},{"$f":"'2d'!W30","v":0},{"$f":"'2d'!X30","v":0},{"$f":"'2d'!Y30","v":0},{"$f":"'2d'!Z30","v":0},{"$f":"'2d'!AA30","v":0},{"$f":"'2d'!AB30","v":0},{"$f":"'2d'!AC30","v":0},{"$f":"'2d'!AD30","v":0},{"$f":"'2d'!AE30","v":0},{"$f":"'2d'!AF30","v":0},{"$f":"'2d'!AG30","v":0},{"$f":"'2d'!AH30","v":0},{"$f":"'2d'!AI30","v":0},{"$f":"'2d'!AJ30","v":0},{"$f":"'2d'!AK30","v":0},{"$f":"'2d'!AL30","v":0},{"$f":"'2d'!AM30","v":0},{"$f":"'2d'!AN30","v":0},{"$f":"'2d'!AO30","v":0},{"$f":"'2d'!AP30","v":0},{"$f":"'2d'!AQ30","v":0},{"$f":"'2d'!AR30","v":0},{"$f":"'2d'!AS30","v":0},{"$f":"'2d'!AT30","v":0},{"$f":"'2d'!AU30","v":0},{"$f":"'2d'!AV30","v":0},{"$f":"'2d'!AW30","v":0},{"$f":"'2d'!AX30","v":0},{"$f":"'2d'!AY30","v":0},{"$f":"'2d'!AZ30","v":0},{"$f":"'2d'!BA30","v":0},{"$f":"'2d'!BB30","v":0},{"$f":"'2d'!BC30","v":0},{"$f":"'2d'!BD30","v":0},{"$f":"'2d'!BE30","v":0}]
[{"$f":"'2d'!A31","v":"2d"},{"$f":"'2d'!B31","v":0},{"$f":"'2d'!C31","v":0},{"$f":"'2d'!D31","v":"lehrer29"},{"$f":"'2d'!E31","v":0},{"$f":"'2d'!F31","v":0},{"$f":"'2d'!G31","v":0},{"$f":"'2d'!H31","v":0},{"$f":"'2d'!I31","v":0},{"$f":"'2d'!J31","v":0},{"$f":"'2d'!K31","v":0},{"$f":"'2d'!L31","v":0},{"$f":"'2d'!M31","v":0},{"$f":"'2d'!N31","v":0},{"$f":"'2d'!O31","v":0},{"$f":"'2d'!P31","v":0},{"$f":"'2d'!Q31","v":0},{"$f":"'2d'!R31","v":0},{"$f":"'2d'!S31","v":0},{"$f":"'2d'!T31","v":0},{"$f":"'2d'!U31","v":0},{"$f":"'2d'!V31","v":0},{"$f":"'2d'!W31","v":0},{"$f":"'2d'!X31","v":0},{"$f":"'2d'!Y31","v":0},{"$f":"'2d'!Z31","v":0},{"$f":"'2d'!AA31","v":0},{"$f":"'2d'!AB31","v":0},{"$f":"'2d'!AC31","v":0},{"$f":"'2d'!AD31","v":0},{"$f":"'2d'!AE31","v":0},{"$f":"'2d'!AF31","v":0},{"$f":"'2d'!AG31","v":0},{"$f":"'2d'!AH31","v":0},{"$f":"'2d'!AI31","v":0},{"$f":"'2d'!AJ31","v":0},{"$f":"'2d'!AK31","v":0},{"$f":"'2d'!AL31","v":0},{"$f":"'2d'!AM31","v":0},{"$f":"'2d'!AN31","v":0},{"$f":"'2d'!AO31","v":0},{"$f":"'2d'!AP31","v":0},{"$f":"'2d'!AQ31","v":0},{"$f":"'2d'!AR31","v":0},{"$f":"'2d'!AS31","v":0},{"$f":"'2d'!AT31","v":0},{"$f":"'2d'!AU31","v":0},{"$f":"'2d'!AV31","v":0},{"$f":"'2d'!AW31","v":0},{"$f":"'2d'!AX31","v":0},{"$f":"'2d'!AY31","v":0},{"$f":"'2d'!AZ31","v":0},{"$f":"'2d'!BA31","v":0},{"$f":"'2d'!BB31","v":0},{"$f":"'2d'!BC31","v":0},{"$f":"'2d'!BD31","v":0},{"$f":"'2d'!BE31","v":0}]
[{"$f":"'2d'!A32","v":"2d"},{"$f":"'2d'!B32","v":0},{"$f":"'2d'!C32","v":0},{"$f":"'2d'!D32","v":"lehrer30"},{"$f":"'2d'!E32","v":0},{"$f":"'2d'!F32","v":0},{"$f":"'2d'!G32","v":0},{"$f":"'2d'!H32","v":0},{"$f":"'2d'!I32","v":0},{"$f":"'2d'!J32","v":0},{"$f":"'2d'!K32","v":0},{"$f":"'2d'!L32","v":0},{"$f":"'2d'!M32","v":0},{"$f":"'2d'!N32","v":0},{"$f":"'2d'!O32","v":0},{"$f":"'2d'!P32","v":0},{"$f":"'2d'!Q32","v":0},{"$f":"'2d'!R32","v":0},{"$f":"'2d'!S32","v":0},{"$f":"'2d'!T32","v":0},{"$f":"'2d'!U32","v":0},{"$f":"'2d'!V32","v":0},{"$f":"'2d'!W32","v":0},{"$f":"'2d'!X32","v":0},{"$f":"'2d'!Y32","v":0},{"$f":"'2d'!Z32","v":0},{"$f":"'2d'!AA32","v":0},{"$f":"'2d'!AB32","v":0},{"$f":"'2d'!AC32","v":0},{"$f":"'2d'!AD32","v":0},{"$f":"'2d'!AE32","v":0},{"$f":"'2d'!AF32","v":0},{"$f":"'2d'!AG32","v":0},{"$f":"'2d'!AH32","v":0},{"$f":"'2d'!AI32","v":0},{"$f":"'2d'!AJ32","v":0},{"$f":"'2d'!AK32","v":0},{"$f":"'2d'!AL32","v":0},{"$f":"'2d'!AM32","v":0},{"$f":"'2d'!AN32","v":0},{"$f":"'2d'!AO32","v":0},{"$f":"'2d'!AP32","v":0},{"$f":"'2d'!AQ32","v":0},{"$f":"'2d'!AR32","v":0},{"$f":"'2d'!AS32","v":0},{"$f":"'2d'!AT32","v":0},{"$f":"'2d'!AU32","v":0},{"$f":"'2d'!AV32","v":0},{"$f":"'2d'!AW32","v":0},{"$f":"'2d'!AX32","v":0},{"$f":"'2d'!AY32","v":0},{"$f":"'2d'!AZ32","v":0},{"$f":"'2d'!BA32","v":0},{"$f":"'2d'!BB32","v":0},{"$f":"'2d'!BC32","v":0},{"$f":"'2d'!BD32","v":0},{"$f":"'2d'!BE32","v":0}]
[{"$f":"'2d'!A33","v":"2d"},{"$f":"'2d'!B33","v":0},{"$f":"'2d'!C33","v":0},{"$f":"'2d'!D33","v":"lehrer31"},{"$f":"'2d'!E33","v":0},{"$f":"'2d'!F33","v":0},{"$f":"'2d'!G33","v":0},{"$f":"'2d'!H33","v":0},{"$f":"'2d'!I33","v":0},{"$f":"'2d'!J33","v":0},{"$f":"'2d'!K33","v":0},{"$f":"'2d'!L33","v":0},{"$f":"'2d'!M33","v":0},{"$f":"'2d'!N33","v":0},{"$f":"'2d'!O33","v":0},{"$f":"'2d'!P33","v":0},{"$f":"'2d'!Q33","v":0},{"$f":"'2d'!R33","v":0},{"$f":"'2d'!S33","v":0},{"$f":"'2d'!T33","v":0},{"$f":"'2d'!U33","v":0},{"$f":"'2d'!V33","v":0},{"$f":"'2d'!W33","v":0},{"$f":"'2d'!X33","v":0},{"$f":"'2d'!Y33","v":0},{"$f":"'2d'!Z33","v":0},{"$f":"'2d'!AA33","v":0},{"$f":"'2d'!AB33","v":0},{"$f":"'2d'!AC33","v":0},{"$f":"'2d'!AD33","v":0},{"$f":"'2d'!AE33","v":0},{"$f":"'2d'!AF33","v":0},{"$f":"'2d'!AG33","v":0},{"$f":"'2d'!AH33","v":0},{"$f":"'2d'!AI33","v":0},{"$f":"'2d'!AJ33","v":0},{"$f":"'2d'!AK33","v":0},{"$f":"'2d'!AL33","v":0},{"$f":"'2d'!AM33","v":0},{"$f":"'2d'!AN33","v":0},{"$f":"'2d'!AO33","v":0},{"$f":"'2d'!AP33","v":0},{"$f":"'2d'!AQ33","v":0},{"$f":"'2d'!AR33","v":0},{"$f":"'2d'!AS33","v":0},{"$f":"'2d'!AT33","v":0},{"$f":"'2d'!AU33","v":0},{"$f":"'2d'!AV33","v":0},{"$f":"'2d'!AW33","v":0},{"$f":"'2d'!AX33","v":0},{"$f":"'2d'!AY33","v":0},{"$f":"'2d'!AZ33","v":0},{"$f":"'2d'!BA33","v":0},{"$f":"'2d'!BB33","v":0},{"$f":"'2d'!BC33","v":0},{"$f":"'2d'!BD33","v":0},{"$f":"'2d'!BE33","v":0}]
[{"$f":"'2d'!A34","v":"2d"},{"$f":"'2d'!B34","v":0},{"$f":"'2d'!C34","v":0},{"$f":"'2d'!D34","v":"lehrer32"},{"$f":"'2d'!E34","v":0},{"$f":"'2d'!F34","v":0},{"$f":"'2d'!G34","v":0},{"$f":"'2d'!H34","v":0},{"$f":"'2d'!I34","v":0},{"$f":"'2d'!J34","v":0},{"$f":"'2d'!K34","v":0},{"$f":"'2d'!L34","v":0},{"$f":"'2d'!M34","v":0},{"$f":"'2d'!N34","v":0},{"$f":"'2d'!O34","v":0},{"$f":"'2d'!P34","v":0},{"$f":"'2d'!Q34","v":0},{"$f":"'2d'!R34","v":0},{"$f":"'2d'!S34","v":0},{"$f":"'2d'!T34","v":0},{"$f":"'2d'!U34","v":0},{"$f":"'2d'!V34","v":0},{"$f":"'2d'!W34","v":0},{"$f":"'2d'!X34","v":0},{"$f":"'2d'!Y34","v":0},{"$f":"'2d'!Z34","v":0},{"$f":"'2d'!AA34","v":0},{"$f":"'2d'!AB34","v":0},{"$f":"'2d'!AC34","v":0},{"$f":"'2d'!AD34","v":0},{"$f":"'2d'!AE34","v":0},{"$f":"'2d'!AF34","v":0},{"$f":"'2d'!AG34","v":0},{"$f":"'2d'!AH34","v":0},{"$f":"'2d'!AI34","v":0},{"$f":"'2d'!AJ34","v":0},{"$f":"'2d'!AK34","v":0},{"$f":"'2d'!AL34","v":0},{"$f":"'2d'!AM34","v":0},{"$f":"'2d'!AN34","v":0},{"$f":"'2d'!AO34","v":0},{"$f":"'2d'!AP34","v":0},{"$f":"'2d'!AQ34","v":0},{"$f":"'2d'!AR34","v":0},{"$f":"'2d'!AS34","v":0},{"$f":"'2d'!AT34","v":0},{"$f":"'2d'!AU34","v":0},{"$f":"'2d'!AV34","v":0},{"$f":"'2d'!AW34","v":0},{"$f":"'2d'!AX34","v":0},{"$f":"'2d'!AY34","v":0},{"$f":"'2d'!AZ34","v":0},{"$f":"'2d'!BA34","v":0},{"$f":"'2d'!BB34","v":0},{"$f":"'2d'!BC34","v":0},{"$f":"'2d'!BD34","v":0},{"$f":"'2d'!BE34","v":0}]
[{"$f":"'2d'!A35","v":"2d"},{"$f":"'2d'!B35","v":0},{"$f":"'2d'!C35","v":0},{"$f":"'2d'!D35","v":"lehrer33"},{"$f":"'2d'!E35","v":0},{"$f":"'2d'!F35","v":0},{"$f":"'2d'!G35","v":0},{"$f":"'2d'!H35","v":0},{"$f":"'2d'!I35","v":0},{"$f":"'2d'!J35","v":0},{"$f":"'2d'!K35","v":0},{"$f":"'2d'!L35","v":0},{"$f":"'2d'!M35","v":0},{"$f":"'2d'!N35","v":0},{"$f":"'2d'!O35","v":0},{"$f":"'2d'!P35","v":0},{"$f":"'2d'!Q35","v":0},{"$f":"'2d'!R35","v":0},{"$f":"'2d'!S35","v":0},{"$f":"'2d'!T35","v":0},{"$f":"'2d'!U35","v":0},{"$f":"'2d'!V35","v":0},{"$f":"'2d'!W35","v":0},{"$f":"'2d'!X35","v":0},{"$f":"'2d'!Y35","v":0},{"$f":"'2d'!Z35","v":0},{"$f":"'2d'!AA35","v":0},{"$f":"'2d'!AB35","v":0},{"$f":"'2d'!AC35","v":0},{"$f":"'2d'!AD35","v":0},{"$f":"'2d'!AE35","v":0},{"$f":"'2d'!AF35","v":0},{"$f":"'2d'!AG35","v":0},{"$f":"'2d'!AH35","v":0},{"$f":"'2d'!AI35","v":0},{"$f":"'2d'!AJ35","v":0},{"$f":"'2d'!AK35","v":0},{"$f":"'2d'!AL35","v":0},{"$f":"'2d'!AM35","v":0},{"$f":"'2d'!AN35","v":0},{"$f":"'2d'!AO35","v":0},{"$f":"'2d'!AP35","v":0},{"$f":"'2d'!AQ35","v":0},{"$f":"'2d'!AR35","v":0},{"$f":"'2d'!AS35","v":0},{"$f":"'2d'!AT35","v":0},{"$f":"'2d'!AU35","v":0},{"$f":"'2d'!AV35","v":0},{"$f":"'2d'!AW35","v":0},{"$f":"'2d'!AX35","v":0},{"$f":"'2d'!AY35","v":0},{"$f":"'2d'!AZ35","v":0},{"$f":"'2d'!BA35","v":0},{"$f":"'2d'!BB35","v":0},{"$f":"'2d'!BC35","v":0},{"$f":"'2d'!BD35","v":0},{"$f":"'2d'!BE35","v":0}]
[{"$f":"'2d'!A36","v":"2d"},{"$f":"'2d'!B36","v":0},{"$f":"'2d'!C36","v":0},{"$f":"'2d'!D36","v":"lehrer34"},{"$f":"'2d'!E36","v":0},{"$f":"'2d'!F36","v":0},{"$f":"'2d'!G36","v":0},{"$f":"'2d'!H36","v":0},{"$f":"'2d'!I36","v":0},{"$f":"'2d'!J36","v":0},{"$f":"'2d'!K36","v":0},{"$f":"'2d'!L36","v":0},{"$f":"'2d'!M36","v":0},{"$f":"'2d'!N36","v":0},{"$f":"'2d'!O36","v":0},{"$f":"'2d'!P36","v":0},{"$f":"'2d'!Q36","v":0},{"$f":"'2d'!R36","v":0},{"$f":"'2d'!S36","v":0},{"$f":"'2d'!T36","v":0},{"$f":"'2d'!U36","v":0},{"$f":"'2d'!V36","v":0},{"$f":"'2d'!W36","v":0},{"$f":"'2d'!X36","v":0},{"$f":"'2d'!Y36","v":0},{"$f":"'2d'!Z36","v":0},{"$f":"'2d'!AA36","v":0},{"$f":"'2d'!AB36","v":0},{"$f":"'2d'!AC36","v":0},{"$f":"'2d'!AD36","v":0},{"$f":"'2d'!AE36","v":0},{"$f":"'2d'!AF36","v":0},{"$f":"'2d'!AG36","v":0},{"$f":"'2d'!AH36","v":0},{"$f":"'2d'!AI36","v":0},{"$f":"'2d'!AJ36","v":0},{"$f":"'2d'!AK36","v":0},{"$f":"'2d'!AL36","v":0},{"$f":"'2d'!AM36","v":0},{"$f":"'2d'!AN36","v":0},{"$f":"'2d'!AO36","v":0},{"$f":"'2d'!AP36","v":0},{"$f":"'2d'!AQ36","v":0},{"$f":"'2d'!AR36","v":0},{"$f":"'2d'!AS36","v":0},{"$f":"'2d'!AT36","v":0},{"$f":"'2d'!AU36","v":0},{"$f":"'2d'!AV36","v":0},{"$f":"'2d'!AW36","v":0},{"$f":"'2d'!AX36","v":0},{"$f":"'2d'!AY36","v":0},{"$f":"'2d'!AZ36","v":0},{"$f":"'2d'!BA36","v":0},{"$f":"'2d'!BB36","v":0},{"$f":"'2d'!BC36","v":0},{"$f":"'2d'!BD36","v":0},{"$f":"'2d'!BE36","v":0}]
[{"$f":"'2d'!A37","v":"2d"},{"$f":"'2d'!B37","v":0},{"$f":"'2d'!C37","v":0},{"$f":"'2d'!D37","v":"lehrer35"},{"$f":"'2d'!E37","v":0},{"$f":"'2d'!F37","v":0},{"$f":"'2d'!G37","v":0},{"$f":"'2d'!H37","v":0},{"$f":"'2d'!I37","v":0},{"$f":"'2d'!J37","v":0},{"$f":"'2d'!K37","v":0},{"$f":"'2d'!L37","v":0},{"$f":"'2d'!M37","v":0},{"$f":"'2d'!N37","v":0},{"$f":"'2d'!O37","v":0},{"$f":"'2d'!P37","v":0},{"$f":"'2d'!Q37","v":0},{"$f":"'2d'!R37","v":0},{"$f":"'2d'!S37","v":0},{"$f":"'2d'!T37","v":0},{"$f":"'2d'!U37","v":0},{"$f":"'2d'!V37","v":0},{"$f":"'2d'!W37","v":0},{"$f":"'2d'!X37","v":0},{"$f":"'2d'!Y37","v":0},{"$f":"'2d'!Z37","v":0},{"$f":"'2d'!AA37","v":0},{"$f":"'2d'!AB37","v":0},{"$f":"'2d'!AC37","v":0},{"$f":"'2d'!AD37","v":0},{"$f":"'2d'!AE37","v":0},{"$f":"'2d'!AF37","v":0},{"$f":"'2d'!AG37","v":0},{"$f":"'2d'!AH37","v":0},{"$f":"'2d'!AI37","v":0},{"$f":"'2d'!AJ37","v":0},{"$f":"'2d'!AK37","v":0},{"$f":"'2d'!AL37","v":0},{"$f":"'2d'!AM37","v":0},{"$f":"'2d'!AN37","v":0},{"$f":"'2d'!AO37","v":0},{"$f":"'2d'!AP37","v":0},{"$f":"'2d'!AQ37","v":0},{"$f":"'2d'!AR37","v":0},{"$f":"'2d'!AS37","v":0},{"$f":"'2d'!AT37","v":0},{"$f":"'2d'!AU37","v":0},{"$f":"'2d'!AV37","v":0},{"$f":"'2d'!AW37","v":0},{"$f":"'2d'!AX37","v":0},{"$f":"'2d'!AY37","v":0},{"$f":"'2d'!AZ37","v":0},{"$f":"'2d'!BA37","v":0},{"$f":"'2d'!BB37","v":0},{"$f":"'2d'!BC37","v":0},{"$f":"'2d'!BD37","v":0},{"$f":"'2d'!BE37","v":0}]
[{"$f":"'2d'!A38","v":"2d"},{"$f":"'2d'!B38","v":0},{"$f":"'2d'!C38","v":0},{"$f":"'2d'!D38","v":"lehrer36"},{"$f":"'2d'!E38","v":0},{"$f":"'2d'!F38","v":0},{"$f":"'2d'!G38","v":0},{"$f":"'2d'!H38","v":0},{"$f":"'2d'!I38","v":0},{"$f":"'2d'!J38","v":0},{"$f":"'2d'!K38","v":0},{"$f":"'2d'!L38","v":0},{"$f":"'2d'!M38","v":0},{"$f":"'2d'!N38","v":0},{"$f":"'2d'!O38","v":0},{"$f":"'2d'!P38","v":0},{"$f":"'2d'!Q38","v":0},{"$f":"'2d'!R38","v":0},{"$f":"'2d'!S38","v":0},{"$f":"'2d'!T38","v":0},{"$f":"'2d'!U38","v":0},{"$f":"'2d'!V38","v":0},{"$f":"'2d'!W38","v":0},{"$f":"'2d'!X38","v":0},{"$f":"'2d'!Y38","v":0},{"$f":"'2d'!Z38","v":0},{"$f":"'2d'!AA38","v":0},{"$f":"'2d'!AB38","v":0},{"$f":"'2d'!AC38","v":0},{"$f":"'2d'!AD38","v":0},{"$f":"'2d'!AE38","v":0},{"$f":"'2d'!AF38","v":0},{"$f":"'2d'!AG38","v":0},{"$f":"'2d'!AH38","v":0},{"$f":"'2d'!AI38","v":0},{"$f":"'2d'!AJ38","v":0},{"$f":"'2d'!AK38","v":0},{"$f":"'2d'!AL38","v":0},{"$f":"'2d'!AM38","v":0},{"$f":"'2d'!AN38","v":0},{"$f":"'2d'!AO38","v":0},{"$f":"'2d'!AP38","v":0},{"$f":"'2d'!AQ38","v":0},{"$f":"'2d'!AR38","v":0},{"$f":"'2d'!AS38","v":0},{"$f":"'2d'!AT38","v":0},{"$f":"'2d'!AU38","v":0},{"$f":"'2d'!AV38","v":0},{"$f":"'2d'!AW38","v":0},{"$f":"'2d'!AX38","v":0},{"$f":"'2d'!AY38","v":0},{"$f":"'2d'!AZ38","v":0},{"$f":"'2d'!BA38","v":0},{"$f":"'2d'!BB38","v":0},{"$f":"'2d'!BC38","v":0},{"$f":"'2d'!BD38","v":0},{"$f":"'2d'!BE38","v":0}]
[{"$f":"'2d'!A39","v":"2d"},{"$f":"'2d'!B39","v":0},{"$f":"'2d'!C39","v":0},{"$f":"'2d'!D39","v":"lehrer37"},{"$f":"'2d'!E39","v":0},{"$f":"'2d'!F39","v":0},{"$f":"'2d'!G39","v":0},{"$f":"'2d'!H39","v":0},{"$f":"'2d'!I39","v":0},{"$f":"'2d'!J39","v":0},{"$f":"'2d'!K39","v":0},{"$f":"'2d'!L39","v":0},{"$f":"'2d'!M39","v":0},{"$f":"'2d'!N39","v":0},{"$f":"'2d'!O39","v":0},{"$f":"'2d'!P39","v":0},{"$f":"'2d'!Q39","v":0},{"$f":"'2d'!R39","v":0},{"$f":"'2d'!S39","v":0},{"$f":"'2d'!T39","v":0},{"$f":"'2d'!U39","v":0},{"$f":"'2d'!V39","v":0},{"$f":"'2d'!W39","v":0},{"$f":"'2d'!X39","v":0},{"$f":"'2d'!Y39","v":0},{"$f":"'2d'!Z39","v":0},{"$f":"'2d'!AA39","v":0},{"$f":"'2d'!AB39","v":0},{"$f":"'2d'!AC39","v":0},{"$f":"'2d'!AD39","v":0},{"$f":"'2d'!AE39","v":0},{"$f":"'2d'!AF39","v":0},{"$f":"'2d'!AG39","v":0},{"$f":"'2d'!AH39","v":0},{"$f":"'2d'!AI39","v":0},{"$f":"'2d'!AJ39","v":0},{"$f":"'2d'!AK39","v":0},{"$f":"'2d'!AL39","v":0},{"$f":"'2d'!AM39","v":0},{"$f":"'2d'!AN39","v":0},{"$f":"'2d'!AO39","v":0},{"$f":"'2d'!AP39","v":0},{"$f":"'2d'!AQ39","v":0},{"$f":"'2d'!AR39","v":0},{"$f":"'2d'!AS39","v":0},{"$f":"'2d'!AT39","v":0},{"$f":"'2d'!AU39","v":0},{"$f":"'2d'!AV39","v":0},{"$f":"'2d'!AW39","v":0},{"$f":"'2d'!AX39","v":0},{"$f":"'2d'!AY39","v":0},{"$f":"'2d'!AZ39","v":0},{"$f":"'2d'!BA39","v":0},{"$f":"'2d'!BB39","v":0},{"$f":"'2d'!BC39","v":0},{"$f":"'2d'!BD39","v":0},{"$f":"'2d'!BE39","v":0}]
[{"$f":"'2d'!A40","v":"2d"},{"$f":"'2d'!B40","v":0},{"$f":"'2d'!C40","v":0},{"$f":"'2d'!D40","v":"lehrer38"},{"$f":"'2d'!E40","v":0},{"$f":"'2d'!F40","v":0},{"$f":"'2d'!G40","v":0},{"$f":"'2d'!H40","v":0},{"$f":"'2d'!I40","v":0},{"$f":"'2d'!J40","v":0},{"$f":"'2d'!K40","v":0},{"$f":"'2d'!L40","v":0},{"$f":"'2d'!M40","v":0},{"$f":"'2d'!N40","v":0},{"$f":"'2d'!O40","v":0},{"$f":"'2d'!P40","v":0},{"$f":"'2d'!Q40","v":0},{"$f":"'2d'!R40","v":0},{"$f":"'2d'!S40","v":0},{"$f":"'2d'!T40","v":0},{"$f":"'2d'!U40","v":0},{"$f":"'2d'!V40","v":0},{"$f":"'2d'!W40","v":0},{"$f":"'2d'!X40","v":0},{"$f":"'2d'!Y40","v":0},{"$f":"'2d'!Z40","v":0},{"$f":"'2d'!AA40","v":0},{"$f":"'2d'!AB40","v":0},{"$f":"'2d'!AC40","v":0},{"$f":"'2d'!AD40","v":0},{"$f":"'2d'!AE40","v":0},{"$f":"'2d'!AF40","v":0},{"$f":"'2d'!AG40","v":0},{"$f":"'2d'!AH40","v":0},{"$f":"'2d'!AI40","v":0},{"$f":"'2d'!AJ40","v":0},{"$f":"'2d'!AK40","v":0},{"$f":"'2d'!AL40","v":0},{"$f":"'2d'!AM40","v":0},{"$f":"'2d'!AN40","v":0},{"$f":"'2d'!AO40","v":0},{"$f":"'2d'!AP40","v":0},{"$f":"'2d'!AQ40","v":0},{"$f":"'2d'!AR40","v":0},{"$f":"'2d'!AS40","v":0},{"$f":"'2d'!AT40","v":0},{"$f":"'2d'!AU40","v":0},{"$f":"'2d'!AV40","v":0},{"$f":"'2d'!AW40","v":0},{"$f":"'2d'!AX40","v":0},{"$f":"'2d'!AY40","v":0},{"$f":"'2d'!AZ40","v":0},{"$f":"'2d'!BA40","v":0},{"$f":"'2d'!BB40","v":0},{"$f":"'2d'!BC40","v":0},{"$f":"'2d'!BD40","v":0},{"$f":"'2d'!BE40","v":0}]
[{"$f":"'2d'!A41","v":"2d"},{"$f":"'2d'!B41","v":0},{"$f":"'2d'!C41","v":0},{"$f":"'2d'!D41","v":"lehrer39"},{"$f":"'2d'!E41","v":0},{"$f":"'2d'!F41","v":0},{"$f":"'2d'!G41","v":0},{"$f":"'2d'!H41","v":0},{"$f":"'2d'!I41","v":0},{"$f":"'2d'!J41","v":0},{"$f":"'2d'!K41","v":0},{"$f":"'2d'!L41","v":0},{"$f":"'2d'!M41","v":0},{"$f":"'2d'!N41","v":0},{"$f":"'2d'!O41","v":0},{"$f":"'2d'!P41","v":0},{"$f":"'2d'!Q41","v":0},{"$f":"'2d'!R41","v":0},{"$f":"'2d'!S41","v":0},{"$f":"'2d'!T41","v":0},{"$f":"'2d'!U41","v":0},{"$f":"'2d'!V41","v":0},{"$f":"'2d'!W41","v":0},{"$f":"'2d'!X41","v":0},{"$f":"'2d'!Y41","v":0},{"$f":"'2d'!Z41","v":0},{"$f":"'2d'!AA41","v":0},{"$f":"'2d'!AB41","v":0},{"$f":"'2d'!AC41","v":0},{"$f":"'2d'!AD41","v":0},{"$f":"'2d'!AE41","v":0},{"$f":"'2d'!AF41","v":0},{"$f":"'2d'!AG41","v":0},{"$f":"'2d'!AH41","v":0},{"$f":"'2d'!AI41","v":0},{"$f":"'2d'!AJ41","v":0},{"$f":"'2d'!AK41","v":0},{"$f":"'2d'!AL41","v":0},{"$f":"'2d'!AM41","v":0},{"$f":"'2d'!AN41","v":0},{"$f":"'2d'!AO41","v":0},{"$f":"'2d'!AP41","v":0},{"$f":"'2d'!AQ41","v":0},{"$f":"'2d'!AR41","v":0},{"$f":"'2d'!AS41","v":0},{"$f":"'2d'!AT41","v":0},{"$f":"'2d'!AU41","v":0},{"$f":"'2d'!AV41","v":0},{"$f":"'2d'!AW41","v":0},{"$f":"'2d'!AX41","v":0},{"$f":"'2d'!AY41","v":0},{"$f":"'2d'!AZ41","v":0},{"$f":"'2d'!BA41","v":0},{"$f":"'2d'!BB41","v":0},{"$f":"'2d'!BC41","v":0},{"$f":"'2d'!BD41","v":0},{"$f":"'2d'!BE41","v":0}]
[{"$f":"'2d'!A42","v":"2d"},{"$f":"'2d'!B42","v":0},{"$f":"'2d'!C42","v":0},{"$f":"'2d'!D42","v":"lehrer40"},{"$f":"'2d'!E42","v":0},{"$f":"'2d'!F42","v":0},{"$f":"'2d'!G42","v":0},{"$f":"'2d'!H42","v":0},{"$f":"'2d'!I42","v":0},{"$f":"'2d'!J42","v":0},{"$f":"'2d'!K42","v":0},{"$f":"'2d'!L42","v":0},{"$f":"'2d'!M42","v":0},{"$f":"'2d'!N42","v":0},{"$f":"'2d'!O42","v":0},{"$f":"'2d'!P42","v":0},{"$f":"'2d'!Q42","v":0},{"$f":"'2d'!R42","v":0},{"$f":"'2d'!S42","v":0},{"$f":"'2d'!T42","v":0},{"$f":"'2d'!U42","v":0},{"$f":"'2d'!V42","v":0},{"$f":"'2d'!W42","v":0},{"$f":"'2d'!X42","v":0},{"$f":"'2d'!Y42","v":0},{"$f":"'2d'!Z42","v":0},{"$f":"'2d'!AA42","v":0},{"$f":"'2d'!AB42","v":0},{"$f":"'2d'!AC42","v":0},{"$f":"'2d'!AD42","v":0},{"$f":"'2d'!AE42","v":0},{"$f":"'2d'!AF42","v":0},{"$f":"'2d'!AG42","v":0},{"$f":"'2d'!AH42","v":0},{"$f":"'2d'!AI42","v":0},{"$f":"'2d'!AJ42","v":0},{"$f":"'2d'!AK42","v":0},{"$f":"'2d'!AL42","v":0},{"$f":"'2d'!AM42","v":0},{"$f":"'2d'!AN42","v":0},{"$f":"'2d'!AO42","v":0},{"$f":"'2d'!AP42","v":0},{"$f":"'2d'!AQ42","v":0},{"$f":"'2d'!AR42","v":0},{"$f":"'2d'!AS42","v":0},{"$f":"'2d'!AT42","v":0},{"$f":"'2d'!AU42","v":0},{"$f":"'2d'!AV42","v":0},{"$f":"'2d'!AW42","v":0},{"$f":"'2d'!AX42","v":0},{"$f":"'2d'!AY42","v":0},{"$f":"'2d'!AZ42","v":0},{"$f":"'2d'!BA42","v":0},{"$f":"'2d'!BB42","v":0},{"$f":"'2d'!BC42","v":0},{"$f":"'2d'!BD42","v":0},{"$f":"'2d'!BE42","v":0}]
[{"$f":"'2d'!A43","v":"2d"},{"$f":"'2d'!B43","v":0},{"$f":"'2d'!C43","v":0},{"$f":"'2d'!D43","v":"lehrer41"},{"$f":"'2d'!E43","v":0},{"$f":"'2d'!F43","v":0},{"$f":"'2d'!G43","v":0},{"$f":"'2d'!H43","v":0},{"$f":"'2d'!I43","v":0},{"$f":"'2d'!J43","v":0},{"$f":"'2d'!K43","v":0},{"$f":"'2d'!L43","v":0},{"$f":"'2d'!M43","v":0},{"$f":"'2d'!N43","v":0},{"$f":"'2d'!O43","v":0},{"$f":"'2d'!P43","v":0},{"$f":"'2d'!Q43","v":0},{"$f":"'2d'!R43","v":0},{"$f":"'2d'!S43","v":0},{"$f":"'2d'!T43","v":0},{"$f":"'2d'!U43","v":0},{"$f":"'2d'!V43","v":0},{"$f":"'2d'!W43","v":0},{"$f":"'2d'!X43","v":0},{"$f":"'2d'!Y43","v":0},{"$f":"'2d'!Z43","v":0},{"$f":"'2d'!AA43","v":0},{"$f":"'2d'!AB43","v":0},{"$f":"'2d'!AC43","v":0},{"$f":"'2d'!AD43","v":0},{"$f":"'2d'!AE43","v":0},{"$f":"'2d'!AF43","v":0},{"$f":"'2d'!AG43","v":0},{"$f":"'2d'!AH43","v":0},{"$f":"'2d'!AI43","v":0},{"$f":"'2d'!AJ43","v":0},{"$f":"'2d'!AK43","v":0},{"$f":"'2d'!AL43","v":0},{"$f":"'2d'!AM43","v":0},{"$f":"'2d'!AN43","v":0},{"$f":"'2d'!AO43","v":0},{"$f":"'2d'!AP43","v":0},{"$f":"'2d'!AQ43","v":0},{"$f":"'2d'!AR43","v":0},{"$f":"'2d'!AS43","v":0},{"$f":"'2d'!AT43","v":0},{"$f":"'2d'!AU43","v":0},{"$f":"'2d'!AV43","v":0},{"$f":"'2d'!AW43","v":0},{"$f":"'2d'!AX43","v":0},{"$f":"'2d'!AY43","v":0},{"$f":"'2d'!AZ43","v":0},{"$f":"'2d'!BA43","v":0},{"$f":"'2d'!BB43","v":0},{"$f":"'2d'!BC43","v":0},{"$f":"'2d'!BD43","v":0},{"$f":"'2d'!BE43","v":0}]
[{"$f":"'2d'!A44","v":"2d"},{"$f":"'2d'!B44","v":0},{"$f":"'2d'!C44","v":0},{"$f":"'2d'!D44","v":"lehrer42"},{"$f":"'2d'!E44","v":0},{"$f":"'2d'!F44","v":0},{"$f":"'2d'!G44","v":0},{"$f":"'2d'!H44","v":0},{"$f":"'2d'!I44","v":0},{"$f":"'2d'!J44","v":0},{"$f":"'2d'!K44","v":0},{"$f":"'2d'!L44","v":0},{"$f":"'2d'!M44","v":0},{"$f":"'2d'!N44","v":0},{"$f":"'2d'!O44","v":0},{"$f":"'2d'!P44","v":0},{"$f":"'2d'!Q44","v":0},{"$f":"'2d'!R44","v":0},{"$f":"'2d'!S44","v":0},{"$f":"'2d'!T44","v":0},{"$f":"'2d'!U44","v":0},{"$f":"'2d'!V44","v":0},{"$f":"'2d'!W44","v":0},{"$f":"'2d'!X44","v":0},{"$f":"'2d'!Y44","v":0},{"$f":"'2d'!Z44","v":0},{"$f":"'2d'!AA44","v":0},{"$f":"'2d'!AB44","v":0},{"$f":"'2d'!AC44","v":0},{"$f":"'2d'!AD44","v":0},{"$f":"'2d'!AE44","v":0},{"$f":"'2d'!AF44","v":0},{"$f":"'2d'!AG44","v":0},{"$f":"'2d'!AH44","v":0},{"$f":"'2d'!AI44","v":0},{"$f":"'2d'!AJ44","v":0},{"$f":"'2d'!AK44","v":0},{"$f":"'2d'!AL44","v":0},{"$f":"'2d'!AM44","v":0},{"$f":"'2d'!AN44","v":0},{"$f":"'2d'!AO44","v":0},{"$f":"'2d'!AP44","v":0},{"$f":"'2d'!AQ44","v":0},{"$f":"'2d'!AR44","v":0},{"$f":"'2d'!AS44","v":0},{"$f":"'2d'!AT44","v":0},{"$f":"'2d'!AU44","v":0},{"$f":"'2d'!AV44","v":0},{"$f":"'2d'!AW44","v":0},{"$f":"'2d'!AX44","v":0},{"$f":"'2d'!AY44","v":0},{"$f":"'2d'!AZ44","v":0},{"$f":"'2d'!BA44","v":0},{"$f":"'2d'!BB44","v":0},{"$f":"'2d'!BC44","v":0},{"$f":"'2d'!BD44","v":0},{"$f":"'2d'!BE44","v":0}]
[{"$f":"'2d'!A45","v":"2d"},{"$f":"'2d'!B45","v":0},{"$f":"'2d'!C45","v":0},{"$f":"'2d'!D45","v":"lehrer43"},{"$f":"'2d'!E45","v":0},{"$f":"'2d'!F45","v":0},{"$f":"'2d'!G45","v":0},{"$f":"'2d'!H45","v":0},{"$f":"'2d'!I45","v":0},{"$f":"'2d'!J45","v":0},{"$f":"'2d'!K45","v":0},{"$f":"'2d'!L45","v":0},{"$f":"'2d'!M45","v":0},{"$f":"'2d'!N45","v":0},{"$f":"'2d'!O45","v":0},{"$f":"'2d'!P45","v":0},{"$f":"'2d'!Q45","v":0},{"$f":"'2d'!R45","v":0},{"$f":"'2d'!S45","v":0},{"$f":"'2d'!T45","v":0},{"$f":"'2d'!U45","v":0},{"$f":"'2d'!V45","v":0},{"$f":"'2d'!W45","v":0},{"$f":"'2d'!X45","v":0},{"$f":"'2d'!Y45","v":0},{"$f":"'2d'!Z45","v":0},{"$f":"'2d'!AA45","v":0},{"$f":"'2d'!AB45","v":0},{"$f":"'2d'!AC45","v":0},{"$f":"'2d'!AD45","v":0},{"$f":"'2d'!AE45","v":0},{"$f":"'2d'!AF45","v":0},{"$f":"'2d'!AG45","v":0},{"$f":"'2d'!AH45","v":0},{"$f":"'2d'!AI45","v":0},{"$f":"'2d'!AJ45","v":0},{"$f":"'2d'!AK45","v":0},{"$f":"'2d'!AL45","v":0},{"$f":"'2d'!AM45","v":0},{"$f":"'2d'!AN45","v":0},{"$f":"'2d'!AO45","v":0},{"$f":"'2d'!AP45","v":0},{"$f":"'2d'!AQ45","v":0},{"$f":"'2d'!AR45","v":0},{"$f":"'2d'!AS45","v":0},{"$f":"'2d'!AT45","v":0},{"$f":"'2d'!AU45","v":0},{"$f":"'2d'!AV45","v":0},{"$f":"'2d'!AW45","v":0},{"$f":"'2d'!AX45","v":0},{"$f":"'2d'!AY45","v":0},{"$f":"'2d'!AZ45","v":0},{"$f":"'2d'!BA45","v":0},{"$f":"'2d'!BB45","v":0},{"$f":"'2d'!BC45","v":0},{"$f":"'2d'!BD45","v":0},{"$f":"'2d'!BE45","v":0}]
[{"$f":"'2d'!A46","v":"2d"},{"$f":"'2d'!B46","v":0},{"$f":"'2d'!C46","v":0},{"$f":"'2d'!D46","v":"lehrer44"},{"$f":"'2d'!E46","v":0},{"$f":"'2d'!F46","v":0},{"$f":"'2d'!G46","v":0},{"$f":"'2d'!H46","v":0},{"$f":"'2d'!I46","v":0},{"$f":"'2d'!J46","v":0},{"$f":"'2d'!K46","v":0},{"$f":"'2d'!L46","v":0},{"$f":"'2d'!M46","v":0},{"$f":"'2d'!N46","v":0},{"$f":"'2d'!O46","v":0},{"$f":"'2d'!P46","v":0},{"$f":"'2d'!Q46","v":0},{"$f":"'2d'!R46","v":0},{"$f":"'2d'!S46","v":0},{"$f":"'2d'!T46","v":0},{"$f":"'2d'!U46","v":0},{"$f":"'2d'!V46","v":0},{"$f":"'2d'!W46","v":0},{"$f":"'2d'!X46","v":0},{"$f":"'2d'!Y46","v":0},{"$f":"'2d'!Z46","v":0},{"$f":"'2d'!AA46","v":0},{"$f":"'2d'!AB46","v":0},{"$f":"'2d'!AC46","v":0},{"$f":"'2d'!AD46","v":0},{"$f":"'2d'!AE46","v":0},{"$f":"'2d'!AF46","v":0},{"$f":"'2d'!AG46","v":0},{"$f":"'2d'!AH46","v":0},{"$f":"'2d'!AI46","v":0},{"$f":"'2d'!AJ46","v":0},{"$f":"'2d'!AK46","v":0},{"$f":"'2d'!AL46","v":0},{"$f":"'2d'!AM46","v":0},{"$f":"'2d'!AN46","v":0},{"$f":"'2d'!AO46","v":0},{"$f":"'2d'!AP46","v":0},{"$f":"'2d'!AQ46","v":0},{"$f":"'2d'!AR46","v":0},{"$f":"'2d'!AS46","v":0},{"$f":"'2d'!AT46","v":0},{"$f":"'2d'!AU46","v":0},{"$f":"'2d'!AV46","v":0},{"$f":"'2d'!AW46","v":0},{"$f":"'2d'!AX46","v":0},{"$f":"'2d'!AY46","v":0},{"$f":"'2d'!AZ46","v":0},{"$f":"'2d'!BA46","v":0},{"$f":"'2d'!BB46","v":0},{"$f":"'2d'!BC46","v":0},{"$f":"'2d'!BD46","v":0},{"$f":"'2d'!BE46","v":0}]
[{"$f":"'2d'!A47","v":"2d"},{"$f":"'2d'!B47","v":0},{"$f":"'2d'!C47","v":0},{"$f":"'2d'!D47","v":"lehrer45"},{"$f":"'2d'!E47","v":0},{"$f":"'2d'!F47","v":0},{"$f":"'2d'!G47","v":0},{"$f":"'2d'!H47","v":0},{"$f":"'2d'!I47","v":0},{"$f":"'2d'!J47","v":0},{"$f":"'2d'!K47","v":0},{"$f":"'2d'!L47","v":0},{"$f":"'2d'!M47","v":0},{"$f":"'2d'!N47","v":0},{"$f":"'2d'!O47","v":0},{"$f":"'2d'!P47","v":0},{"$f":"'2d'!Q47","v":0},{"$f":"'2d'!R47","v":0},{"$f":"'2d'!S47","v":0},{"$f":"'2d'!T47","v":0},{"$f":"'2d'!U47","v":0},{"$f":"'2d'!V47","v":0},{"$f":"'2d'!W47","v":0},{"$f":"'2d'!X47","v":0},{"$f":"'2d'!Y47","v":0},{"$f":"'2d'!Z47","v":0},{"$f":"'2d'!AA47","v":0},{"$f":"'2d'!AB47","v":0},{"$f":"'2d'!AC47","v":0},{"$f":"'2d'!AD47","v":0},{"$f":"'2d'!AE47","v":0},{"$f":"'2d'!AF47","v":0},{"$f":"'2d'!AG47","v":0},{"$f":"'2d'!AH47","v":0},{"$f":"'2d'!AI47","v":0},{"$f":"'2d'!AJ47","v":0},{"$f":"'2d'!AK47","v":0},{"$f":"'2d'!AL47","v":0},{"$f":"'2d'!AM47","v":0},{"$f":"'2d'!AN47","v":0},{"$f":"'2d'!AO47","v":0},{"$f":"'2d'!AP47","v":0},{"$f":"'2d'!AQ47","v":0},{"$f":"'2d'!AR47","v":0},{"$f":"'2d'!AS47","v":0},{"$f":"'2d'!AT47","v":0},{"$f":"'2d'!AU47","v":0},{"$f":"'2d'!AV47","v":0},{"$f":"'2d'!AW47","v":0},{"$f":"'2d'!AX47","v":0},{"$f":"'2d'!AY47","v":0},{"$f":"'2d'!AZ47","v":0},{"$f":"'2d'!BA47","v":0},{"$f":"'2d'!BB47","v":0},{"$f":"'2d'!BC47","v":0},{"$f":"'2d'!BD47","v":0},{"$f":"'2d'!BE47","v":0}]
[{"$f":"'2d'!A48","v":"2d"},{"$f":"'2d'!B48","v":0},{"$f":"'2d'!C48","v":0},{"$f":"'2d'!D48","v":"lehrer46"},{"$f":"'2d'!E48","v":0},{"$f":"'2d'!F48","v":0},{"$f":"'2d'!G48","v":0},{"$f":"'2d'!H48","v":0},{"$f":"'2d'!I48","v":0},{"$f":"'2d'!J48","v":0},{"$f":"'2d'!K48","v":0},{"$f":"'2d'!L48","v":0},{"$f":"'2d'!M48","v":0},{"$f":"'2d'!N48","v":0},{"$f":"'2d'!O48","v":0},{"$f":"'2d'!P48","v":0},{"$f":"'2d'!Q48","v":0},{"$f":"'2d'!R48","v":0},{"$f":"'2d'!S48","v":0},{"$f":"'2d'!T48","v":0},{"$f":"'2d'!U48","v":0},{"$f":"'2d'!V48","v":0},{"$f":"'2d'!W48","v":0},{"$f":"'2d'!X48","v":0},{"$f":"'2d'!Y48","v":0},{"$f":"'2d'!Z48","v":0},{"$f":"'2d'!AA48","v":0},{"$f":"'2d'!AB48","v":0},{"$f":"'2d'!AC48","v":0},{"$f":"'2d'!AD48","v":0},{"$f":"'2d'!AE48","v":0},{"$f":"'2d'!AF48","v":0},{"$f":"'2d'!AG48","v":0},{"$f":"'2d'!AH48","v":0},{"$f":"'2d'!AI48","v":0},{"$f":"'2d'!AJ48","v":0},{"$f":"'2d'!AK48","v":0},{"$f":"'2d'!AL48","v":0},{"$f":"'2d'!AM48","v":0},{"$f":"'2d'!AN48","v":0},{"$f":"'2d'!AO48","v":0},{"$f":"'2d'!AP48","v":0},{"$f":"'2d'!AQ48","v":0},{"$f":"'2d'!AR48","v":0},{"$f":"'2d'!AS48","v":0},{"$f":"'2d'!AT48","v":0},{"$f":"'2d'!AU48","v":0},{"$f":"'2d'!AV48","v":0},{"$f":"'2d'!AW48","v":0},{"$f":"'2d'!AX48","v":0},{"$f":"'2d'!AY48","v":0},{"$f":"'2d'!AZ48","v":0},{"$f":"'2d'!BA48","v":0},{"$f":"'2d'!BB48","v":0},{"$f":"'2d'!BC48","v":0},{"$f":"'2d'!BD48","v":0},{"$f":"'2d'!BE48","v":0}]
[{"$f":"'2d'!A49","v":"2d"},{"$f":"'2d'!B49","v":0},{"$f":"'2d'!C49","v":0},{"$f":"'2d'!D49","v":"lehrer47"},{"$f":"'2d'!E49","v":0},{"$f":"'2d'!F49","v":0},{"$f":"'2d'!G49","v":0},{"$f":"'2d'!H49","v":0},{"$f":"'2d'!I49","v":0},{"$f":"'2d'!J49","v":0},{"$f":"'2d'!K49","v":0},{"$f":"'2d'!L49","v":0},{"$f":"'2d'!M49","v":0},{"$f":"'2d'!N49","v":0},{"$f":"'2d'!O49","v":0},{"$f":"'2d'!P49","v":0},{"$f":"'2d'!Q49","v":0},{"$f":"'2d'!R49","v":0},{"$f":"'2d'!S49","v":0},{"$f":"'2d'!T49","v":0},{"$f":"'2d'!U49","v":0},{"$f":"'2d'!V49","v":0},{"$f":"'2d'!W49","v":0},{"$f":"'2d'!X49","v":0},{"$f":"'2d'!Y49","v":0},{"$f":"'2d'!Z49","v":0},{"$f":"'2d'!AA49","v":0},{"$f":"'2d'!AB49","v":0},{"$f":"'2d'!AC49","v":0},{"$f":"'2d'!AD49","v":0},{"$f":"'2d'!AE49","v":0},{"$f":"'2d'!AF49","v":0},{"$f":"'2d'!AG49","v":0},{"$f":"'2d'!AH49","v":0},{"$f":"'2d'!AI49","v":0},{"$f":"'2d'!AJ49","v":0},{"$f":"'2d'!AK49","v":0},{"$f":"'2d'!AL49","v":0},{"$f":"'2d'!AM49","v":0},{"$f":"'2d'!AN49","v":0},{"$f":"'2d'!AO49","v":0},{"$f":"'2d'!AP49","v":0},{"$f":"'2d'!AQ49","v":0},{"$f":"'2d'!AR49","v":0},{"$f":"'2d'!AS49","v":0},{"$f":"'2d'!AT49","v":0},{"$f":"'2d'!AU49","v":0},{"$f":"'2d'!AV49","v":0},{"$f":"'2d'!AW49","v":0},{"$f":"'2d'!AX49","v":0},{"$f":"'2d'!AY49","v":0},{"$f":"'2d'!AZ49","v":0},{"$f":"'2d'!BA49","v":0},{"$f":"'2d'!BB49","v":0},{"$f":"'2d'!BC49","v":0},{"$f":"'2d'!BD49","v":0},{"$f":"'2d'!BE49","v":0}]
[{"$f":"'2d'!A50","v":"2d"},{"$f":"'2d'!B50","v":0},{"$f":"'2d'!C50","v":0},{"$f":"'2d'!D50","v":"lehrer48"},{"$f":"'2d'!E50","v":0},{"$f":"'2d'!F50","v":0},{"$f":"'2d'!G50","v":0},{"$f":"'2d'!H50","v":0},{"$f":"'2d'!I50","v":0},{"$f":"'2d'!J50","v":0},{"$f":"'2d'!K50","v":0},{"$f":"'2d'!L50","v":0},{"$f":"'2d'!M50","v":0},{"$f":"'2d'!N50","v":0},{"$f":"'2d'!O50","v":0},{"$f":"'2d'!P50","v":0},{"$f":"'2d'!Q50","v":0},{"$f":"'2d'!R50","v":0},{"$f":"'2d'!S50","v":0},{"$f":"'2d'!T50","v":0},{"$f":"'2d'!U50","v":0},{"$f":"'2d'!V50","v":0},{"$f":"'2d'!W50","v":0},{"$f":"'2d'!X50","v":0},{"$f":"'2d'!Y50","v":0},{"$f":"'2d'!Z50","v":0},{"$f":"'2d'!AA50","v":0},{"$f":"'2d'!AB50","v":0},{"$f":"'2d'!AC50","v":0},{"$f":"'2d'!AD50","v":0},{"$f":"'2d'!AE50","v":0},{"$f":"'2d'!AF50","v":0},{"$f":"'2d'!AG50","v":0},{"$f":"'2d'!AH50","v":0},{"$f":"'2d'!AI50","v":0},{"$f":"'2d'!AJ50","v":0},{"$f":"'2d'!AK50","v":0},{"$f":"'2d'!AL50","v":0},{"$f":"'2d'!AM50","v":0},{"$f":"'2d'!AN50","v":0},{"$f":"'2d'!AO50","v":0},{"$f":"'2d'!AP50","v":0},{"$f":"'2d'!AQ50","v":0},{"$f":"'2d'!AR50","v":0},{"$f":"'2d'!AS50","v":0},{"$f":"'2d'!AT50","v":0},{"$f":"'2d'!AU50","v":0},{"$f":"'2d'!AV50","v":0},{"$f":"'2d'!AW50","v":0},{"$f":"'2d'!AX50","v":0},{"$f":"'2d'!AY50","v":0},{"$f":"'2d'!AZ50","v":0},{"$f":"'2d'!BA50","v":0},{"$f":"'2d'!BB50","v":0},{"$f":"'2d'!BC50","v":0},{"$f":"'2d'!BD50","v":0},{"$f":"'2d'!BE50","v":0}]
[{"$f":"'3d'!A3","v":"3d"},{"$f":"'3d'!B3","v":0},{"$f":"'3d'!C3","v":0},{"$f":"'3d'!D3","v":"lehrer01"},{"$f":"'3d'!E3","v":0},{"$f":"'3d'!F3","v":0},{"$f":"'3d'!G3","v":0},{"$f":"'3d'!H3","v":0},{"$f":"'3d'!I3","v":0},{"$f":"'3d'!J3","v":0},{"$f":"'3d'!K3","v":0},{"$f":"'3d'!L3","v":0},{"$f":"'3d'!M3","v":0},{"$f":"'3d'!N3","v":0},{"$f":"'3d'!O3","v":0},{"$f":"'3d'!P3","v":0},{"$f":"'3d'!Q3","v":0},{"$f":"'3d'!R3","v":0},{"$f":"'3d'!S3","v":0},{"$f":"'3d'!T3","v":0},{"$f":"'3d'!U3","v":0},{"$f":"'3d'!V3","v":0},{"$f":"'3d'!W3","v":0},{"$f":"'3d'!X3","v":0},{"$f":"'3d'!Y3","v":0},{"$f":"'3d'!Z3","v":0},{"$f":"'3d'!AA3","v":0},{"$f":"'3d'!AB3","v":0},{"$f":"'3d'!AC3","v":0},{"$f":"'3d'!AD3","v":0},{"$f":"'3d'!AE3","v":0},{"$f":"'3d'!AF3","v":0},{"$f":"'3d'!AG3","v":0},{"$f":"'3d'!AH3","v":0},{"$f":"'3d'!AI3","v":0},{"$f":"'3d'!AJ3","v":0},{"$f":"'3d'!AK3","v":0},{"$f":"'3d'!AL3","v":0},{"$f":"'3d'!AM3","v":0},{"$f":"'3d'!AN3","v":0},{"$f":"'3d'!AO3","v":0},{"$f":"'3d'!AP3","v":0},{"$f":"'3d'!AQ3","v":0},{"$f":"'3d'!AR3","v":0},{"$f":"'3d'!AS3","v":0},{"$f":"'3d'!AT3","v":0},{"$f":"'3d'!AU3","v":0},{"$f":"'3d'!AV3","v":0},{"$f":"'3d'!AW3","v":0},{"$f":"'3d'!AX3","v":0},{"$f":"'3d'!AY3","v":0},{"$f":"'3d'!AZ3","v":0},{"$f":"'3d'!BA3","v":0},{"$f":"'3d'!BB3","v":0},{"$f":"'3d'!BC3","v":0},{"$f":"'3d'!BD3","v":0},{"$f":"'3d'!BE3","v":0}]
[{"$f":"'3d'!A4","v":"3d"},{"$f":"'3d'!B4","v":0},{"$f":"'3d'!C4","v":0},{"$f":"'3d'!D4","v":"lehrer02"},{"$f":"'3d'!E4","v":0},{"$f":"'3d'!F4","v":0},{"$f":"'3d'!G4","v":0},{"$f":"'3d'!H4","v":0},{"$f":"'3d'!I4","v":0},{"$f":"'3d'!J4","v":0},{"$f":"'3d'!K4","v":0},{"$f":"'3d'!L4","v":0},{"$f":"'3d'!M4","v":0},{"$f":"'3d'!N4","v":0},{"$f":"'3d'!O4","v":0},{"$f":"'3d'!P4","v":0},{"$f":"'3d'!Q4","v":0},{"$f":"'3d'!R4","v":0},{"$f":"'3d'!S4","v":0},{"$f":"'3d'!T4","v":0},{"$f":"'3d'!U4","v":0},{"$f":"'3d'!V4","v":0},{"$f":"'3d'!W4","v":0},{"$f":"'3d'!X4","v":0},{"$f":"'3d'!Y4","v":0},{"$f":"'3d'!Z4","v":0},{"$f":"'3d'!AA4","v":0},{"$f":"'3d'!AB4","v":0},{"$f":"'3d'!AC4","v":0},{"$f":"'3d'!AD4","v":0},{"$f":"'3d'!AE4","v":0},{"$f":"'3d'!AF4","v":0},{"$f":"'3d'!AG4","v":0},{"$f":"'3d'!AH4","v":0},{"$f":"'3d'!AI4","v":0},{"$f":"'3d'!AJ4","v":0},{"$f":"'3d'!AK4","v":0},{"$f":"'3d'!AL4","v":0},{"$f":"'3d'!AM4","v":0},{"$f":"'3d'!AN4","v":0},{"$f":"'3d'!AO4","v":0},{"$f":"'3d'!AP4","v":0},{"$f":"'3d'!AQ4","v":0},{"$f":"'3d'!AR4","v":0},{"$f":"'3d'!AS4","v":0},{"$f":"'3d'!AT4","v":0},{"$f":"'3d'!AU4","v":0},{"$f":"'3d'!AV4","v":0},{"$f":"'3d'!AW4","v":0},{"$f":"'3d'!AX4","v":0},{"$f":"'3d'!AY4","v":0},{"$f":"'3d'!AZ4","v":0},{"$f":"'3d'!BA4","v":0},{"$f":"'3d'!BB4","v":0},{"$f":"'3d'!BC4","v":0},{"$f":"'3d'!BD4","v":0},{"$f":"'3d'!BE4","v":0}]
[{"$f":"'3d'!A5","v":"3d"},{"$f":"'3d'!B5","v":0},{"$f":"'3d'!C5","v":0},{"$f":"'3d'!D5","v":"lehrer03"},{"$f":"'3d'!E5","v":0},{"$f":"'3d'!F5","v":0},{"$f":"'3d'!G5","v":0},{"$f":"'3d'!H5","v":0},{"$f":"'3d'!I5","v":0},{"$f":"'3d'!J5","v":0},{"$f":"'3d'!K5","v":0},{"$f":"'3d'!L5","v":0},{"$f":"'3d'!M5","v":0},{"$f":"'3d'!N5","v":0},{"$f":"'3d'!O5","v":0},{"$f":"'3d'!P5","v":0},{"$f":"'3d'!Q5","v":0},{"$f":"'3d'!R5","v":0},{"$f":"'3d'!S5","v":0},{"$f":"'3d'!T5","v":0},{"$f":"'3d'!U5","v":0},{"$f":"'3d'!V5","v":0},{"$f":"'3d'!W5","v":0},{"$f":"'3d'!X5","v":0},{"$f":"'3d'!Y5","v":0},{"$f":"'3d'!Z5","v":0},{"$f":"'3d'!AA5","v":0},{"$f":"'3d'!AB5","v":0},{"$f":"'3d'!AC5","v":0},{"$f":"'3d'!AD5","v":0},{"$f":"'3d'!AE5","v":0},{"$f":"'3d'!AF5","v":0},{"$f":"'3d'!AG5","v":0},{"$f":"'3d'!AH5","v":0},{"$f":"'3d'!AI5","v":0},{"$f":"'3d'!AJ5","v":0},{"$f":"'3d'!AK5","v":0},{"$f":"'3d'!AL5","v":0},{"$f":"'3d'!AM5","v":0},{"$f":"'3d'!AN5","v":0},{"$f":"'3d'!AO5","v":0},{"$f":"'3d'!AP5","v":0},{"$f":"'3d'!AQ5","v":0},{"$f":"'3d'!AR5","v":0},{"$f":"'3d'!AS5","v":0},{"$f":"'3d'!AT5","v":0},{"$f":"'3d'!AU5","v":0},{"$f":"'3d'!AV5","v":0},{"$f":"'3d'!AW5","v":0},{"$f":"'3d'!AX5","v":0},{"$f":"'3d'!AY5","v":0},{"$f":"'3d'!AZ5","v":0},{"$f":"'3d'!BA5","v":0},{"$f":"'3d'!BB5","v":0},{"$f":"'3d'!BC5","v":0},{"$f":"'3d'!BD5","v":0},{"$f":"'3d'!BE5","v":0}]
[{"$f":"'3d'!A6","v":"3d"},{"$f":"'3d'!B6","v":0},{"$f":"'3d'!C6","v":0},{"$f":"'3d'!D6","v":"lehrer04"},{"$f":"'3d'!E6","v":0},{"$f":"'3d'!F6","v":0},{"$f":"'3d'!G6","v":0},{"$f":"'3d'!H6","v":0},{"$f":"'3d'!I6","v":0},{"$f":"'3d'!J6","v":0},{"$f":"'3d'!K6","v":0},{"$f":"'3d'!L6","v":0},{"$f":"'3d'!M6","v":0},{"$f":"'3d'!N6","v":0},{"$f":"'3d'!O6","v":0},{"$f":"'3d'!P6","v":0},{"$f":"'3d'!Q6","v":0},{"$f":"'3d'!R6","v":0},{"$f":"'3d'!S6","v":0},{"$f":"'3d'!T6","v":0},{"$f":"'3d'!U6","v":0},{"$f":"'3d'!V6","v":0},{"$f":"'3d'!W6","v":0},{"$f":"'3d'!X6","v":0},{"$f":"'3d'!Y6","v":0},{"$f":"'3d'!Z6","v":0},{"$f":"'3d'!AA6","v":0},{"$f":"'3d'!AB6","v":0},{"$f":"'3d'!AC6","v":0},{"$f":"'3d'!AD6","v":0},{"$f":"'3d'!AE6","v":0},{"$f":"'3d'!AF6","v":0},{"$f":"'3d'!AG6","v":0},{"$f":"'3d'!AH6","v":0},{"$f":"'3d'!AI6","v":0},{"$f":"'3d'!AJ6","v":0},{"$f":"'3d'!AK6","v":0},{"$f":"'3d'!AL6","v":0},{"$f":"'3d'!AM6","v":0},{"$f":"'3d'!AN6","v":0},{"$f":"'3d'!AO6","v":0},{"$f":"'3d'!AP6","v":0},{"$f":"'3d'!AQ6","v":0},{"$f":"'3d'!AR6","v":0},{"$f":"'3d'!AS6","v":0},{"$f":"'3d'!AT6","v":0},{"$f":"'3d'!AU6","v":0},{"$f":"'3d'!AV6","v":0},{"$f":"'3d'!AW6","v":0},{"$f":"'3d'!AX6","v":0},{"$f":"'3d'!AY6","v":0},{"$f":"'3d'!AZ6","v":0},{"$f":"'3d'!BA6","v":0},{"$f":"'3d'!BB6","v":0},{"$f":"'3d'!BC6","v":0},{"$f":"'3d'!BD6","v":0},{"$f":"'3d'!BE6","v":0}]
[{"$f":"'3d'!A7","v":"3d"},{"$f":"'3d'!B7","v":0},{"$f":"'3d'!C7","v":0},{"$f":"'3d'!D7","v":"lehrer05"},{"$f":"'3d'!E7","v":0},{"$f":"'3d'!F7","v":0},{"$f":"'3d'!G7","v":0},{"$f":"'3d'!H7","v":0},{"$f":"'3d'!I7","v":0},{"$f":"'3d'!J7","v":0},{"$f":"'3d'!K7","v":0},{"$f":"'3d'!L7","v":0},{"$f":"'3d'!M7","v":0},{"$f":"'3d'!N7","v":0},{"$f":"'3d'!O7","v":0},{"$f":"'3d'!P7","v":0},{"$f":"'3d'!Q7","v":0},{"$f":"'3d'!R7","v":0},{"$f":"'3d'!S7","v":0},{"$f":"'3d'!T7","v":0},{"$f":"'3d'!U7","v":0},{"$f":"'3d'!V7","v":0},{"$f":"'3d'!W7","v":0},{"$f":"'3d'!X7","v":0},{"$f":"'3d'!Y7","v":0},{"$f":"'3d'!Z7","v":0},{"$f":"'3d'!AA7","v":0},{"$f":"'3d'!AB7","v":0},{"$f":"'3d'!AC7","v":0},{"$f":"'3d'!AD7","v":0},{"$f":"'3d'!AE7","v":0},{"$f":"'3d'!AF7","v":0},{"$f":"'3d'!AG7","v":0},{"$f":"'3d'!AH7","v":0},{"$f":"'3d'!AI7","v":0},{"$f":"'3d'!AJ7","v":0},{"$f":"'3d'!AK7","v":0},{"$f":"'3d'!AL7","v":0},{"$f":"'3d'!AM7","v":0},{"$f":"'3d'!AN7","v":0},{"$f":"'3d'!AO7","v":0},{"$f":"'3d'!AP7","v":0},{"$f":"'3d'!AQ7","v":0},{"$f":"'3d'!AR7","v":0},{"$f":"'3d'!AS7","v":0},{"$f":"'3d'!AT7","v":0},{"$f":"'3d'!AU7","v":0},{"$f":"'3d'!AV7","v":0},{"$f":"'3d'!AW7","v":0},{"$f":"'3d'!AX7","v":0},{"$f":"'3d'!AY7","v":0},{"$f":"'3d'!AZ7","v":0},{"$f":"'3d'!BA7","v":0},{"$f":"'3d'!BB7","v":0},{"$f":"'3d'!BC7","v":0},{"$f":"'3d'!BD7","v":0},{"$f":"'3d'!BE7","v":0}]
[{"$f":"'3d'!A8","v":"3d"},{"$f":"'3d'!B8","v":0},{"$f":"'3d'!C8","v":0},{"$f":"'3d'!D8","v":"lehrer06"},{"$f":"'3d'!E8","v":0},{"$f":"'3d'!F8","v":0},{"$f":"'3d'!G8","v":0},{"$f":"'3d'!H8","v":0},{"$f":"'3d'!I8","v":0},{"$f":"'3d'!J8","v":0},{"$f":"'3d'!K8","v":0},{"$f":"'3d'!L8","v":0},{"$f":"'3d'!M8","v":0},{"$f":"'3d'!N8","v":0},{"$f":"'3d'!O8","v":0},{"$f":"'3d'!P8","v":0},{"$f":"'3d'!Q8","v":0},{"$f":"'3d'!R8","v":0},{"$f":"'3d'!S8","v":0},{"$f":"'3d'!T8","v":0},{"$f":"'3d'!U8","v":0},{"$f":"'3d'!V8","v":0},{"$f":"'3d'!W8","v":0},{"$f":"'3d'!X8","v":0},{"$f":"'3d'!Y8","v":0},{"$f":"'3d'!Z8","v":0},{"$f":"'3d'!AA8","v":0},{"$f":"'3d'!AB8","v":0},{"$f":"'3d'!AC8","v":0},{"$f":"'3d'!AD8","v":0},{"$f":"'3d'!AE8","v":0},{"$f":"'3d'!AF8","v":0},{"$f":"'3d'!AG8","v":0},{"$f":"'3d'!AH8","v":0},{"$f":"'3d'!AI8","v":0},{"$f":"'3d'!AJ8","v":0},{"$f":"'3d'!AK8","v":0},{"$f":"'3d'!AL8","v":0},{"$f":"'3d'!AM8","v":0},{"$f":"'3d'!AN8","v":0},{"$f":"'3d'!AO8","v":0},{"$f":"'3d'!AP8","v":0},{"$f":"'3d'!AQ8","v":0},{"$f":"'3d'!AR8","v":0},{"$f":"'3d'!AS8","v":0},{"$f":"'3d'!AT8","v":0},{"$f":"'3d'!AU8","v":0},{"$f":"'3d'!AV8","v":0},{"$f":"'3d'!AW8","v":0},{"$f":"'3d'!AX8","v":0},{"$f":"'3d'!AY8","v":0},{"$f":"'3d'!AZ8","v":0},{"$f":"'3d'!BA8","v":0},{"$f":"'3d'!BB8","v":0},{"$f":"'3d'!BC8","v":0},{"$f":"'3d'!BD8","v":0},{"$f":"'3d'!BE8","v":0}]
[{"$f":"'3d'!A9","v":"3d"},{"$f":"'3d'!B9","v":0},{"$f":"'3d'!C9","v":0},{"$f":"'3d'!D9","v":"lehrer07"},{"$f":"'3d'!E9","v":0},{"$f":"'3d'!F9","v":0},{"$f":"'3d'!G9","v":0},{"$f":"'3d'!H9","v":0},{"$f":"'3d'!I9","v":0},{"$f":"'3d'!J9","v":0},{"$f":"'3d'!K9","v":0},{"$f":"'3d'!L9","v":0},{"$f":"'3d'!M9","v":0},{"$f":"'3d'!N9","v":0},{"$f":"'3d'!O9","v":0},{"$f":"'3d'!P9","v":0},{"$f":"'3d'!Q9","v":0},{"$f":"'3d'!R9","v":0},{"$f":"'3d'!S9","v":0},{"$f":"'3d'!T9","v":0},{"$f":"'3d'!U9","v":0},{"$f":"'3d'!V9","v":0},{"$f":"'3d'!W9","v":0},{"$f":"'3d'!X9","v":0},{"$f":"'3d'!Y9","v":0},{"$f":"'3d'!Z9","v":0},{"$f":"'3d'!AA9","v":0},{"$f":"'3d'!AB9","v":0},{"$f":"'3d'!AC9","v":0},{"$f":"'3d'!AD9","v":0},{"$f":"'3d'!AE9","v":0},{"$f":"'3d'!AF9","v":0},{"$f":"'3d'!AG9","v":0},{"$f":"'3d'!AH9","v":0},{"$f":"'3d'!AI9","v":0},{"$f":"'3d'!AJ9","v":0},{"$f":"'3d'!AK9","v":0},{"$f":"'3d'!AL9","v":0},{"$f":"'3d'!AM9","v":0},{"$f":"'3d'!AN9","v":0},{"$f":"'3d'!AO9","v":0},{"$f":"'3d'!AP9","v":0},{"$f":"'3d'!AQ9","v":0},{"$f":"'3d'!AR9","v":0},{"$f":"'3d'!AS9","v":0},{"$f":"'3d'!AT9","v":0},{"$f":"'3d'!AU9","v":0},{"$f":"'3d'!AV9","v":0},{"$f":"'3d'!AW9","v":0},{"$f":"'3d'!AX9","v":0},{"$f":"'3d'!AY9","v":0},{"$f":"'3d'!AZ9","v":0},{"$f":"'3d'!BA9","v":0},{"$f":"'3d'!BB9","v":0},{"$f":"'3d'!BC9","v":0},{"$f":"'3d'!BD9","v":0},{"$f":"'3d'!BE9","v":0}]
[{"$f":"'3d'!A10","v":"3d"},{"$f":"'3d'!B10","v":0},{"$f":"'3d'!C10","v":0},{"$f":"'3d'!D10","v":"lehrer08"},{"$f":"'3d'!E10","v":0},{"$f":"'3d'!F10","v":0},{"$f":"'3d'!G10","v":0},{"$f":"'3d'!H10","v":0},{"$f":"'3d'!I10","v":0},{"$f":"'3d'!J10","v":0},{"$f":"'3d'!K10","v":0},{"$f":"'3d'!L10","v":0},{"$f":"'3d'!M10","v":0},{"$f":"'3d'!N10","v":0},{"$f":"'3d'!O10","v":0},{"$f":"'3d'!P10","v":0},{"$f":"'3d'!Q10","v":0},{"$f":"'3d'!R10","v":0},{"$f":"'3d'!S10","v":0},{"$f":"'3d'!T10","v":0},{"$f":"'3d'!U10","v":0},{"$f":"'3d'!V10","v":0},{"$f":"'3d'!W10","v":0},{"$f":"'3d'!X10","v":0},{"$f":"'3d'!Y10","v":0},{"$f":"'3d'!Z10","v":0},{"$f":"'3d'!AA10","v":0},{"$f":"'3d'!AB10","v":0},{"$f":"'3d'!AC10","v":0},{"$f":"'3d'!AD10","v":0},{"$f":"'3d'!AE10","v":0},{"$f":"'3d'!AF10","v":0},{"$f":"'3d'!AG10","v":0},{"$f":"'3d'!AH10","v":0},{"$f":"'3d'!AI10","v":0},{"$f":"'3d'!AJ10","v":0},{"$f":"'3d'!AK10","v":0},{"$f":"'3d'!AL10","v":0},{"$f":"'3d'!AM10","v":0},{"$f":"'3d'!AN10","v":0},{"$f":"'3d'!AO10","v":0},{"$f":"'3d'!AP10","v":0},{"$f":"'3d'!AQ10","v":0},{"$f":"'3d'!AR10","v":0},{"$f":"'3d'!AS10","v":0},{"$f":"'3d'!AT10","v":0},{"$f":"'3d'!AU10","v":0},{"$f":"'3d'!AV10","v":0},{"$f":"'3d'!AW10","v":0},{"$f":"'3d'!AX10","v":0},{"$f":"'3d'!AY10","v":0},{"$f":"'3d'!AZ10","v":0},{"$f":"'3d'!BA10","v":0},{"$f":"'3d'!BB10","v":0},{"$f":"'3d'!BC10","v":0},{"$f":"'3d'!BD10","v":0},{"$f":"'3d'!BE10","v":0}]
[{"$f":"'3d'!A11","v":"3d"},{"$f":"'3d'!B11","v":0},{"$f":"'3d'!C11","v":0},{"$f":"'3d'!D11","v":"lehrer09"},{"$f":"'3d'!E11","v":0},{"$f":"'3d'!F11","v":0},{"$f":"'3d'!G11","v":0},{"$f":"'3d'!H11","v":0},{"$f":"'3d'!I11","v":0},{"$f":"'3d'!J11","v":0},{"$f":"'3d'!K11","v":0},{"$f":"'3d'!L11","v":0},{"$f":"'3d'!M11","v":0},{"$f":"'3d'!N11","v":0},{"$f":"'3d'!O11","v":0},{"$f":"'3d'!P11","v":0},{"$f":"'3d'!Q11","v":0},{"$f":"'3d'!R11","v":0},{"$f":"'3d'!S11","v":0},{"$f":"'3d'!T11","v":0},{"$f":"'3d'!U11","v":0},{"$f":"'3d'!V11","v":0},{"$f":"'3d'!W11","v":0},{"$f":"'3d'!X11","v":0},{"$f":"'3d'!Y11","v":0},{"$f":"'3d'!Z11","v":0},{"$f":"'3d'!AA11","v":0},{"$f":"'3d'!AB11","v":0},{"$f":"'3d'!AC11","v":0},{"$f":"'3d'!AD11","v":0},{"$f":"'3d'!AE11","v":0},{"$f":"'3d'!AF11","v":0},{"$f":"'3d'!AG11","v":0},{"$f":"'3d'!AH11","v":0},{"$f":"'3d'!AI11","v":0},{"$f":"'3d'!AJ11","v":0},{"$f":"'3d'!AK11","v":0},{"$f":"'3d'!AL11","v":0},{"$f":"'3d'!AM11","v":0},{"$f":"'3d'!AN11","v":0},{"$f":"'3d'!AO11","v":0},{"$f":"'3d'!AP11","v":0},{"$f":"'3d'!AQ11","v":0},{"$f":"'3d'!AR11","v":0},{"$f":"'3d'!AS11","v":0},{"$f":"'3d'!AT11","v":0},{"$f":"'3d'!AU11","v":0},{"$f":"'3d'!AV11","v":0},{"$f":"'3d'!AW11","v":0},{"$f":"'3d'!AX11","v":0},{"$f":"'3d'!AY11","v":0},{"$f":"'3d'!AZ11","v":0},{"$f":"'3d'!BA11","v":0},{"$f":"'3d'!BB11","v":0},{"$f":"'3d'!BC11","v":0},{"$f":"'3d'!BD11","v":0},{"$f":"'3d'!BE11","v":0}]
[{"$f":"'3d'!A12","v":"3d"},{"$f":"'3d'!B12","v":0},{"$f":"'3d'!C12","v":0},{"$f":"'3d'!D12","v":"lehrer10"},{"$f":"'3d'!E12","v":0},{"$f":"'3d'!F12","v":0},{"$f":"'3d'!G12","v":0},{"$f":"'3d'!H12","v":0},{"$f":"'3d'!I12","v":0},{"$f":"'3d'!J12","v":0},{"$f":"'3d'!K12","v":0},{"$f":"'3d'!L12","v":0},{"$f":"'3d'!M12","v":0},{"$f":"'3d'!N12","v":0},{"$f":"'3d'!O12","v":0},{"$f":"'3d'!P12","v":0},{"$f":"'3d'!Q12","v":0},{"$f":"'3d'!R12","v":0},{"$f":"'3d'!S12","v":0},{"$f":"'3d'!T12","v":0},{"$f":"'3d'!U12","v":0},{"$f":"'3d'!V12","v":0},{"$f":"'3d'!W12","v":0},{"$f":"'3d'!X12","v":0},{"$f":"'3d'!Y12","v":0},{"$f":"'3d'!Z12","v":0},{"$f":"'3d'!AA12","v":0},{"$f":"'3d'!AB12","v":0},{"$f":"'3d'!AC12","v":0},{"$f":"'3d'!AD12","v":0},{"$f":"'3d'!AE12","v":0},{"$f":"'3d'!AF12","v":0},{"$f":"'3d'!AG12","v":0},{"$f":"'3d'!AH12","v":0},{"$f":"'3d'!AI12","v":0},{"$f":"'3d'!AJ12","v":0},{"$f":"'3d'!AK12","v":0},{"$f":"'3d'!AL12","v":0},{"$f":"'3d'!AM12","v":0},{"$f":"'3d'!AN12","v":0},{"$f":"'3d'!AO12","v":0},{"$f":"'3d'!AP12","v":0},{"$f":"'3d'!AQ12","v":0},{"$f":"'3d'!AR12","v":0},{"$f":"'3d'!AS12","v":0},{"$f":"'3d'!AT12","v":0},{"$f":"'3d'!AU12","v":0},{"$f":"'3d'!AV12","v":0},{"$f":"'3d'!AW12","v":0},{"$f":"'3d'!AX12","v":0},{"$f":"'3d'!AY12","v":0},{"$f":"'3d'!AZ12","v":0},{"$f":"'3d'!BA12","v":0},{"$f":"'3d'!BB12","v":0},{"$f":"'3d'!BC12","v":0},{"$f":"'3d'!BD12","v":0},{"$f":"'3d'!BE12","v":0}]
[{"$f":"'3d'!A13","v":"3d"},{"$f":"'3d'!B13","v":0},{"$f":"'3d'!C13","v":0},{"$f":"'3d'!D13","v":"lehrer11"},{"$f":"'3d'!E13","v":0},{"$f":"'3d'!F13","v":0},{"$f":"'3d'!G13","v":0},{"$f":"'3d'!H13","v":0},{"$f":"'3d'!I13","v":0},{"$f":"'3d'!J13","v":0},{"$f":"'3d'!K13","v":0},{"$f":"'3d'!L13","v":0},{"$f":"'3d'!M13","v":0},{"$f":"'3d'!N13","v":0},{"$f":"'3d'!O13","v":0},{"$f":"'3d'!P13","v":0},{"$f":"'3d'!Q13","v":0},{"$f":"'3d'!R13","v":0},{"$f":"'3d'!S13","v":0},{"$f":"'3d'!T13","v":0},{"$f":"'3d'!U13","v":0},{"$f":"'3d'!V13","v":0},{"$f":"'3d'!W13","v":0},{"$f":"'3d'!X13","v":0},{"$f":"'3d'!Y13","v":0},{"$f":"'3d'!Z13","v":0},{"$f":"'3d'!AA13","v":0},{"$f":"'3d'!AB13","v":0},{"$f":"'3d'!AC13","v":0},{"$f":"'3d'!AD13","v":0},{"$f":"'3d'!AE13","v":0},{"$f":"'3d'!AF13","v":0},{"$f":"'3d'!AG13","v":0},{"$f":"'3d'!AH13","v":0},{"$f":"'3d'!AI13","v":0},{"$f":"'3d'!AJ13","v":0},{"$f":"'3d'!AK13","v":0},{"$f":"'3d'!AL13","v":0},{"$f":"'3d'!AM13","v":0},{"$f":"'3d'!AN13","v":0},{"$f":"'3d'!AO13","v":0},{"$f":"'3d'!AP13","v":0},{"$f":"'3d'!AQ13","v":0},{"$f":"'3d'!AR13","v":0},{"$f":"'3d'!AS13","v":0},{"$f":"'3d'!AT13","v":0},{"$f":"'3d'!AU13","v":0},{"$f":"'3d'!AV13","v":0},{"$f":"'3d'!AW13","v":0},{"$f":"'3d'!AX13","v":0},{"$f":"'3d'!AY13","v":0},{"$f":"'3d'!AZ13","v":0},{"$f":"'3d'!BA13","v":0},{"$f":"'3d'!BB13","v":0},{"$f":"'3d'!BC13","v":0},{"$f":"'3d'!BD13","v":0},{"$f":"'3d'!BE13","v":0}]
[{"$f":"'3d'!A14","v":"3d"},{"$f":"'3d'!B14","v":0},{"$f":"'3d'!C14","v":0},{"$f":"'3d'!D14","v":"lehrer12"},{"$f":"'3d'!E14","v":0},{"$f":"'3d'!F14","v":0},{"$f":"'3d'!G14","v":0},{"$f":"'3d'!H14","v":0},{"$f":"'3d'!I14","v":0},{"$f":"'3d'!J14","v":0},{"$f":"'3d'!K14","v":0},{"$f":"'3d'!L14","v":0},{"$f":"'3d'!M14","v":0},{"$f":"'3d'!N14","v":0},{"$f":"'3d'!O14","v":0},{"$f":"'3d'!P14","v":0},{"$f":"'3d'!Q14","v":0},{"$f":"'3d'!R14","v":0},{"$f":"'3d'!S14","v":0},{"$f":"'3d'!T14","v":0},{"$f":"'3d'!U14","v":0},{"$f":"'3d'!V14","v":0},{"$f":"'3d'!W14","v":0},{"$f":"'3d'!X14","v":0},{"$f":"'3d'!Y14","v":0},{"$f":"'3d'!Z14","v":0},{"$f":"'3d'!AA14","v":0},{"$f":"'3d'!AB14","v":0},{"$f":"'3d'!AC14","v":0},{"$f":"'3d'!AD14","v":0},{"$f":"'3d'!AE14","v":0},{"$f":"'3d'!AF14","v":0},{"$f":"'3d'!AG14","v":0},{"$f":"'3d'!AH14","v":0},{"$f":"'3d'!AI14","v":0},{"$f":"'3d'!AJ14","v":0},{"$f":"'3d'!AK14","v":0},{"$f":"'3d'!AL14","v":0},{"$f":"'3d'!AM14","v":0},{"$f":"'3d'!AN14","v":0},{"$f":"'3d'!AO14","v":0},{"$f":"'3d'!AP14","v":0},{"$f":"'3d'!AQ14","v":0},{"$f":"'3d'!AR14","v":0},{"$f":"'3d'!AS14","v":0},{"$f":"'3d'!AT14","v":0},{"$f":"'3d'!AU14","v":0},{"$f":"'3d'!AV14","v":0},{"$f":"'3d'!AW14","v":0},{"$f":"'3d'!AX14","v":0},{"$f":"'3d'!AY14","v":0},{"$f":"'3d'!AZ14","v":0},{"$f":"'3d'!BA14","v":0},{"$f":"'3d'!BB14","v":0},{"$f":"'3d'!BC14","v":0},{"$f":"'3d'!BD14","v":0},{"$f":"'3d'!BE14","v":0}]
[{"$f":"'3d'!A15","v":"3d"},{"$f":"'3d'!B15","v":0},{"$f":"'3d'!C15","v":0},{"$f":"'3d'!D15","v":"lehrer13"},{"$f":"'3d'!E15","v":0},{"$f":"'3d'!F15","v":0},{"$f":"'3d'!G15","v":0},{"$f":"'3d'!H15","v":0},{"$f":"'3d'!I15","v":0},{"$f":"'3d'!J15","v":0},{"$f":"'3d'!K15","v":0},{"$f":"'3d'!L15","v":0},{"$f":"'3d'!M15","v":0},{"$f":"'3d'!N15","v":0},{"$f":"'3d'!O15","v":0},{"$f":"'3d'!P15","v":0},{"$f":"'3d'!Q15","v":0},{"$f":"'3d'!R15","v":0},{"$f":"'3d'!S15","v":0},{"$f":"'3d'!T15","v":0},{"$f":"'3d'!U15","v":0},{"$f":"'3d'!V15","v":0},{"$f":"'3d'!W15","v":0},{"$f":"'3d'!X15","v":0},{"$f":"'3d'!Y15","v":0},{"$f":"'3d'!Z15","v":0},{"$f":"'3d'!AA15","v":0},{"$f":"'3d'!AB15","v":0},{"$f":"'3d'!AC15","v":0},{"$f":"'3d'!AD15","v":0},{"$f":"'3d'!AE15","v":0},{"$f":"'3d'!AF15","v":0},{"$f":"'3d'!AG15","v":0},{"$f":"'3d'!AH15","v":0},{"$f":"'3d'!AI15","v":0},{"$f":"'3d'!AJ15","v":0},{"$f":"'3d'!AK15","v":0},{"$f":"'3d'!AL15","v":0},{"$f":"'3d'!AM15","v":0},{"$f":"'3d'!AN15","v":0},{"$f":"'3d'!AO15","v":0},{"$f":"'3d'!AP15","v":0},{"$f":"'3d'!AQ15","v":0},{"$f":"'3d'!AR15","v":0},{"$f":"'3d'!AS15","v":0},{"$f":"'3d'!AT15","v":0},{"$f":"'3d'!AU15","v":0},{"$f":"'3d'!AV15","v":0},{"$f":"'3d'!AW15","v":0},{"$f":"'3d'!AX15","v":0},{"$f":"'3d'!AY15","v":0},{"$f":"'3d'!AZ15","v":0},{"$f":"'3d'!BA15","v":0},{"$f":"'3d'!BB15","v":0},{"$f":"'3d'!BC15","v":0},{"$f":"'3d'!BD15","v":0},{"$f":"'3d'!BE15","v":0}]
[{"$f":"'3d'!A16","v":"3d"},{"$f":"'3d'!B16","v":0},{"$f":"'3d'!C16","v":0},{"$f":"'3d'!D16","v":"lehrer14"},{"$f":"'3d'!E16","v":0},{"$f":"'3d'!F16","v":0},{"$f":"'3d'!G16","v":0},{"$f":"'3d'!H16","v":0},{"$f":"'3d'!I16","v":0},{"$f":"'3d'!J16","v":0},{"$f":"'3d'!K16","v":0},{"$f":"'3d'!L16","v":0},{"$f":"'3d'!M16","v":0},{"$f":"'3d'!N16","v":0},{"$f":"'3d'!O16","v":0},{"$f":"'3d'!P16","v":0},{"$f":"'3d'!Q16","v":0},{"$f":"'3d'!R16","v":0},{"$f":"'3d'!S16","v":0},{"$f":"'3d'!T16","v":0},{"$f":"'3d'!U16","v":0},{"$f":"'3d'!V16","v":0},{"$f":"'3d'!W16","v":0},{"$f":"'3d'!X16","v":0},{"$f":"'3d'!Y16","v":0},{"$f":"'3d'!Z16","v":0},{"$f":"'3d'!AA16","v":0},{"$f":"'3d'!AB16","v":0},{"$f":"'3d'!AC16","v":0},{"$f":"'3d'!AD16","v":0},{"$f":"'3d'!AE16","v":0},{"$f":"'3d'!AF16","v":0},{"$f":"'3d'!AG16","v":0},{"$f":"'3d'!AH16","v":0},{"$f":"'3d'!AI16","v":0},{"$f":"'3d'!AJ16","v":0},{"$f":"'3d'!AK16","v":0},{"$f":"'3d'!AL16","v":0},{"$f":"'3d'!AM16","v":0},{"$f":"'3d'!AN16","v":0},{"$f":"'3d'!AO16","v":0},{"$f":"'3d'!AP16","v":0},{"$f":"'3d'!AQ16","v":0},{"$f":"'3d'!AR16","v":0},{"$f":"'3d'!AS16","v":0},{"$f":"'3d'!AT16","v":0},{"$f":"'3d'!AU16","v":0},{"$f":"'3d'!AV16","v":0},{"$f":"'3d'!AW16","v":0},{"$f":"'3d'!AX16","v":0},{"$f":"'3d'!AY16","v":0},{"$f":"'3d'!AZ16","v":0},{"$f":"'3d'!BA16","v":0},{"$f":"'3d'!BB16","v":0},{"$f":"'3d'!BC16","v":0},{"$f":"'3d'!BD16","v":0},{"$f":"'3d'!BE16","v":0}]
[{"$f":"'3d'!A17","v":"3d"},{"$f":"'3d'!B17","v":0},{"$f":"'3d'!C17","v":0},{"$f":"'3d'!D17","v":"lehrer15"},{"$f":"'3d'!E17","v":0},{"$f":"'3d'!F17","v":0},{"$f":"'3d'!G17","v":0},{"$f":"'3d'!H17","v":0},{"$f":"'3d'!I17","v":0},{"$f":"'3d'!J17","v":0},{"$f":"'3d'!K17","v":0},{"$f":"'3d'!L17","v":0},{"$f":"'3d'!M17","v":0},{"$f":"'3d'!N17","v":0},{"$f":"'3d'!O17","v":0},{"$f":"'3d'!P17","v":0},{"$f":"'3d'!Q17","v":0},{"$f":"'3d'!R17","v":0},{"$f":"'3d'!S17","v":0},{"$f":"'3d'!T17","v":0},{"$f":"'3d'!U17","v":0},{"$f":"'3d'!V17","v":0},{"$f":"'3d'!W17","v":0},{"$f":"'3d'!X17","v":0},{"$f":"'3d'!Y17","v":0},{"$f":"'3d'!Z17","v":0},{"$f":"'3d'!AA17","v":0},{"$f":"'3d'!AB17","v":0},{"$f":"'3d'!AC17","v":0},{"$f":"'3d'!AD17","v":0},{"$f":"'3d'!AE17","v":0},{"$f":"'3d'!AF17","v":0},{"$f":"'3d'!AG17","v":0},{"$f":"'3d'!AH17","v":0},{"$f":"'3d'!AI17","v":0},{"$f":"'3d'!AJ17","v":0},{"$f":"'3d'!AK17","v":0},{"$f":"'3d'!AL17","v":0},{"$f":"'3d'!AM17","v":0},{"$f":"'3d'!AN17","v":0},{"$f":"'3d'!AO17","v":0},{"$f":"'3d'!AP17","v":0},{"$f":"'3d'!AQ17","v":0},{"$f":"'3d'!AR17","v":0},{"$f":"'3d'!AS17","v":0},{"$f":"'3d'!AT17","v":0},{"$f":"'3d'!AU17","v":0},{"$f":"'3d'!AV17","v":0},{"$f":"'3d'!AW17","v":0},{"$f":"'3d'!AX17","v":0},{"$f":"'3d'!AY17","v":0},{"$f":"'3d'!AZ17","v":0},{"$f":"'3d'!BA17","v":0},{"$f":"'3d'!BB17","v":0},{"$f":"'3d'!BC17","v":0},{"$f":"'3d'!BD17","v":0},{"$f":"'3d'!BE17","v":0}]
[{"$f":"'3d'!A18","v":"3d"},{"$f":"'3d'!B18","v":0},{"$f":"'3d'!C18","v":0},{"$f":"'3d'!D18","v":"lehrer16"},{"$f":"'3d'!E18","v":0},{"$f":"'3d'!F18","v":0},{"$f":"'3d'!G18","v":0},{"$f":"'3d'!H18","v":0},{"$f":"'3d'!I18","v":0},{"$f":"'3d'!J18","v":0},{"$f":"'3d'!K18","v":0},{"$f":"'3d'!L18","v":0},{"$f":"'3d'!M18","v":0},{"$f":"'3d'!N18","v":0},{"$f":"'3d'!O18","v":0},{"$f":"'3d'!P18","v":0},{"$f":"'3d'!Q18","v":0},{"$f":"'3d'!R18","v":0},{"$f":"'3d'!S18","v":0},{"$f":"'3d'!T18","v":0},{"$f":"'3d'!U18","v":0},{"$f":"'3d'!V18","v":0},{"$f":"'3d'!W18","v":0},{"$f":"'3d'!X18","v":0},{"$f":"'3d'!Y18","v":0},{"$f":"'3d'!Z18","v":0},{"$f":"'3d'!AA18","v":0},{"$f":"'3d'!AB18","v":0},{"$f":"'3d'!AC18","v":0},{"$f":"'3d'!AD18","v":0},{"$f":"'3d'!AE18","v":0},{"$f":"'3d'!AF18","v":0},{"$f":"'3d'!AG18","v":0},{"$f":"'3d'!AH18","v":0},{"$f":"'3d'!AI18","v":0},{"$f":"'3d'!AJ18","v":0},{"$f":"'3d'!AK18","v":0},{"$f":"'3d'!AL18","v":0},{"$f":"'3d'!AM18","v":0},{"$f":"'3d'!AN18","v":0},{"$f":"'3d'!AO18","v":0},{"$f":"'3d'!AP18","v":0},{"$f":"'3d'!AQ18","v":0},{"$f":"'3d'!AR18","v":0},{"$f":"'3d'!AS18","v":0},{"$f":"'3d'!AT18","v":0},{"$f":"'3d'!AU18","v":0},{"$f":"'3d'!AV18","v":0},{"$f":"'3d'!AW18","v":0},{"$f":"'3d'!AX18","v":0},{"$f":"'3d'!AY18","v":0},{"$f":"'3d'!AZ18","v":0},{"$f":"'3d'!BA18","v":0},{"$f":"'3d'!BB18","v":0},{"$f":"'3d'!BC18","v":0},{"$f":"'3d'!BD18","v":0},{"$f":"'3d'!BE18","v":0}]
[{"$f":"'3d'!A19","v":"3d"},{"$f":"'3d'!B19","v":0},{"$f":"'3d'!C19","v":0},{"$f":"'3d'!D19","v":"lehrer17"},{"$f":"'3d'!E19","v":0},{"$f":"'3d'!F19","v":0},{"$f":"'3d'!G19","v":0},{"$f":"'3d'!H19","v":0},{"$f":"'3d'!I19","v":0},{"$f":"'3d'!J19","v":0},{"$f":"'3d'!K19","v":0},{"$f":"'3d'!L19","v":0},{"$f":"'3d'!M19","v":0},{"$f":"'3d'!N19","v":0},{"$f":"'3d'!O19","v":0},{"$f":"'3d'!P19","v":0},{"$f":"'3d'!Q19","v":0},{"$f":"'3d'!R19","v":0},{"$f":"'3d'!S19","v":0},{"$f":"'3d'!T19","v":0},{"$f":"'3d'!U19","v":0},{"$f":"'3d'!V19","v":0},{"$f":"'3d'!W19","v":0},{"$f":"'3d'!X19","v":0},{"$f":"'3d'!Y19","v":0},{"$f":"'3d'!Z19","v":0},{"$f":"'3d'!AA19","v":0},{"$f":"'3d'!AB19","v":0},{"$f":"'3d'!AC19","v":0},{"$f":"'3d'!AD19","v":0},{"$f":"'3d'!AE19","v":0},{"$f":"'3d'!AF19","v":0},{"$f":"'3d'!AG19","v":0},{"$f":"'3d'!AH19","v":0},{"$f":"'3d'!AI19","v":0},{"$f":"'3d'!AJ19","v":0},{"$f":"'3d'!AK19","v":0},{"$f":"'3d'!AL19","v":0},{"$f":"'3d'!AM19","v":0},{"$f":"'3d'!AN19","v":0},{"$f":"'3d'!AO19","v":0},{"$f":"'3d'!AP19","v":0},{"$f":"'3d'!AQ19","v":0},{"$f":"'3d'!AR19","v":0},{"$f":"'3d'!AS19","v":0},{"$f":"'3d'!AT19","v":0},{"$f":"'3d'!AU19","v":0},{"$f":"'3d'!AV19","v":0},{"$f":"'3d'!AW19","v":0},{"$f":"'3d'!AX19","v":0},{"$f":"'3d'!AY19","v":0},{"$f":"'3d'!AZ19","v":0},{"$f":"'3d'!BA19","v":0},{"$f":"'3d'!BB19","v":0},{"$f":"'3d'!BC19","v":0},{"$f":"'3d'!BD19","v":0},{"$f":"'3d'!BE19","v":0}]
[{"$f":"'3d'!A20","v":"3d"},{"$f":"'3d'!B20","v":0},{"$f":"'3d'!C20","v":0},{"$f":"'3d'!D20","v":"lehrer18"},{"$f":"'3d'!E20","v":0},{"$f":"'3d'!F20","v":0},{"$f":"'3d'!G20","v":0},{"$f":"'3d'!H20","v":0},{"$f":"'3d'!I20","v":0},{"$f":"'3d'!J20","v":0},{"$f":"'3d'!K20","v":0},{"$f":"'3d'!L20","v":0},{"$f":"'3d'!M20","v":0},{"$f":"'3d'!N20","v":0},{"$f":"'3d'!O20","v":0},{"$f":"'3d'!P20","v":0},{"$f":"'3d'!Q20","v":0},{"$f":"'3d'!R20","v":0},{"$f":"'3d'!S20","v":0},{"$f":"'3d'!T20","v":0},{"$f":"'3d'!U20","v":0},{"$f":"'3d'!V20","v":0},{"$f":"'3d'!W20","v":0},{"$f":"'3d'!X20","v":0},{"$f":"'3d'!Y20","v":0},{"$f":"'3d'!Z20","v":0},{"$f":"'3d'!AA20","v":0},{"$f":"'3d'!AB20","v":0},{"$f":"'3d'!AC20","v":0},{"$f":"'3d'!AD20","v":0},{"$f":"'3d'!AE20","v":0},{"$f":"'3d'!AF20","v":0},{"$f":"'3d'!AG20","v":0},{"$f":"'3d'!AH20","v":0},{"$f":"'3d'!AI20","v":0},{"$f":"'3d'!AJ20","v":0},{"$f":"'3d'!AK20","v":0},{"$f":"'3d'!AL20","v":0},{"$f":"'3d'!AM20","v":0},{"$f":"'3d'!AN20","v":0},{"$f":"'3d'!AO20","v":0},{"$f":"'3d'!AP20","v":0},{"$f":"'3d'!AQ20","v":0},{"$f":"'3d'!AR20","v":0},{"$f":"'3d'!AS20","v":0},{"$f":"'3d'!AT20","v":0},{"$f":"'3d'!AU20","v":0},{"$f":"'3d'!AV20","v":0},{"$f":"'3d'!AW20","v":0},{"$f":"'3d'!AX20","v":0},{"$f":"'3d'!AY20","v":0},{"$f":"'3d'!AZ20","v":0},{"$f":"'3d'!BA20","v":0},{"$f":"'3d'!BB20","v":0},{"$f":"'3d'!BC20","v":0},{"$f":"'3d'!BD20","v":0},{"$f":"'3d'!BE20","v":0}]
[{"$f":"'3d'!A21","v":"3d"},{"$f":"'3d'!B21","v":0},{"$f":"'3d'!C21","v":0},{"$f":"'3d'!D21","v":"lehrer19"},{"$f":"'3d'!E21","v":0},{"$f":"'3d'!F21","v":0},{"$f":"'3d'!G21","v":0},{"$f":"'3d'!H21","v":0},{"$f":"'3d'!I21","v":0},{"$f":"'3d'!J21","v":0},{"$f":"'3d'!K21","v":0},{"$f":"'3d'!L21","v":0},{"$f":"'3d'!M21","v":0},{"$f":"'3d'!N21","v":0},{"$f":"'3d'!O21","v":0},{"$f":"'3d'!P21","v":0},{"$f":"'3d'!Q21","v":0},{"$f":"'3d'!R21","v":0},{"$f":"'3d'!S21","v":0},{"$f":"'3d'!T21","v":0},{"$f":"'3d'!U21","v":0},{"$f":"'3d'!V21","v":0},{"$f":"'3d'!W21","v":0},{"$f":"'3d'!X21","v":0},{"$f":"'3d'!Y21","v":0},{"$f":"'3d'!Z21","v":0},{"$f":"'3d'!AA21","v":0},{"$f":"'3d'!AB21","v":0},{"$f":"'3d'!AC21","v":0},{"$f":"'3d'!AD21","v":0},{"$f":"'3d'!AE21","v":0},{"$f":"'3d'!AF21","v":0},{"$f":"'3d'!AG21","v":0},{"$f":"'3d'!AH21","v":0},{"$f":"'3d'!AI21","v":0},{"$f":"'3d'!AJ21","v":0},{"$f":"'3d'!AK21","v":0},{"$f":"'3d'!AL21","v":0},{"$f":"'3d'!AM21","v":0},{"$f":"'3d'!AN21","v":0},{"$f":"'3d'!AO21","v":0},{"$f":"'3d'!AP21","v":0},{"$f":"'3d'!AQ21","v":0},{"$f":"'3d'!AR21","v":0},{"$f":"'3d'!AS21","v":0},{"$f":"'3d'!AT21","v":0},{"$f":"'3d'!AU21","v":0},{"$f":"'3d'!AV21","v":0},{"$f":"'3d'!AW21","v":0},{"$f":"'3d'!AX21","v":0},{"$f":"'3d'!AY21","v":0},{"$f":"'3d'!AZ21","v":0},{"$f":"'3d'!BA21","v":0},{"$f":"'3d'!BB21","v":0},{"$f":"'3d'!BC21","v":0},{"$f":"'3d'!BD21","v":0},{"$f":"'3d'!BE21","v":0}]
[{"$f":"'3d'!A22","v":"3d"},{"$f":"'3d'!B22","v":0},{"$f":"'3d'!C22","v":0},{"$f":"'3d'!D22","v":"lehrer20"},{"$f":"'3d'!E22","v":0},{"$f":"'3d'!F22","v":0},{"$f":"'3d'!G22","v":0},{"$f":"'3d'!H22","v":0},{"$f":"'3d'!I22","v":0},{"$f":"'3d'!J22","v":0},{"$f":"'3d'!K22","v":0},{"$f":"'3d'!L22","v":0},{"$f":"'3d'!M22","v":0},{"$f":"'3d'!N22","v":0},{"$f":"'3d'!O22","v":0},{"$f":"'3d'!P22","v":0},{"$f":"'3d'!Q22","v":0},{"$f":"'3d'!R22","v":0},{"$f":"'3d'!S22","v":0},{"$f":"'3d'!T22","v":0},{"$f":"'3d'!U22","v":0},{"$f":"'3d'!V22","v":0},{"$f":"'3d'!W22","v":0},{"$f":"'3d'!X22","v":0},{"$f":"'3d'!Y22","v":0},{"$f":"'3d'!Z22","v":0},{"$f":"'3d'!AA22","v":0},{"$f":"'3d'!AB22","v":0},{"$f":"'3d'!AC22","v":0},{"$f":"'3d'!AD22","v":0},{"$f":"'3d'!AE22","v":0},{"$f":"'3d'!AF22","v":0},{"$f":"'3d'!AG22","v":0},{"$f":"'3d'!AH22","v":0},{"$f":"'3d'!AI22","v":0},{"$f":"'3d'!AJ22","v":0},{"$f":"'3d'!AK22","v":0},{"$f":"'3d'!AL22","v":0},{"$f":"'3d'!AM22","v":0},{"$f":"'3d'!AN22","v":0},{"$f":"'3d'!AO22","v":0},{"$f":"'3d'!AP22","v":0},{"$f":"'3d'!AQ22","v":0},{"$f":"'3d'!AR22","v":0},{"$f":"'3d'!AS22","v":0},{"$f":"'3d'!AT22","v":0},{"$f":"'3d'!AU22","v":0},{"$f":"'3d'!AV22","v":0},{"$f":"'3d'!AW22","v":0},{"$f":"'3d'!AX22","v":0},{"$f":"'3d'!AY22","v":0},{"$f":"'3d'!AZ22","v":0},{"$f":"'3d'!BA22","v":0},{"$f":"'3d'!BB22","v":0},{"$f":"'3d'!BC22","v":0},{"$f":"'3d'!BD22","v":0},{"$f":"'3d'!BE22","v":0}]
[{"$f":"'3d'!A23","v":"3d"},{"$f":"'3d'!B23","v":0},{"$f":"'3d'!C23","v":0},{"$f":"'3d'!D23","v":"lehrer21"},{"$f":"'3d'!E23","v":0},{"$f":"'3d'!F23","v":0},{"$f":"'3d'!G23","v":0},{"$f":"'3d'!H23","v":0},{"$f":"'3d'!I23","v":0},{"$f":"'3d'!J23","v":0},{"$f":"'3d'!K23","v":0},{"$f":"'3d'!L23","v":0},{"$f":"'3d'!M23","v":0},{"$f":"'3d'!N23","v":0},{"$f":"'3d'!O23","v":0},{"$f":"'3d'!P23","v":0},{"$f":"'3d'!Q23","v":0},{"$f":"'3d'!R23","v":0},{"$f":"'3d'!S23","v":0},{"$f":"'3d'!T23","v":0},{"$f":"'3d'!U23","v":0},{"$f":"'3d'!V23","v":0},{"$f":"'3d'!W23","v":0},{"$f":"'3d'!X23","v":0},{"$f":"'3d'!Y23","v":0},{"$f":"'3d'!Z23","v":0},{"$f":"'3d'!AA23","v":0},{"$f":"'3d'!AB23","v":0},{"$f":"'3d'!AC23","v":0},{"$f":"'3d'!AD23","v":0},{"$f":"'3d'!AE23","v":0},{"$f":"'3d'!AF23","v":0},{"$f":"'3d'!AG23","v":0},{"$f":"'3d'!AH23","v":0},{"$f":"'3d'!AI23","v":0},{"$f":"'3d'!AJ23","v":0},{"$f":"'3d'!AK23","v":0},{"$f":"'3d'!AL23","v":0},{"$f":"'3d'!AM23","v":0},{"$f":"'3d'!AN23","v":0},{"$f":"'3d'!AO23","v":0},{"$f":"'3d'!AP23","v":0},{"$f":"'3d'!AQ23","v":0},{"$f":"'3d'!AR23","v":0},{"$f":"'3d'!AS23","v":0},{"$f":"'3d'!AT23","v":0},{"$f":"'3d'!AU23","v":0},{"$f":"'3d'!AV23","v":0},{"$f":"'3d'!AW23","v":0},{"$f":"'3d'!AX23","v":0},{"$f":"'3d'!AY23","v":0},{"$f":"'3d'!AZ23","v":0},{"$f":"'3d'!BA23","v":0},{"$f":"'3d'!BB23","v":0},{"$f":"'3d'!BC23","v":0},{"$f":"'3d'!BD23","v":0},{"$f":"'3d'!BE23","v":0}]
[{"$f":"'3d'!A24","v":"3d"},{"$f":"'3d'!B24","v":0},{"$f":"'3d'!C24","v":0},{"$f":"'3d'!D24","v":"lehrer22"},{"$f":"'3d'!E24","v":0},{"$f":"'3d'!F24","v":0},{"$f":"'3d'!G24","v":0},{"$f":"'3d'!H24","v":0},{"$f":"'3d'!I24","v":0},{"$f":"'3d'!J24","v":0},{"$f":"'3d'!K24","v":0},{"$f":"'3d'!L24","v":0},{"$f":"'3d'!M24","v":0},{"$f":"'3d'!N24","v":0},{"$f":"'3d'!O24","v":0},{"$f":"'3d'!P24","v":0},{"$f":"'3d'!Q24","v":0},{"$f":"'3d'!R24","v":0},{"$f":"'3d'!S24","v":0},{"$f":"'3d'!T24","v":0},{"$f":"'3d'!U24","v":0},{"$f":"'3d'!V24","v":0},{"$f":"'3d'!W24","v":0},{"$f":"'3d'!X24","v":0},{"$f":"'3d'!Y24","v":0},{"$f":"'3d'!Z24","v":0},{"$f":"'3d'!AA24","v":0},{"$f":"'3d'!AB24","v":0},{"$f":"'3d'!AC24","v":0},{"$f":"'3d'!AD24","v":0},{"$f":"'3d'!AE24","v":0},{"$f":"'3d'!AF24","v":0},{"$f":"'3d'!AG24","v":0},{"$f":"'3d'!AH24","v":0},{"$f":"'3d'!AI24","v":0},{"$f":"'3d'!AJ24","v":0},{"$f":"'3d'!AK24","v":0},{"$f":"'3d'!AL24","v":0},{"$f":"'3d'!AM24","v":0},{"$f":"'3d'!AN24","v":0},{"$f":"'3d'!AO24","v":0},{"$f":"'3d'!AP24","v":0},{"$f":"'3d'!AQ24","v":0},{"$f":"'3d'!AR24","v":0},{"$f":"'3d'!AS24","v":0},{"$f":"'3d'!AT24","v":0},{"$f":"'3d'!AU24","v":0},{"$f":"'3d'!AV24","v":0},{"$f":"'3d'!AW24","v":0},{"$f":"'3d'!AX24","v":0},{"$f":"'3d'!AY24","v":0},{"$f":"'3d'!AZ24","v":0},{"$f":"'3d'!BA24","v":0},{"$f":"'3d'!BB24","v":0},{"$f":"'3d'!BC24","v":0},{"$f":"'3d'!BD24","v":0},{"$f":"'3d'!BE24","v":0}]
[{"$f":"'3d'!A25","v":"3d"},{"$f":"'3d'!B25","v":0},{"$f":"'3d'!C25","v":0},{"$f":"'3d'!D25","v":"lehrer23"},{"$f":"'3d'!E25","v":0},{"$f":"'3d'!F25","v":0},{"$f":"'3d'!G25","v":0},{"$f":"'3d'!H25","v":0},{"$f":"'3d'!I25","v":0},{"$f":"'3d'!J25","v":0},{"$f":"'3d'!K25","v":0},{"$f":"'3d'!L25","v":0},{"$f":"'3d'!M25","v":0},{"$f":"'3d'!N25","v":0},{"$f":"'3d'!O25","v":0},{"$f":"'3d'!P25","v":0},{"$f":"'3d'!Q25","v":0},{"$f":"'3d'!R25","v":0},{"$f":"'3d'!S25","v":0},{"$f":"'3d'!T25","v":0},{"$f":"'3d'!U25","v":0},{"$f":"'3d'!V25","v":0},{"$f":"'3d'!W25","v":0},{"$f":"'3d'!X25","v":0},{"$f":"'3d'!Y25","v":0},{"$f":"'3d'!Z25","v":0},{"$f":"'3d'!AA25","v":0},{"$f":"'3d'!AB25","v":0},{"$f":"'3d'!AC25","v":0},{"$f":"'3d'!AD25","v":0},{"$f":"'3d'!AE25","v":0},{"$f":"'3d'!AF25","v":0},{"$f":"'3d'!AG25","v":0},{"$f":"'3d'!AH25","v":0},{"$f":"'3d'!AI25","v":0},{"$f":"'3d'!AJ25","v":0},{"$f":"'3d'!AK25","v":0},{"$f":"'3d'!AL25","v":0},{"$f":"'3d'!AM25","v":0},{"$f":"'3d'!AN25","v":0},{"$f":"'3d'!AO25","v":0},{"$f":"'3d'!AP25","v":0},{"$f":"'3d'!AQ25","v":0},{"$f":"'3d'!AR25","v":0},{"$f":"'3d'!AS25","v":0},{"$f":"'3d'!AT25","v":0},{"$f":"'3d'!AU25","v":0},{"$f":"'3d'!AV25","v":0},{"$f":"'3d'!AW25","v":0},{"$f":"'3d'!AX25","v":0},{"$f":"'3d'!AY25","v":0},{"$f":"'3d'!AZ25","v":0},{"$f":"'3d'!BA25","v":0},{"$f":"'3d'!BB25","v":0},{"$f":"'3d'!BC25","v":0},{"$f":"'3d'!BD25","v":0},{"$f":"'3d'!BE25","v":0}]
[{"$f":"'3d'!A26","v":"3d"},{"$f":"'3d'!B26","v":0},{"$f":"'3d'!C26","v":0},{"$f":"'3d'!D26","v":"lehrer24"},{"$f":"'3d'!E26","v":0},{"$f":"'3d'!F26","v":0},{"$f":"'3d'!G26","v":0},{"$f":"'3d'!H26","v":0},{"$f":"'3d'!I26","v":0},{"$f":"'3d'!J26","v":0},{"$f":"'3d'!K26","v":0},{"$f":"'3d'!L26","v":0},{"$f":"'3d'!M26","v":0},{"$f":"'3d'!N26","v":0},{"$f":"'3d'!O26","v":0},{"$f":"'3d'!P26","v":0},{"$f":"'3d'!Q26","v":0},{"$f":"'3d'!R26","v":0},{"$f":"'3d'!S26","v":0},{"$f":"'3d'!T26","v":0},{"$f":"'3d'!U26","v":0},{"$f":"'3d'!V26","v":0},{"$f":"'3d'!W26","v":0},{"$f":"'3d'!X26","v":0},{"$f":"'3d'!Y26","v":0},{"$f":"'3d'!Z26","v":0},{"$f":"'3d'!AA26","v":0},{"$f":"'3d'!AB26","v":0},{"$f":"'3d'!AC26","v":0},{"$f":"'3d'!AD26","v":0},{"$f":"'3d'!AE26","v":0},{"$f":"'3d'!AF26","v":0},{"$f":"'3d'!AG26","v":0},{"$f":"'3d'!AH26","v":0},{"$f":"'3d'!AI26","v":0},{"$f":"'3d'!AJ26","v":0},{"$f":"'3d'!AK26","v":0},{"$f":"'3d'!AL26","v":0},{"$f":"'3d'!AM26","v":0},{"$f":"'3d'!AN26","v":0},{"$f":"'3d'!AO26","v":0},{"$f":"'3d'!AP26","v":0},{"$f":"'3d'!AQ26","v":0},{"$f":"'3d'!AR26","v":0},{"$f":"'3d'!AS26","v":0},{"$f":"'3d'!AT26","v":0},{"$f":"'3d'!AU26","v":0},{"$f":"'3d'!AV26","v":0},{"$f":"'3d'!AW26","v":0},{"$f":"'3d'!AX26","v":0},{"$f":"'3d'!AY26","v":0},{"$f":"'3d'!AZ26","v":0},{"$f":"'3d'!BA26","v":0},{"$f":"'3d'!BB26","v":0},{"$f":"'3d'!BC26","v":0},{"$f":"'3d'!BD26","v":0},{"$f":"'3d'!BE26","v":0}]
[{"$f":"'3d'!A27","v":"3d"},{"$f":"'3d'!B27","v":0},{"$f":"'3d'!C27","v":0},{"$f":"'3d'!D27","v":"lehrer25"},{"$f":"'3d'!E27","v":0},{"$f":"'3d'!F27","v":0},{"$f":"'3d'!G27","v":0},{"$f":"'3d'!H27","v":0},{"$f":"'3d'!I27","v":0},{"$f":"'3d'!J27","v":0},{"$f":"'3d'!K27","v":0},{"$f":"'3d'!L27","v":0},{"$f":"'3d'!M27","v":0},{"$f":"'3d'!N27","v":0},{"$f":"'3d'!O27","v":0},{"$f":"'3d'!P27","v":0},{"$f":"'3d'!Q27","v":0},{"$f":"'3d'!R27","v":0},{"$f":"'3d'!S27","v":0},{"$f":"'3d'!T27","v":0},{"$f":"'3d'!U27","v":0},{"$f":"'3d'!V27","v":0},{"$f":"'3d'!W27","v":0},{"$f":"'3d'!X27","v":0},{"$f":"'3d'!Y27","v":0},{"$f":"'3d'!Z27","v":0},{"$f":"'3d'!AA27","v":0},{"$f":"'3d'!AB27","v":0},{"$f":"'3d'!AC27","v":0},{"$f":"'3d'!AD27","v":0},{"$f":"'3d'!AE27","v":0},{"$f":"'3d'!AF27","v":0},{"$f":"'3d'!AG27","v":0},{"$f":"'3d'!AH27","v":0},{"$f":"'3d'!AI27","v":0},{"$f":"'3d'!AJ27","v":0},{"$f":"'3d'!AK27","v":0},{"$f":"'3d'!AL27","v":0},{"$f":"'3d'!AM27","v":0},{"$f":"'3d'!AN27","v":0},{"$f":"'3d'!AO27","v":0},{"$f":"'3d'!AP27","v":0},{"$f":"'3d'!AQ27","v":0},{"$f":"'3d'!AR27","v":0},{"$f":"'3d'!AS27","v":0},{"$f":"'3d'!AT27","v":0},{"$f":"'3d'!AU27","v":0},{"$f":"'3d'!AV27","v":0},{"$f":"'3d'!AW27","v":0},{"$f":"'3d'!AX27","v":0},{"$f":"'3d'!AY27","v":0},{"$f":"'3d'!AZ27","v":0},{"$f":"'3d'!BA27","v":0},{"$f":"'3d'!BB27","v":0},{"$f":"'3d'!BC27","v":0},{"$f":"'3d'!BD27","v":0},{"$f":"'3d'!BE27","v":0}]
[{"$f":"'3d'!A28","v":"3d"},{"$f":"'3d'!B28","v":0},{"$f":"'3d'!C28","v":0},{"$f":"'3d'!D28","v":"lehrer26"},{"$f":"'3d'!E28","v":0},{"$f":"'3d'!F28","v":0},{"$f":"'3d'!G28","v":0},{"$f":"'3d'!H28","v":0},{"$f":"'3d'!I28","v":0},{"$f":"'3d'!J28","v":0},{"$f":"'3d'!K28","v":0},{"$f":"'3d'!L28","v":0},{"$f":"'3d'!M28","v":0},{"$f":"'3d'!N28","v":0},{"$f":"'3d'!O28","v":0},{"$f":"'3d'!P28","v":0},{"$f":"'3d'!Q28","v":0},{"$f":"'3d'!R28","v":0},{"$f":"'3d'!S28","v":0},{"$f":"'3d'!T28","v":0},{"$f":"'3d'!U28","v":0},{"$f":"'3d'!V28","v":0},{"$f":"'3d'!W28","v":0},{"$f":"'3d'!X28","v":0},{"$f":"'3d'!Y28","v":0},{"$f":"'3d'!Z28","v":0},{"$f":"'3d'!AA28","v":0},{"$f":"'3d'!AB28","v":0},{"$f":"'3d'!AC28","v":0},{"$f":"'3d'!AD28","v":0},{"$f":"'3d'!AE28","v":0},{"$f":"'3d'!AF28","v":0},{"$f":"'3d'!AG28","v":0},{"$f":"'3d'!AH28","v":0},{"$f":"'3d'!AI28","v":0},{"$f":"'3d'!AJ28","v":0},{"$f":"'3d'!AK28","v":0},{"$f":"'3d'!AL28","v":0},{"$f":"'3d'!AM28","v":0},{"$f":"'3d'!AN28","v":0},{"$f":"'3d'!AO28","v":0},{"$f":"'3d'!AP28","v":0},{"$f":"'3d'!AQ28","v":0},{"$f":"'3d'!AR28","v":0},{"$f":"'3d'!AS28","v":0},{"$f":"'3d'!AT28","v":0},{"$f":"'3d'!AU28","v":0},{"$f":"'3d'!AV28","v":0},{"$f":"'3d'!AW28","v":0},{"$f":"'3d'!AX28","v":0},{"$f":"'3d'!AY28","v":0},{"$f":"'3d'!AZ28","v":0},{"$f":"'3d'!BA28","v":0},{"$f":"'3d'!BB28","v":0},{"$f":"'3d'!BC28","v":0},{"$f":"'3d'!BD28","v":0},{"$f":"'3d'!BE28","v":0}]
[{"$f":"'3d'!A29","v":"3d"},{"$f":"'3d'!B29","v":0},{"$f":"'3d'!C29","v":0},{"$f":"'3d'!D29","v":"lehrer27"},{"$f":"'3d'!E29","v":0},{"$f":"'3d'!F29","v":0},{"$f":"'3d'!G29","v":0},{"$f":"'3d'!H29","v":0},{"$f":"'3d'!I29","v":0},{"$f":"'3d'!J29","v":0},{"$f":"'3d'!K29","v":0},{"$f":"'3d'!L29","v":0},{"$f":"'3d'!M29","v":0},{"$f":"'3d'!N29","v":0},{"$f":"'3d'!O29","v":0},{"$f":"'3d'!P29","v":0},{"$f":"'3d'!Q29","v":0},{"$f":"'3d'!R29","v":0},{"$f":"'3d'!S29","v":0},{"$f":"'3d'!T29","v":0},{"$f":"'3d'!U29","v":0},{"$f":"'3d'!V29","v":0},{"$f":"'3d'!W29","v":0},{"$f":"'3d'!X29","v":0},{"$f":"'3d'!Y29","v":0},{"$f":"'3d'!Z29","v":0},{"$f":"'3d'!AA29","v":0},{"$f":"'3d'!AB29","v":0},{"$f":"'3d'!AC29","v":0},{"$f":"'3d'!AD29","v":0},{"$f":"'3d'!AE29","v":0},{"$f":"'3d'!AF29","v":0},{"$f":"'3d'!AG29","v":0},{"$f":"'3d'!AH29","v":0},{"$f":"'3d'!AI29","v":0},{"$f":"'3d'!AJ29","v":0},{"$f":"'3d'!AK29","v":0},{"$f":"'3d'!AL29","v":0},{"$f":"'3d'!AM29","v":0},{"$f":"'3d'!AN29","v":0},{"$f":"'3d'!AO29","v":0},{"$f":"'3d'!AP29","v":0},{"$f":"'3d'!AQ29","v":0},{"$f":"'3d'!AR29","v":0},{"$f":"'3d'!AS29","v":0},{"$f":"'3d'!AT29","v":0},{"$f":"'3d'!AU29","v":0},{"$f":"'3d'!AV29","v":0},{"$f":"'3d'!AW29","v":0},{"$f":"'3d'!AX29","v":0},{"$f":"'3d'!AY29","v":0},{"$f":"'3d'!AZ29","v":0},{"$f":"'3d'!BA29","v":0},{"$f":"'3d'!BB29","v":0},{"$f":"'3d'!BC29","v":0},{"$f":"'3d'!BD29","v":0},{"$f":"'3d'!BE29","v":0}]
[{"$f":"'3d'!A30","v":"3d"},{"$f":"'3d'!B30","v":0},{"$f":"'3d'!C30","v":0},{"$f":"'3d'!D30","v":"lehrer28"},{"$f":"'3d'!E30","v":0},{"$f":"'3d'!F30","v":0},{"$f":"'3d'!G30","v":0},{"$f":"'3d'!H30","v":0},{"$f":"'3d'!I30","v":0},{"$f":"'3d'!J30","v":0},{"$f":"'3d'!K30","v":0},{"$f":"'3d'!L30","v":0},{"$f":"'3d'!M30","v":0},{"$f":"'3d'!N30","v":0},{"$f":"'3d'!O30","v":0},{"$f":"'3d'!P30","v":0},{"$f":"'3d'!Q30","v":0},{"$f":"'3d'!R30","v":0},{"$f":"'3d'!S30","v":0},{"$f":"'3d'!T30","v":0},{"$f":"'3d'!U30","v":0},{"$f":"'3d'!V30","v":0},{"$f":"'3d'!W30","v":0},{"$f":"'3d'!X30","v":0},{"$f":"'3d'!Y30","v":0},{"$f":"'3d'!Z30","v":0},{"$f":"'3d'!AA30","v":0},{"$f":"'3d'!AB30","v":0},{"$f":"'3d'!AC30","v":0},{"$f":"'3d'!AD30","v":0},{"$f":"'3d'!AE30","v":0},{"$f":"'3d'!AF30","v":0},{"$f":"'3d'!AG30","v":0},{"$f":"'3d'!AH30","v":0},{"$f":"'3d'!AI30","v":0},{"$f":"'3d'!AJ30","v":0},{"$f":"'3d'!AK30","v":0},{"$f":"'3d'!AL30","v":0},{"$f":"'3d'!AM30","v":0},{"$f":"'3d'!AN30","v":0},{"$f":"'3d'!AO30","v":0},{"$f":"'3d'!AP30","v":0},{"$f":"'3d'!AQ30","v":0},{"$f":"'3d'!AR30","v":0},{"$f":"'3d'!AS30","v":0},{"$f":"'3d'!AT30","v":0},{"$f":"'3d'!AU30","v":0},{"$f":"'3d'!AV30","v":0},{"$f":"'3d'!AW30","v":0},{"$f":"'3d'!AX30","v":0},{"$f":"'3d'!AY30","v":0},{"$f":"'3d'!AZ30","v":0},{"$f":"'3d'!BA30","v":0},{"$f":"'3d'!BB30","v":0},{"$f":"'3d'!BC30","v":0},{"$f":"'3d'!BD30","v":0},{"$f":"'3d'!BE30","v":0}]
[{"$f":"'3d'!A31","v":"3d"},{"$f":"'3d'!B31","v":0},{"$f":"'3d'!C31","v":0},{"$f":"'3d'!D31","v":"lehrer29"},{"$f":"'3d'!E31","v":0},{"$f":"'3d'!F31","v":0},{"$f":"'3d'!G31","v":0},{"$f":"'3d'!H31","v":0},{"$f":"'3d'!I31","v":0},{"$f":"'3d'!J31","v":0},{"$f":"'3d'!K31","v":0},{"$f":"'3d'!L31","v":0},{"$f":"'3d'!M31","v":0},{"$f":"'3d'!N31","v":0},{"$f":"'3d'!O31","v":0},{"$f":"'3d'!P31","v":0},{"$f":"'3d'!Q31","v":0},{"$f":"'3d'!R31","v":0},{"$f":"'3d'!S31","v":0},{"$f":"'3d'!T31","v":0},{"$f":"'3d'!U31","v":0},{"$f":"'3d'!V31","v":0},{"$f":"'3d'!W31","v":0},{"$f":"'3d'!X31","v":0},{"$f":"'3d'!Y31","v":0},{"$f":"'3d'!Z31","v":0},{"$f":"'3d'!AA31","v":0},{"$f":"'3d'!AB31","v":0},{"$f":"'3d'!AC31","v":0},{"$f":"'3d'!AD31","v":0},{"$f":"'3d'!AE31","v":0},{"$f":"'3d'!AF31","v":0},{"$f":"'3d'!AG31","v":0},{"$f":"'3d'!AH31","v":0},{"$f":"'3d'!AI31","v":0},{"$f":"'3d'!AJ31","v":0},{"$f":"'3d'!AK31","v":0},{"$f":"'3d'!AL31","v":0},{"$f":"'3d'!AM31","v":0},{"$f":"'3d'!AN31","v":0},{"$f":"'3d'!AO31","v":0},{"$f":"'3d'!AP31","v":0},{"$f":"'3d'!AQ31","v":0},{"$f":"'3d'!AR31","v":0},{"$f":"'3d'!AS31","v":0},{"$f":"'3d'!AT31","v":0},{"$f":"'3d'!AU31","v":0},{"$f":"'3d'!AV31","v":0},{"$f":"'3d'!AW31","v":0},{"$f":"'3d'!AX31","v":0},{"$f":"'3d'!AY31","v":0},{"$f":"'3d'!AZ31","v":0},{"$f":"'3d'!BA31","v":0},{"$f":"'3d'!BB31","v":0},{"$f":"'3d'!BC31","v":0},{"$f":"'3d'!BD31","v":0},{"$f":"'3d'!BE31","v":0}]
[{"$f":"'3d'!A32","v":"3d"},{"$f":"'3d'!B32","v":0},{"$f":"'3d'!C32","v":0},{"$f":"'3d'!D32","v":"lehrer30"},{"$f":"'3d'!E32","v":0},{"$f":"'3d'!F32","v":0},{"$f":"'3d'!G32","v":0},{"$f":"'3d'!H32","v":0},{"$f":"'3d'!I32","v":0},{"$f":"'3d'!J32","v":0},{"$f":"'3d'!K32","v":0},{"$f":"'3d'!L32","v":0},{"$f":"'3d'!M32","v":0},{"$f":"'3d'!N32","v":0},{"$f":"'3d'!O32","v":0},{"$f":"'3d'!P32","v":0},{"$f":"'3d'!Q32","v":0},{"$f":"'3d'!R32","v":0},{"$f":"'3d'!S32","v":0},{"$f":"'3d'!T32","v":0},{"$f":"'3d'!U32","v":0},{"$f":"'3d'!V32","v":0},{"$f":"'3d'!W32","v":0},{"$f":"'3d'!X32","v":0},{"$f":"'3d'!Y32","v":0},{"$f":"'3d'!Z32","v":0},{"$f":"'3d'!AA32","v":0},{"$f":"'3d'!AB32","v":0},{"$f":"'3d'!AC32","v":0},{"$f":"'3d'!AD32","v":0},{"$f":"'3d'!AE32","v":0},{"$f":"'3d'!AF32","v":0},{"$f":"'3d'!AG32","v":0},{"$f":"'3d'!AH32","v":0},{"$f":"'3d'!AI32","v":0},{"$f":"'3d'!AJ32","v":0},{"$f":"'3d'!AK32","v":0},{"$f":"'3d'!AL32","v":0},{"$f":"'3d'!AM32","v":0},{"$f":"'3d'!AN32","v":0},{"$f":"'3d'!AO32","v":0},{"$f":"'3d'!AP32","v":0},{"$f":"'3d'!AQ32","v":0},{"$f":"'3d'!AR32","v":0},{"$f":"'3d'!AS32","v":0},{"$f":"'3d'!AT32","v":0},{"$f":"'3d'!AU32","v":0},{"$f":"'3d'!AV32","v":0},{"$f":"'3d'!AW32","v":0},{"$f":"'3d'!AX32","v":0},{"$f":"'3d'!AY32","v":0},{"$f":"'3d'!AZ32","v":0},{"$f":"'3d'!BA32","v":0},{"$f":"'3d'!BB32","v":0},{"$f":"'3d'!BC32","v":0},{"$f":"'3d'!BD32","v":0},{"$f":"'3d'!BE32","v":0}]
[{"$f":"'3d'!A33","v":"3d"},{"$f":"'3d'!B33","v":0},{"$f":"'3d'!C33","v":0},{"$f":"'3d'!D33","v":"lehrer31"},{"$f":"'3d'!E33","v":0},{"$f":"'3d'!F33","v":0},{"$f":"'3d'!G33","v":0},{"$f":"'3d'!H33","v":0},{"$f":"'3d'!I33","v":0},{"$f":"'3d'!J33","v":0},{"$f":"'3d'!K33","v":0},{"$f":"'3d'!L33","v":0},{"$f":"'3d'!M33","v":0},{"$f":"'3d'!N33","v":0},{"$f":"'3d'!O33","v":0},{"$f":"'3d'!P33","v":0},{"$f":"'3d'!Q33","v":0},{"$f":"'3d'!R33","v":0},{"$f":"'3d'!S33","v":0},{"$f":"'3d'!T33","v":0},{"$f":"'3d'!U33","v":0},{"$f":"'3d'!V33","v":0},{"$f":"'3d'!W33","v":0},{"$f":"'3d'!X33","v":0},{"$f":"'3d'!Y33","v":0},{"$f":"'3d'!Z33","v":0},{"$f":"'3d'!AA33","v":0},{"$f":"'3d'!AB33","v":0},{"$f":"'3d'!AC33","v":0},{"$f":"'3d'!AD33","v":0},{"$f":"'3d'!AE33","v":0},{"$f":"'3d'!AF33","v":0},{"$f":"'3d'!AG33","v":0},{"$f":"'3d'!AH33","v":0},{"$f":"'3d'!AI33","v":0},{"$f":"'3d'!AJ33","v":0},{"$f":"'3d'!AK33","v":0},{"$f":"'3d'!AL33","v":0},{"$f":"'3d'!AM33","v":0},{"$f":"'3d'!AN33","v":0},{"$f":"'3d'!AO33","v":0},{"$f":"'3d'!AP33","v":0},{"$f":"'3d'!AQ33","v":0},{"$f":"'3d'!AR33","v":0},{"$f":"'3d'!AS33","v":0},{"$f":"'3d'!AT33","v":0},{"$f":"'3d'!AU33","v":0},{"$f":"'3d'!AV33","v":0},{"$f":"'3d'!AW33","v":0},{"$f":"'3d'!AX33","v":0},{"$f":"'3d'!AY33","v":0},{"$f":"'3d'!AZ33","v":0},{"$f":"'3d'!BA33","v":0},{"$f":"'3d'!BB33","v":0},{"$f":"'3d'!BC33","v":0},{"$f":"'3d'!BD33","v":0},{"$f":"'3d'!BE33","v":0}]
[{"$f":"'3d'!A34","v":"3d"},{"$f":"'3d'!B34","v":0},{"$f":"'3d'!C34","v":0},{"$f":"'3d'!D34","v":"lehrer32"},{"$f":"'3d'!E34","v":0},{"$f":"'3d'!F34","v":0},{"$f":"'3d'!G34","v":0},{"$f":"'3d'!H34","v":0},{"$f":"'3d'!I34","v":0},{"$f":"'3d'!J34","v":0},{"$f":"'3d'!K34","v":0},{"$f":"'3d'!L34","v":0},{"$f":"'3d'!M34","v":0},{"$f":"'3d'!N34","v":0},{"$f":"'3d'!O34","v":0},{"$f":"'3d'!P34","v":0},{"$f":"'3d'!Q34","v":0},{"$f":"'3d'!R34","v":0},{"$f":"'3d'!S34","v":0},{"$f":"'3d'!T34","v":0},{"$f":"'3d'!U34","v":0},{"$f":"'3d'!V34","v":0},{"$f":"'3d'!W34","v":0},{"$f":"'3d'!X34","v":0},{"$f":"'3d'!Y34","v":0},{"$f":"'3d'!Z34","v":0},{"$f":"'3d'!AA34","v":0},{"$f":"'3d'!AB34","v":0},{"$f":"'3d'!AC34","v":0},{"$f":"'3d'!AD34","v":0},{"$f":"'3d'!AE34","v":0},{"$f":"'3d'!AF34","v":0},{"$f":"'3d'!AG34","v":0},{"$f":"'3d'!AH34","v":0},{"$f":"'3d'!AI34","v":0},{"$f":"'3d'!AJ34","v":0},{"$f":"'3d'!AK34","v":0},{"$f":"'3d'!AL34","v":0},{"$f":"'3d'!AM34","v":0},{"$f":"'3d'!AN34","v":0},{"$f":"'3d'!AO34","v":0},{"$f":"'3d'!AP34","v":0},{"$f":"'3d'!AQ34","v":0},{"$f":"'3d'!AR34","v":0},{"$f":"'3d'!AS34","v":0},{"$f":"'3d'!AT34","v":0},{"$f":"'3d'!AU34","v":0},{"$f":"'3d'!AV34","v":0},{"$f":"'3d'!AW34","v":0},{"$f":"'3d'!AX34","v":0},{"$f":"'3d'!AY34","v":0},{"$f":"'3d'!AZ34","v":0},{"$f":"'3d'!BA34","v":0},{"$f":"'3d'!BB34","v":0},{"$f":"'3d'!BC34","v":0},{"$f":"'3d'!BD34","v":0},{"$f":"'3d'!BE34","v":0}]
[{"$f":"'3d'!A35","v":"3d"},{"$f":"'3d'!B35","v":0},{"$f":"'3d'!C35","v":0},{"$f":"'3d'!D35","v":"lehrer33"},{"$f":"'3d'!E35","v":0},{"$f":"'3d'!F35","v":0},{"$f":"'3d'!G35","v":0},{"$f":"'3d'!H35","v":0},{"$f":"'3d'!I35","v":0},{"$f":"'3d'!J35","v":0},{"$f":"'3d'!K35","v":0},{"$f":"'3d'!L35","v":0},{"$f":"'3d'!M35","v":0},{"$f":"'3d'!N35","v":0},{"$f":"'3d'!O35","v":0},{"$f":"'3d'!P35","v":0},{"$f":"'3d'!Q35","v":0},{"$f":"'3d'!R35","v":0},{"$f":"'3d'!S35","v":0},{"$f":"'3d'!T35","v":0},{"$f":"'3d'!U35","v":0},{"$f":"'3d'!V35","v":0},{"$f":"'3d'!W35","v":0},{"$f":"'3d'!X35","v":0},{"$f":"'3d'!Y35","v":0},{"$f":"'3d'!Z35","v":0},{"$f":"'3d'!AA35","v":0},{"$f":"'3d'!AB35","v":0},{"$f":"'3d'!AC35","v":0},{"$f":"'3d'!AD35","v":0},{"$f":"'3d'!AE35","v":0},{"$f":"'3d'!AF35","v":0},{"$f":"'3d'!AG35","v":0},{"$f":"'3d'!AH35","v":0},{"$f":"'3d'!AI35","v":0},{"$f":"'3d'!AJ35","v":0},{"$f":"'3d'!AK35","v":0},{"$f":"'3d'!AL35","v":0},{"$f":"'3d'!AM35","v":0},{"$f":"'3d'!AN35","v":0},{"$f":"'3d'!AO35","v":0},{"$f":"'3d'!AP35","v":0},{"$f":"'3d'!AQ35","v":0},{"$f":"'3d'!AR35","v":0},{"$f":"'3d'!AS35","v":0},{"$f":"'3d'!AT35","v":0},{"$f":"'3d'!AU35","v":0},{"$f":"'3d'!AV35","v":0},{"$f":"'3d'!AW35","v":0},{"$f":"'3d'!AX35","v":0},{"$f":"'3d'!AY35","v":0},{"$f":"'3d'!AZ35","v":0},{"$f":"'3d'!BA35","v":0},{"$f":"'3d'!BB35","v":0},{"$f":"'3d'!BC35","v":0},{"$f":"'3d'!BD35","v":0},{"$f":"'3d'!BE35","v":0}]
[{"$f":"'3d'!A36","v":"3d"},{"$f":"'3d'!B36","v":0},{"$f":"'3d'!C36","v":0},{"$f":"'3d'!D36","v":"lehrer34"},{"$f":"'3d'!E36","v":0},{"$f":"'3d'!F36","v":0},{"$f":"'3d'!G36","v":0},{"$f":"'3d'!H36","v":0},{"$f":"'3d'!I36","v":0},{"$f":"'3d'!J36","v":0},{"$f":"'3d'!K36","v":0},{"$f":"'3d'!L36","v":0},{"$f":"'3d'!M36","v":0},{"$f":"'3d'!N36","v":0},{"$f":"'3d'!O36","v":0},{"$f":"'3d'!P36","v":0},{"$f":"'3d'!Q36","v":0},{"$f":"'3d'!R36","v":0},{"$f":"'3d'!S36","v":0},{"$f":"'3d'!T36","v":0},{"$f":"'3d'!U36","v":0},{"$f":"'3d'!V36","v":0},{"$f":"'3d'!W36","v":0},{"$f":"'3d'!X36","v":0},{"$f":"'3d'!Y36","v":0},{"$f":"'3d'!Z36","v":0},{"$f":"'3d'!AA36","v":0},{"$f":"'3d'!AB36","v":0},{"$f":"'3d'!AC36","v":0},{"$f":"'3d'!AD36","v":0},{"$f":"'3d'!AE36","v":0},{"$f":"'3d'!AF36","v":0},{"$f":"'3d'!AG36","v":0},{"$f":"'3d'!AH36","v":0},{"$f":"'3d'!AI36","v":0},{"$f":"'3d'!AJ36","v":0},{"$f":"'3d'!AK36","v":0},{"$f":"'3d'!AL36","v":0},{"$f":"'3d'!AM36","v":0},{"$f":"'3d'!AN36","v":0},{"$f":"'3d'!AO36","v":0},{"$f":"'3d'!AP36","v":0},{"$f":"'3d'!AQ36","v":0},{"$f":"'3d'!AR36","v":0},{"$f":"'3d'!AS36","v":0},{"$f":"'3d'!AT36","v":0},{"$f":"'3d'!AU36","v":0},{"$f":"'3d'!AV36","v":0},{"$f":"'3d'!AW36","v":0},{"$f":"'3d'!AX36","v":0},{"$f":"'3d'!AY36","v":0},{"$f":"'3d'!AZ36","v":0},{"$f":"'3d'!BA36","v":0},{"$f":"'3d'!BB36","v":0},{"$f":"'3d'!BC36","v":0},{"$f":"'3d'!BD36","v":0},{"$f":"'3d'!BE36","v":0}]
[{"$f":"'3d'!A37","v":"3d"},{"$f":"'3d'!B37","v":0},{"$f":"'3d'!C37","v":0},{"$f":"'3d'!D37","v":"lehrer35"},{"$f":"'3d'!E37","v":0},{"$f":"'3d'!F37","v":0},{"$f":"'3d'!G37","v":0},{"$f":"'3d'!H37","v":0},{"$f":"'3d'!I37","v":0},{"$f":"'3d'!J37","v":0},{"$f":"'3d'!K37","v":0},{"$f":"'3d'!L37","v":0},{"$f":"'3d'!M37","v":0},{"$f":"'3d'!N37","v":0},{"$f":"'3d'!O37","v":0},{"$f":"'3d'!P37","v":0},{"$f":"'3d'!Q37","v":0},{"$f":"'3d'!R37","v":0},{"$f":"'3d'!S37","v":0},{"$f":"'3d'!T37","v":0},{"$f":"'3d'!U37","v":0},{"$f":"'3d'!V37","v":0},{"$f":"'3d'!W37","v":0},{"$f":"'3d'!X37","v":0},{"$f":"'3d'!Y37","v":0},{"$f":"'3d'!Z37","v":0},{"$f":"'3d'!AA37","v":0},{"$f":"'3d'!AB37","v":0},{"$f":"'3d'!AC37","v":0},{"$f":"'3d'!AD37","v":0},{"$f":"'3d'!AE37","v":0},{"$f":"'3d'!AF37","v":0},{"$f":"'3d'!AG37","v":0},{"$f":"'3d'!AH37","v":0},{"$f":"'3d'!AI37","v":0},{"$f":"'3d'!AJ37","v":0},{"$f":"'3d'!AK37","v":0},{"$f":"'3d'!AL37","v":0},{"$f":"'3d'!AM37","v":0},{"$f":"'3d'!AN37","v":0},{"$f":"'3d'!AO37","v":0},{"$f":"'3d'!AP37","v":0},{"$f":"'3d'!AQ37","v":0},{"$f":"'3d'!AR37","v":0},{"$f":"'3d'!AS37","v":0},{"$f":"'3d'!AT37","v":0},{"$f":"'3d'!AU37","v":0},{"$f":"'3d'!AV37","v":0},{"$f":"'3d'!AW37","v":0},{"$f":"'3d'!AX37","v":0},{"$f":"'3d'!AY37","v":0},{"$f":"'3d'!AZ37","v":0},{"$f":"'3d'!BA37","v":0},{"$f":"'3d'!BB37","v":0},{"$f":"'3d'!BC37","v":0},{"$f":"'3d'!BD37","v":0},{"$f":"'3d'!BE37","v":0}]
[{"$f":"'3d'!A38","v":"3d"},{"$f":"'3d'!B38","v":0},{"$f":"'3d'!C38","v":0},{"$f":"'3d'!D38","v":"lehrer36"},{"$f":"'3d'!E38","v":0},{"$f":"'3d'!F38","v":0},{"$f":"'3d'!G38","v":0},{"$f":"'3d'!H38","v":0},{"$f":"'3d'!I38","v":0},{"$f":"'3d'!J38","v":0},{"$f":"'3d'!K38","v":0},{"$f":"'3d'!L38","v":0},{"$f":"'3d'!M38","v":0},{"$f":"'3d'!N38","v":0},{"$f":"'3d'!O38","v":0},{"$f":"'3d'!P38","v":0},{"$f":"'3d'!Q38","v":0},{"$f":"'3d'!R38","v":0},{"$f":"'3d'!S38","v":0},{"$f":"'3d'!T38","v":0},{"$f":"'3d'!U38","v":0},{"$f":"'3d'!V38","v":0},{"$f":"'3d'!W38","v":0},{"$f":"'3d'!X38","v":0},{"$f":"'3d'!Y38","v":0},{"$f":"'3d'!Z38","v":0},{"$f":"'3d'!AA38","v":0},{"$f":"'3d'!AB38","v":0},{"$f":"'3d'!AC38","v":0},{"$f":"'3d'!AD38","v":0},{"$f":"'3d'!AE38","v":0},{"$f":"'3d'!AF38","v":0},{"$f":"'3d'!AG38","v":0},{"$f":"'3d'!AH38","v":0},{"$f":"'3d'!AI38","v":0},{"$f":"'3d'!AJ38","v":0},{"$f":"'3d'!AK38","v":0},{"$f":"'3d'!AL38","v":0},{"$f":"'3d'!AM38","v":0},{"$f":"'3d'!AN38","v":0},{"$f":"'3d'!AO38","v":0},{"$f":"'3d'!AP38","v":0},{"$f":"'3d'!AQ38","v":0},{"$f":"'3d'!AR38","v":0},{"$f":"'3d'!AS38","v":0},{"$f":"'3d'!AT38","v":0},{"$f":"'3d'!AU38","v":0},{"$f":"'3d'!AV38","v":0},{"$f":"'3d'!AW38","v":0},{"$f":"'3d'!AX38","v":0},{"$f":"'3d'!AY38","v":0},{"$f":"'3d'!AZ38","v":0},{"$f":"'3d'!BA38","v":0},{"$f":"'3d'!BB38","v":0},{"$f":"'3d'!BC38","v":0},{"$f":"'3d'!BD38","v":0},{"$f":"'3d'!BE38","v":0}]
[{"$f":"'3d'!A39","v":"3d"},{"$f":"'3d'!B39","v":0},{"$f":"'3d'!C39","v":0},{"$f":"'3d'!D39","v":"lehrer37"},{"$f":"'3d'!E39","v":0},{"$f":"'3d'!F39","v":0},{"$f":"'3d'!G39","v":0},{"$f":"'3d'!H39","v":0},{"$f":"'3d'!I39","v":0},{"$f":"'3d'!J39","v":0},{"$f":"'3d'!K39","v":0},{"$f":"'3d'!L39","v":0},{"$f":"'3d'!M39","v":0},{"$f":"'3d'!N39","v":0},{"$f":"'3d'!O39","v":0},{"$f":"'3d'!P39","v":0},{"$f":"'3d'!Q39","v":0},{"$f":"'3d'!R39","v":0},{"$f":"'3d'!S39","v":0},{"$f":"'3d'!T39","v":0},{"$f":"'3d'!U39","v":0},{"$f":"'3d'!V39","v":0},{"$f":"'3d'!W39","v":0},{"$f":"'3d'!X39","v":0},{"$f":"'3d'!Y39","v":0},{"$f":"'3d'!Z39","v":0},{"$f":"'3d'!AA39","v":0},{"$f":"'3d'!AB39","v":0},{"$f":"'3d'!AC39","v":0},{"$f":"'3d'!AD39","v":0},{"$f":"'3d'!AE39","v":0},{"$f":"'3d'!AF39","v":0},{"$f":"'3d'!AG39","v":0},{"$f":"'3d'!AH39","v":0},{"$f":"'3d'!AI39","v":0},{"$f":"'3d'!AJ39","v":0},{"$f":"'3d'!AK39","v":0},{"$f":"'3d'!AL39","v":0},{"$f":"'3d'!AM39","v":0},{"$f":"'3d'!AN39","v":0},{"$f":"'3d'!AO39","v":0},{"$f":"'3d'!AP39","v":0},{"$f":"'3d'!AQ39","v":0},{"$f":"'3d'!AR39","v":0},{"$f":"'3d'!AS39","v":0},{"$f":"'3d'!AT39","v":0},{"$f":"'3d'!AU39","v":0},{"$f":"'3d'!AV39","v":0},{"$f":"'3d'!AW39","v":0},{"$f":"'3d'!AX39","v":0},{"$f":"'3d'!AY39","v":0},{"$f":"'3d'!AZ39","v":0},{"$f":"'3d'!BA39","v":0},{"$f":"'3d'!BB39","v":0},{"$f":"'3d'!BC39","v":0},{"$f":"'3d'!BD39","v":0},{"$f":"'3d'!BE39","v":0}]
[{"$f":"'3d'!A40","v":"3d"},{"$f":"'3d'!B40","v":0},{"$f":"'3d'!C40","v":0},{"$f":"'3d'!D40","v":"lehrer38"},{"$f":"'3d'!E40","v":0},{"$f":"'3d'!F40","v":0},{"$f":"'3d'!G40","v":0},{"$f":"'3d'!H40","v":0},{"$f":"'3d'!I40","v":0},{"$f":"'3d'!J40","v":0},{"$f":"'3d'!K40","v":0},{"$f":"'3d'!L40","v":0},{"$f":"'3d'!M40","v":0},{"$f":"'3d'!N40","v":0},{"$f":"'3d'!O40","v":0},{"$f":"'3d'!P40","v":0},{"$f":"'3d'!Q40","v":0},{"$f":"'3d'!R40","v":0},{"$f":"'3d'!S40","v":0},{"$f":"'3d'!T40","v":0},{"$f":"'3d'!U40","v":0},{"$f":"'3d'!V40","v":0},{"$f":"'3d'!W40","v":0},{"$f":"'3d'!X40","v":0},{"$f":"'3d'!Y40","v":0},{"$f":"'3d'!Z40","v":0},{"$f":"'3d'!AA40","v":0},{"$f":"'3d'!AB40","v":0},{"$f":"'3d'!AC40","v":0},{"$f":"'3d'!AD40","v":0},{"$f":"'3d'!AE40","v":0},{"$f":"'3d'!AF40","v":0},{"$f":"'3d'!AG40","v":0},{"$f":"'3d'!AH40","v":0},{"$f":"'3d'!AI40","v":0},{"$f":"'3d'!AJ40","v":0},{"$f":"'3d'!AK40","v":0},{"$f":"'3d'!AL40","v":0},{"$f":"'3d'!AM40","v":0},{"$f":"'3d'!AN40","v":0},{"$f":"'3d'!AO40","v":0},{"$f":"'3d'!AP40","v":0},{"$f":"'3d'!AQ40","v":0},{"$f":"'3d'!AR40","v":0},{"$f":"'3d'!AS40","v":0},{"$f":"'3d'!AT40","v":0},{"$f":"'3d'!AU40","v":0},{"$f":"'3d'!AV40","v":0},{"$f":"'3d'!AW40","v":0},{"$f":"'3d'!AX40","v":0},{"$f":"'3d'!AY40","v":0},{"$f":"'3d'!AZ40","v":0},{"$f":"'3d'!BA40","v":0},{"$f":"'3d'!BB40","v":0},{"$f":"'3d'!BC40","v":0},{"$f":"'3d'!BD40","v":0},{"$f":"'3d'!BE40","v":0}]
[{"$f":"'3d'!A41","v":"3d"},{"$f":"'3d'!B41","v":0},{"$f":"'3d'!C41","v":0},{"$f":"'3d'!D41","v":"lehrer39"},{"$f":"'3d'!E41","v":0},{"$f":"'3d'!F41","v":0},{"$f":"'3d'!G41","v":0},{"$f":"'3d'!H41","v":0},{"$f":"'3d'!I41","v":0},{"$f":"'3d'!J41","v":0},{"$f":"'3d'!K41","v":0},{"$f":"'3d'!L41","v":0},{"$f":"'3d'!M41","v":0},{"$f":"'3d'!N41","v":0},{"$f":"'3d'!O41","v":0},{"$f":"'3d'!P41","v":0},{"$f":"'3d'!Q41","v":0},{"$f":"'3d'!R41","v":0},{"$f":"'3d'!S41","v":0},{"$f":"'3d'!T41","v":0},{"$f":"'3d'!U41","v":0},{"$f":"'3d'!V41","v":0},{"$f":"'3d'!W41","v":0},{"$f":"'3d'!X41","v":0},{"$f":"'3d'!Y41","v":0},{"$f":"'3d'!Z41","v":0},{"$f":"'3d'!AA41","v":0},{"$f":"'3d'!AB41","v":0},{"$f":"'3d'!AC41","v":0},{"$f":"'3d'!AD41","v":0},{"$f":"'3d'!AE41","v":0},{"$f":"'3d'!AF41","v":0},{"$f":"'3d'!AG41","v":0},{"$f":"'3d'!AH41","v":0},{"$f":"'3d'!AI41","v":0},{"$f":"'3d'!AJ41","v":0},{"$f":"'3d'!AK41","v":0},{"$f":"'3d'!AL41","v":0},{"$f":"'3d'!AM41","v":0},{"$f":"'3d'!AN41","v":0},{"$f":"'3d'!AO41","v":0},{"$f":"'3d'!AP41","v":0},{"$f":"'3d'!AQ41","v":0},{"$f":"'3d'!AR41","v":0},{"$f":"'3d'!AS41","v":0},{"$f":"'3d'!AT41","v":0},{"$f":"'3d'!AU41","v":0},{"$f":"'3d'!AV41","v":0},{"$f":"'3d'!AW41","v":0},{"$f":"'3d'!AX41","v":0},{"$f":"'3d'!AY41","v":0},{"$f":"'3d'!AZ41","v":0},{"$f":"'3d'!BA41","v":0},{"$f":"'3d'!BB41","v":0},{"$f":"'3d'!BC41","v":0},{"$f":"'3d'!BD41","v":0},{"$f":"'3d'!BE41","v":0}]
[{"$f":"'3d'!A42","v":"3d"},{"$f":"'3d'!B42","v":0},{"$f":"'3d'!C42","v":0},{"$f":"'3d'!D42","v":"lehrer40"},{"$f":"'3d'!E42","v":0},{"$f":"'3d'!F42","v":0},{"$f":"'3d'!G42","v":0},{"$f":"'3d'!H42","v":0},{"$f":"'3d'!I42","v":0},{"$f":"'3d'!J42","v":0},{"$f":"'3d'!K42","v":0},{"$f":"'3d'!L42","v":0},{"$f":"'3d'!M42","v":0},{"$f":"'3d'!N42","v":0},{"$f":"'3d'!O42","v":0},{"$f":"'3d'!P42","v":0},{"$f":"'3d'!Q42","v":0},{"$f":"'3d'!R42","v":0},{"$f":"'3d'!S42","v":0},{"$f":"'3d'!T42","v":0},{"$f":"'3d'!U42","v":0},{"$f":"'3d'!V42","v":0},{"$f":"'3d'!W42","v":0},{"$f":"'3d'!X42","v":0},{"$f":"'3d'!Y42","v":0},{"$f":"'3d'!Z42","v":0},{"$f":"'3d'!AA42","v":0},{"$f":"'3d'!AB42","v":0},{"$f":"'3d'!AC42","v":0},{"$f":"'3d'!AD42","v":0},{"$f":"'3d'!AE42","v":0},{"$f":"'3d'!AF42","v":0},{"$f":"'3d'!AG42","v":0},{"$f":"'3d'!AH42","v":0},{"$f":"'3d'!AI42","v":0},{"$f":"'3d'!AJ42","v":0},{"$f":"'3d'!AK42","v":0},{"$f":"'3d'!AL42","v":0},{"$f":"'3d'!AM42","v":0},{"$f":"'3d'!AN42","v":0},{"$f":"'3d'!AO42","v":0},{"$f":"'3d'!AP42","v":0},{"$f":"'3d'!AQ42","v":0},{"$f":"'3d'!AR42","v":0},{"$f":"'3d'!AS42","v":0},{"$f":"'3d'!AT42","v":0},{"$f":"'3d'!AU42","v":0},{"$f":"'3d'!AV42","v":0},{"$f":"'3d'!AW42","v":0},{"$f":"'3d'!AX42","v":0},{"$f":"'3d'!AY42","v":0},{"$f":"'3d'!AZ42","v":0},{"$f":"'3d'!BA42","v":0},{"$f":"'3d'!BB42","v":0},{"$f":"'3d'!BC42","v":0},{"$f":"'3d'!BD42","v":0},{"$f":"'3d'!BE42","v":0}]
[{"$f":"'3d'!A43","v":"3d"},{"$f":"'3d'!B43","v":0},{"$f":"'3d'!C43","v":0},{"$f":"'3d'!D43","v":"lehrer41"},{"$f":"'3d'!E43","v":0},{"$f":"'3d'!F43","v":0},{"$f":"'3d'!G43","v":0},{"$f":"'3d'!H43","v":0},{"$f":"'3d'!I43","v":0},{"$f":"'3d'!J43","v":0},{"$f":"'3d'!K43","v":0},{"$f":"'3d'!L43","v":0},{"$f":"'3d'!M43","v":0},{"$f":"'3d'!N43","v":0},{"$f":"'3d'!O43","v":0},{"$f":"'3d'!P43","v":0},{"$f":"'3d'!Q43","v":0},{"$f":"'3d'!R43","v":0},{"$f":"'3d'!S43","v":0},{"$f":"'3d'!T43","v":0},{"$f":"'3d'!U43","v":0},{"$f":"'3d'!V43","v":0},{"$f":"'3d'!W43","v":0},{"$f":"'3d'!X43","v":0},{"$f":"'3d'!Y43","v":0},{"$f":"'3d'!Z43","v":0},{"$f":"'3d'!AA43","v":0},{"$f":"'3d'!AB43","v":0},{"$f":"'3d'!AC43","v":0},{"$f":"'3d'!AD43","v":0},{"$f":"'3d'!AE43","v":0},{"$f":"'3d'!AF43","v":0},{"$f":"'3d'!AG43","v":0},{"$f":"'3d'!AH43","v":0},{"$f":"'3d'!AI43","v":0},{"$f":"'3d'!AJ43","v":0},{"$f":"'3d'!AK43","v":0},{"$f":"'3d'!AL43","v":0},{"$f":"'3d'!AM43","v":0},{"$f":"'3d'!AN43","v":0},{"$f":"'3d'!AO43","v":0},{"$f":"'3d'!AP43","v":0},{"$f":"'3d'!AQ43","v":0},{"$f":"'3d'!AR43","v":0},{"$f":"'3d'!AS43","v":0},{"$f":"'3d'!AT43","v":0},{"$f":"'3d'!AU43","v":0},{"$f":"'3d'!AV43","v":0},{"$f":"'3d'!AW43","v":0},{"$f":"'3d'!AX43","v":0},{"$f":"'3d'!AY43","v":0},{"$f":"'3d'!AZ43","v":0},{"$f":"'3d'!BA43","v":0},{"$f":"'3d'!BB43","v":0},{"$f":"'3d'!BC43","v":0},{"$f":"'3d'!BD43","v":0},{"$f":"'3d'!BE43","v":0}]
[{"$f":"'3d'!A44","v":"3d"},{"$f":"'3d'!B44","v":0},{"$f":"'3d'!C44","v":0},{"$f":"'3d'!D44","v":"lehrer42"},{"$f":"'3d'!E44","v":0},{"$f":"'3d'!F44","v":0},{"$f":"'3d'!G44","v":0},{"$f":"'3d'!H44","v":0},{"$f":"'3d'!I44","v":0},{"$f":"'3d'!J44","v":0},{"$f":"'3d'!K44","v":0},{"$f":"'3d'!L44","v":0},{"$f":"'3d'!M44","v":0},{"$f":"'3d'!N44","v":0},{"$f":"'3d'!O44","v":0},{"$f":"'3d'!P44","v":0},{"$f":"'3d'!Q44","v":0},{"$f":"'3d'!R44","v":0},{"$f":"'3d'!S44","v":0},{"$f":"'3d'!T44","v":0},{"$f":"'3d'!U44","v":0},{"$f":"'3d'!V44","v":0},{"$f":"'3d'!W44","v":0},{"$f":"'3d'!X44","v":0},{"$f":"'3d'!Y44","v":0},{"$f":"'3d'!Z44","v":0},{"$f":"'3d'!AA44","v":0},{"$f":"'3d'!AB44","v":0},{"$f":"'3d'!AC44","v":0},{"$f":"'3d'!AD44","v":0},{"$f":"'3d'!AE44","v":0},{"$f":"'3d'!AF44","v":0},{"$f":"'3d'!AG44","v":0},{"$f":"'3d'!AH44","v":0},{"$f":"'3d'!AI44","v":0},{"$f":"'3d'!AJ44","v":0},{"$f":"'3d'!AK44","v":0},{"$f":"'3d'!AL44","v":0},{"$f":"'3d'!AM44","v":0},{"$f":"'3d'!AN44","v":0},{"$f":"'3d'!AO44","v":0},{"$f":"'3d'!AP44","v":0},{"$f":"'3d'!AQ44","v":0},{"$f":"'3d'!AR44","v":0},{"$f":"'3d'!AS44","v":0},{"$f":"'3d'!AT44","v":0},{"$f":"'3d'!AU44","v":0},{"$f":"'3d'!AV44","v":0},{"$f":"'3d'!AW44","v":0},{"$f":"'3d'!AX44","v":0},{"$f":"'3d'!AY44","v":0},{"$f":"'3d'!AZ44","v":0},{"$f":"'3d'!BA44","v":0},{"$f":"'3d'!BB44","v":0},{"$f":"'3d'!BC44","v":0},{"$f":"'3d'!BD44","v":0},{"$f":"'3d'!BE44","v":0}]
[{"$f":"'3d'!A45","v":"3d"},{"$f":"'3d'!B45","v":0},{"$f":"'3d'!C45","v":0},{"$f":"'3d'!D45","v":"lehrer43"},{"$f":"'3d'!E45","v":0},{"$f":"'3d'!F45","v":0},{"$f":"'3d'!G45","v":0},{"$f":"'3d'!H45","v":0},{"$f":"'3d'!I45","v":0},{"$f":"'3d'!J45","v":0},{"$f":"'3d'!K45","v":0},{"$f":"'3d'!L45","v":0},{"$f":"'3d'!M45","v":0},{"$f":"'3d'!N45","v":0},{"$f":"'3d'!O45","v":0},{"$f":"'3d'!P45","v":0},{"$f":"'3d'!Q45","v":0},{"$f":"'3d'!R45","v":0},{"$f":"'3d'!S45","v":0},{"$f":"'3d'!T45","v":0},{"$f":"'3d'!U45","v":0},{"$f":"'3d'!V45","v":0},{"$f":"'3d'!W45","v":0},{"$f":"'3d'!X45","v":0},{"$f":"'3d'!Y45","v":0},{"$f":"'3d'!Z45","v":0},{"$f":"'3d'!AA45","v":0},{"$f":"'3d'!AB45","v":0},{"$f":"'3d'!AC45","v":0},{"$f":"'3d'!AD45","v":0},{"$f":"'3d'!AE45","v":0},{"$f":"'3d'!AF45","v":0},{"$f":"'3d'!AG45","v":0},{"$f":"'3d'!AH45","v":0},{"$f":"'3d'!AI45","v":0},{"$f":"'3d'!AJ45","v":0},{"$f":"'3d'!AK45","v":0},{"$f":"'3d'!AL45","v":0},{"$f":"'3d'!AM45","v":0},{"$f":"'3d'!AN45","v":0},{"$f":"'3d'!AO45","v":0},{"$f":"'3d'!AP45","v":0},{"$f":"'3d'!AQ45","v":0},{"$f":"'3d'!AR45","v":0},{"$f":"'3d'!AS45","v":0},{"$f":"'3d'!AT45","v":0},{"$f":"'3d'!AU45","v":0},{"$f":"'3d'!AV45","v":0},{"$f":"'3d'!AW45","v":0},{"$f":"'3d'!AX45","v":0},{"$f":"'3d'!AY45","v":0},{"$f":"'3d'!AZ45","v":0},{"$f":"'3d'!BA45","v":0},{"$f":"'3d'!BB45","v":0},{"$f":"'3d'!BC45","v":0},{"$f":"'3d'!BD45","v":0},{"$f":"'3d'!BE45","v":0}]
[{"$f":"'3d'!A46","v":"3d"},{"$f":"'3d'!B46","v":0},{"$f":"'3d'!C46","v":0},{"$f":"'3d'!D46","v":"lehrer44"},{"$f":"'3d'!E46","v":0},{"$f":"'3d'!F46","v":0},{"$f":"'3d'!G46","v":0},{"$f":"'3d'!H46","v":0},{"$f":"'3d'!I46","v":0},{"$f":"'3d'!J46","v":0},{"$f":"'3d'!K46","v":0},{"$f":"'3d'!L46","v":0},{"$f":"'3d'!M46","v":0},{"$f":"'3d'!N46","v":0},{"$f":"'3d'!O46","v":0},{"$f":"'3d'!P46","v":0},{"$f":"'3d'!Q46","v":0},{"$f":"'3d'!R46","v":0},{"$f":"'3d'!S46","v":0},{"$f":"'3d'!T46","v":0},{"$f":"'3d'!U46","v":0},{"$f":"'3d'!V46","v":0},{"$f":"'3d'!W46","v":0},{"$f":"'3d'!X46","v":0},{"$f":"'3d'!Y46","v":0},{"$f":"'3d'!Z46","v":0},{"$f":"'3d'!AA46","v":0},{"$f":"'3d'!AB46","v":0},{"$f":"'3d'!AC46","v":0},{"$f":"'3d'!AD46","v":0},{"$f":"'3d'!AE46","v":0},{"$f":"'3d'!AF46","v":0},{"$f":"'3d'!AG46","v":0},{"$f":"'3d'!AH46","v":0},{"$f":"'3d'!AI46","v":0},{"$f":"'3d'!AJ46","v":0},{"$f":"'3d'!AK46","v":0},{"$f":"'3d'!AL46","v":0},{"$f":"'3d'!AM46","v":0},{"$f":"'3d'!AN46","v":0},{"$f":"'3d'!AO46","v":0},{"$f":"'3d'!AP46","v":0},{"$f":"'3d'!AQ46","v":0},{"$f":"'3d'!AR46","v":0},{"$f":"'3d'!AS46","v":0},{"$f":"'3d'!AT46","v":0},{"$f":"'3d'!AU46","v":0},{"$f":"'3d'!AV46","v":0},{"$f":"'3d'!AW46","v":0},{"$f":"'3d'!AX46","v":0},{"$f":"'3d'!AY46","v":0},{"$f":"'3d'!AZ46","v":0},{"$f":"'3d'!BA46","v":0},{"$f":"'3d'!BB46","v":0},{"$f":"'3d'!BC46","v":0},{"$f":"'3d'!BD46","v":0},{"$f":"'3d'!BE46","v":0}]
[{"$f":"'3d'!A47","v":"3d"},{"$f":"'3d'!B47","v":0},{"$f":"'3d'!C47","v":0},{"$f":"'3d'!D47","v":"lehrer45"},{"$f":"'3d'!E47","v":0},{"$f":"'3d'!F47","v":0},{"$f":"'3d'!G47","v":0},{"$f":"'3d'!H47","v":0},{"$f":"'3d'!I47","v":0},{"$f":"'3d'!J47","v":0},{"$f":"'3d'!K47","v":0},{"$f":"'3d'!L47","v":0},{"$f":"'3d'!M47","v":0},{"$f":"'3d'!N47","v":0},{"$f":"'3d'!O47","v":0},{"$f":"'3d'!P47","v":0},{"$f":"'3d'!Q47","v":0},{"$f":"'3d'!R47","v":0},{"$f":"'3d'!S47","v":0},{"$f":"'3d'!T47","v":0},{"$f":"'3d'!U47","v":0},{"$f":"'3d'!V47","v":0},{"$f":"'3d'!W47","v":0},{"$f":"'3d'!X47","v":0},{"$f":"'3d'!Y47","v":0},{"$f":"'3d'!Z47","v":0},{"$f":"'3d'!AA47","v":0},{"$f":"'3d'!AB47","v":0},{"$f":"'3d'!AC47","v":0},{"$f":"'3d'!AD47","v":0},{"$f":"'3d'!AE47","v":0},{"$f":"'3d'!AF47","v":0},{"$f":"'3d'!AG47","v":0},{"$f":"'3d'!AH47","v":0},{"$f":"'3d'!AI47","v":0},{"$f":"'3d'!AJ47","v":0},{"$f":"'3d'!AK47","v":0},{"$f":"'3d'!AL47","v":0},{"$f":"'3d'!AM47","v":0},{"$f":"'3d'!AN47","v":0},{"$f":"'3d'!AO47","v":0},{"$f":"'3d'!AP47","v":0},{"$f":"'3d'!AQ47","v":0},{"$f":"'3d'!AR47","v":0},{"$f":"'3d'!AS47","v":0},{"$f":"'3d'!AT47","v":0},{"$f":"'3d'!AU47","v":0},{"$f":"'3d'!AV47","v":0},{"$f":"'3d'!AW47","v":0},{"$f":"'3d'!AX47","v":0},{"$f":"'3d'!AY47","v":0},{"$f":"'3d'!AZ47","v":0},{"$f":"'3d'!BA47","v":0},{"$f":"'3d'!BB47","v":0},{"$f":"'3d'!BC47","v":0},{"$f":"'3d'!BD47","v":0},{"$f":"'3d'!BE47","v":0}]
[{"$f":"'3d'!A48","v":"3d"},{"$f":"'3d'!B48","v":0},{"$f":"'3d'!C48","v":0},{"$f":"'3d'!D48","v":"lehrer46"},{"$f":"'3d'!E48","v":0},{"$f":"'3d'!F48","v":0},{"$f":"'3d'!G48","v":0},{"$f":"'3d'!H48","v":0},{"$f":"'3d'!I48","v":0},{"$f":"'3d'!J48","v":0},{"$f":"'3d'!K48","v":0},{"$f":"'3d'!L48","v":0},{"$f":"'3d'!M48","v":0},{"$f":"'3d'!N48","v":0},{"$f":"'3d'!O48","v":0},{"$f":"'3d'!P48","v":0},{"$f":"'3d'!Q48","v":0},{"$f":"'3d'!R48","v":0},{"$f":"'3d'!S48","v":0},{"$f":"'3d'!T48","v":0},{"$f":"'3d'!U48","v":0},{"$f":"'3d'!V48","v":0},{"$f":"'3d'!W48","v":0},{"$f":"'3d'!X48","v":0},{"$f":"'3d'!Y48","v":0},{"$f":"'3d'!Z48","v":0},{"$f":"'3d'!AA48","v":0},{"$f":"'3d'!AB48","v":0},{"$f":"'3d'!AC48","v":0},{"$f":"'3d'!AD48","v":0},{"$f":"'3d'!AE48","v":0},{"$f":"'3d'!AF48","v":0},{"$f":"'3d'!AG48","v":0},{"$f":"'3d'!AH48","v":0},{"$f":"'3d'!AI48","v":0},{"$f":"'3d'!AJ48","v":0},{"$f":"'3d'!AK48","v":0},{"$f":"'3d'!AL48","v":0},{"$f":"'3d'!AM48","v":0},{"$f":"'3d'!AN48","v":0},{"$f":"'3d'!AO48","v":0},{"$f":"'3d'!AP48","v":0},{"$f":"'3d'!AQ48","v":0},{"$f":"'3d'!AR48","v":0},{"$f":"'3d'!AS48","v":0},{"$f":"'3d'!AT48","v":0},{"$f":"'3d'!AU48","v":0},{"$f":"'3d'!AV48","v":0},{"$f":"'3d'!AW48","v":0},{"$f":"'3d'!AX48","v":0},{"$f":"'3d'!AY48","v":0},{"$f":"'3d'!AZ48","v":0},{"$f":"'3d'!BA48","v":0},{"$f":"'3d'!BB48","v":0},{"$f":"'3d'!BC48","v":0},{"$f":"'3d'!BD48","v":0},{"$f":"'3d'!BE48","v":0}]
[{"$f":"'3d'!A49","v":"3d"},{"$f":"'3d'!B49","v":0},{"$f":"'3d'!C49","v":0},{"$f":"'3d'!D49","v":"lehrer47"},{"$f":"'3d'!E49","v":0},{"$f":"'3d'!F49","v":0},{"$f":"'3d'!G49","v":0},{"$f":"'3d'!H49","v":0},{"$f":"'3d'!I49","v":0},{"$f":"'3d'!J49","v":0},{"$f":"'3d'!K49","v":0},{"$f":"'3d'!L49","v":0},{"$f":"'3d'!M49","v":0},{"$f":"'3d'!N49","v":0},{"$f":"'3d'!O49","v":0},{"$f":"'3d'!P49","v":0},{"$f":"'3d'!Q49","v":0},{"$f":"'3d'!R49","v":0},{"$f":"'3d'!S49","v":0},{"$f":"'3d'!T49","v":0},{"$f":"'3d'!U49","v":0},{"$f":"'3d'!V49","v":0},{"$f":"'3d'!W49","v":0},{"$f":"'3d'!X49","v":0},{"$f":"'3d'!Y49","v":0},{"$f":"'3d'!Z49","v":0},{"$f":"'3d'!AA49","v":0},{"$f":"'3d'!AB49","v":0},{"$f":"'3d'!AC49","v":0},{"$f":"'3d'!AD49","v":0},{"$f":"'3d'!AE49","v":0},{"$f":"'3d'!AF49","v":0},{"$f":"'3d'!AG49","v":0},{"$f":"'3d'!AH49","v":0},{"$f":"'3d'!AI49","v":0},{"$f":"'3d'!AJ49","v":0},{"$f":"'3d'!AK49","v":0},{"$f":"'3d'!AL49","v":0},{"$f":"'3d'!AM49","v":0},{"$f":"'3d'!AN49","v":0},{"$f":"'3d'!AO49","v":0},{"$f":"'3d'!AP49","v":0},{"$f":"'3d'!AQ49","v":0},{"$f":"'3d'!AR49","v":0},{"$f":"'3d'!AS49","v":0},{"$f":"'3d'!AT49","v":0},{"$f":"'3d'!AU49","v":0},{"$f":"'3d'!AV49","v":0},{"$f":"'3d'!AW49","v":0},{"$f":"'3d'!AX49","v":0},{"$f":"'3d'!AY49","v":0},{"$f":"'3d'!AZ49","v":0},{"$f":"'3d'!BA49","v":0},{"$f":"'3d'!BB49","v":0},{"$f":"'3d'!BC49","v":0},{"$f":"'3d'!BD49","v":0},{"$f":"'3d'!BE49","v":0}]
[{"$f":"'3d'!A50","v":"3d"},{"$f":"'3d'!B50","v":0},{"$f":"'3d'!C50","v":0},{"$f":"'3d'!D50","v":"lehrer48"},{"$f":"'3d'!E50","v":0},{"$f":"'3d'!F50","v":0},{"$f":"'3d'!G50","v":0},{"$f":"'3d'!H50","v":0},{"$f":"'3d'!I50","v":0},{"$f":"'3d'!J50","v":0},{"$f":"'3d'!K50","v":0},{"$f":"'3d'!L50","v":0},{"$f":"'3d'!M50","v":0},{"$f":"'3d'!N50","v":0},{"$f":"'3d'!O50","v":0},{"$f":"'3d'!P50","v":0},{"$f":"'3d'!Q50","v":0},{"$f":"'3d'!R50","v":0},{"$f":"'3d'!S50","v":0},{"$f":"'3d'!T50","v":0},{"$f":"'3d'!U50","v":0},{"$f":"'3d'!V50","v":0},{"$f":"'3d'!W50","v":0},{"$f":"'3d'!X50","v":0},{"$f":"'3d'!Y50","v":0},{"$f":"'3d'!Z50","v":0},{"$f":"'3d'!AA50","v":0},{"$f":"'3d'!AB50","v":0},{"$f":"'3d'!AC50","v":0},{"$f":"'3d'!AD50","v":0},{"$f":"'3d'!AE50","v":0},{"$f":"'3d'!AF50","v":0},{"$f":"'3d'!AG50","v":0},{"$f":"'3d'!AH50","v":0},{"$f":"'3d'!AI50","v":0},{"$f":"'3d'!AJ50","v":0},{"$f":"'3d'!AK50","v":0},{"$f":"'3d'!AL50","v":0},{"$f":"'3d'!AM50","v":0},{"$f":"'3d'!AN50","v":0},{"$f":"'3d'!AO50","v":0},{"$f":"'3d'!AP50","v":0},{"$f":"'3d'!AQ50","v":0},{"$f":"'3d'!AR50","v":0},{"$f":"'3d'!AS50","v":0},{"$f":"'3d'!AT50","v":0},{"$f":"'3d'!AU50","v":0},{"$f":"'3d'!AV50","v":0},{"$f":"'3d'!AW50","v":0},{"$f":"'3d'!AX50","v":0},{"$f":"'3d'!AY50","v":0},{"$f":"'3d'!AZ50","v":0},{"$f":"'3d'!BA50","v":0},{"$f":"'3d'!BB50","v":0},{"$f":"'3d'!BC50","v":0},{"$f":"'3d'!BD50","v":0},{"$f":"'3d'!BE50","v":0}]
[{"$f":"'4c'!A3","v":"4c"},{"$f":"'4c'!B3","v":0},{"$f":"'4c'!C3","v":0},{"$f":"'4c'!D3","v":"lehrer01"},{"$f":"'4c'!E3","v":0},{"$f":"'4c'!F3","v":0},{"$f":"'4c'!G3","v":0},{"$f":"'4c'!H3","v":0},{"$f":"'4c'!I3","v":0},{"$f":"'4c'!J3","v":0},{"$f":"'4c'!K3","v":0},{"$f":"'4c'!L3","v":0},{"$f":"'4c'!M3","v":0},{"$f":"'4c'!N3","v":0},{"$f":"'4c'!O3","v":0},{"$f":"'4c'!P3","v":0},{"$f":"'4c'!Q3","v":0},{"$f":"'4c'!R3","v":0},{"$f":"'4c'!S3","v":0},{"$f":"'4c'!T3","v":0},{"$f":"'4c'!U3","v":0},{"$f":"'4c'!V3","v":0},{"$f":"'4c'!W3","v":0},{"$f":"'4c'!X3","v":0},{"$f":"'4c'!Y3","v":0},{"$f":"'4c'!Z3","v":0},{"$f":"'4c'!AA3","v":0},{"$f":"'4c'!AB3","v":0},{"$f":"'4c'!AC3","v":0},{"$f":"'4c'!AD3","v":0},{"$f":"'4c'!AE3","v":0},{"$f":"'4c'!AF3","v":0},{"$f":"'4c'!AG3","v":0},{"$f":"'4c'!AH3","v":0},{"$f":"'4c'!AI3","v":0},{"$f":"'4c'!AJ3","v":0},{"$f":"'4c'!AK3","v":0},{"$f":"'4c'!AL3","v":0},{"$f":"'4c'!AM3","v":0},{"$f":"'4c'!AN3","v":0},{"$f":"'4c'!AO3","v":0},{"$f":"'4c'!AP3","v":0},{"$f":"'4c'!AQ3","v":0},{"$f":"'4c'!AR3","v":0},{"$f":"'4c'!AS3","v":0},{"$f":"'4c'!AT3","v":0},{"$f":"'4c'!AU3","v":0},{"$f":"'4c'!AV3","v":0},{"$f":"'4c'!AW3","v":0},{"$f":"'4c'!AX3","v":0},{"$f":"'4c'!AY3","v":0},{"$f":"'4c'!AZ3","v":0},{"$f":"'4c'!BA3","v":0},{"$f":"'4c'!BB3","v":0},{"$f":"'4c'!BC3","v":0},{"$f":"'4c'!BD3","v":0},{"$f":"'4c'!BE3","v":0}]
[{"$f":"'4c'!A4","v":"4c"},{"$f":"'4c'!B4","v":0},{"$f":"'4c'!C4","v":0},{"$f":"'4c'!D4","v":"lehrer02"},{"$f":"'4c'!E4","v":0},{"$f":"'4c'!F4","v":0},{"$f":"'4c'!G4","v":0},{"$f":"'4c'!H4","v":0},{"$f":"'4c'!I4","v":0},{"$f":"'4c'!J4","v":0},{"$f":"'4c'!K4","v":0},{"$f":"'4c'!L4","v":0},{"$f":"'4c'!M4","v":0},{"$f":"'4c'!N4","v":0},{"$f":"'4c'!O4","v":0},{"$f":"'4c'!P4","v":0},{"$f":"'4c'!Q4","v":0},{"$f":"'4c'!R4","v":0},{"$f":"'4c'!S4","v":0},{"$f":"'4c'!T4","v":0},{"$f":"'4c'!U4","v":0},{"$f":"'4c'!V4","v":0},{"$f":"'4c'!W4","v":0},{"$f":"'4c'!X4","v":0},{"$f":"'4c'!Y4","v":0},{"$f":"'4c'!Z4","v":0},{"$f":"'4c'!AA4","v":0},{"$f":"'4c'!AB4","v":0},{"$f":"'4c'!AC4","v":0},{"$f":"'4c'!AD4","v":0},{"$f":"'4c'!AE4","v":0},{"$f":"'4c'!AF4","v":0},{"$f":"'4c'!AG4","v":0},{"$f":"'4c'!AH4","v":0},{"$f":"'4c'!AI4","v":0},{"$f":"'4c'!AJ4","v":0},{"$f":"'4c'!AK4","v":0},{"$f":"'4c'!AL4","v":0},{"$f":"'4c'!AM4","v":0},{"$f":"'4c'!AN4","v":0},{"$f":"'4c'!AO4","v":0},{"$f":"'4c'!AP4","v":0},{"$f":"'4c'!AQ4","v":0},{"$f":"'4c'!AR4","v":0},{"$f":"'4c'!AS4","v":0},{"$f":"'4c'!AT4","v":0},{"$f":"'4c'!AU4","v":0},{"$f":"'4c'!AV4","v":0},{"$f":"'4c'!AW4","v":0},{"$f":"'4c'!AX4","v":0},{"$f":"'4c'!AY4","v":0},{"$f":"'4c'!AZ4","v":0},{"$f":"'4c'!BA4","v":0},{"$f":"'4c'!BB4","v":0},{"$f":"'4c'!BC4","v":0},{"$f":"'4c'!BD4","v":0},{"$f":"'4c'!BE4","v":0}]
[{"$f":"'4c'!A5","v":"4c"},{"$f":"'4c'!B5","v":0},{"$f":"'4c'!C5","v":0},{"$f":"'4c'!D5","v":"lehrer03"},{"$f":"'4c'!E5","v":0},{"$f":"'4c'!F5","v":0},{"$f":"'4c'!G5","v":0},{"$f":"'4c'!H5","v":0},{"$f":"'4c'!I5","v":0},{"$f":"'4c'!J5","v":0},{"$f":"'4c'!K5","v":0},{"$f":"'4c'!L5","v":0},{"$f":"'4c'!M5","v":0},{"$f":"'4c'!N5","v":0},{"$f":"'4c'!O5","v":0},{"$f":"'4c'!P5","v":0},{"$f":"'4c'!Q5","v":0},{"$f":"'4c'!R5","v":0},{"$f":"'4c'!S5","v":0},{"$f":"'4c'!T5","v":0},{"$f":"'4c'!U5","v":0},{"$f":"'4c'!V5","v":0},{"$f":"'4c'!W5","v":0},{"$f":"'4c'!X5","v":0},{"$f":"'4c'!Y5","v":0},{"$f":"'4c'!Z5","v":0},{"$f":"'4c'!AA5","v":0},{"$f":"'4c'!AB5","v":0},{"$f":"'4c'!AC5","v":0},{"$f":"'4c'!AD5","v":0},{"$f":"'4c'!AE5","v":0},{"$f":"'4c'!AF5","v":0},{"$f":"'4c'!AG5","v":0},{"$f":"'4c'!AH5","v":0},{"$f":"'4c'!AI5","v":0},{"$f":"'4c'!AJ5","v":0},{"$f":"'4c'!AK5","v":0},{"$f":"'4c'!AL5","v":0},{"$f":"'4c'!AM5","v":0},{"$f":"'4c'!AN5","v":0},{"$f":"'4c'!AO5","v":0},{"$f":"'4c'!AP5","v":0},{"$f":"'4c'!AQ5","v":0},{"$f":"'4c'!AR5","v":0},{"$f":"'4c'!AS5","v":0},{"$f":"'4c'!AT5","v":0},{"$f":"'4c'!AU5","v":0},{"$f":"'4c'!AV5","v":0},{"$f":"'4c'!AW5","v":0},{"$f":"'4c'!AX5","v":0},{"$f":"'4c'!AY5","v":0},{"$f":"'4c'!AZ5","v":0},{"$f":"'4c'!BA5","v":0},{"$f":"'4c'!BB5","v":0},{"$f":"'4c'!BC5","v":0},{"$f":"'4c'!BD5","v":0},{"$f":"'4c'!BE5","v":0}]
[{"$f":"'4c'!A6","v":"4c"},{"$f":"'4c'!B6","v":0},{"$f":"'4c'!C6","v":0},{"$f":"'4c'!D6","v":"lehrer04"},{"$f":"'4c'!E6","v":0},{"$f":"'4c'!F6","v":0},{"$f":"'4c'!G6","v":0},{"$f":"'4c'!H6","v":0},{"$f":"'4c'!I6","v":0},{"$f":"'4c'!J6","v":0},{"$f":"'4c'!K6","v":0},{"$f":"'4c'!L6","v":0},{"$f":"'4c'!M6","v":0},{"$f":"'4c'!N6","v":0},{"$f":"'4c'!O6","v":0},{"$f":"'4c'!P6","v":0},{"$f":"'4c'!Q6","v":0},{"$f":"'4c'!R6","v":0},{"$f":"'4c'!S6","v":0},{"$f":"'4c'!T6","v":0},{"$f":"'4c'!U6","v":0},{"$f":"'4c'!V6","v":0},{"$f":"'4c'!W6","v":0},{"$f":"'4c'!X6","v":0},{"$f":"'4c'!Y6","v":0},{"$f":"'4c'!Z6","v":0},{"$f":"'4c'!AA6","v":0},{"$f":"'4c'!AB6","v":0},{"$f":"'4c'!AC6","v":0},{"$f":"'4c'!AD6","v":0},{"$f":"'4c'!AE6","v":0},{"$f":"'4c'!AF6","v":0},{"$f":"'4c'!AG6","v":0},{"$f":"'4c'!AH6","v":0},{"$f":"'4c'!AI6","v":0},{"$f":"'4c'!AJ6","v":0},{"$f":"'4c'!AK6","v":0},{"$f":"'4c'!AL6","v":0},{"$f":"'4c'!AM6","v":0},{"$f":"'4c'!AN6","v":0},{"$f":"'4c'!AO6","v":0},{"$f":"'4c'!AP6","v":0},{"$f":"'4c'!AQ6","v":0},{"$f":"'4c'!AR6","v":0},{"$f":"'4c'!AS6","v":0},{"$f":"'4c'!AT6","v":0},{"$f":"'4c'!AU6","v":0},{"$f":"'4c'!AV6","v":0},{"$f":"'4c'!AW6","v":0},{"$f":"'4c'!AX6","v":0},{"$f":"'4c'!AY6","v":0},{"$f":"'4c'!AZ6","v":0},{"$f":"'4c'!BA6","v":0},{"$f":"'4c'!BB6","v":0},{"$f":"'4c'!BC6","v":0},{"$f":"'4c'!BD6","v":0},{"$f":"'4c'!BE6","v":0}]
[{"$f":"'4c'!A7","v":"4c"},{"$f":"'4c'!B7","v":0},{"$f":"'4c'!C7","v":0},{"$f":"'4c'!D7","v":"lehrer05"},{"$f":"'4c'!E7","v":0},{"$f":"'4c'!F7","v":0},{"$f":"'4c'!G7","v":0},{"$f":"'4c'!H7","v":0},{"$f":"'4c'!I7","v":0},{"$f":"'4c'!J7","v":0},{"$f":"'4c'!K7","v":0},{"$f":"'4c'!L7","v":0},{"$f":"'4c'!M7","v":0},{"$f":"'4c'!N7","v":0},{"$f":"'4c'!O7","v":0},{"$f":"'4c'!P7","v":0},{"$f":"'4c'!Q7","v":0},{"$f":"'4c'!R7","v":0},{"$f":"'4c'!S7","v":0},{"$f":"'4c'!T7","v":0},{"$f":"'4c'!U7","v":0},{"$f":"'4c'!V7","v":0},{"$f":"'4c'!W7","v":0},{"$f":"'4c'!X7","v":0},{"$f":"'4c'!Y7","v":0},{"$f":"'4c'!Z7","v":0},{"$f":"'4c'!AA7","v":0},{"$f":"'4c'!AB7","v":0},{"$f":"'4c'!AC7","v":0},{"$f":"'4c'!AD7","v":0},{"$f":"'4c'!AE7","v":0},{"$f":"'4c'!AF7","v":0},{"$f":"'4c'!AG7","v":0},{"$f":"'4c'!AH7","v":0},{"$f":"'4c'!AI7","v":0},{"$f":"'4c'!AJ7","v":0},{"$f":"'4c'!AK7","v":0},{"$f":"'4c'!AL7","v":0},{"$f":"'4c'!AM7","v":0},{"$f":"'4c'!AN7","v":0},{"$f":"'4c'!AO7","v":0},{"$f":"'4c'!AP7","v":0},{"$f":"'4c'!AQ7","v":0},{"$f":"'4c'!AR7","v":0},{"$f":"'4c'!AS7","v":0},{"$f":"'4c'!AT7","v":0},{"$f":"'4c'!AU7","v":0},{"$f":"'4c'!AV7","v":0},{"$f":"'4c'!AW7","v":0},{"$f":"'4c'!AX7","v":0},{"$f":"'4c'!AY7","v":0},{"$f":"'4c'!AZ7","v":0},{"$f":"'4c'!BA7","v":0},{"$f":"'4c'!BB7","v":0},{"$f":"'4c'!BC7","v":0},{"$f":"'4c'!BD7","v":0},{"$f":"'4c'!BE7","v":0}]
[{"$f":"'4c'!A8","v":"4c"},{"$f":"'4c'!B8","v":0},{"$f":"'4c'!C8","v":0},{"$f":"'4c'!D8","v":"lehrer06"},{"$f":"'4c'!E8","v":0},{"$f":"'4c'!F8","v":0},{"$f":"'4c'!G8","v":0},{"$f":"'4c'!H8","v":0},{"$f":"'4c'!I8","v":0},{"$f":"'4c'!J8","v":0},{"$f":"'4c'!K8","v":0},{"$f":"'4c'!L8","v":0},{"$f":"'4c'!M8","v":0},{"$f":"'4c'!N8","v":0},{"$f":"'4c'!O8","v":0},{"$f":"'4c'!P8","v":0},{"$f":"'4c'!Q8","v":0},{"$f":"'4c'!R8","v":0},{"$f":"'4c'!S8","v":0},{"$f":"'4c'!T8","v":0},{"$f":"'4c'!U8","v":0},{"$f":"'4c'!V8","v":0},{"$f":"'4c'!W8","v":0},{"$f":"'4c'!X8","v":0},{"$f":"'4c'!Y8","v":0},{"$f":"'4c'!Z8","v":0},{"$f":"'4c'!AA8","v":0},{"$f":"'4c'!AB8","v":0},{"$f":"'4c'!AC8","v":0},{"$f":"'4c'!AD8","v":0},{"$f":"'4c'!AE8","v":0},{"$f":"'4c'!AF8","v":0},{"$f":"'4c'!AG8","v":0},{"$f":"'4c'!AH8","v":0},{"$f":"'4c'!AI8","v":0},{"$f":"'4c'!AJ8","v":0},{"$f":"'4c'!AK8","v":0},{"$f":"'4c'!AL8","v":0},{"$f":"'4c'!AM8","v":0},{"$f":"'4c'!AN8","v":0},{"$f":"'4c'!AO8","v":0},{"$f":"'4c'!AP8","v":0},{"$f":"'4c'!AQ8","v":0},{"$f":"'4c'!AR8","v":0},{"$f":"'4c'!AS8","v":0},{"$f":"'4c'!AT8","v":0},{"$f":"'4c'!AU8","v":0},{"$f":"'4c'!AV8","v":0},{"$f":"'4c'!AW8","v":0},{"$f":"'4c'!AX8","v":0},{"$f":"'4c'!AY8","v":0},{"$f":"'4c'!AZ8","v":0},{"$f":"'4c'!BA8","v":0},{"$f":"'4c'!BB8","v":0},{"$f":"'4c'!BC8","v":0},{"$f":"'4c'!BD8","v":0},{"$f":"'4c'!BE8","v":0}]
[{"$f":"'4c'!A9","v":"4c"},{"$f":"'4c'!B9","v":0},{"$f":"'4c'!C9","v":0},{"$f":"'4c'!D9","v":"lehrer07"},{"$f":"'4c'!E9","v":0},{"$f":"'4c'!F9","v":0},{"$f":"'4c'!G9","v":0},{"$f":"'4c'!H9","v":0},{"$f":"'4c'!I9","v":0},{"$f":"'4c'!J9","v":0},{"$f":"'4c'!K9","v":0},{"$f":"'4c'!L9","v":0},{"$f":"'4c'!M9","v":0},{"$f":"'4c'!N9","v":0},{"$f":"'4c'!O9","v":0},{"$f":"'4c'!P9","v":0},{"$f":"'4c'!Q9","v":0},{"$f":"'4c'!R9","v":0},{"$f":"'4c'!S9","v":0},{"$f":"'4c'!T9","v":0},{"$f":"'4c'!U9","v":0},{"$f":"'4c'!V9","v":0},{"$f":"'4c'!W9","v":0},{"$f":"'4c'!X9","v":0},{"$f":"'4c'!Y9","v":0},{"$f":"'4c'!Z9","v":0},{"$f":"'4c'!AA9","v":0},{"$f":"'4c'!AB9","v":0},{"$f":"'4c'!AC9","v":0},{"$f":"'4c'!AD9","v":0},{"$f":"'4c'!AE9","v":0},{"$f":"'4c'!AF9","v":0},{"$f":"'4c'!AG9","v":0},{"$f":"'4c'!AH9","v":0},{"$f":"'4c'!AI9","v":0},{"$f":"'4c'!AJ9","v":0},{"$f":"'4c'!AK9","v":0},{"$f":"'4c'!AL9","v":0},{"$f":"'4c'!AM9","v":0},{"$f":"'4c'!AN9","v":0},{"$f":"'4c'!AO9","v":0},{"$f":"'4c'!AP9","v":0},{"$f":"'4c'!AQ9","v":0},{"$f":"'4c'!AR9","v":0},{"$f":"'4c'!AS9","v":0},{"$f":"'4c'!AT9","v":0},{"$f":"'4c'!AU9","v":0},{"$f":"'4c'!AV9","v":0},{"$f":"'4c'!AW9","v":0},{"$f":"'4c'!AX9","v":0},{"$f":"'4c'!AY9","v":0},{"$f":"'4c'!AZ9","v":0},{"$f":"'4c'!BA9","v":0},{"$f":"'4c'!BB9","v":0},{"$f":"'4c'!BC9","v":0},{"$f":"'4c'!BD9","v":0},{"$f":"'4c'!BE9","v":0}]
[{"$f":"'4c'!A10","v":"4c"},{"$f":"'4c'!B10","v":0},{"$f":"'4c'!C10","v":0},{"$f":"'4c'!D10","v":"lehrer08"},{"$f":"'4c'!E10","v":0},{"$f":"'4c'!F10","v":0},{"$f":"'4c'!G10","v":0},{"$f":"'4c'!H10","v":0},{"$f":"'4c'!I10","v":0},{"$f":"'4c'!J10","v":0},{"$f":"'4c'!K10","v":0},{"$f":"'4c'!L10","v":0},{"$f":"'4c'!M10","v":0},{"$f":"'4c'!N10","v":0},{"$f":"'4c'!O10","v":0},{"$f":"'4c'!P10","v":0},{"$f":"'4c'!Q10","v":0},{"$f":"'4c'!R10","v":0},{"$f":"'4c'!S10","v":0},{"$f":"'4c'!T10","v":0},{"$f":"'4c'!U10","v":0},{"$f":"'4c'!V10","v":0},{"$f":"'4c'!W10","v":0},{"$f":"'4c'!X10","v":0},{"$f":"'4c'!Y10","v":0},{"$f":"'4c'!Z10","v":0},{"$f":"'4c'!AA10","v":0},{"$f":"'4c'!AB10","v":0},{"$f":"'4c'!AC10","v":0},{"$f":"'4c'!AD10","v":0},{"$f":"'4c'!AE10","v":0},{"$f":"'4c'!AF10","v":0},{"$f":"'4c'!AG10","v":0},{"$f":"'4c'!AH10","v":0},{"$f":"'4c'!AI10","v":0},{"$f":"'4c'!AJ10","v":0},{"$f":"'4c'!AK10","v":0},{"$f":"'4c'!AL10","v":0},{"$f":"'4c'!AM10","v":0},{"$f":"'4c'!AN10","v":0},{"$f":"'4c'!AO10","v":0},{"$f":"'4c'!AP10","v":0},{"$f":"'4c'!AQ10","v":0},{"$f":"'4c'!AR10","v":0},{"$f":"'4c'!AS10","v":0},{"$f":"'4c'!AT10","v":0},{"$f":"'4c'!AU10","v":0},{"$f":"'4c'!AV10","v":0},{"$f":"'4c'!AW10","v":0},{"$f":"'4c'!AX10","v":0},{"$f":"'4c'!AY10","v":0},{"$f":"'4c'!AZ10","v":0},{"$f":"'4c'!BA10","v":0},{"$f":"'4c'!BB10","v":0},{"$f":"'4c'!BC10","v":0},{"$f":"'4c'!BD10","v":0},{"$f":"'4c'!BE10","v":0}]
[{"$f":"'4c'!A11","v":"4c"},{"$f":"'4c'!B11","v":0},{"$f":"'4c'!C11","v":0},{"$f":"'4c'!D11","v":"lehrer09"},{"$f":"'4c'!E11","v":0},{"$f":"'4c'!F11","v":0},{"$f":"'4c'!G11","v":0},{"$f":"'4c'!H11","v":0},{"$f":"'4c'!I11","v":0},{"$f":"'4c'!J11","v":0},{"$f":"'4c'!K11","v":0},{"$f":"'4c'!L11","v":0},{"$f":"'4c'!M11","v":0},{"$f":"'4c'!N11","v":0},{"$f":"'4c'!O11","v":0},{"$f":"'4c'!P11","v":0},{"$f":"'4c'!Q11","v":0},{"$f":"'4c'!R11","v":0},{"$f":"'4c'!S11","v":0},{"$f":"'4c'!T11","v":0},{"$f":"'4c'!U11","v":0},{"$f":"'4c'!V11","v":0},{"$f":"'4c'!W11","v":0},{"$f":"'4c'!X11","v":0},{"$f":"'4c'!Y11","v":0},{"$f":"'4c'!Z11","v":0},{"$f":"'4c'!AA11","v":0},{"$f":"'4c'!AB11","v":0},{"$f":"'4c'!AC11","v":0},{"$f":"'4c'!AD11","v":0},{"$f":"'4c'!AE11","v":0},{"$f":"'4c'!AF11","v":0},{"$f":"'4c'!AG11","v":0},{"$f":"'4c'!AH11","v":0},{"$f":"'4c'!AI11","v":0},{"$f":"'4c'!AJ11","v":0},{"$f":"'4c'!AK11","v":0},{"$f":"'4c'!AL11","v":0},{"$f":"'4c'!AM11","v":0},{"$f":"'4c'!AN11","v":0},{"$f":"'4c'!AO11","v":0},{"$f":"'4c'!AP11","v":0},{"$f":"'4c'!AQ11","v":0},{"$f":"'4c'!AR11","v":0},{"$f":"'4c'!AS11","v":0},{"$f":"'4c'!AT11","v":0},{"$f":"'4c'!AU11","v":0},{"$f":"'4c'!AV11","v":0},{"$f":"'4c'!AW11","v":0},{"$f":"'4c'!AX11","v":0},{"$f":"'4c'!AY11","v":0},{"$f":"'4c'!AZ11","v":0},{"$f":"'4c'!BA11","v":0},{"$f":"'4c'!BB11","v":0},{"$f":"'4c'!BC11","v":0},{"$f":"'4c'!BD11","v":0},{"$f":"'4c'!BE11","v":0}]
[{"$f":"'4c'!A12","v":"4c"},{"$f":"'4c'!B12","v":0},{"$f":"'4c'!C12","v":0},{"$f":"'4c'!D12","v":"lehrer10"},{"$f":"'4c'!E12","v":0},{"$f":"'4c'!F12","v":0},{"$f":"'4c'!G12","v":0},{"$f":"'4c'!H12","v":0},{"$f":"'4c'!I12","v":0},{"$f":"'4c'!J12","v":0},{"$f":"'4c'!K12","v":0},{"$f":"'4c'!L12","v":0},{"$f":"'4c'!M12","v":0},{"$f":"'4c'!N12","v":0},{"$f":"'4c'!O12","v":0},{"$f":"'4c'!P12","v":0},{"$f":"'4c'!Q12","v":0},{"$f":"'4c'!R12","v":0},{"$f":"'4c'!S12","v":0},{"$f":"'4c'!T12","v":0},{"$f":"'4c'!U12","v":0},{"$f":"'4c'!V12","v":0},{"$f":"'4c'!W12","v":0},{"$f":"'4c'!X12","v":0},{"$f":"'4c'!Y12","v":0},{"$f":"'4c'!Z12","v":0},{"$f":"'4c'!AA12","v":0},{"$f":"'4c'!AB12","v":0},{"$f":"'4c'!AC12","v":0},{"$f":"'4c'!AD12","v":0},{"$f":"'4c'!AE12","v":0},{"$f":"'4c'!AF12","v":0},{"$f":"'4c'!AG12","v":0},{"$f":"'4c'!AH12","v":0},{"$f":"'4c'!AI12","v":0},{"$f":"'4c'!AJ12","v":0},{"$f":"'4c'!AK12","v":0},{"$f":"'4c'!AL12","v":0},{"$f":"'4c'!AM12","v":0},{"$f":"'4c'!AN12","v":0},{"$f":"'4c'!AO12","v":0},{"$f":"'4c'!AP12","v":0},{"$f":"'4c'!AQ12","v":0},{"$f":"'4c'!AR12","v":0},{"$f":"'4c'!AS12","v":0},{"$f":"'4c'!AT12","v":0},{"$f":"'4c'!AU12","v":0},{"$f":"'4c'!AV12","v":0},{"$f":"'4c'!AW12","v":0},{"$f":"'4c'!AX12","v":0},{"$f":"'4c'!AY12","v":0},{"$f":"'4c'!AZ12","v":0},{"$f":"'4c'!BA12","v":0},{"$f":"'4c'!BB12","v":0},{"$f":"'4c'!BC12","v":0},{"$f":"'4c'!BD12","v":0},{"$f":"'4c'!BE12","v":0}]
[{"$f":"'4c'!A13","v":"4c"},{"$f":"'4c'!B13","v":0},{"$f":"'4c'!C13","v":0},{"$f":"'4c'!D13","v":"lehrer11"},{"$f":"'4c'!E13","v":0},{"$f":"'4c'!F13","v":0},{"$f":"'4c'!G13","v":0},{"$f":"'4c'!H13","v":0},{"$f":"'4c'!I13","v":0},{"$f":"'4c'!J13","v":0},{"$f":"'4c'!K13","v":0},{"$f":"'4c'!L13","v":0},{"$f":"'4c'!M13","v":0},{"$f":"'4c'!N13","v":0},{"$f":"'4c'!O13","v":0},{"$f":"'4c'!P13","v":0},{"$f":"'4c'!Q13","v":0},{"$f":"'4c'!R13","v":0},{"$f":"'4c'!S13","v":0},{"$f":"'4c'!T13","v":0},{"$f":"'4c'!U13","v":0},{"$f":"'4c'!V13","v":0},{"$f":"'4c'!W13","v":0},{"$f":"'4c'!X13","v":0},{"$f":"'4c'!Y13","v":0},{"$f":"'4c'!Z13","v":0},{"$f":"'4c'!AA13","v":0},{"$f":"'4c'!AB13","v":0},{"$f":"'4c'!AC13","v":0},{"$f":"'4c'!AD13","v":0},{"$f":"'4c'!AE13","v":0},{"$f":"'4c'!AF13","v":0},{"$f":"'4c'!AG13","v":0},{"$f":"'4c'!AH13","v":0},{"$f":"'4c'!AI13","v":0},{"$f":"'4c'!AJ13","v":0},{"$f":"'4c'!AK13","v":0},{"$f":"'4c'!AL13","v":0},{"$f":"'4c'!AM13","v":0},{"$f":"'4c'!AN13","v":0},{"$f":"'4c'!AO13","v":0},{"$f":"'4c'!AP13","v":0},{"$f":"'4c'!AQ13","v":0},{"$f":"'4c'!AR13","v":0},{"$f":"'4c'!AS13","v":0},{"$f":"'4c'!AT13","v":0},{"$f":"'4c'!AU13","v":0},{"$f":"'4c'!AV13","v":0},{"$f":"'4c'!AW13","v":0},{"$f":"'4c'!AX13","v":0},{"$f":"'4c'!AY13","v":0},{"$f":"'4c'!AZ13","v":0},{"$f":"'4c'!BA13","v":0},{"$f":"'4c'!BB13","v":0},{"$f":"'4c'!BC13","v":0},{"$f":"'4c'!BD13","v":0},{"$f":"'4c'!BE13","v":0}]
[{"$f":"'4c'!A14","v":"4c"},{"$f":"'4c'!B14","v":0},{"$f":"'4c'!C14","v":0},{"$f":"'4c'!D14","v":"lehrer12"},{"$f":"'4c'!E14","v":0},{"$f":"'4c'!F14","v":0},{"$f":"'4c'!G14","v":0},{"$f":"'4c'!H14","v":0},{"$f":"'4c'!I14","v":0},{"$f":"'4c'!J14","v":0},{"$f":"'4c'!K14","v":0},{"$f":"'4c'!L14","v":0},{"$f":"'4c'!M14","v":0},{"$f":"'4c'!N14","v":0},{"$f":"'4c'!O14","v":0},{"$f":"'4c'!P14","v":0},{"$f":"'4c'!Q14","v":0},{"$f":"'4c'!R14","v":0},{"$f":"'4c'!S14","v":0},{"$f":"'4c'!T14","v":0},{"$f":"'4c'!U14","v":0},{"$f":"'4c'!V14","v":0},{"$f":"'4c'!W14","v":0},{"$f":"'4c'!X14","v":0},{"$f":"'4c'!Y14","v":0},{"$f":"'4c'!Z14","v":0},{"$f":"'4c'!AA14","v":0},{"$f":"'4c'!AB14","v":0},{"$f":"'4c'!AC14","v":0},{"$f":"'4c'!AD14","v":0},{"$f":"'4c'!AE14","v":0},{"$f":"'4c'!AF14","v":0},{"$f":"'4c'!AG14","v":0},{"$f":"'4c'!AH14","v":0},{"$f":"'4c'!AI14","v":0},{"$f":"'4c'!AJ14","v":0},{"$f":"'4c'!AK14","v":0},{"$f":"'4c'!AL14","v":0},{"$f":"'4c'!AM14","v":0},{"$f":"'4c'!AN14","v":0},{"$f":"'4c'!AO14","v":0},{"$f":"'4c'!AP14","v":0},{"$f":"'4c'!AQ14","v":0},{"$f":"'4c'!AR14","v":0},{"$f":"'4c'!AS14","v":0},{"$f":"'4c'!AT14","v":0},{"$f":"'4c'!AU14","v":0},{"$f":"'4c'!AV14","v":0},{"$f":"'4c'!AW14","v":0},{"$f":"'4c'!AX14","v":0},{"$f":"'4c'!AY14","v":0},{"$f":"'4c'!AZ14","v":0},{"$f":"'4c'!BA14","v":0},{"$f":"'4c'!BB14","v":0},{"$f":"'4c'!BC14","v":0},{"$f":"'4c'!BD14","v":0},{"$f":"'4c'!BE14","v":0}]
[{"$f":"'4c'!A15","v":"4c"},{"$f":"'4c'!B15","v":0},{"$f":"'4c'!C15","v":0},{"$f":"'4c'!D15","v":"lehrer13"},{"$f":"'4c'!E15","v":0},{"$f":"'4c'!F15","v":0},{"$f":"'4c'!G15","v":0},{"$f":"'4c'!H15","v":0},{"$f":"'4c'!I15","v":0},{"$f":"'4c'!J15","v":0},{"$f":"'4c'!K15","v":0},{"$f":"'4c'!L15","v":0},{"$f":"'4c'!M15","v":0},{"$f":"'4c'!N15","v":0},{"$f":"'4c'!O15","v":0},{"$f":"'4c'!P15","v":0},{"$f":"'4c'!Q15","v":0},{"$f":"'4c'!R15","v":0},{"$f":"'4c'!S15","v":0},{"$f":"'4c'!T15","v":0},{"$f":"'4c'!U15","v":0},{"$f":"'4c'!V15","v":0},{"$f":"'4c'!W15","v":0},{"$f":"'4c'!X15","v":0},{"$f":"'4c'!Y15","v":0},{"$f":"'4c'!Z15","v":0},{"$f":"'4c'!AA15","v":0},{"$f":"'4c'!AB15","v":0},{"$f":"'4c'!AC15","v":0},{"$f":"'4c'!AD15","v":0},{"$f":"'4c'!AE15","v":0},{"$f":"'4c'!AF15","v":0},{"$f":"'4c'!AG15","v":0},{"$f":"'4c'!AH15","v":0},{"$f":"'4c'!AI15","v":0},{"$f":"'4c'!AJ15","v":0},{"$f":"'4c'!AK15","v":0},{"$f":"'4c'!AL15","v":0},{"$f":"'4c'!AM15","v":0},{"$f":"'4c'!AN15","v":0},{"$f":"'4c'!AO15","v":0},{"$f":"'4c'!AP15","v":0},{"$f":"'4c'!AQ15","v":0},{"$f":"'4c'!AR15","v":0},{"$f":"'4c'!AS15","v":0},{"$f":"'4c'!AT15","v":0},{"$f":"'4c'!AU15","v":0},{"$f":"'4c'!AV15","v":0},{"$f":"'4c'!AW15","v":0},{"$f":"'4c'!AX15","v":0},{"$f":"'4c'!AY15","v":0},{"$f":"'4c'!AZ15","v":0},{"$f":"'4c'!BA15","v":0},{"$f":"'4c'!BB15","v":0},{"$f":"'4c'!BC15","v":0},{"$f":"'4c'!BD15","v":0},{"$f":"'4c'!BE15","v":0}]
[{"$f":"'4c'!A16","v":"4c"},{"$f":"'4c'!B16","v":0},{"$f":"'4c'!C16","v":0},{"$f":"'4c'!D16","v":"lehrer14"},{"$f":"'4c'!E16","v":0},{"$f":"'4c'!F16","v":0},{"$f":"'4c'!G16","v":0},{"$f":"'4c'!H16","v":0},{"$f":"'4c'!I16","v":0},{"$f":"'4c'!J16","v":0},{"$f":"'4c'!K16","v":0},{"$f":"'4c'!L16","v":0},{"$f":"'4c'!M16","v":0},{"$f":"'4c'!N16","v":0},{"$f":"'4c'!O16","v":0},{"$f":"'4c'!P16","v":0},{"$f":"'4c'!Q16","v":0},{"$f":"'4c'!R16","v":0},{"$f":"'4c'!S16","v":0},{"$f":"'4c'!T16","v":0},{"$f":"'4c'!U16","v":0},{"$f":"'4c'!V16","v":0},{"$f":"'4c'!W16","v":0},{"$f":"'4c'!X16","v":0},{"$f":"'4c'!Y16","v":0},{"$f":"'4c'!Z16","v":0},{"$f":"'4c'!AA16","v":0},{"$f":"'4c'!AB16","v":0},{"$f":"'4c'!AC16","v":0},{"$f":"'4c'!AD16","v":0},{"$f":"'4c'!AE16","v":0},{"$f":"'4c'!AF16","v":0},{"$f":"'4c'!AG16","v":0},{"$f":"'4c'!AH16","v":0},{"$f":"'4c'!AI16","v":0},{"$f":"'4c'!AJ16","v":0},{"$f":"'4c'!AK16","v":0},{"$f":"'4c'!AL16","v":0},{"$f":"'4c'!AM16","v":0},{"$f":"'4c'!AN16","v":0},{"$f":"'4c'!AO16","v":0},{"$f":"'4c'!AP16","v":0},{"$f":"'4c'!AQ16","v":0},{"$f":"'4c'!AR16","v":0},{"$f":"'4c'!AS16","v":0},{"$f":"'4c'!AT16","v":0},{"$f":"'4c'!AU16","v":0},{"$f":"'4c'!AV16","v":0},{"$f":"'4c'!AW16","v":0},{"$f":"'4c'!AX16","v":0},{"$f":"'4c'!AY16","v":0},{"$f":"'4c'!AZ16","v":0},{"$f":"'4c'!BA16","v":0},{"$f":"'4c'!BB16","v":0},{"$f":"'4c'!BC16","v":0},{"$f":"'4c'!BD16","v":0},{"$f":"'4c'!BE16","v":0}]
[{"$f":"'4c'!A17","v":"4c"},{"$f":"'4c'!B17","v":0},{"$f":"'4c'!C17","v":0},{"$f":"'4c'!D17","v":"lehrer15"},{"$f":"'4c'!E17","v":0},{"$f":"'4c'!F17","v":0},{"$f":"'4c'!G17","v":0},{"$f":"'4c'!H17","v":0},{"$f":"'4c'!I17","v":0},{"$f":"'4c'!J17","v":0},{"$f":"'4c'!K17","v":0},{"$f":"'4c'!L17","v":0},{"$f":"'4c'!M17","v":0},{"$f":"'4c'!N17","v":0},{"$f":"'4c'!O17","v":0},{"$f":"'4c'!P17","v":0},{"$f":"'4c'!Q17","v":0},{"$f":"'4c'!R17","v":0},{"$f":"'4c'!S17","v":0},{"$f":"'4c'!T17","v":0},{"$f":"'4c'!U17","v":0},{"$f":"'4c'!V17","v":0},{"$f":"'4c'!W17","v":0},{"$f":"'4c'!X17","v":0},{"$f":"'4c'!Y17","v":0},{"$f":"'4c'!Z17","v":0},{"$f":"'4c'!AA17","v":0},{"$f":"'4c'!AB17","v":0},{"$f":"'4c'!AC17","v":0},{"$f":"'4c'!AD17","v":0},{"$f":"'4c'!AE17","v":0},{"$f":"'4c'!AF17","v":0},{"$f":"'4c'!AG17","v":0},{"$f":"'4c'!AH17","v":0},{"$f":"'4c'!AI17","v":0},{"$f":"'4c'!AJ17","v":0},{"$f":"'4c'!AK17","v":0},{"$f":"'4c'!AL17","v":0},{"$f":"'4c'!AM17","v":0},{"$f":"'4c'!AN17","v":0},{"$f":"'4c'!AO17","v":0},{"$f":"'4c'!AP17","v":0},{"$f":"'4c'!AQ17","v":0},{"$f":"'4c'!AR17","v":0},{"$f":"'4c'!AS17","v":0},{"$f":"'4c'!AT17","v":0},{"$f":"'4c'!AU17","v":0},{"$f":"'4c'!AV17","v":0},{"$f":"'4c'!AW17","v":0},{"$f":"'4c'!AX17","v":0},{"$f":"'4c'!AY17","v":0},{"$f":"'4c'!AZ17","v":0},{"$f":"'4c'!BA17","v":0},{"$f":"'4c'!BB17","v":0},{"$f":"'4c'!BC17","v":0},{"$f":"'4c'!BD17","v":0},{"$f":"'4c'!BE17","v":0}]
[{"$f":"'4c'!A18","v":"4c"},{"$f":"'4c'!B18","v":0},{"$f":"'4c'!C18","v":0},{"$f":"'4c'!D18","v":"lehrer16"},{"$f":"'4c'!E18","v":0},{"$f":"'4c'!F18","v":0},{"$f":"'4c'!G18","v":0},{"$f":"'4c'!H18","v":0},{"$f":"'4c'!I18","v":0},{"$f":"'4c'!J18","v":0},{"$f":"'4c'!K18","v":0},{"$f":"'4c'!L18","v":0},{"$f":"'4c'!M18","v":0},{"$f":"'4c'!N18","v":0},{"$f":"'4c'!O18","v":0},{"$f":"'4c'!P18","v":0},{"$f":"'4c'!Q18","v":0},{"$f":"'4c'!R18","v":0},{"$f":"'4c'!S18","v":0},{"$f":"'4c'!T18","v":0},{"$f":"'4c'!U18","v":0},{"$f":"'4c'!V18","v":0},{"$f":"'4c'!W18","v":0},{"$f":"'4c'!X18","v":0},{"$f":"'4c'!Y18","v":0},{"$f":"'4c'!Z18","v":0},{"$f":"'4c'!AA18","v":0},{"$f":"'4c'!AB18","v":0},{"$f":"'4c'!AC18","v":0},{"$f":"'4c'!AD18","v":0},{"$f":"'4c'!AE18","v":0},{"$f":"'4c'!AF18","v":0},{"$f":"'4c'!AG18","v":0},{"$f":"'4c'!AH18","v":0},{"$f":"'4c'!AI18","v":0},{"$f":"'4c'!AJ18","v":0},{"$f":"'4c'!AK18","v":0},{"$f":"'4c'!AL18","v":0},{"$f":"'4c'!AM18","v":0},{"$f":"'4c'!AN18","v":0},{"$f":"'4c'!AO18","v":0},{"$f":"'4c'!AP18","v":0},{"$f":"'4c'!AQ18","v":0},{"$f":"'4c'!AR18","v":0},{"$f":"'4c'!AS18","v":0},{"$f":"'4c'!AT18","v":0},{"$f":"'4c'!AU18","v":0},{"$f":"'4c'!AV18","v":0},{"$f":"'4c'!AW18","v":0},{"$f":"'4c'!AX18","v":0},{"$f":"'4c'!AY18","v":0},{"$f":"'4c'!AZ18","v":0},{"$f":"'4c'!BA18","v":0},{"$f":"'4c'!BB18","v":0},{"$f":"'4c'!BC18","v":0},{"$f":"'4c'!BD18","v":0},{"$f":"'4c'!BE18","v":0}]
[{"$f":"'4c'!A19","v":"4c"},{"$f":"'4c'!B19","v":0},{"$f":"'4c'!C19","v":0},{"$f":"'4c'!D19","v":"lehrer17"},{"$f":"'4c'!E19","v":0},{"$f":"'4c'!F19","v":0},{"$f":"'4c'!G19","v":0},{"$f":"'4c'!H19","v":0},{"$f":"'4c'!I19","v":0},{"$f":"'4c'!J19","v":0},{"$f":"'4c'!K19","v":0},{"$f":"'4c'!L19","v":0},{"$f":"'4c'!M19","v":0},{"$f":"'4c'!N19","v":0},{"$f":"'4c'!O19","v":0},{"$f":"'4c'!P19","v":0},{"$f":"'4c'!Q19","v":0},{"$f":"'4c'!R19","v":0},{"$f":"'4c'!S19","v":0},{"$f":"'4c'!T19","v":0},{"$f":"'4c'!U19","v":0},{"$f":"'4c'!V19","v":0},{"$f":"'4c'!W19","v":0},{"$f":"'4c'!X19","v":0},{"$f":"'4c'!Y19","v":0},{"$f":"'4c'!Z19","v":0},{"$f":"'4c'!AA19","v":0},{"$f":"'4c'!AB19","v":0},{"$f":"'4c'!AC19","v":0},{"$f":"'4c'!AD19","v":0},{"$f":"'4c'!AE19","v":0},{"$f":"'4c'!AF19","v":0},{"$f":"'4c'!AG19","v":0},{"$f":"'4c'!AH19","v":0},{"$f":"'4c'!AI19","v":0},{"$f":"'4c'!AJ19","v":0},{"$f":"'4c'!AK19","v":0},{"$f":"'4c'!AL19","v":0},{"$f":"'4c'!AM19","v":0},{"$f":"'4c'!AN19","v":0},{"$f":"'4c'!AO19","v":0},{"$f":"'4c'!AP19","v":0},{"$f":"'4c'!AQ19","v":0},{"$f":"'4c'!AR19","v":0},{"$f":"'4c'!AS19","v":0},{"$f":"'4c'!AT19","v":0},{"$f":"'4c'!AU19","v":0},{"$f":"'4c'!AV19","v":0},{"$f":"'4c'!AW19","v":0},{"$f":"'4c'!AX19","v":0},{"$f":"'4c'!AY19","v":0},{"$f":"'4c'!AZ19","v":0},{"$f":"'4c'!BA19","v":0},{"$f":"'4c'!BB19","v":0},{"$f":"'4c'!BC19","v":0},{"$f":"'4c'!BD19","v":0},{"$f":"'4c'!BE19","v":0}]
[{"$f":"'4c'!A20","v":"4c"},{"$f":"'4c'!B20","v":0},{"$f":"'4c'!C20","v":0},{"$f":"'4c'!D20","v":"lehrer18"},{"$f":"'4c'!E20","v":0},{"$f":"'4c'!F20","v":0},{"$f":"'4c'!G20","v":0},{"$f":"'4c'!H20","v":0},{"$f":"'4c'!I20","v":0},{"$f":"'4c'!J20","v":0},{"$f":"'4c'!K20","v":0},{"$f":"'4c'!L20","v":0},{"$f":"'4c'!M20","v":0},{"$f":"'4c'!N20","v":0},{"$f":"'4c'!O20","v":0},{"$f":"'4c'!P20","v":0},{"$f":"'4c'!Q20","v":0},{"$f":"'4c'!R20","v":0},{"$f":"'4c'!S20","v":0},{"$f":"'4c'!T20","v":0},{"$f":"'4c'!U20","v":0},{"$f":"'4c'!V20","v":0},{"$f":"'4c'!W20","v":0},{"$f":"'4c'!X20","v":0},{"$f":"'4c'!Y20","v":0},{"$f":"'4c'!Z20","v":0},{"$f":"'4c'!AA20","v":0},{"$f":"'4c'!AB20","v":0},{"$f":"'4c'!AC20","v":0},{"$f":"'4c'!AD20","v":0},{"$f":"'4c'!AE20","v":0},{"$f":"'4c'!AF20","v":0},{"$f":"'4c'!AG20","v":0},{"$f":"'4c'!AH20","v":0},{"$f":"'4c'!AI20","v":0},{"$f":"'4c'!AJ20","v":0},{"$f":"'4c'!AK20","v":0},{"$f":"'4c'!AL20","v":0},{"$f":"'4c'!AM20","v":0},{"$f":"'4c'!AN20","v":0},{"$f":"'4c'!AO20","v":0},{"$f":"'4c'!AP20","v":0},{"$f":"'4c'!AQ20","v":0},{"$f":"'4c'!AR20","v":0},{"$f":"'4c'!AS20","v":0},{"$f":"'4c'!AT20","v":0},{"$f":"'4c'!AU20","v":0},{"$f":"'4c'!AV20","v":0},{"$f":"'4c'!AW20","v":0},{"$f":"'4c'!AX20","v":0},{"$f":"'4c'!AY20","v":0},{"$f":"'4c'!AZ20","v":0},{"$f":"'4c'!BA20","v":0},{"$f":"'4c'!BB20","v":0},{"$f":"'4c'!BC20","v":0},{"$f":"'4c'!BD20","v":0},{"$f":"'4c'!BE20","v":0}]
[{"$f":"'4c'!A21","v":"4c"},{"$f":"'4c'!B21","v":0},{"$f":"'4c'!C21","v":0},{"$f":"'4c'!D21","v":"lehrer19"},{"$f":"'4c'!E21","v":0},{"$f":"'4c'!F21","v":0},{"$f":"'4c'!G21","v":0},{"$f":"'4c'!H21","v":0},{"$f":"'4c'!I21","v":0},{"$f":"'4c'!J21","v":0},{"$f":"'4c'!K21","v":0},{"$f":"'4c'!L21","v":0},{"$f":"'4c'!M21","v":0},{"$f":"'4c'!N21","v":0},{"$f":"'4c'!O21","v":0},{"$f":"'4c'!P21","v":0},{"$f":"'4c'!Q21","v":0},{"$f":"'4c'!R21","v":0},{"$f":"'4c'!S21","v":0},{"$f":"'4c'!T21","v":0},{"$f":"'4c'!U21","v":0},{"$f":"'4c'!V21","v":0},{"$f":"'4c'!W21","v":0},{"$f":"'4c'!X21","v":0},{"$f":"'4c'!Y21","v":0},{"$f":"'4c'!Z21","v":0},{"$f":"'4c'!AA21","v":0},{"$f":"'4c'!AB21","v":0},{"$f":"'4c'!AC21","v":0},{"$f":"'4c'!AD21","v":0},{"$f":"'4c'!AE21","v":0},{"$f":"'4c'!AF21","v":0},{"$f":"'4c'!AG21","v":0},{"$f":"'4c'!AH21","v":0},{"$f":"'4c'!AI21","v":0},{"$f":"'4c'!AJ21","v":0},{"$f":"'4c'!AK21","v":0},{"$f":"'4c'!AL21","v":0},{"$f":"'4c'!AM21","v":0},{"$f":"'4c'!AN21","v":0},{"$f":"'4c'!AO21","v":0},{"$f":"'4c'!AP21","v":0},{"$f":"'4c'!AQ21","v":0},{"$f":"'4c'!AR21","v":0},{"$f":"'4c'!AS21","v":0},{"$f":"'4c'!AT21","v":0},{"$f":"'4c'!AU21","v":0},{"$f":"'4c'!AV21","v":0},{"$f":"'4c'!AW21","v":0},{"$f":"'4c'!AX21","v":0},{"$f":"'4c'!AY21","v":0},{"$f":"'4c'!AZ21","v":0},{"$f":"'4c'!BA21","v":0},{"$f":"'4c'!BB21","v":0},{"$f":"'4c'!BC21","v":0},{"$f":"'4c'!BD21","v":0},{"$f":"'4c'!BE21","v":0}]
[{"$f":"'4c'!A22","v":"4c"},{"$f":"'4c'!B22","v":0},{"$f":"'4c'!C22","v":0},{"$f":"'4c'!D22","v":"lehrer20"},{"$f":"'4c'!E22","v":0},{"$f":"'4c'!F22","v":0},{"$f":"'4c'!G22","v":0},{"$f":"'4c'!H22","v":0},{"$f":"'4c'!I22","v":0},{"$f":"'4c'!J22","v":0},{"$f":"'4c'!K22","v":0},{"$f":"'4c'!L22","v":0},{"$f":"'4c'!M22","v":0},{"$f":"'4c'!N22","v":0},{"$f":"'4c'!O22","v":0},{"$f":"'4c'!P22","v":0},{"$f":"'4c'!Q22","v":0},{"$f":"'4c'!R22","v":0},{"$f":"'4c'!S22","v":0},{"$f":"'4c'!T22","v":0},{"$f":"'4c'!U22","v":0},{"$f":"'4c'!V22","v":0},{"$f":"'4c'!W22","v":0},{"$f":"'4c'!X22","v":0},{"$f":"'4c'!Y22","v":0},{"$f":"'4c'!Z22","v":0},{"$f":"'4c'!AA22","v":0},{"$f":"'4c'!AB22","v":0},{"$f":"'4c'!AC22","v":0},{"$f":"'4c'!AD22","v":0},{"$f":"'4c'!AE22","v":0},{"$f":"'4c'!AF22","v":0},{"$f":"'4c'!AG22","v":0},{"$f":"'4c'!AH22","v":0},{"$f":"'4c'!AI22","v":0},{"$f":"'4c'!AJ22","v":0},{"$f":"'4c'!AK22","v":0},{"$f":"'4c'!AL22","v":0},{"$f":"'4c'!AM22","v":0},{"$f":"'4c'!AN22","v":0},{"$f":"'4c'!AO22","v":0},{"$f":"'4c'!AP22","v":0},{"$f":"'4c'!AQ22","v":0},{"$f":"'4c'!AR22","v":0},{"$f":"'4c'!AS22","v":0},{"$f":"'4c'!AT22","v":0},{"$f":"'4c'!AU22","v":0},{"$f":"'4c'!AV22","v":0},{"$f":"'4c'!AW22","v":0},{"$f":"'4c'!AX22","v":0},{"$f":"'4c'!AY22","v":0},{"$f":"'4c'!AZ22","v":0},{"$f":"'4c'!BA22","v":0},{"$f":"'4c'!BB22","v":0},{"$f":"'4c'!BC22","v":0},{"$f":"'4c'!BD22","v":0},{"$f":"'4c'!BE22","v":0}]
[{"$f":"'4c'!A23","v":"4c"},{"$f":"'4c'!B23","v":0},{"$f":"'4c'!C23","v":0},{"$f":"'4c'!D23","v":"lehrer21"},{"$f":"'4c'!E23","v":0},{"$f":"'4c'!F23","v":0},{"$f":"'4c'!G23","v":0},{"$f":"'4c'!H23","v":0},{"$f":"'4c'!I23","v":0},{"$f":"'4c'!J23","v":0},{"$f":"'4c'!K23","v":0},{"$f":"'4c'!L23","v":0},{"$f":"'4c'!M23","v":0},{"$f":"'4c'!N23","v":0},{"$f":"'4c'!O23","v":0},{"$f":"'4c'!P23","v":0},{"$f":"'4c'!Q23","v":0},{"$f":"'4c'!R23","v":0},{"$f":"'4c'!S23","v":0},{"$f":"'4c'!T23","v":0},{"$f":"'4c'!U23","v":0},{"$f":"'4c'!V23","v":0},{"$f":"'4c'!W23","v":0},{"$f":"'4c'!X23","v":0},{"$f":"'4c'!Y23","v":0},{"$f":"'4c'!Z23","v":0},{"$f":"'4c'!AA23","v":0},{"$f":"'4c'!AB23","v":0},{"$f":"'4c'!AC23","v":0},{"$f":"'4c'!AD23","v":0},{"$f":"'4c'!AE23","v":0},{"$f":"'4c'!AF23","v":0},{"$f":"'4c'!AG23","v":0},{"$f":"'4c'!AH23","v":0},{"$f":"'4c'!AI23","v":0},{"$f":"'4c'!AJ23","v":0},{"$f":"'4c'!AK23","v":0},{"$f":"'4c'!AL23","v":0},{"$f":"'4c'!AM23","v":0},{"$f":"'4c'!AN23","v":0},{"$f":"'4c'!AO23","v":0},{"$f":"'4c'!AP23","v":0},{"$f":"'4c'!AQ23","v":0},{"$f":"'4c'!AR23","v":0},{"$f":"'4c'!AS23","v":0},{"$f":"'4c'!AT23","v":0},{"$f":"'4c'!AU23","v":0},{"$f":"'4c'!AV23","v":0},{"$f":"'4c'!AW23","v":0},{"$f":"'4c'!AX23","v":0},{"$f":"'4c'!AY23","v":0},{"$f":"'4c'!AZ23","v":0},{"$f":"'4c'!BA23","v":0},{"$f":"'4c'!BB23","v":0},{"$f":"'4c'!BC23","v":0},{"$f":"'4c'!BD23","v":0},{"$f":"'4c'!BE23","v":0}]
[{"$f":"'4c'!A24","v":"4c"},{"$f":"'4c'!B24","v":0},{"$f":"'4c'!C24","v":0},{"$f":"'4c'!D24","v":"lehrer22"},{"$f":"'4c'!E24","v":0},{"$f":"'4c'!F24","v":0},{"$f":"'4c'!G24","v":0},{"$f":"'4c'!H24","v":0},{"$f":"'4c'!I24","v":0},{"$f":"'4c'!J24","v":0},{"$f":"'4c'!K24","v":0},{"$f":"'4c'!L24","v":0},{"$f":"'4c'!M24","v":0},{"$f":"'4c'!N24","v":0},{"$f":"'4c'!O24","v":0},{"$f":"'4c'!P24","v":0},{"$f":"'4c'!Q24","v":0},{"$f":"'4c'!R24","v":0},{"$f":"'4c'!S24","v":0},{"$f":"'4c'!T24","v":0},{"$f":"'4c'!U24","v":0},{"$f":"'4c'!V24","v":0},{"$f":"'4c'!W24","v":0},{"$f":"'4c'!X24","v":0},{"$f":"'4c'!Y24","v":0},{"$f":"'4c'!Z24","v":0},{"$f":"'4c'!AA24","v":0},{"$f":"'4c'!AB24","v":0},{"$f":"'4c'!AC24","v":0},{"$f":"'4c'!AD24","v":0},{"$f":"'4c'!AE24","v":0},{"$f":"'4c'!AF24","v":0},{"$f":"'4c'!AG24","v":0},{"$f":"'4c'!AH24","v":0},{"$f":"'4c'!AI24","v":0},{"$f":"'4c'!AJ24","v":0},{"$f":"'4c'!AK24","v":0},{"$f":"'4c'!AL24","v":0},{"$f":"'4c'!AM24","v":0},{"$f":"'4c'!AN24","v":0},{"$f":"'4c'!AO24","v":0},{"$f":"'4c'!AP24","v":0},{"$f":"'4c'!AQ24","v":0},{"$f":"'4c'!AR24","v":0},{"$f":"'4c'!AS24","v":0},{"$f":"'4c'!AT24","v":0},{"$f":"'4c'!AU24","v":0},{"$f":"'4c'!AV24","v":0},{"$f":"'4c'!AW24","v":0},{"$f":"'4c'!AX24","v":0},{"$f":"'4c'!AY24","v":0},{"$f":"'4c'!AZ24","v":0},{"$f":"'4c'!BA24","v":0},{"$f":"'4c'!BB24","v":0},{"$f":"'4c'!BC24","v":0},{"$f":"'4c'!BD24","v":0},{"$f":"'4c'!BE24","v":0}]
[{"$f":"'4c'!A25","v":"4c"},{"$f":"'4c'!B25","v":0},{"$f":"'4c'!C25","v":0},{"$f":"'4c'!D25","v":"lehrer23"},{"$f":"'4c'!E25","v":0},{"$f":"'4c'!F25","v":0},{"$f":"'4c'!G25","v":0},{"$f":"'4c'!H25","v":0},{"$f":"'4c'!I25","v":0},{"$f":"'4c'!J25","v":0},{"$f":"'4c'!K25","v":0},{"$f":"'4c'!L25","v":0},{"$f":"'4c'!M25","v":0},{"$f":"'4c'!N25","v":0},{"$f":"'4c'!O25","v":0},{"$f":"'4c'!P25","v":0},{"$f":"'4c'!Q25","v":0},{"$f":"'4c'!R25","v":0},{"$f":"'4c'!S25","v":0},{"$f":"'4c'!T25","v":0},{"$f":"'4c'!U25","v":0},{"$f":"'4c'!V25","v":0},{"$f":"'4c'!W25","v":0},{"$f":"'4c'!X25","v":0},{"$f":"'4c'!Y25","v":0},{"$f":"'4c'!Z25","v":0},{"$f":"'4c'!AA25","v":0},{"$f":"'4c'!AB25","v":0},{"$f":"'4c'!AC25","v":0},{"$f":"'4c'!AD25","v":0},{"$f":"'4c'!AE25","v":0},{"$f":"'4c'!AF25","v":0},{"$f":"'4c'!AG25","v":0},{"$f":"'4c'!AH25","v":0},{"$f":"'4c'!AI25","v":0},{"$f":"'4c'!AJ25","v":0},{"$f":"'4c'!AK25","v":0},{"$f":"'4c'!AL25","v":0},{"$f":"'4c'!AM25","v":0},{"$f":"'4c'!AN25","v":0},{"$f":"'4c'!AO25","v":0},{"$f":"'4c'!AP25","v":0},{"$f":"'4c'!AQ25","v":0},{"$f":"'4c'!AR25","v":0},{"$f":"'4c'!AS25","v":0},{"$f":"'4c'!AT25","v":0},{"$f":"'4c'!AU25","v":0},{"$f":"'4c'!AV25","v":0},{"$f":"'4c'!AW25","v":0},{"$f":"'4c'!AX25","v":0},{"$f":"'4c'!AY25","v":0},{"$f":"'4c'!AZ25","v":0},{"$f":"'4c'!BA25","v":0},{"$f":"'4c'!BB25","v":0},{"$f":"'4c'!BC25","v":0},{"$f":"'4c'!BD25","v":0},{"$f":"'4c'!BE25","v":0}]
[{"$f":"'4c'!A26","v":"4c"},{"$f":"'4c'!B26","v":0},{"$f":"'4c'!C26","v":0},{"$f":"'4c'!D26","v":"lehrer24"},{"$f":"'4c'!E26","v":0},{"$f":"'4c'!F26","v":0},{"$f":"'4c'!G26","v":0},{"$f":"'4c'!H26","v":0},{"$f":"'4c'!I26","v":0},{"$f":"'4c'!J26","v":0},{"$f":"'4c'!K26","v":0},{"$f":"'4c'!L26","v":0},{"$f":"'4c'!M26","v":0},{"$f":"'4c'!N26","v":0},{"$f":"'4c'!O26","v":0},{"$f":"'4c'!P26","v":0},{"$f":"'4c'!Q26","v":0},{"$f":"'4c'!R26","v":0},{"$f":"'4c'!S26","v":0},{"$f":"'4c'!T26","v":0},{"$f":"'4c'!U26","v":0},{"$f":"'4c'!V26","v":0},{"$f":"'4c'!W26","v":0},{"$f":"'4c'!X26","v":0},{"$f":"'4c'!Y26","v":0},{"$f":"'4c'!Z26","v":0},{"$f":"'4c'!AA26","v":0},{"$f":"'4c'!AB26","v":0},{"$f":"'4c'!AC26","v":0},{"$f":"'4c'!AD26","v":0},{"$f":"'4c'!AE26","v":0},{"$f":"'4c'!AF26","v":0},{"$f":"'4c'!AG26","v":0},{"$f":"'4c'!AH26","v":0},{"$f":"'4c'!AI26","v":0},{"$f":"'4c'!AJ26","v":0},{"$f":"'4c'!AK26","v":0},{"$f":"'4c'!AL26","v":0},{"$f":"'4c'!AM26","v":0},{"$f":"'4c'!AN26","v":0},{"$f":"'4c'!AO26","v":0},{"$f":"'4c'!AP26","v":0},{"$f":"'4c'!AQ26","v":0},{"$f":"'4c'!AR26","v":0},{"$f":"'4c'!AS26","v":0},{"$f":"'4c'!AT26","v":0},{"$f":"'4c'!AU26","v":0},{"$f":"'4c'!AV26","v":0},{"$f":"'4c'!AW26","v":0},{"$f":"'4c'!AX26","v":0},{"$f":"'4c'!AY26","v":0},{"$f":"'4c'!AZ26","v":0},{"$f":"'4c'!BA26","v":0},{"$f":"'4c'!BB26","v":0},{"$f":"'4c'!BC26","v":0},{"$f":"'4c'!BD26","v":0},{"$f":"'4c'!BE26","v":0}]
[{"$f":"'4c'!A27","v":"4c"},{"$f":"'4c'!B27","v":0},{"$f":"'4c'!C27","v":0},{"$f":"'4c'!D27","v":"lehrer25"},{"$f":"'4c'!E27","v":0},{"$f":"'4c'!F27","v":0},{"$f":"'4c'!G27","v":0},{"$f":"'4c'!H27","v":0},{"$f":"'4c'!I27","v":0},{"$f":"'4c'!J27","v":0},{"$f":"'4c'!K27","v":0},{"$f":"'4c'!L27","v":0},{"$f":"'4c'!M27","v":0},{"$f":"'4c'!N27","v":0},{"$f":"'4c'!O27","v":0},{"$f":"'4c'!P27","v":0},{"$f":"'4c'!Q27","v":0},{"$f":"'4c'!R27","v":0},{"$f":"'4c'!S27","v":0},{"$f":"'4c'!T27","v":0},{"$f":"'4c'!U27","v":0},{"$f":"'4c'!V27","v":0},{"$f":"'4c'!W27","v":0},{"$f":"'4c'!X27","v":0},{"$f":"'4c'!Y27","v":0},{"$f":"'4c'!Z27","v":0},{"$f":"'4c'!AA27","v":0},{"$f":"'4c'!AB27","v":0},{"$f":"'4c'!AC27","v":0},{"$f":"'4c'!AD27","v":0},{"$f":"'4c'!AE27","v":0},{"$f":"'4c'!AF27","v":0},{"$f":"'4c'!AG27","v":0},{"$f":"'4c'!AH27","v":0},{"$f":"'4c'!AI27","v":0},{"$f":"'4c'!AJ27","v":0},{"$f":"'4c'!AK27","v":0},{"$f":"'4c'!AL27","v":0},{"$f":"'4c'!AM27","v":0},{"$f":"'4c'!AN27","v":0},{"$f":"'4c'!AO27","v":0},{"$f":"'4c'!AP27","v":0},{"$f":"'4c'!AQ27","v":0},{"$f":"'4c'!AR27","v":0},{"$f":"'4c'!AS27","v":0},{"$f":"'4c'!AT27","v":0},{"$f":"'4c'!AU27","v":0},{"$f":"'4c'!AV27","v":0},{"$f":"'4c'!AW27","v":0},{"$f":"'4c'!AX27","v":0},{"$f":"'4c'!AY27","v":0},{"$f":"'4c'!AZ27","v":0},{"$f":"'4c'!BA27","v":0},{"$f":"'4c'!BB27","v":0},{"$f":"'4c'!BC27","v":0},{"$f":"'4c'!BD27","v":0},{"$f":"'4c'!BE27","v":0}]
[{"$f":"'4c'!A28","v":"4c"},{"$f":"'4c'!B28","v":0},{"$f":"'4c'!C28","v":0},{"$f":"'4c'!D28","v":"lehrer26"},{"$f":"'4c'!E28","v":0},{"$f":"'4c'!F28","v":0},{"$f":"'4c'!G28","v":0},{"$f":"'4c'!H28","v":0},{"$f":"'4c'!I28","v":0},{"$f":"'4c'!J28","v":0},{"$f":"'4c'!K28","v":0},{"$f":"'4c'!L28","v":0},{"$f":"'4c'!M28","v":0},{"$f":"'4c'!N28","v":0},{"$f":"'4c'!O28","v":0},{"$f":"'4c'!P28","v":0},{"$f":"'4c'!Q28","v":0},{"$f":"'4c'!R28","v":0},{"$f":"'4c'!S28","v":0},{"$f":"'4c'!T28","v":0},{"$f":"'4c'!U28","v":0},{"$f":"'4c'!V28","v":0},{"$f":"'4c'!W28","v":0},{"$f":"'4c'!X28","v":0},{"$f":"'4c'!Y28","v":0},{"$f":"'4c'!Z28","v":0},{"$f":"'4c'!AA28","v":0},{"$f":"'4c'!AB28","v":0},{"$f":"'4c'!AC28","v":0},{"$f":"'4c'!AD28","v":0},{"$f":"'4c'!AE28","v":0},{"$f":"'4c'!AF28","v":0},{"$f":"'4c'!AG28","v":0},{"$f":"'4c'!AH28","v":0},{"$f":"'4c'!AI28","v":0},{"$f":"'4c'!AJ28","v":0},{"$f":"'4c'!AK28","v":0},{"$f":"'4c'!AL28","v":0},{"$f":"'4c'!AM28","v":0},{"$f":"'4c'!AN28","v":0},{"$f":"'4c'!AO28","v":0},{"$f":"'4c'!AP28","v":0},{"$f":"'4c'!AQ28","v":0},{"$f":"'4c'!AR28","v":0},{"$f":"'4c'!AS28","v":0},{"$f":"'4c'!AT28","v":0},{"$f":"'4c'!AU28","v":0},{"$f":"'4c'!AV28","v":0},{"$f":"'4c'!AW28","v":0},{"$f":"'4c'!AX28","v":0},{"$f":"'4c'!AY28","v":0},{"$f":"'4c'!AZ28","v":0},{"$f":"'4c'!BA28","v":0},{"$f":"'4c'!BB28","v":0},{"$f":"'4c'!BC28","v":0},{"$f":"'4c'!BD28","v":0},{"$f":"'4c'!BE28","v":0}]
[{"$f":"'4c'!A29","v":"4c"},{"$f":"'4c'!B29","v":0},{"$f":"'4c'!C29","v":0},{"$f":"'4c'!D29","v":"lehrer27"},{"$f":"'4c'!E29","v":0},{"$f":"'4c'!F29","v":0},{"$f":"'4c'!G29","v":0},{"$f":"'4c'!H29","v":0},{"$f":"'4c'!I29","v":0},{"$f":"'4c'!J29","v":0},{"$f":"'4c'!K29","v":0},{"$f":"'4c'!L29","v":0},{"$f":"'4c'!M29","v":0},{"$f":"'4c'!N29","v":0},{"$f":"'4c'!O29","v":0},{"$f":"'4c'!P29","v":0},{"$f":"'4c'!Q29","v":0},{"$f":"'4c'!R29","v":0},{"$f":"'4c'!S29","v":0},{"$f":"'4c'!T29","v":0},{"$f":"'4c'!U29","v":0},{"$f":"'4c'!V29","v":0},{"$f":"'4c'!W29","v":0},{"$f":"'4c'!X29","v":0},{"$f":"'4c'!Y29","v":0},{"$f":"'4c'!Z29","v":0},{"$f":"'4c'!AA29","v":0},{"$f":"'4c'!AB29","v":0},{"$f":"'4c'!AC29","v":0},{"$f":"'4c'!AD29","v":0},{"$f":"'4c'!AE29","v":0},{"$f":"'4c'!AF29","v":0},{"$f":"'4c'!AG29","v":0},{"$f":"'4c'!AH29","v":0},{"$f":"'4c'!AI29","v":0},{"$f":"'4c'!AJ29","v":0},{"$f":"'4c'!AK29","v":0},{"$f":"'4c'!AL29","v":0},{"$f":"'4c'!AM29","v":0},{"$f":"'4c'!AN29","v":0},{"$f":"'4c'!AO29","v":0},{"$f":"'4c'!AP29","v":0},{"$f":"'4c'!AQ29","v":0},{"$f":"'4c'!AR29","v":0},{"$f":"'4c'!AS29","v":0},{"$f":"'4c'!AT29","v":0},{"$f":"'4c'!AU29","v":0},{"$f":"'4c'!AV29","v":0},{"$f":"'4c'!AW29","v":0},{"$f":"'4c'!AX29","v":0},{"$f":"'4c'!AY29","v":0},{"$f":"'4c'!AZ29","v":0},{"$f":"'4c'!BA29","v":0},{"$f":"'4c'!BB29","v":0},{"$f":"'4c'!BC29","v":0},{"$f":"'4c'!BD29","v":0},{"$f":"'4c'!BE29","v":0}]
[{"$f":"'4c'!A30","v":"4c"},{"$f":"'4c'!B30","v":0},{"$f":"'4c'!C30","v":0},{"$f":"'4c'!D30","v":"lehrer28"},{"$f":"'4c'!E30","v":0},{"$f":"'4c'!F30","v":0},{"$f":"'4c'!G30","v":0},{"$f":"'4c'!H30","v":0},{"$f":"'4c'!I30","v":0},{"$f":"'4c'!J30","v":0},{"$f":"'4c'!K30","v":0},{"$f":"'4c'!L30","v":0},{"$f":"'4c'!M30","v":0},{"$f":"'4c'!N30","v":0},{"$f":"'4c'!O30","v":0},{"$f":"'4c'!P30","v":0},{"$f":"'4c'!Q30","v":0},{"$f":"'4c'!R30","v":0},{"$f":"'4c'!S30","v":0},{"$f":"'4c'!T30","v":0},{"$f":"'4c'!U30","v":0},{"$f":"'4c'!V30","v":0},{"$f":"'4c'!W30","v":0},{"$f":"'4c'!X30","v":0},{"$f":"'4c'!Y30","v":0},{"$f":"'4c'!Z30","v":0},{"$f":"'4c'!AA30","v":0},{"$f":"'4c'!AB30","v":0},{"$f":"'4c'!AC30","v":0},{"$f":"'4c'!AD30","v":0},{"$f":"'4c'!AE30","v":0},{"$f":"'4c'!AF30","v":0},{"$f":"'4c'!AG30","v":0},{"$f":"'4c'!AH30","v":0},{"$f":"'4c'!AI30","v":0},{"$f":"'4c'!AJ30","v":0},{"$f":"'4c'!AK30","v":0},{"$f":"'4c'!AL30","v":0},{"$f":"'4c'!AM30","v":0},{"$f":"'4c'!AN30","v":0},{"$f":"'4c'!AO30","v":0},{"$f":"'4c'!AP30","v":0},{"$f":"'4c'!AQ30","v":0},{"$f":"'4c'!AR30","v":0},{"$f":"'4c'!AS30","v":0},{"$f":"'4c'!AT30","v":0},{"$f":"'4c'!AU30","v":0},{"$f":"'4c'!AV30","v":0},{"$f":"'4c'!AW30","v":0},{"$f":"'4c'!AX30","v":0},{"$f":"'4c'!AY30","v":0},{"$f":"'4c'!AZ30","v":0},{"$f":"'4c'!BA30","v":0},{"$f":"'4c'!BB30","v":0},{"$f":"'4c'!BC30","v":0},{"$f":"'4c'!BD30","v":0},{"$f":"'4c'!BE30","v":0}]
[{"$f":"'4c'!A31","v":"4c"},{"$f":"'4c'!B31","v":0},{"$f":"'4c'!C31","v":0},{"$f":"'4c'!D31","v":"lehrer29"},{"$f":"'4c'!E31","v":0},{"$f":"'4c'!F31","v":0},{"$f":"'4c'!G31","v":0},{"$f":"'4c'!H31","v":0},{"$f":"'4c'!I31","v":0},{"$f":"'4c'!J31","v":0},{"$f":"'4c'!K31","v":0},{"$f":"'4c'!L31","v":0},{"$f":"'4c'!M31","v":0},{"$f":"'4c'!N31","v":0},{"$f":"'4c'!O31","v":0},{"$f":"'4c'!P31","v":0},{"$f":"'4c'!Q31","v":0},{"$f":"'4c'!R31","v":0},{"$f":"'4c'!S31","v":0},{"$f":"'4c'!T31","v":0},{"$f":"'4c'!U31","v":0},{"$f":"'4c'!V31","v":0},{"$f":"'4c'!W31","v":0},{"$f":"'4c'!X31","v":0},{"$f":"'4c'!Y31","v":0},{"$f":"'4c'!Z31","v":0},{"$f":"'4c'!AA31","v":0},{"$f":"'4c'!AB31","v":0},{"$f":"'4c'!AC31","v":0},{"$f":"'4c'!AD31","v":0},{"$f":"'4c'!AE31","v":0},{"$f":"'4c'!AF31","v":0},{"$f":"'4c'!AG31","v":0},{"$f":"'4c'!AH31","v":0},{"$f":"'4c'!AI31","v":0},{"$f":"'4c'!AJ31","v":0},{"$f":"'4c'!AK31","v":0},{"$f":"'4c'!AL31","v":0},{"$f":"'4c'!AM31","v":0},{"$f":"'4c'!AN31","v":0},{"$f":"'4c'!AO31","v":0},{"$f":"'4c'!AP31","v":0},{"$f":"'4c'!AQ31","v":0},{"$f":"'4c'!AR31","v":0},{"$f":"'4c'!AS31","v":0},{"$f":"'4c'!AT31","v":0},{"$f":"'4c'!AU31","v":0},{"$f":"'4c'!AV31","v":0},{"$f":"'4c'!AW31","v":0},{"$f":"'4c'!AX31","v":0},{"$f":"'4c'!AY31","v":0},{"$f":"'4c'!AZ31","v":0},{"$f":"'4c'!BA31","v":0},{"$f":"'4c'!BB31","v":0},{"$f":"'4c'!BC31","v":0},{"$f":"'4c'!BD31","v":0},{"$f":"'4c'!BE31","v":0}]
[{"$f":"'4c'!A32","v":"4c"},{"$f":"'4c'!B32","v":0},{"$f":"'4c'!C32","v":0},{"$f":"'4c'!D32","v":"lehrer30"},{"$f":"'4c'!E32","v":0},{"$f":"'4c'!F32","v":0},{"$f":"'4c'!G32","v":0},{"$f":"'4c'!H32","v":0},{"$f":"'4c'!I32","v":0},{"$f":"'4c'!J32","v":0},{"$f":"'4c'!K32","v":0},{"$f":"'4c'!L32","v":0},{"$f":"'4c'!M32","v":0},{"$f":"'4c'!N32","v":0},{"$f":"'4c'!O32","v":0},{"$f":"'4c'!P32","v":0},{"$f":"'4c'!Q32","v":0},{"$f":"'4c'!R32","v":0},{"$f":"'4c'!S32","v":0},{"$f":"'4c'!T32","v":0},{"$f":"'4c'!U32","v":0},{"$f":"'4c'!V32","v":0},{"$f":"'4c'!W32","v":0},{"$f":"'4c'!X32","v":0},{"$f":"'4c'!Y32","v":0},{"$f":"'4c'!Z32","v":0},{"$f":"'4c'!AA32","v":0},{"$f":"'4c'!AB32","v":0},{"$f":"'4c'!AC32","v":0},{"$f":"'4c'!AD32","v":0},{"$f":"'4c'!AE32","v":0},{"$f":"'4c'!AF32","v":0},{"$f":"'4c'!AG32","v":0},{"$f":"'4c'!AH32","v":0},{"$f":"'4c'!AI32","v":0},{"$f":"'4c'!AJ32","v":0},{"$f":"'4c'!AK32","v":0},{"$f":"'4c'!AL32","v":0},{"$f":"'4c'!AM32","v":0},{"$f":"'4c'!AN32","v":0},{"$f":"'4c'!AO32","v":0},{"$f":"'4c'!AP32","v":0},{"$f":"'4c'!AQ32","v":0},{"$f":"'4c'!AR32","v":0},{"$f":"'4c'!AS32","v":0},{"$f":"'4c'!AT32","v":0},{"$f":"'4c'!AU32","v":0},{"$f":"'4c'!AV32","v":0},{"$f":"'4c'!AW32","v":0},{"$f":"'4c'!AX32","v":0},{"$f":"'4c'!AY32","v":0},{"$f":"'4c'!AZ32","v":0},{"$f":"'4c'!BA32","v":0},{"$f":"'4c'!BB32","v":0},{"$f":"'4c'!BC32","v":0},{"$f":"'4c'!BD32","v":0},{"$f":"'4c'!BE32","v":0}]
[{"$f":"'4c'!A33","v":"4c"},{"$f":"'4c'!B33","v":0},{"$f":"'4c'!C33","v":0},{"$f":"'4c'!D33","v":"lehrer31"},{"$f":"'4c'!E33","v":0},{"$f":"'4c'!F33","v":0},{"$f":"'4c'!G33","v":0},{"$f":"'4c'!H33","v":0},{"$f":"'4c'!I33","v":0},{"$f":"'4c'!J33","v":0},{"$f":"'4c'!K33","v":0},{"$f":"'4c'!L33","v":0},{"$f":"'4c'!M33","v":0},{"$f":"'4c'!N33","v":0},{"$f":"'4c'!O33","v":0},{"$f":"'4c'!P33","v":0},{"$f":"'4c'!Q33","v":0},{"$f":"'4c'!R33","v":0},{"$f":"'4c'!S33","v":0},{"$f":"'4c'!T33","v":0},{"$f":"'4c'!U33","v":0},{"$f":"'4c'!V33","v":0},{"$f":"'4c'!W33","v":0},{"$f":"'4c'!X33","v":0},{"$f":"'4c'!Y33","v":0},{"$f":"'4c'!Z33","v":0},{"$f":"'4c'!AA33","v":0},{"$f":"'4c'!AB33","v":0},{"$f":"'4c'!AC33","v":0},{"$f":"'4c'!AD33","v":0},{"$f":"'4c'!AE33","v":0},{"$f":"'4c'!AF33","v":0},{"$f":"'4c'!AG33","v":0},{"$f":"'4c'!AH33","v":0},{"$f":"'4c'!AI33","v":0},{"$f":"'4c'!AJ33","v":0},{"$f":"'4c'!AK33","v":0},{"$f":"'4c'!AL33","v":0},{"$f":"'4c'!AM33","v":0},{"$f":"'4c'!AN33","v":0},{"$f":"'4c'!AO33","v":0},{"$f":"'4c'!AP33","v":0},{"$f":"'4c'!AQ33","v":0},{"$f":"'4c'!AR33","v":0},{"$f":"'4c'!AS33","v":0},{"$f":"'4c'!AT33","v":0},{"$f":"'4c'!AU33","v":0},{"$f":"'4c'!AV33","v":0},{"$f":"'4c'!AW33","v":0},{"$f":"'4c'!AX33","v":0},{"$f":"'4c'!AY33","v":0},{"$f":"'4c'!AZ33","v":0},{"$f":"'4c'!BA33","v":0},{"$f":"'4c'!BB33","v":0},{"$f":"'4c'!BC33","v":0},{"$f":"'4c'!BD33","v":0},{"$f":"'4c'!BE33","v":0}]
[{"$f":"'4c'!A34","v":"4c"},{"$f":"'4c'!B34","v":0},{"$f":"'4c'!C34","v":0},{"$f":"'4c'!D34","v":"lehrer32"},{"$f":"'4c'!E34","v":0},{"$f":"'4c'!F34","v":0},{"$f":"'4c'!G34","v":0},{"$f":"'4c'!H34","v":0},{"$f":"'4c'!I34","v":0},{"$f":"'4c'!J34","v":0},{"$f":"'4c'!K34","v":0},{"$f":"'4c'!L34","v":0},{"$f":"'4c'!M34","v":0},{"$f":"'4c'!N34","v":0},{"$f":"'4c'!O34","v":0},{"$f":"'4c'!P34","v":0},{"$f":"'4c'!Q34","v":0},{"$f":"'4c'!R34","v":0},{"$f":"'4c'!S34","v":0},{"$f":"'4c'!T34","v":0},{"$f":"'4c'!U34","v":0},{"$f":"'4c'!V34","v":0},{"$f":"'4c'!W34","v":0},{"$f":"'4c'!X34","v":0},{"$f":"'4c'!Y34","v":0},{"$f":"'4c'!Z34","v":0},{"$f":"'4c'!AA34","v":0},{"$f":"'4c'!AB34","v":0},{"$f":"'4c'!AC34","v":0},{"$f":"'4c'!AD34","v":0},{"$f":"'4c'!AE34","v":0},{"$f":"'4c'!AF34","v":0},{"$f":"'4c'!AG34","v":0},{"$f":"'4c'!AH34","v":0},{"$f":"'4c'!AI34","v":0},{"$f":"'4c'!AJ34","v":0},{"$f":"'4c'!AK34","v":0},{"$f":"'4c'!AL34","v":0},{"$f":"'4c'!AM34","v":0},{"$f":"'4c'!AN34","v":0},{"$f":"'4c'!AO34","v":0},{"$f":"'4c'!AP34","v":0},{"$f":"'4c'!AQ34","v":0},{"$f":"'4c'!AR34","v":0},{"$f":"'4c'!AS34","v":0},{"$f":"'4c'!AT34","v":0},{"$f":"'4c'!AU34","v":0},{"$f":"'4c'!AV34","v":0},{"$f":"'4c'!AW34","v":0},{"$f":"'4c'!AX34","v":0},{"$f":"'4c'!AY34","v":0},{"$f":"'4c'!AZ34","v":0},{"$f":"'4c'!BA34","v":0},{"$f":"'4c'!BB34","v":0},{"$f":"'4c'!BC34","v":0},{"$f":"'4c'!BD34","v":0},{"$f":"'4c'!BE34","v":0}]
[{"$f":"'4c'!A35","v":"4c"},{"$f":"'4c'!B35","v":0},{"$f":"'4c'!C35","v":0},{"$f":"'4c'!D35","v":"lehrer33"},{"$f":"'4c'!E35","v":0},{"$f":"'4c'!F35","v":0},{"$f":"'4c'!G35","v":0},{"$f":"'4c'!H35","v":0},{"$f":"'4c'!I35","v":0},{"$f":"'4c'!J35","v":0},{"$f":"'4c'!K35","v":0},{"$f":"'4c'!L35","v":0},{"$f":"'4c'!M35","v":0},{"$f":"'4c'!N35","v":0},{"$f":"'4c'!O35","v":0},{"$f":"'4c'!P35","v":0},{"$f":"'4c'!Q35","v":0},{"$f":"'4c'!R35","v":0},{"$f":"'4c'!S35","v":0},{"$f":"'4c'!T35","v":0},{"$f":"'4c'!U35","v":0},{"$f":"'4c'!V35","v":0},{"$f":"'4c'!W35","v":0},{"$f":"'4c'!X35","v":0},{"$f":"'4c'!Y35","v":0},{"$f":"'4c'!Z35","v":0},{"$f":"'4c'!AA35","v":0},{"$f":"'4c'!AB35","v":0},{"$f":"'4c'!AC35","v":0},{"$f":"'4c'!AD35","v":0},{"$f":"'4c'!AE35","v":0},{"$f":"'4c'!AF35","v":0},{"$f":"'4c'!AG35","v":0},{"$f":"'4c'!AH35","v":0},{"$f":"'4c'!AI35","v":0},{"$f":"'4c'!AJ35","v":0},{"$f":"'4c'!AK35","v":0},{"$f":"'4c'!AL35","v":0},{"$f":"'4c'!AM35","v":0},{"$f":"'4c'!AN35","v":0},{"$f":"'4c'!AO35","v":0},{"$f":"'4c'!AP35","v":0},{"$f":"'4c'!AQ35","v":0},{"$f":"'4c'!AR35","v":0},{"$f":"'4c'!AS35","v":0},{"$f":"'4c'!AT35","v":0},{"$f":"'4c'!AU35","v":0},{"$f":"'4c'!AV35","v":0},{"$f":"'4c'!AW35","v":0},{"$f":"'4c'!AX35","v":0},{"$f":"'4c'!AY35","v":0},{"$f":"'4c'!AZ35","v":0},{"$f":"'4c'!BA35","v":0},{"$f":"'4c'!BB35","v":0},{"$f":"'4c'!BC35","v":0},{"$f":"'4c'!BD35","v":0},{"$f":"'4c'!BE35","v":0}]
[{"$f":"'4c'!A36","v":"4c"},{"$f":"'4c'!B36","v":0},{"$f":"'4c'!C36","v":0},{"$f":"'4c'!D36","v":"lehrer34"},{"$f":"'4c'!E36","v":0},{"$f":"'4c'!F36","v":0},{"$f":"'4c'!G36","v":0},{"$f":"'4c'!H36","v":0},{"$f":"'4c'!I36","v":0},{"$f":"'4c'!J36","v":0},{"$f":"'4c'!K36","v":0},{"$f":"'4c'!L36","v":0},{"$f":"'4c'!M36","v":0},{"$f":"'4c'!N36","v":0},{"$f":"'4c'!O36","v":0},{"$f":"'4c'!P36","v":0},{"$f":"'4c'!Q36","v":0},{"$f":"'4c'!R36","v":0},{"$f":"'4c'!S36","v":0},{"$f":"'4c'!T36","v":0},{"$f":"'4c'!U36","v":0},{"$f":"'4c'!V36","v":0},{"$f":"'4c'!W36","v":0},{"$f":"'4c'!X36","v":0},{"$f":"'4c'!Y36","v":0},{"$f":"'4c'!Z36","v":0},{"$f":"'4c'!AA36","v":0},{"$f":"'4c'!AB36","v":0},{"$f":"'4c'!AC36","v":0},{"$f":"'4c'!AD36","v":0},{"$f":"'4c'!AE36","v":0},{"$f":"'4c'!AF36","v":0},{"$f":"'4c'!AG36","v":0},{"$f":"'4c'!AH36","v":0},{"$f":"'4c'!AI36","v":0},{"$f":"'4c'!AJ36","v":0},{"$f":"'4c'!AK36","v":0},{"$f":"'4c'!AL36","v":0},{"$f":"'4c'!AM36","v":0},{"$f":"'4c'!AN36","v":0},{"$f":"'4c'!AO36","v":0},{"$f":"'4c'!AP36","v":0},{"$f":"'4c'!AQ36","v":0},{"$f":"'4c'!AR36","v":0},{"$f":"'4c'!AS36","v":0},{"$f":"'4c'!AT36","v":0},{"$f":"'4c'!AU36","v":0},{"$f":"'4c'!AV36","v":0},{"$f":"'4c'!AW36","v":0},{"$f":"'4c'!AX36","v":0},{"$f":"'4c'!AY36","v":0},{"$f":"'4c'!AZ36","v":0},{"$f":"'4c'!BA36","v":0},{"$f":"'4c'!BB36","v":0},{"$f":"'4c'!BC36","v":0},{"$f":"'4c'!BD36","v":0},{"$f":"'4c'!BE36","v":0}]
[{"$f":"'4c'!A37","v":"4c"},{"$f":"'4c'!B37","v":0},{"$f":"'4c'!C37","v":0},{"$f":"'4c'!D37","v":"lehrer35"},{"$f":"'4c'!E37","v":0},{"$f":"'4c'!F37","v":0},{"$f":"'4c'!G37","v":0},{"$f":"'4c'!H37","v":0},{"$f":"'4c'!I37","v":0},{"$f":"'4c'!J37","v":0},{"$f":"'4c'!K37","v":0},{"$f":"'4c'!L37","v":0},{"$f":"'4c'!M37","v":0},{"$f":"'4c'!N37","v":0},{"$f":"'4c'!O37","v":0},{"$f":"'4c'!P37","v":0},{"$f":"'4c'!Q37","v":0},{"$f":"'4c'!R37","v":0},{"$f":"'4c'!S37","v":0},{"$f":"'4c'!T37","v":0},{"$f":"'4c'!U37","v":0},{"$f":"'4c'!V37","v":0},{"$f":"'4c'!W37","v":0},{"$f":"'4c'!X37","v":0},{"$f":"'4c'!Y37","v":0},{"$f":"'4c'!Z37","v":0},{"$f":"'4c'!AA37","v":0},{"$f":"'4c'!AB37","v":0},{"$f":"'4c'!AC37","v":0},{"$f":"'4c'!AD37","v":0},{"$f":"'4c'!AE37","v":0},{"$f":"'4c'!AF37","v":0},{"$f":"'4c'!AG37","v":0},{"$f":"'4c'!AH37","v":0},{"$f":"'4c'!AI37","v":0},{"$f":"'4c'!AJ37","v":0},{"$f":"'4c'!AK37","v":0},{"$f":"'4c'!AL37","v":0},{"$f":"'4c'!AM37","v":0},{"$f":"'4c'!AN37","v":0},{"$f":"'4c'!AO37","v":0},{"$f":"'4c'!AP37","v":0},{"$f":"'4c'!AQ37","v":0},{"$f":"'4c'!AR37","v":0},{"$f":"'4c'!AS37","v":0},{"$f":"'4c'!AT37","v":0},{"$f":"'4c'!AU37","v":0},{"$f":"'4c'!AV37","v":0},{"$f":"'4c'!AW37","v":0},{"$f":"'4c'!AX37","v":0},{"$f":"'4c'!AY37","v":0},{"$f":"'4c'!AZ37","v":0},{"$f":"'4c'!BA37","v":0},{"$f":"'4c'!BB37","v":0},{"$f":"'4c'!BC37","v":0},{"$f":"'4c'!BD37","v":0},{"$f":"'4c'!BE37","v":0}]
[{"$f":"'4c'!A38","v":"4c"},{"$f":"'4c'!B38","v":0},{"$f":"'4c'!C38","v":0},{"$f":"'4c'!D38","v":"lehrer36"},{"$f":"'4c'!E38","v":0},{"$f":"'4c'!F38","v":0},{"$f":"'4c'!G38","v":0},{"$f":"'4c'!H38","v":0},{"$f":"'4c'!I38","v":0},{"$f":"'4c'!J38","v":0},{"$f":"'4c'!K38","v":0},{"$f":"'4c'!L38","v":0},{"$f":"'4c'!M38","v":0},{"$f":"'4c'!N38","v":0},{"$f":"'4c'!O38","v":0},{"$f":"'4c'!P38","v":0},{"$f":"'4c'!Q38","v":0},{"$f":"'4c'!R38","v":0},{"$f":"'4c'!S38","v":0},{"$f":"'4c'!T38","v":0},{"$f":"'4c'!U38","v":0},{"$f":"'4c'!V38","v":0},{"$f":"'4c'!W38","v":0},{"$f":"'4c'!X38","v":0},{"$f":"'4c'!Y38","v":0},{"$f":"'4c'!Z38","v":0},{"$f":"'4c'!AA38","v":0},{"$f":"'4c'!AB38","v":0},{"$f":"'4c'!AC38","v":0},{"$f":"'4c'!AD38","v":0},{"$f":"'4c'!AE38","v":0},{"$f":"'4c'!AF38","v":0},{"$f":"'4c'!AG38","v":0},{"$f":"'4c'!AH38","v":0},{"$f":"'4c'!AI38","v":0},{"$f":"'4c'!AJ38","v":0},{"$f":"'4c'!AK38","v":0},{"$f":"'4c'!AL38","v":0},{"$f":"'4c'!AM38","v":0},{"$f":"'4c'!AN38","v":0},{"$f":"'4c'!AO38","v":0},{"$f":"'4c'!AP38","v":0},{"$f":"'4c'!AQ38","v":0},{"$f":"'4c'!AR38","v":0},{"$f":"'4c'!AS38","v":0},{"$f":"'4c'!AT38","v":0},{"$f":"'4c'!AU38","v":0},{"$f":"'4c'!AV38","v":0},{"$f":"'4c'!AW38","v":0},{"$f":"'4c'!AX38","v":0},{"$f":"'4c'!AY38","v":0},{"$f":"'4c'!AZ38","v":0},{"$f":"'4c'!BA38","v":0},{"$f":"'4c'!BB38","v":0},{"$f":"'4c'!BC38","v":0},{"$f":"'4c'!BD38","v":0},{"$f":"'4c'!BE38","v":0}]
[{"$f":"'4c'!A39","v":"4c"},{"$f":"'4c'!B39","v":0},{"$f":"'4c'!C39","v":0},{"$f":"'4c'!D39","v":"lehrer37"},{"$f":"'4c'!E39","v":0},{"$f":"'4c'!F39","v":0},{"$f":"'4c'!G39","v":0},{"$f":"'4c'!H39","v":0},{"$f":"'4c'!I39","v":0},{"$f":"'4c'!J39","v":0},{"$f":"'4c'!K39","v":0},{"$f":"'4c'!L39","v":0},{"$f":"'4c'!M39","v":0},{"$f":"'4c'!N39","v":0},{"$f":"'4c'!O39","v":0},{"$f":"'4c'!P39","v":0},{"$f":"'4c'!Q39","v":0},{"$f":"'4c'!R39","v":0},{"$f":"'4c'!S39","v":0},{"$f":"'4c'!T39","v":0},{"$f":"'4c'!U39","v":0},{"$f":"'4c'!V39","v":0},{"$f":"'4c'!W39","v":0},{"$f":"'4c'!X39","v":0},{"$f":"'4c'!Y39","v":0},{"$f":"'4c'!Z39","v":0},{"$f":"'4c'!AA39","v":0},{"$f":"'4c'!AB39","v":0},{"$f":"'4c'!AC39","v":0},{"$f":"'4c'!AD39","v":0},{"$f":"'4c'!AE39","v":0},{"$f":"'4c'!AF39","v":0},{"$f":"'4c'!AG39","v":0},{"$f":"'4c'!AH39","v":0},{"$f":"'4c'!AI39","v":0},{"$f":"'4c'!AJ39","v":0},{"$f":"'4c'!AK39","v":0},{"$f":"'4c'!AL39","v":0},{"$f":"'4c'!AM39","v":0},{"$f":"'4c'!AN39","v":0},{"$f":"'4c'!AO39","v":0},{"$f":"'4c'!AP39","v":0},{"$f":"'4c'!AQ39","v":0},{"$f":"'4c'!AR39","v":0},{"$f":"'4c'!AS39","v":0},{"$f":"'4c'!AT39","v":0},{"$f":"'4c'!AU39","v":0},{"$f":"'4c'!AV39","v":0},{"$f":"'4c'!AW39","v":0},{"$f":"'4c'!AX39","v":0},{"$f":"'4c'!AY39","v":0},{"$f":"'4c'!AZ39","v":0},{"$f":"'4c'!BA39","v":0},{"$f":"'4c'!BB39","v":0},{"$f":"'4c'!BC39","v":0},{"$f":"'4c'!BD39","v":0},{"$f":"'4c'!BE39","v":0}]
[{"$f":"'4c'!A40","v":"4c"},{"$f":"'4c'!B40","v":0},{"$f":"'4c'!C40","v":0},{"$f":"'4c'!D40","v":"lehrer38"},{"$f":"'4c'!E40","v":0},{"$f":"'4c'!F40","v":0},{"$f":"'4c'!G40","v":0},{"$f":"'4c'!H40","v":0},{"$f":"'4c'!I40","v":0},{"$f":"'4c'!J40","v":0},{"$f":"'4c'!K40","v":0},{"$f":"'4c'!L40","v":0},{"$f":"'4c'!M40","v":0},{"$f":"'4c'!N40","v":0},{"$f":"'4c'!O40","v":0},{"$f":"'4c'!P40","v":0},{"$f":"'4c'!Q40","v":0},{"$f":"'4c'!R40","v":0},{"$f":"'4c'!S40","v":0},{"$f":"'4c'!T40","v":0},{"$f":"'4c'!U40","v":0},{"$f":"'4c'!V40","v":0},{"$f":"'4c'!W40","v":0},{"$f":"'4c'!X40","v":0},{"$f":"'4c'!Y40","v":0},{"$f":"'4c'!Z40","v":0},{"$f":"'4c'!AA40","v":0},{"$f":"'4c'!AB40","v":0},{"$f":"'4c'!AC40","v":0},{"$f":"'4c'!AD40","v":0},{"$f":"'4c'!AE40","v":0},{"$f":"'4c'!AF40","v":0},{"$f":"'4c'!AG40","v":0},{"$f":"'4c'!AH40","v":0},{"$f":"'4c'!AI40","v":0},{"$f":"'4c'!AJ40","v":0},{"$f":"'4c'!AK40","v":0},{"$f":"'4c'!AL40","v":0},{"$f":"'4c'!AM40","v":0},{"$f":"'4c'!AN40","v":0},{"$f":"'4c'!AO40","v":0},{"$f":"'4c'!AP40","v":0},{"$f":"'4c'!AQ40","v":0},{"$f":"'4c'!AR40","v":0},{"$f":"'4c'!AS40","v":0},{"$f":"'4c'!AT40","v":0},{"$f":"'4c'!AU40","v":0},{"$f":"'4c'!AV40","v":0},{"$f":"'4c'!AW40","v":0},{"$f":"'4c'!AX40","v":0},{"$f":"'4c'!AY40","v":0},{"$f":"'4c'!AZ40","v":0},{"$f":"'4c'!BA40","v":0},{"$f":"'4c'!BB40","v":0},{"$f":"'4c'!BC40","v":0},{"$f":"'4c'!BD40","v":0},{"$f":"'4c'!BE40","v":0}]
[{"$f":"'4c'!A41","v":"4c"},{"$f":"'4c'!B41","v":0},{"$f":"'4c'!C41","v":0},{"$f":"'4c'!D41","v":"lehrer39"},{"$f":"'4c'!E41","v":0},{"$f":"'4c'!F41","v":0},{"$f":"'4c'!G41","v":0},{"$f":"'4c'!H41","v":0},{"$f":"'4c'!I41","v":0},{"$f":"'4c'!J41","v":0},{"$f":"'4c'!K41","v":0},{"$f":"'4c'!L41","v":0},{"$f":"'4c'!M41","v":0},{"$f":"'4c'!N41","v":0},{"$f":"'4c'!O41","v":0},{"$f":"'4c'!P41","v":0},{"$f":"'4c'!Q41","v":0},{"$f":"'4c'!R41","v":0},{"$f":"'4c'!S41","v":0},{"$f":"'4c'!T41","v":0},{"$f":"'4c'!U41","v":0},{"$f":"'4c'!V41","v":0},{"$f":"'4c'!W41","v":0},{"$f":"'4c'!X41","v":0},{"$f":"'4c'!Y41","v":0},{"$f":"'4c'!Z41","v":0},{"$f":"'4c'!AA41","v":0},{"$f":"'4c'!AB41","v":0},{"$f":"'4c'!AC41","v":0},{"$f":"'4c'!AD41","v":0},{"$f":"'4c'!AE41","v":0},{"$f":"'4c'!AF41","v":0},{"$f":"'4c'!AG41","v":0},{"$f":"'4c'!AH41","v":0},{"$f":"'4c'!AI41","v":0},{"$f":"'4c'!AJ41","v":0},{"$f":"'4c'!AK41","v":0},{"$f":"'4c'!AL41","v":0},{"$f":"'4c'!AM41","v":0},{"$f":"'4c'!AN41","v":0},{"$f":"'4c'!AO41","v":0},{"$f":"'4c'!AP41","v":0},{"$f":"'4c'!AQ41","v":0},{"$f":"'4c'!AR41","v":0},{"$f":"'4c'!AS41","v":0},{"$f":"'4c'!AT41","v":0},{"$f":"'4c'!AU41","v":0},{"$f":"'4c'!AV41","v":0},{"$f":"'4c'!AW41","v":0},{"$f":"'4c'!AX41","v":0},{"$f":"'4c'!AY41","v":0},{"$f":"'4c'!AZ41","v":0},{"$f":"'4c'!BA41","v":0},{"$f":"'4c'!BB41","v":0},{"$f":"'4c'!BC41","v":0},{"$f":"'4c'!BD41","v":0},{"$f":"'4c'!BE41","v":0}]
[{"$f":"'4c'!A42","v":"4c"},{"$f":"'4c'!B42","v":0},{"$f":"'4c'!C42","v":0},{"$f":"'4c'!D42","v":"lehrer40"},{"$f":"'4c'!E42","v":0},{"$f":"'4c'!F42","v":0},{"$f":"'4c'!G42","v":0},{"$f":"'4c'!H42","v":0},{"$f":"'4c'!I42","v":0},{"$f":"'4c'!J42","v":0},{"$f":"'4c'!K42","v":0},{"$f":"'4c'!L42","v":0},{"$f":"'4c'!M42","v":0},{"$f":"'4c'!N42","v":0},{"$f":"'4c'!O42","v":0},{"$f":"'4c'!P42","v":0},{"$f":"'4c'!Q42","v":0},{"$f":"'4c'!R42","v":0},{"$f":"'4c'!S42","v":0},{"$f":"'4c'!T42","v":0},{"$f":"'4c'!U42","v":0},{"$f":"'4c'!V42","v":0},{"$f":"'4c'!W42","v":0},{"$f":"'4c'!X42","v":0},{"$f":"'4c'!Y42","v":0},{"$f":"'4c'!Z42","v":0},{"$f":"'4c'!AA42","v":0},{"$f":"'4c'!AB42","v":0},{"$f":"'4c'!AC42","v":0},{"$f":"'4c'!AD42","v":0},{"$f":"'4c'!AE42","v":0},{"$f":"'4c'!AF42","v":0},{"$f":"'4c'!AG42","v":0},{"$f":"'4c'!AH42","v":0},{"$f":"'4c'!AI42","v":0},{"$f":"'4c'!AJ42","v":0},{"$f":"'4c'!AK42","v":0},{"$f":"'4c'!AL42","v":0},{"$f":"'4c'!AM42","v":0},{"$f":"'4c'!AN42","v":0},{"$f":"'4c'!AO42","v":0},{"$f":"'4c'!AP42","v":0},{"$f":"'4c'!AQ42","v":0},{"$f":"'4c'!AR42","v":0},{"$f":"'4c'!AS42","v":0},{"$f":"'4c'!AT42","v":0},{"$f":"'4c'!AU42","v":0},{"$f":"'4c'!AV42","v":0},{"$f":"'4c'!AW42","v":0},{"$f":"'4c'!AX42","v":0},{"$f":"'4c'!AY42","v":0},{"$f":"'4c'!AZ42","v":0},{"$f":"'4c'!BA42","v":0},{"$f":"'4c'!BB42","v":0},{"$f":"'4c'!BC42","v":0},{"$f":"'4c'!BD42","v":0},{"$f":"'4c'!BE42","v":0}]
[{"$f":"'4c'!A43","v":"4c"},{"$f":"'4c'!B43","v":0},{"$f":"'4c'!C43","v":0},{"$f":"'4c'!D43","v":"lehrer41"},{"$f":"'4c'!E43","v":0},{"$f":"'4c'!F43","v":0},{"$f":"'4c'!G43","v":0},{"$f":"'4c'!H43","v":0},{"$f":"'4c'!I43","v":0},{"$f":"'4c'!J43","v":0},{"$f":"'4c'!K43","v":0},{"$f":"'4c'!L43","v":0},{"$f":"'4c'!M43","v":0},{"$f":"'4c'!N43","v":0},{"$f":"'4c'!O43","v":0},{"$f":"'4c'!P43","v":0},{"$f":"'4c'!Q43","v":0},{"$f":"'4c'!R43","v":0},{"$f":"'4c'!S43","v":0},{"$f":"'4c'!T43","v":0},{"$f":"'4c'!U43","v":0},{"$f":"'4c'!V43","v":0},{"$f":"'4c'!W43","v":0},{"$f":"'4c'!X43","v":0},{"$f":"'4c'!Y43","v":0},{"$f":"'4c'!Z43","v":0},{"$f":"'4c'!AA43","v":0},{"$f":"'4c'!AB43","v":0},{"$f":"'4c'!AC43","v":0},{"$f":"'4c'!AD43","v":0},{"$f":"'4c'!AE43","v":0},{"$f":"'4c'!AF43","v":0},{"$f":"'4c'!AG43","v":0},{"$f":"'4c'!AH43","v":0},{"$f":"'4c'!AI43","v":0},{"$f":"'4c'!AJ43","v":0},{"$f":"'4c'!AK43","v":0},{"$f":"'4c'!AL43","v":0},{"$f":"'4c'!AM43","v":0},{"$f":"'4c'!AN43","v":0},{"$f":"'4c'!AO43","v":0},{"$f":"'4c'!AP43","v":0},{"$f":"'4c'!AQ43","v":0},{"$f":"'4c'!AR43","v":0},{"$f":"'4c'!AS43","v":0},{"$f":"'4c'!AT43","v":0},{"$f":"'4c'!AU43","v":0},{"$f":"'4c'!AV43","v":0},{"$f":"'4c'!AW43","v":0},{"$f":"'4c'!AX43","v":0},{"$f":"'4c'!AY43","v":0},{"$f":"'4c'!AZ43","v":0},{"$f":"'4c'!BA43","v":0},{"$f":"'4c'!BB43","v":0},{"$f":"'4c'!BC43","v":0},{"$f":"'4c'!BD43","v":0},{"$f":"'4c'!BE43","v":0}]
[{"$f":"'4c'!A44","v":"4c"},{"$f":"'4c'!B44","v":0},{"$f":"'4c'!C44","v":0},{"$f":"'4c'!D44","v":"lehrer42"},{"$f":"'4c'!E44","v":0},{"$f":"'4c'!F44","v":0},{"$f":"'4c'!G44","v":0},{"$f":"'4c'!H44","v":0},{"$f":"'4c'!I44","v":0},{"$f":"'4c'!J44","v":0},{"$f":"'4c'!K44","v":0},{"$f":"'4c'!L44","v":0},{"$f":"'4c'!M44","v":0},{"$f":"'4c'!N44","v":0},{"$f":"'4c'!O44","v":0},{"$f":"'4c'!P44","v":0},{"$f":"'4c'!Q44","v":0},{"$f":"'4c'!R44","v":0},{"$f":"'4c'!S44","v":0},{"$f":"'4c'!T44","v":0},{"$f":"'4c'!U44","v":0},{"$f":"'4c'!V44","v":0},{"$f":"'4c'!W44","v":0},{"$f":"'4c'!X44","v":0},{"$f":"'4c'!Y44","v":0},{"$f":"'4c'!Z44","v":0},{"$f":"'4c'!AA44","v":0},{"$f":"'4c'!AB44","v":0},{"$f":"'4c'!AC44","v":0},{"$f":"'4c'!AD44","v":0},{"$f":"'4c'!AE44","v":0},{"$f":"'4c'!AF44","v":0},{"$f":"'4c'!AG44","v":0},{"$f":"'4c'!AH44","v":0},{"$f":"'4c'!AI44","v":0},{"$f":"'4c'!AJ44","v":0},{"$f":"'4c'!AK44","v":0},{"$f":"'4c'!AL44","v":0},{"$f":"'4c'!AM44","v":0},{"$f":"'4c'!AN44","v":0},{"$f":"'4c'!AO44","v":0},{"$f":"'4c'!AP44","v":0},{"$f":"'4c'!AQ44","v":0},{"$f":"'4c'!AR44","v":0},{"$f":"'4c'!AS44","v":0},{"$f":"'4c'!AT44","v":0},{"$f":"'4c'!AU44","v":0},{"$f":"'4c'!AV44","v":0},{"$f":"'4c'!AW44","v":0},{"$f":"'4c'!AX44","v":0},{"$f":"'4c'!AY44","v":0},{"$f":"'4c'!AZ44","v":0},{"$f":"'4c'!BA44","v":0},{"$f":"'4c'!BB44","v":0},{"$f":"'4c'!BC44","v":0},{"$f":"'4c'!BD44","v":0},{"$f":"'4c'!BE44","v":0}]
[{"$f":"'4c'!A45","v":"4c"},{"$f":"'4c'!B45","v":0},{"$f":"'4c'!C45","v":0},{"$f":"'4c'!D45","v":"lehrer43"},{"$f":"'4c'!E45","v":0},{"$f":"'4c'!F45","v":0},{"$f":"'4c'!G45","v":0},{"$f":"'4c'!H45","v":0},{"$f":"'4c'!I45","v":0},{"$f":"'4c'!J45","v":0},{"$f":"'4c'!K45","v":0},{"$f":"'4c'!L45","v":0},{"$f":"'4c'!M45","v":0},{"$f":"'4c'!N45","v":0},{"$f":"'4c'!O45","v":0},{"$f":"'4c'!P45","v":0},{"$f":"'4c'!Q45","v":0},{"$f":"'4c'!R45","v":0},{"$f":"'4c'!S45","v":0},{"$f":"'4c'!T45","v":0},{"$f":"'4c'!U45","v":0},{"$f":"'4c'!V45","v":0},{"$f":"'4c'!W45","v":0},{"$f":"'4c'!X45","v":0},{"$f":"'4c'!Y45","v":0},{"$f":"'4c'!Z45","v":0},{"$f":"'4c'!AA45","v":0},{"$f":"'4c'!AB45","v":0},{"$f":"'4c'!AC45","v":0},{"$f":"'4c'!AD45","v":0},{"$f":"'4c'!AE45","v":0},{"$f":"'4c'!AF45","v":0},{"$f":"'4c'!AG45","v":0},{"$f":"'4c'!AH45","v":0},{"$f":"'4c'!AI45","v":0},{"$f":"'4c'!AJ45","v":0},{"$f":"'4c'!AK45","v":0},{"$f":"'4c'!AL45","v":0},{"$f":"'4c'!AM45","v":0},{"$f":"'4c'!AN45","v":0},{"$f":"'4c'!AO45","v":0},{"$f":"'4c'!AP45","v":0},{"$f":"'4c'!AQ45","v":0},{"$f":"'4c'!AR45","v":0},{"$f":"'4c'!AS45","v":0},{"$f":"'4c'!AT45","v":0},{"$f":"'4c'!AU45","v":0},{"$f":"'4c'!AV45","v":0},{"$f":"'4c'!AW45","v":0},{"$f":"'4c'!AX45","v":0},{"$f":"'4c'!AY45","v":0},{"$f":"'4c'!AZ45","v":0},{"$f":"'4c'!BA45","v":0},{"$f":"'4c'!BB45","v":0},{"$f":"'4c'!BC45","v":0},{"$f":"'4c'!BD45","v":0},{"$f":"'4c'!BE45","v":0}]
[{"$f":"'4c'!A46","v":"4c"},{"$f":"'4c'!B46","v":0},{"$f":"'4c'!C46","v":0},{"$f":"'4c'!D46","v":"lehrer44"},{"$f":"'4c'!E46","v":0},{"$f":"'4c'!F46","v":0},{"$f":"'4c'!G46","v":0},{"$f":"'4c'!H46","v":0},{"$f":"'4c'!I46","v":0},{"$f":"'4c'!J46","v":0},{"$f":"'4c'!K46","v":0},{"$f":"'4c'!L46","v":0},{"$f":"'4c'!M46","v":0},{"$f":"'4c'!N46","v":0},{"$f":"'4c'!O46","v":0},{"$f":"'4c'!P46","v":0},{"$f":"'4c'!Q46","v":0},{"$f":"'4c'!R46","v":0},{"$f":"'4c'!S46","v":0},{"$f":"'4c'!T46","v":0},{"$f":"'4c'!U46","v":0},{"$f":"'4c'!V46","v":0},{"$f":"'4c'!W46","v":0},{"$f":"'4c'!X46","v":0},{"$f":"'4c'!Y46","v":0},{"$f":"'4c'!Z46","v":0},{"$f":"'4c'!AA46","v":0},{"$f":"'4c'!AB46","v":0},{"$f":"'4c'!AC46","v":0},{"$f":"'4c'!AD46","v":0},{"$f":"'4c'!AE46","v":0},{"$f":"'4c'!AF46","v":0},{"$f":"'4c'!AG46","v":0},{"$f":"'4c'!AH46","v":0},{"$f":"'4c'!AI46","v":0},{"$f":"'4c'!AJ46","v":0},{"$f":"'4c'!AK46","v":0},{"$f":"'4c'!AL46","v":0},{"$f":"'4c'!AM46","v":0},{"$f":"'4c'!AN46","v":0},{"$f":"'4c'!AO46","v":0},{"$f":"'4c'!AP46","v":0},{"$f":"'4c'!AQ46","v":0},{"$f":"'4c'!AR46","v":0},{"$f":"'4c'!AS46","v":0},{"$f":"'4c'!AT46","v":0},{"$f":"'4c'!AU46","v":0},{"$f":"'4c'!AV46","v":0},{"$f":"'4c'!AW46","v":0},{"$f":"'4c'!AX46","v":0},{"$f":"'4c'!AY46","v":0},{"$f":"'4c'!AZ46","v":0},{"$f":"'4c'!BA46","v":0},{"$f":"'4c'!BB46","v":0},{"$f":"'4c'!BC46","v":0},{"$f":"'4c'!BD46","v":0},{"$f":"'4c'!BE46","v":0}]
[{"$f":"'4c'!A47","v":"4c"},{"$f":"'4c'!B47","v":0},{"$f":"'4c'!C47","v":0},{"$f":"'4c'!D47","v":"lehrer45"},{"$f":"'4c'!E47","v":0},{"$f":"'4c'!F47","v":0},{"$f":"'4c'!G47","v":0},{"$f":"'4c'!H47","v":0},{"$f":"'4c'!I47","v":0},{"$f":"'4c'!J47","v":0},{"$f":"'4c'!K47","v":0},{"$f":"'4c'!L47","v":0},{"$f":"'4c'!M47","v":0},{"$f":"'4c'!N47","v":0},{"$f":"'4c'!O47","v":0},{"$f":"'4c'!P47","v":0},{"$f":"'4c'!Q47","v":0},{"$f":"'4c'!R47","v":0},{"$f":"'4c'!S47","v":0},{"$f":"'4c'!T47","v":0},{"$f":"'4c'!U47","v":0},{"$f":"'4c'!V47","v":0},{"$f":"'4c'!W47","v":0},{"$f":"'4c'!X47","v":0},{"$f":"'4c'!Y47","v":0},{"$f":"'4c'!Z47","v":0},{"$f":"'4c'!AA47","v":0},{"$f":"'4c'!AB47","v":0},{"$f":"'4c'!AC47","v":0},{"$f":"'4c'!AD47","v":0},{"$f":"'4c'!AE47","v":0},{"$f":"'4c'!AF47","v":0},{"$f":"'4c'!AG47","v":0},{"$f":"'4c'!AH47","v":0},{"$f":"'4c'!AI47","v":0},{"$f":"'4c'!AJ47","v":0},{"$f":"'4c'!AK47","v":0},{"$f":"'4c'!AL47","v":0},{"$f":"'4c'!AM47","v":0},{"$f":"'4c'!AN47","v":0},{"$f":"'4c'!AO47","v":0},{"$f":"'4c'!AP47","v":0},{"$f":"'4c'!AQ47","v":0},{"$f":"'4c'!AR47","v":0},{"$f":"'4c'!AS47","v":0},{"$f":"'4c'!AT47","v":0},{"$f":"'4c'!AU47","v":0},{"$f":"'4c'!AV47","v":0},{"$f":"'4c'!AW47","v":0},{"$f":"'4c'!AX47","v":0},{"$f":"'4c'!AY47","v":0},{"$f":"'4c'!AZ47","v":0},{"$f":"'4c'!BA47","v":0},{"$f":"'4c'!BB47","v":0},{"$f":"'4c'!BC47","v":0},{"$f":"'4c'!BD47","v":0},{"$f":"'4c'!BE47","v":0}]
[{"$f":"'4c'!A48","v":"4c"},{"$f":"'4c'!B48","v":0},{"$f":"'4c'!C48","v":0},{"$f":"'4c'!D48","v":"lehrer46"},{"$f":"'4c'!E48","v":0},{"$f":"'4c'!F48","v":0},{"$f":"'4c'!G48","v":0},{"$f":"'4c'!H48","v":0},{"$f":"'4c'!I48","v":0},{"$f":"'4c'!J48","v":0},{"$f":"'4c'!K48","v":0},{"$f":"'4c'!L48","v":0},{"$f":"'4c'!M48","v":0},{"$f":"'4c'!N48","v":0},{"$f":"'4c'!O48","v":0},{"$f":"'4c'!P48","v":0},{"$f":"'4c'!Q48","v":0},{"$f":"'4c'!R48","v":0},{"$f":"'4c'!S48","v":0},{"$f":"'4c'!T48","v":0},{"$f":"'4c'!U48","v":0},{"$f":"'4c'!V48","v":0},{"$f":"'4c'!W48","v":0},{"$f":"'4c'!X48","v":0},{"$f":"'4c'!Y48","v":0},{"$f":"'4c'!Z48","v":0},{"$f":"'4c'!AA48","v":0},{"$f":"'4c'!AB48","v":0},{"$f":"'4c'!AC48","v":0},{"$f":"'4c'!AD48","v":0},{"$f":"'4c'!AE48","v":0},{"$f":"'4c'!AF48","v":0},{"$f":"'4c'!AG48","v":0},{"$f":"'4c'!AH48","v":0},{"$f":"'4c'!AI48","v":0},{"$f":"'4c'!AJ48","v":0},{"$f":"'4c'!AK48","v":0},{"$f":"'4c'!AL48","v":0},{"$f":"'4c'!AM48","v":0},{"$f":"'4c'!AN48","v":0},{"$f":"'4c'!AO48","v":0},{"$f":"'4c'!AP48","v":0},{"$f":"'4c'!AQ48","v":0},{"$f":"'4c'!AR48","v":0},{"$f":"'4c'!AS48","v":0},{"$f":"'4c'!AT48","v":0},{"$f":"'4c'!AU48","v":0},{"$f":"'4c'!AV48","v":0},{"$f":"'4c'!AW48","v":0},{"$f":"'4c'!AX48","v":0},{"$f":"'4c'!AY48","v":0},{"$f":"'4c'!AZ48","v":0},{"$f":"'4c'!BA48","v":0},{"$f":"'4c'!BB48","v":0},{"$f":"'4c'!BC48","v":0},{"$f":"'4c'!BD48","v":0},{"$f":"'4c'!BE48","v":0}]
[{"$f":"'4c'!A49","v":"4c"},{"$f":"'4c'!B49","v":0},{"$f":"'4c'!C49","v":0},{"$f":"'4c'!D49","v":"lehrer47"},{"$f":"'4c'!E49","v":0},{"$f":"'4c'!F49","v":0},{"$f":"'4c'!G49","v":0},{"$f":"'4c'!H49","v":0},{"$f":"'4c'!I49","v":0},{"$f":"'4c'!J49","v":0},{"$f":"'4c'!K49","v":0},{"$f":"'4c'!L49","v":0},{"$f":"'4c'!M49","v":0},{"$f":"'4c'!N49","v":0},{"$f":"'4c'!O49","v":0},{"$f":"'4c'!P49","v":0},{"$f":"'4c'!Q49","v":0},{"$f":"'4c'!R49","v":0},{"$f":"'4c'!S49","v":0},{"$f":"'4c'!T49","v":0},{"$f":"'4c'!U49","v":0},{"$f":"'4c'!V49","v":0},{"$f":"'4c'!W49","v":0},{"$f":"'4c'!X49","v":0},{"$f":"'4c'!Y49","v":0},{"$f":"'4c'!Z49","v":0},{"$f":"'4c'!AA49","v":0},{"$f":"'4c'!AB49","v":0},{"$f":"'4c'!AC49","v":0},{"$f":"'4c'!AD49","v":0},{"$f":"'4c'!AE49","v":0},{"$f":"'4c'!AF49","v":0},{"$f":"'4c'!AG49","v":0},{"$f":"'4c'!AH49","v":0},{"$f":"'4c'!AI49","v":0},{"$f":"'4c'!AJ49","v":0},{"$f":"'4c'!AK49","v":0},{"$f":"'4c'!AL49","v":0},{"$f":"'4c'!AM49","v":0},{"$f":"'4c'!AN49","v":0},{"$f":"'4c'!AO49","v":0},{"$f":"'4c'!AP49","v":0},{"$f":"'4c'!AQ49","v":0},{"$f":"'4c'!AR49","v":0},{"$f":"'4c'!AS49","v":0},{"$f":"'4c'!AT49","v":0},{"$f":"'4c'!AU49","v":0},{"$f":"'4c'!AV49","v":0},{"$f":"'4c'!AW49","v":0},{"$f":"'4c'!AX49","v":0},{"$f":"'4c'!AY49","v":0},{"$f":"'4c'!AZ49","v":0},{"$f":"'4c'!BA49","v":0},{"$f":"'4c'!BB49","v":0},{"$f":"'4c'!BC49","v":0},{"$f":"'4c'!BD49","v":0},{"$f":"'4c'!BE49","v":0}]
[{"$f":"'4c'!A50","v":"4c"},{"$f":"'4c'!B50","v":0},{"$f":"'4c'!C50","v":0},{"$f":"'4c'!D50","v":"lehrer48"},{"$f":"'4c'!E50","v":0},{"$f":"'4c'!F50","v":0},{"$f":"'4c'!G50","v":0},{"$f":"'4c'!H50","v":0},{"$f":"'4c'!I50","v":0},{"$f":"'4c'!J50","v":0},{"$f":"'4c'!K50","v":0},{"$f":"'4c'!L50","v":0},{"$f":"'4c'!M50","v":0},{"$f":"'4c'!N50","v":0},{"$f":"'4c'!O50","v":0},{"$f":"'4c'!P50","v":0},{"$f":"'4c'!Q50","v":0},{"$f":"'4c'!R50","v":0},{"$f":"'4c'!S50","v":0},{"$f":"'4c'!T50","v":0},{"$f":"'4c'!U50","v":0},{"$f":"'4c'!V50","v":0},{"$f":"'4c'!W50","v":0},{"$f":"'4c'!X50","v":0},{"$f":"'4c'!Y50","v":0},{"$f":"'4c'!Z50","v":0},{"$f":"'4c'!AA50","v":0},{"$f":"'4c'!AB50","v":0},{"$f":"'4c'!AC50","v":0},{"$f":"'4c'!AD50","v":0},{"$f":"'4c'!AE50","v":0},{"$f":"'4c'!AF50","v":0},{"$f":"'4c'!AG50","v":0},{"$f":"'4c'!AH50","v":0},{"$f":"'4c'!AI50","v":0},{"$f":"'4c'!AJ50","v":0},{"$f":"'4c'!AK50","v":0},{"$f":"'4c'!AL50","v":0},{"$f":"'4c'!AM50","v":0},{"$f":"'4c'!AN50","v":0},{"$f":"'4c'!AO50","v":0},{"$f":"'4c'!AP50","v":0},{"$f":"'4c'!AQ50","v":0},{"$f":"'4c'!AR50","v":0},{"$f":"'4c'!AS50","v":0},{"$f":"'4c'!AT50","v":0},{"$f":"'4c'!AU50","v":0},{"$f":"'4c'!AV50","v":0},{"$f":"'4c'!AW50","v":0},{"$f":"'4c'!AX50","v":0},{"$f":"'4c'!AY50","v":0},{"$f":"'4c'!AZ50","v":0},{"$f":"'4c'!BA50","v":0},{"$f":"'4c'!BB50","v":0},{"$f":"'4c'!BC50","v":0},{"$f":"'4c'!BD50","v":0},{"$f":"'4c'!BE50","v":0}]
[{"$f":"'4d'!A3","v":"4d"},{"$f":"'4d'!B3","v":0},{"$f":"'4d'!C3","v":0},{"$f":"'4d'!D3","v":"lehrer01"},{"$f":"'4d'!E3","v":0},{"$f":"'4d'!F3","v":0},{"$f":"'4d'!G3","v":0},{"$f":"'4d'!H3","v":0},{"$f":"'4d'!I3","v":0},{"$f":"'4d'!J3","v":0},{"$f":"'4d'!K3","v":0},{"$f":"'4d'!L3","v":0},{"$f":"'4d'!M3","v":0},{"$f":"'4d'!N3","v":0},{"$f":"'4d'!O3","v":0},{"$f":"'4d'!P3","v":0},{"$f":"'4d'!Q3","v":0},{"$f":"'4d'!R3","v":0},{"$f":"'4d'!S3","v":0},{"$f":"'4d'!T3","v":0},{"$f":"'4d'!U3","v":0},{"$f":"'4d'!V3","v":0},{"$f":"'4d'!W3","v":0},{"$f":"'4d'!X3","v":0},{"$f":"'4d'!Y3","v":0},{"$f":"'4d'!Z3","v":0},{"$f":"'4d'!AA3","v":0},{"$f":"'4d'!AB3","v":0},{"$f":"'4d'!AC3","v":0},{"$f":"'4d'!AD3","v":0},{"$f":"'4d'!AE3","v":0},{"$f":"'4d'!AF3","v":0},{"$f":"'4d'!AG3","v":0},{"$f":"'4d'!AH3","v":0},{"$f":"'4d'!AI3","v":0},{"$f":"'4d'!AJ3","v":0},{"$f":"'4d'!AK3","v":0},{"$f":"'4d'!AL3","v":0},{"$f":"'4d'!AM3","v":0},{"$f":"'4d'!AN3","v":0},{"$f":"'4d'!AO3","v":0},{"$f":"'4d'!AP3","v":0},{"$f":"'4d'!AQ3","v":0},{"$f":"'4d'!AR3","v":0},{"$f":"'4d'!AS3","v":0},{"$f":"'4d'!AT3","v":0},{"$f":"'4d'!AU3","v":0},{"$f":"'4d'!AV3","v":0},{"$f":"'4d'!AW3","v":0},{"$f":"'4d'!AX3","v":0},{"$f":"'4d'!AY3","v":0},{"$f":"'4d'!AZ3","v":0},{"$f":"'4d'!BA3","v":0},{"$f":"'4d'!BB3","v":0},{"$f":"'4d'!BC3","v":0},{"$f":"'4d'!BD3","v":0},{"$f":"'4d'!BE3","v":0}]
[{"$f":"'4d'!A4","v":"4d"},{"$f":"'4d'!B4","v":0},{"$f":"'4d'!C4","v":0},{"$f":"'4d'!D4","v":"lehrer02"},{"$f":"'4d'!E4","v":0},{"$f":"'4d'!F4","v":0},{"$f":"'4d'!G4","v":0},{"$f":"'4d'!H4","v":0},{"$f":"'4d'!I4","v":0},{"$f":"'4d'!J4","v":0},{"$f":"'4d'!K4","v":0},{"$f":"'4d'!L4","v":0},{"$f":"'4d'!M4","v":0},{"$f":"'4d'!N4","v":0},{"$f":"'4d'!O4","v":0},{"$f":"'4d'!P4","v":0},{"$f":"'4d'!Q4","v":0},{"$f":"'4d'!R4","v":0},{"$f":"'4d'!S4","v":0},{"$f":"'4d'!T4","v":0},{"$f":"'4d'!U4","v":0},{"$f":"'4d'!V4","v":0},{"$f":"'4d'!W4","v":0},{"$f":"'4d'!X4","v":0},{"$f":"'4d'!Y4","v":0},{"$f":"'4d'!Z4","v":0},{"$f":"'4d'!AA4","v":0},{"$f":"'4d'!AB4","v":0},{"$f":"'4d'!AC4","v":0},{"$f":"'4d'!AD4","v":0},{"$f":"'4d'!AE4","v":0},{"$f":"'4d'!AF4","v":0},{"$f":"'4d'!AG4","v":0},{"$f":"'4d'!AH4","v":0},{"$f":"'4d'!AI4","v":0},{"$f":"'4d'!AJ4","v":0},{"$f":"'4d'!AK4","v":0},{"$f":"'4d'!AL4","v":0},{"$f":"'4d'!AM4","v":0},{"$f":"'4d'!AN4","v":0},{"$f":"'4d'!AO4","v":0},{"$f":"'4d'!AP4","v":0},{"$f":"'4d'!AQ4","v":0},{"$f":"'4d'!AR4","v":0},{"$f":"'4d'!AS4","v":0},{"$f":"'4d'!AT4","v":0},{"$f":"'4d'!AU4","v":0},{"$f":"'4d'!AV4","v":0},{"$f":"'4d'!AW4","v":0},{"$f":"'4d'!AX4","v":0},{"$f":"'4d'!AY4","v":0},{"$f":"'4d'!AZ4","v":0},{"$f":"'4d'!BA4","v":0},{"$f":"'4d'!BB4","v":0},{"$f":"'4d'!BC4","v":0},{"$f":"'4d'!BD4","v":0},{"$f":"'4d'!BE4","v":0}]
[{"$f":"'4d'!A5","v":"4d"},{"$f":"'4d'!B5","v":0},{"$f":"'4d'!C5","v":0},{"$f":"'4d'!D5","v":"lehrer03"},{"$f":"'4d'!E5","v":0},{"$f":"'4d'!F5","v":0},{"$f":"'4d'!G5","v":0},{"$f":"'4d'!H5","v":0},{"$f":"'4d'!I5","v":0},{"$f":"'4d'!J5","v":0},{"$f":"'4d'!K5","v":0},{"$f":"'4d'!L5","v":0},{"$f":"'4d'!M5","v":0},{"$f":"'4d'!N5","v":0},{"$f":"'4d'!O5","v":0},{"$f":"'4d'!P5","v":0},{"$f":"'4d'!Q5","v":0},{"$f":"'4d'!R5","v":0},{"$f":"'4d'!S5","v":0},{"$f":"'4d'!T5","v":0},{"$f":"'4d'!U5","v":0},{"$f":"'4d'!V5","v":0},{"$f":"'4d'!W5","v":0},{"$f":"'4d'!X5","v":0},{"$f":"'4d'!Y5","v":0},{"$f":"'4d'!Z5","v":0},{"$f":"'4d'!AA5","v":0},{"$f":"'4d'!AB5","v":0},{"$f":"'4d'!AC5","v":0},{"$f":"'4d'!AD5","v":0},{"$f":"'4d'!AE5","v":0},{"$f":"'4d'!AF5","v":0},{"$f":"'4d'!AG5","v":0},{"$f":"'4d'!AH5","v":0},{"$f":"'4d'!AI5","v":0},{"$f":"'4d'!AJ5","v":0},{"$f":"'4d'!AK5","v":0},{"$f":"'4d'!AL5","v":0},{"$f":"'4d'!AM5","v":0},{"$f":"'4d'!AN5","v":0},{"$f":"'4d'!AO5","v":0},{"$f":"'4d'!AP5","v":0},{"$f":"'4d'!AQ5","v":0},{"$f":"'4d'!AR5","v":0},{"$f":"'4d'!AS5","v":0},{"$f":"'4d'!AT5","v":0},{"$f":"'4d'!AU5","v":0},{"$f":"'4d'!AV5","v":0},{"$f":"'4d'!AW5","v":0},{"$f":"'4d'!AX5","v":0},{"$f":"'4d'!AY5","v":0},{"$f":"'4d'!AZ5","v":0},{"$f":"'4d'!BA5","v":0},{"$f":"'4d'!BB5","v":0},{"$f":"'4d'!BC5","v":0},{"$f":"'4d'!BD5","v":0},{"$f":"'4d'!BE5","v":0}]
[{"$f":"'4d'!A6","v":"4d"},{"$f":"'4d'!B6","v":0},{"$f":"'4d'!C6","v":0},{"$f":"'4d'!D6","v":"lehrer04"},{"$f":"'4d'!E6","v":0},{"$f":"'4d'!F6","v":0},{"$f":"'4d'!G6","v":0},{"$f":"'4d'!H6","v":0},{"$f":"'4d'!I6","v":0},{"$f":"'4d'!J6","v":0},{"$f":"'4d'!K6","v":0},{"$f":"'4d'!L6","v":0},{"$f":"'4d'!M6","v":0},{"$f":"'4d'!N6","v":0},{"$f":"'4d'!O6","v":0},{"$f":"'4d'!P6","v":0},{"$f":"'4d'!Q6","v":0},{"$f":"'4d'!R6","v":0},{"$f":"'4d'!S6","v":0},{"$f":"'4d'!T6","v":0},{"$f":"'4d'!U6","v":0},{"$f":"'4d'!V6","v":0},{"$f":"'4d'!W6","v":0},{"$f":"'4d'!X6","v":0},{"$f":"'4d'!Y6","v":0},{"$f":"'4d'!Z6","v":0},{"$f":"'4d'!AA6","v":0},{"$f":"'4d'!AB6","v":0},{"$f":"'4d'!AC6","v":0},{"$f":"'4d'!AD6","v":0},{"$f":"'4d'!AE6","v":0},{"$f":"'4d'!AF6","v":0},{"$f":"'4d'!AG6","v":0},{"$f":"'4d'!AH6","v":0},{"$f":"'4d'!AI6","v":0},{"$f":"'4d'!AJ6","v":0},{"$f":"'4d'!AK6","v":0},{"$f":"'4d'!AL6","v":0},{"$f":"'4d'!AM6","v":0},{"$f":"'4d'!AN6","v":0},{"$f":"'4d'!AO6","v":0},{"$f":"'4d'!AP6","v":0},{"$f":"'4d'!AQ6","v":0},{"$f":"'4d'!AR6","v":0},{"$f":"'4d'!AS6","v":0},{"$f":"'4d'!AT6","v":0},{"$f":"'4d'!AU6","v":0},{"$f":"'4d'!AV6","v":0},{"$f":"'4d'!AW6","v":0},{"$f":"'4d'!AX6","v":0},{"$f":"'4d'!AY6","v":0},{"$f":"'4d'!AZ6","v":0},{"$f":"'4d'!BA6","v":0},{"$f":"'4d'!BB6","v":0},{"$f":"'4d'!BC6","v":0},{"$f":"'4d'!BD6","v":0},{"$f":"'4d'!BE6","v":0}]
[{"$f":"'4d'!A7","v":"4d"},{"$f":"'4d'!B7","v":0},{"$f":"'4d'!C7","v":0},{"$f":"'4d'!D7","v":"lehrer05"},{"$f":"'4d'!E7","v":0},{"$f":"'4d'!F7","v":0},{"$f":"'4d'!G7","v":0},{"$f":"'4d'!H7","v":0},{"$f":"'4d'!I7","v":0},{"$f":"'4d'!J7","v":0},{"$f":"'4d'!K7","v":0},{"$f":"'4d'!L7","v":0},{"$f":"'4d'!M7","v":0},{"$f":"'4d'!N7","v":0},{"$f":"'4d'!O7","v":0},{"$f":"'4d'!P7","v":0},{"$f":"'4d'!Q7","v":0},{"$f":"'4d'!R7","v":0},{"$f":"'4d'!S7","v":0},{"$f":"'4d'!T7","v":0},{"$f":"'4d'!U7","v":0},{"$f":"'4d'!V7","v":0},{"$f":"'4d'!W7","v":0},{"$f":"'4d'!X7","v":0},{"$f":"'4d'!Y7","v":0},{"$f":"'4d'!Z7","v":0},{"$f":"'4d'!AA7","v":0},{"$f":"'4d'!AB7","v":0},{"$f":"'4d'!AC7","v":0},{"$f":"'4d'!AD7","v":0},{"$f":"'4d'!AE7","v":0},{"$f":"'4d'!AF7","v":0},{"$f":"'4d'!AG7","v":0},{"$f":"'4d'!AH7","v":0},{"$f":"'4d'!AI7","v":0},{"$f":"'4d'!AJ7","v":0},{"$f":"'4d'!AK7","v":0},{"$f":"'4d'!AL7","v":0},{"$f":"'4d'!AM7","v":0},{"$f":"'4d'!AN7","v":0},{"$f":"'4d'!AO7","v":0},{"$f":"'4d'!AP7","v":0},{"$f":"'4d'!AQ7","v":0},{"$f":"'4d'!AR7","v":0},{"$f":"'4d'!AS7","v":0},{"$f":"'4d'!AT7","v":0},{"$f":"'4d'!AU7","v":0},{"$f":"'4d'!AV7","v":0},{"$f":"'4d'!AW7","v":0},{"$f":"'4d'!AX7","v":0},{"$f":"'4d'!AY7","v":0},{"$f":"'4d'!AZ7","v":0},{"$f":"'4d'!BA7","v":0},{"$f":"'4d'!BB7","v":0},{"$f":"'4d'!BC7","v":0},{"$f":"'4d'!BD7","v":0},{"$f":"'4d'!BE7","v":0}]
[{"$f":"'4d'!A8","v":"4d"},{"$f":"'4d'!B8","v":0},{"$f":"'4d'!C8","v":0},{"$f":"'4d'!D8","v":"lehrer06"},{"$f":"'4d'!E8","v":0},{"$f":"'4d'!F8","v":0},{"$f":"'4d'!G8","v":0},{"$f":"'4d'!H8","v":0},{"$f":"'4d'!I8","v":0},{"$f":"'4d'!J8","v":0},{"$f":"'4d'!K8","v":0},{"$f":"'4d'!L8","v":0},{"$f":"'4d'!M8","v":0},{"$f":"'4d'!N8","v":0},{"$f":"'4d'!O8","v":0},{"$f":"'4d'!P8","v":0},{"$f":"'4d'!Q8","v":0},{"$f":"'4d'!R8","v":0},{"$f":"'4d'!S8","v":0},{"$f":"'4d'!T8","v":0},{"$f":"'4d'!U8","v":0},{"$f":"'4d'!V8","v":0},{"$f":"'4d'!W8","v":0},{"$f":"'4d'!X8","v":0},{"$f":"'4d'!Y8","v":0},{"$f":"'4d'!Z8","v":0},{"$f":"'4d'!AA8","v":0},{"$f":"'4d'!AB8","v":0},{"$f":"'4d'!AC8","v":0},{"$f":"'4d'!AD8","v":0},{"$f":"'4d'!AE8","v":0},{"$f":"'4d'!AF8","v":0},{"$f":"'4d'!AG8","v":0},{"$f":"'4d'!AH8","v":0},{"$f":"'4d'!AI8","v":0},{"$f":"'4d'!AJ8","v":0},{"$f":"'4d'!AK8","v":0},{"$f":"'4d'!AL8","v":0},{"$f":"'4d'!AM8","v":0},{"$f":"'4d'!AN8","v":0},{"$f":"'4d'!AO8","v":0},{"$f":"'4d'!AP8","v":0},{"$f":"'4d'!AQ8","v":0},{"$f":"'4d'!AR8","v":0},{"$f":"'4d'!AS8","v":0},{"$f":"'4d'!AT8","v":0},{"$f":"'4d'!AU8","v":0},{"$f":"'4d'!AV8","v":0},{"$f":"'4d'!AW8","v":0},{"$f":"'4d'!AX8","v":0},{"$f":"'4d'!AY8","v":0},{"$f":"'4d'!AZ8","v":0},{"$f":"'4d'!BA8","v":0},{"$f":"'4d'!BB8","v":0},{"$f":"'4d'!BC8","v":0},{"$f":"'4d'!BD8","v":0},{"$f":"'4d'!BE8","v":0}]
[{"$f":"'4d'!A9","v":"4d"},{"$f":"'4d'!B9","v":0},{"$f":"'4d'!C9","v":0},{"$f":"'4d'!D9","v":"lehrer07"},{"$f":"'4d'!E9","v":0},{"$f":"'4d'!F9","v":0},{"$f":"'4d'!G9","v":0},{"$f":"'4d'!H9","v":0},{"$f":"'4d'!I9","v":0},{"$f":"'4d'!J9","v":0},{"$f":"'4d'!K9","v":0},{"$f":"'4d'!L9","v":0},{"$f":"'4d'!M9","v":0},{"$f":"'4d'!N9","v":0},{"$f":"'4d'!O9","v":0},{"$f":"'4d'!P9","v":0},{"$f":"'4d'!Q9","v":0},{"$f":"'4d'!R9","v":0},{"$f":"'4d'!S9","v":0},{"$f":"'4d'!T9","v":0},{"$f":"'4d'!U9","v":0},{"$f":"'4d'!V9","v":0},{"$f":"'4d'!W9","v":0},{"$f":"'4d'!X9","v":0},{"$f":"'4d'!Y9","v":0},{"$f":"'4d'!Z9","v":0},{"$f":"'4d'!AA9","v":0},{"$f":"'4d'!AB9","v":0},{"$f":"'4d'!AC9","v":0},{"$f":"'4d'!AD9","v":0},{"$f":"'4d'!AE9","v":0},{"$f":"'4d'!AF9","v":0},{"$f":"'4d'!AG9","v":0},{"$f":"'4d'!AH9","v":0},{"$f":"'4d'!AI9","v":0},{"$f":"'4d'!AJ9","v":0},{"$f":"'4d'!AK9","v":0},{"$f":"'4d'!AL9","v":0},{"$f":"'4d'!AM9","v":0},{"$f":"'4d'!AN9","v":0},{"$f":"'4d'!AO9","v":0},{"$f":"'4d'!AP9","v":0},{"$f":"'4d'!AQ9","v":0},{"$f":"'4d'!AR9","v":0},{"$f":"'4d'!AS9","v":0},{"$f":"'4d'!AT9","v":0},{"$f":"'4d'!AU9","v":0},{"$f":"'4d'!AV9","v":0},{"$f":"'4d'!AW9","v":0},{"$f":"'4d'!AX9","v":0},{"$f":"'4d'!AY9","v":0},{"$f":"'4d'!AZ9","v":0},{"$f":"'4d'!BA9","v":0},{"$f":"'4d'!BB9","v":0},{"$f":"'4d'!BC9","v":0},{"$f":"'4d'!BD9","v":0},{"$f":"'4d'!BE9","v":0}]
[{"$f":"'4d'!A10","v":"4d"},{"$f":"'4d'!B10","v":0},{"$f":"'4d'!C10","v":0},{"$f":"'4d'!D10","v":"lehrer08"},{"$f":"'4d'!E10","v":0},{"$f":"'4d'!F10","v":0},{"$f":"'4d'!G10","v":0},{"$f":"'4d'!H10","v":0},{"$f":"'4d'!I10","v":0},{"$f":"'4d'!J10","v":0},{"$f":"'4d'!K10","v":0},{"$f":"'4d'!L10","v":0},{"$f":"'4d'!M10","v":0},{"$f":"'4d'!N10","v":0},{"$f":"'4d'!O10","v":0},{"$f":"'4d'!P10","v":0},{"$f":"'4d'!Q10","v":0},{"$f":"'4d'!R10","v":0},{"$f":"'4d'!S10","v":0},{"$f":"'4d'!T10","v":0},{"$f":"'4d'!U10","v":0},{"$f":"'4d'!V10","v":0},{"$f":"'4d'!W10","v":0},{"$f":"'4d'!X10","v":0},{"$f":"'4d'!Y10","v":0},{"$f":"'4d'!Z10","v":0},{"$f":"'4d'!AA10","v":0},{"$f":"'4d'!AB10","v":0},{"$f":"'4d'!AC10","v":0},{"$f":"'4d'!AD10","v":0},{"$f":"'4d'!AE10","v":0},{"$f":"'4d'!AF10","v":0},{"$f":"'4d'!AG10","v":0},{"$f":"'4d'!AH10","v":0},{"$f":"'4d'!AI10","v":0},{"$f":"'4d'!AJ10","v":0},{"$f":"'4d'!AK10","v":0},{"$f":"'4d'!AL10","v":0},{"$f":"'4d'!AM10","v":0},{"$f":"'4d'!AN10","v":0},{"$f":"'4d'!AO10","v":0},{"$f":"'4d'!AP10","v":0},{"$f":"'4d'!AQ10","v":0},{"$f":"'4d'!AR10","v":0},{"$f":"'4d'!AS10","v":0},{"$f":"'4d'!AT10","v":0},{"$f":"'4d'!AU10","v":0},{"$f":"'4d'!AV10","v":0},{"$f":"'4d'!AW10","v":0},{"$f":"'4d'!AX10","v":0},{"$f":"'4d'!AY10","v":0},{"$f":"'4d'!AZ10","v":0},{"$f":"'4d'!BA10","v":0},{"$f":"'4d'!BB10","v":0},{"$f":"'4d'!BC10","v":0},{"$f":"'4d'!BD10","v":0},{"$f":"'4d'!BE10","v":0}]
[{"$f":"'4d'!A11","v":"4d"},{"$f":"'4d'!B11","v":0},{"$f":"'4d'!C11","v":0},{"$f":"'4d'!D11","v":"lehrer09"},{"$f":"'4d'!E11","v":0},{"$f":"'4d'!F11","v":0},{"$f":"'4d'!G11","v":0},{"$f":"'4d'!H11","v":0},{"$f":"'4d'!I11","v":0},{"$f":"'4d'!J11","v":0},{"$f":"'4d'!K11","v":0},{"$f":"'4d'!L11","v":0},{"$f":"'4d'!M11","v":0},{"$f":"'4d'!N11","v":0},{"$f":"'4d'!O11","v":0},{"$f":"'4d'!P11","v":0},{"$f":"'4d'!Q11","v":0},{"$f":"'4d'!R11","v":0},{"$f":"'4d'!S11","v":0},{"$f":"'4d'!T11","v":0},{"$f":"'4d'!U11","v":0},{"$f":"'4d'!V11","v":0},{"$f":"'4d'!W11","v":0},{"$f":"'4d'!X11","v":0},{"$f":"'4d'!Y11","v":0},{"$f":"'4d'!Z11","v":0},{"$f":"'4d'!AA11","v":0},{"$f":"'4d'!AB11","v":0},{"$f":"'4d'!AC11","v":0},{"$f":"'4d'!AD11","v":0},{"$f":"'4d'!AE11","v":0},{"$f":"'4d'!AF11","v":0},{"$f":"'4d'!AG11","v":0},{"$f":"'4d'!AH11","v":0},{"$f":"'4d'!AI11","v":0},{"$f":"'4d'!AJ11","v":0},{"$f":"'4d'!AK11","v":0},{"$f":"'4d'!AL11","v":0},{"$f":"'4d'!AM11","v":0},{"$f":"'4d'!AN11","v":0},{"$f":"'4d'!AO11","v":0},{"$f":"'4d'!AP11","v":0},{"$f":"'4d'!AQ11","v":0},{"$f":"'4d'!AR11","v":0},{"$f":"'4d'!AS11","v":0},{"$f":"'4d'!AT11","v":0},{"$f":"'4d'!AU11","v":0},{"$f":"'4d'!AV11","v":0},{"$f":"'4d'!AW11","v":0},{"$f":"'4d'!AX11","v":0},{"$f":"'4d'!AY11","v":0},{"$f":"'4d'!AZ11","v":0},{"$f":"'4d'!BA11","v":0},{"$f":"'4d'!BB11","v":0},{"$f":"'4d'!BC11","v":0},{"$f":"'4d'!BD11","v":0},{"$f":"'4d'!BE11","v":0}]
[{"$f":"'4d'!A12","v":"4d"},{"$f":"'4d'!B12","v":0},{"$f":"'4d'!C12","v":0},{"$f":"'4d'!D12","v":"lehrer10"},{"$f":"'4d'!E12","v":0},{"$f":"'4d'!F12","v":0},{"$f":"'4d'!G12","v":0},{"$f":"'4d'!H12","v":0},{"$f":"'4d'!I12","v":0},{"$f":"'4d'!J12","v":0},{"$f":"'4d'!K12","v":0},{"$f":"'4d'!L12","v":0},{"$f":"'4d'!M12","v":0},{"$f":"'4d'!N12","v":0},{"$f":"'4d'!O12","v":0},{"$f":"'4d'!P12","v":0},{"$f":"'4d'!Q12","v":0},{"$f":"'4d'!R12","v":0},{"$f":"'4d'!S12","v":0},{"$f":"'4d'!T12","v":0},{"$f":"'4d'!U12","v":0},{"$f":"'4d'!V12","v":0},{"$f":"'4d'!W12","v":0},{"$f":"'4d'!X12","v":0},{"$f":"'4d'!Y12","v":0},{"$f":"'4d'!Z12","v":0},{"$f":"'4d'!AA12","v":0},{"$f":"'4d'!AB12","v":0},{"$f":"'4d'!AC12","v":0},{"$f":"'4d'!AD12","v":0},{"$f":"'4d'!AE12","v":0},{"$f":"'4d'!AF12","v":0},{"$f":"'4d'!AG12","v":0},{"$f":"'4d'!AH12","v":0},{"$f":"'4d'!AI12","v":0},{"$f":"'4d'!AJ12","v":0},{"$f":"'4d'!AK12","v":0},{"$f":"'4d'!AL12","v":0},{"$f":"'4d'!AM12","v":0},{"$f":"'4d'!AN12","v":0},{"$f":"'4d'!AO12","v":0},{"$f":"'4d'!AP12","v":0},{"$f":"'4d'!AQ12","v":0},{"$f":"'4d'!AR12","v":0},{"$f":"'4d'!AS12","v":0},{"$f":"'4d'!AT12","v":0},{"$f":"'4d'!AU12","v":0},{"$f":"'4d'!AV12","v":0},{"$f":"'4d'!AW12","v":0},{"$f":"'4d'!AX12","v":0},{"$f":"'4d'!AY12","v":0},{"$f":"'4d'!AZ12","v":0},{"$f":"'4d'!BA12","v":0},{"$f":"'4d'!BB12","v":0},{"$f":"'4d'!BC12","v":0},{"$f":"'4d'!BD12","v":0},{"$f":"'4d'!BE12","v":0}]
[{"$f":"'4d'!A13","v":"4d"},{"$f":"'4d'!B13","v":0},{"$f":"'4d'!C13","v":0},{"$f":"'4d'!D13","v":"lehrer11"},{"$f":"'4d'!E13","v":0},{"$f":"'4d'!F13","v":0},{"$f":"'4d'!G13","v":0},{"$f":"'4d'!H13","v":0},{"$f":"'4d'!I13","v":0},{"$f":"'4d'!J13","v":0},{"$f":"'4d'!K13","v":0},{"$f":"'4d'!L13","v":0},{"$f":"'4d'!M13","v":0},{"$f":"'4d'!N13","v":0},{"$f":"'4d'!O13","v":0},{"$f":"'4d'!P13","v":0},{"$f":"'4d'!Q13","v":0},{"$f":"'4d'!R13","v":0},{"$f":"'4d'!S13","v":0},{"$f":"'4d'!T13","v":0},{"$f":"'4d'!U13","v":0},{"$f":"'4d'!V13","v":0},{"$f":"'4d'!W13","v":0},{"$f":"'4d'!X13","v":0},{"$f":"'4d'!Y13","v":0},{"$f":"'4d'!Z13","v":0},{"$f":"'4d'!AA13","v":0},{"$f":"'4d'!AB13","v":0},{"$f":"'4d'!AC13","v":0},{"$f":"'4d'!AD13","v":0},{"$f":"'4d'!AE13","v":0},{"$f":"'4d'!AF13","v":0},{"$f":"'4d'!AG13","v":0},{"$f":"'4d'!AH13","v":0},{"$f":"'4d'!AI13","v":0},{"$f":"'4d'!AJ13","v":0},{"$f":"'4d'!AK13","v":0},{"$f":"'4d'!AL13","v":0},{"$f":"'4d'!AM13","v":0},{"$f":"'4d'!AN13","v":0},{"$f":"'4d'!AO13","v":0},{"$f":"'4d'!AP13","v":0},{"$f":"'4d'!AQ13","v":0},{"$f":"'4d'!AR13","v":0},{"$f":"'4d'!AS13","v":0},{"$f":"'4d'!AT13","v":0},{"$f":"'4d'!AU13","v":0},{"$f":"'4d'!AV13","v":0},{"$f":"'4d'!AW13","v":0},{"$f":"'4d'!AX13","v":0},{"$f":"'4d'!AY13","v":0},{"$f":"'4d'!AZ13","v":0},{"$f":"'4d'!BA13","v":0},{"$f":"'4d'!BB13","v":0},{"$f":"'4d'!BC13","v":0},{"$f":"'4d'!BD13","v":0},{"$f":"'4d'!BE13","v":0}]
[{"$f":"'4d'!A14","v":"4d"},{"$f":"'4d'!B14","v":0},{"$f":"'4d'!C14","v":0},{"$f":"'4d'!D14","v":"lehrer12"},{"$f":"'4d'!E14","v":0},{"$f":"'4d'!F14","v":0},{"$f":"'4d'!G14","v":0},{"$f":"'4d'!H14","v":0},{"$f":"'4d'!I14","v":0},{"$f":"'4d'!J14","v":0},{"$f":"'4d'!K14","v":0},{"$f":"'4d'!L14","v":0},{"$f":"'4d'!M14","v":0},{"$f":"'4d'!N14","v":0},{"$f":"'4d'!O14","v":0},{"$f":"'4d'!P14","v":0},{"$f":"'4d'!Q14","v":0},{"$f":"'4d'!R14","v":0},{"$f":"'4d'!S14","v":0},{"$f":"'4d'!T14","v":0},{"$f":"'4d'!U14","v":0},{"$f":"'4d'!V14","v":0},{"$f":"'4d'!W14","v":0},{"$f":"'4d'!X14","v":0},{"$f":"'4d'!Y14","v":0},{"$f":"'4d'!Z14","v":0},{"$f":"'4d'!AA14","v":0},{"$f":"'4d'!AB14","v":0},{"$f":"'4d'!AC14","v":0},{"$f":"'4d'!AD14","v":0},{"$f":"'4d'!AE14","v":0},{"$f":"'4d'!AF14","v":0},{"$f":"'4d'!AG14","v":0},{"$f":"'4d'!AH14","v":0},{"$f":"'4d'!AI14","v":0},{"$f":"'4d'!AJ14","v":0},{"$f":"'4d'!AK14","v":0},{"$f":"'4d'!AL14","v":0},{"$f":"'4d'!AM14","v":0},{"$f":"'4d'!AN14","v":0},{"$f":"'4d'!AO14","v":0},{"$f":"'4d'!AP14","v":0},{"$f":"'4d'!AQ14","v":0},{"$f":"'4d'!AR14","v":0},{"$f":"'4d'!AS14","v":0},{"$f":"'4d'!AT14","v":0},{"$f":"'4d'!AU14","v":0},{"$f":"'4d'!AV14","v":0},{"$f":"'4d'!AW14","v":0},{"$f":"'4d'!AX14","v":0},{"$f":"'4d'!AY14","v":0},{"$f":"'4d'!AZ14","v":0},{"$f":"'4d'!BA14","v":0},{"$f":"'4d'!BB14","v":0},{"$f":"'4d'!BC14","v":0},{"$f":"'4d'!BD14","v":0},{"$f":"'4d'!BE14","v":0}]
[{"$f":"'4d'!A15","v":"4d"},{"$f":"'4d'!B15","v":0},{"$f":"'4d'!C15","v":0},{"$f":"'4d'!D15","v":"lehrer13"},{"$f":"'4d'!E15","v":0},{"$f":"'4d'!F15","v":0},{"$f":"'4d'!G15","v":0},{"$f":"'4d'!H15","v":0},{"$f":"'4d'!I15","v":0},{"$f":"'4d'!J15","v":0},{"$f":"'4d'!K15","v":0},{"$f":"'4d'!L15","v":0},{"$f":"'4d'!M15","v":0},{"$f":"'4d'!N15","v":0},{"$f":"'4d'!O15","v":0},{"$f":"'4d'!P15","v":0},{"$f":"'4d'!Q15","v":0},{"$f":"'4d'!R15","v":0},{"$f":"'4d'!S15","v":0},{"$f":"'4d'!T15","v":0},{"$f":"'4d'!U15","v":0},{"$f":"'4d'!V15","v":0},{"$f":"'4d'!W15","v":0},{"$f":"'4d'!X15","v":0},{"$f":"'4d'!Y15","v":0},{"$f":"'4d'!Z15","v":0},{"$f":"'4d'!AA15","v":0},{"$f":"'4d'!AB15","v":0},{"$f":"'4d'!AC15","v":0},{"$f":"'4d'!AD15","v":0},{"$f":"'4d'!AE15","v":0},{"$f":"'4d'!AF15","v":0},{"$f":"'4d'!AG15","v":0},{"$f":"'4d'!AH15","v":0},{"$f":"'4d'!AI15","v":0},{"$f":"'4d'!AJ15","v":0},{"$f":"'4d'!AK15","v":0},{"$f":"'4d'!AL15","v":0},{"$f":"'4d'!AM15","v":0},{"$f":"'4d'!AN15","v":0},{"$f":"'4d'!AO15","v":0},{"$f":"'4d'!AP15","v":0},{"$f":"'4d'!AQ15","v":0},{"$f":"'4d'!AR15","v":0},{"$f":"'4d'!AS15","v":0},{"$f":"'4d'!AT15","v":0},{"$f":"'4d'!AU15","v":0},{"$f":"'4d'!AV15","v":0},{"$f":"'4d'!AW15","v":0},{"$f":"'4d'!AX15","v":0},{"$f":"'4d'!AY15","v":0},{"$f":"'4d'!AZ15","v":0},{"$f":"'4d'!BA15","v":0},{"$f":"'4d'!BB15","v":0},{"$f":"'4d'!BC15","v":0},{"$f":"'4d'!BD15","v":0},{"$f":"'4d'!BE15","v":0}]
[{"$f":"'4d'!A16","v":"4d"},{"$f":"'4d'!B16","v":0},{"$f":"'4d'!C16","v":0},{"$f":"'4d'!D16","v":"lehrer14"},{"$f":"'4d'!E16","v":0},{"$f":"'4d'!F16","v":0},{"$f":"'4d'!G16","v":0},{"$f":"'4d'!H16","v":0},{"$f":"'4d'!I16","v":0},{"$f":"'4d'!J16","v":0},{"$f":"'4d'!K16","v":0},{"$f":"'4d'!L16","v":0},{"$f":"'4d'!M16","v":0},{"$f":"'4d'!N16","v":0},{"$f":"'4d'!O16","v":0},{"$f":"'4d'!P16","v":0},{"$f":"'4d'!Q16","v":0},{"$f":"'4d'!R16","v":0},{"$f":"'4d'!S16","v":0},{"$f":"'4d'!T16","v":0},{"$f":"'4d'!U16","v":0},{"$f":"'4d'!V16","v":0},{"$f":"'4d'!W16","v":0},{"$f":"'4d'!X16","v":0},{"$f":"'4d'!Y16","v":0},{"$f":"'4d'!Z16","v":0},{"$f":"'4d'!AA16","v":0},{"$f":"'4d'!AB16","v":0},{"$f":"'4d'!AC16","v":0},{"$f":"'4d'!AD16","v":0},{"$f":"'4d'!AE16","v":0},{"$f":"'4d'!AF16","v":0},{"$f":"'4d'!AG16","v":0},{"$f":"'4d'!AH16","v":0},{"$f":"'4d'!AI16","v":0},{"$f":"'4d'!AJ16","v":0},{"$f":"'4d'!AK16","v":0},{"$f":"'4d'!AL16","v":0},{"$f":"'4d'!AM16","v":0},{"$f":"'4d'!AN16","v":0},{"$f":"'4d'!AO16","v":0},{"$f":"'4d'!AP16","v":0},{"$f":"'4d'!AQ16","v":0},{"$f":"'4d'!AR16","v":0},{"$f":"'4d'!AS16","v":0},{"$f":"'4d'!AT16","v":0},{"$f":"'4d'!AU16","v":0},{"$f":"'4d'!AV16","v":0},{"$f":"'4d'!AW16","v":0},{"$f":"'4d'!AX16","v":0},{"$f":"'4d'!AY16","v":0},{"$f":"'4d'!AZ16","v":0},{"$f":"'4d'!BA16","v":0},{"$f":"'4d'!BB16","v":0},{"$f":"'4d'!BC16","v":0},{"$f":"'4d'!BD16","v":0},{"$f":"'4d'!BE16","v":0}]
[{"$f":"'4d'!A17","v":"4d"},{"$f":"'4d'!B17","v":0},{"$f":"'4d'!C17","v":0},{"$f":"'4d'!D17","v":"lehrer15"},{"$f":"'4d'!E17","v":0},{"$f":"'4d'!F17","v":0},{"$f":"'4d'!G17","v":0},{"$f":"'4d'!H17","v":0},{"$f":"'4d'!I17","v":0},{"$f":"'4d'!J17","v":0},{"$f":"'4d'!K17","v":0},{"$f":"'4d'!L17","v":0},{"$f":"'4d'!M17","v":0},{"$f":"'4d'!N17","v":0},{"$f":"'4d'!O17","v":0},{"$f":"'4d'!P17","v":0},{"$f":"'4d'!Q17","v":0},{"$f":"'4d'!R17","v":0},{"$f":"'4d'!S17","v":0},{"$f":"'4d'!T17","v":0},{"$f":"'4d'!U17","v":0},{"$f":"'4d'!V17","v":0},{"$f":"'4d'!W17","v":0},{"$f":"'4d'!X17","v":0},{"$f":"'4d'!Y17","v":0},{"$f":"'4d'!Z17","v":0},{"$f":"'4d'!AA17","v":0},{"$f":"'4d'!AB17","v":0},{"$f":"'4d'!AC17","v":0},{"$f":"'4d'!AD17","v":0},{"$f":"'4d'!AE17","v":0},{"$f":"'4d'!AF17","v":0},{"$f":"'4d'!AG17","v":0},{"$f":"'4d'!AH17","v":0},{"$f":"'4d'!AI17","v":0},{"$f":"'4d'!AJ17","v":0},{"$f":"'4d'!AK17","v":0},{"$f":"'4d'!AL17","v":0},{"$f":"'4d'!AM17","v":0},{"$f":"'4d'!AN17","v":0},{"$f":"'4d'!AO17","v":0},{"$f":"'4d'!AP17","v":0},{"$f":"'4d'!AQ17","v":0},{"$f":"'4d'!AR17","v":0},{"$f":"'4d'!AS17","v":0},{"$f":"'4d'!AT17","v":0},{"$f":"'4d'!AU17","v":0},{"$f":"'4d'!AV17","v":0},{"$f":"'4d'!AW17","v":0},{"$f":"'4d'!AX17","v":0},{"$f":"'4d'!AY17","v":0},{"$f":"'4d'!AZ17","v":0},{"$f":"'4d'!BA17","v":0},{"$f":"'4d'!BB17","v":0},{"$f":"'4d'!BC17","v":0},{"$f":"'4d'!BD17","v":0},{"$f":"'4d'!BE17","v":0}]
[{"$f":"'4d'!A18","v":"4d"},{"$f":"'4d'!B18","v":0},{"$f":"'4d'!C18","v":0},{"$f":"'4d'!D18","v":"lehrer16"},{"$f":"'4d'!E18","v":0},{"$f":"'4d'!F18","v":0},{"$f":"'4d'!G18","v":0},{"$f":"'4d'!H18","v":0},{"$f":"'4d'!I18","v":0},{"$f":"'4d'!J18","v":0},{"$f":"'4d'!K18","v":0},{"$f":"'4d'!L18","v":0},{"$f":"'4d'!M18","v":0},{"$f":"'4d'!N18","v":0},{"$f":"'4d'!O18","v":0},{"$f":"'4d'!P18","v":0},{"$f":"'4d'!Q18","v":0},{"$f":"'4d'!R18","v":0},{"$f":"'4d'!S18","v":0},{"$f":"'4d'!T18","v":0},{"$f":"'4d'!U18","v":0},{"$f":"'4d'!V18","v":0},{"$f":"'4d'!W18","v":0},{"$f":"'4d'!X18","v":0},{"$f":"'4d'!Y18","v":0},{"$f":"'4d'!Z18","v":0},{"$f":"'4d'!AA18","v":0},{"$f":"'4d'!AB18","v":0},{"$f":"'4d'!AC18","v":0},{"$f":"'4d'!AD18","v":0},{"$f":"'4d'!AE18","v":0},{"$f":"'4d'!AF18","v":0},{"$f":"'4d'!AG18","v":0},{"$f":"'4d'!AH18","v":0},{"$f":"'4d'!AI18","v":0},{"$f":"'4d'!AJ18","v":0},{"$f":"'4d'!AK18","v":0},{"$f":"'4d'!AL18","v":0},{"$f":"'4d'!AM18","v":0},{"$f":"'4d'!AN18","v":0},{"$f":"'4d'!AO18","v":0},{"$f":"'4d'!AP18","v":0},{"$f":"'4d'!AQ18","v":0},{"$f":"'4d'!AR18","v":0},{"$f":"'4d'!AS18","v":0},{"$f":"'4d'!AT18","v":0},{"$f":"'4d'!AU18","v":0},{"$f":"'4d'!AV18","v":0},{"$f":"'4d'!AW18","v":0},{"$f":"'4d'!AX18","v":0},{"$f":"'4d'!AY18","v":0},{"$f":"'4d'!AZ18","v":0},{"$f":"'4d'!BA18","v":0},{"$f":"'4d'!BB18","v":0},{"$f":"'4d'!BC18","v":0},{"$f":"'4d'!BD18","v":0},{"$f":"'4d'!BE18","v":0}]
[{"$f":"'4d'!A19","v":"4d"},{"$f":"'4d'!B19","v":0},{"$f":"'4d'!C19","v":0},{"$f":"'4d'!D19","v":"lehrer17"},{"$f":"'4d'!E19","v":0},{"$f":"'4d'!F19","v":0},{"$f":"'4d'!G19","v":0},{"$f":"'4d'!H19","v":0},{"$f":"'4d'!I19","v":0},{"$f":"'4d'!J19","v":0},{"$f":"'4d'!K19","v":0},{"$f":"'4d'!L19","v":0},{"$f":"'4d'!M19","v":0},{"$f":"'4d'!N19","v":0},{"$f":"'4d'!O19","v":0},{"$f":"'4d'!P19","v":0},{"$f":"'4d'!Q19","v":0},{"$f":"'4d'!R19","v":0},{"$f":"'4d'!S19","v":0},{"$f":"'4d'!T19","v":0},{"$f":"'4d'!U19","v":0},{"$f":"'4d'!V19","v":0},{"$f":"'4d'!W19","v":0},{"$f":"'4d'!X19","v":0},{"$f":"'4d'!Y19","v":0},{"$f":"'4d'!Z19","v":0},{"$f":"'4d'!AA19","v":0},{"$f":"'4d'!AB19","v":0},{"$f":"'4d'!AC19","v":0},{"$f":"'4d'!AD19","v":0},{"$f":"'4d'!AE19","v":0},{"$f":"'4d'!AF19","v":0},{"$f":"'4d'!AG19","v":0},{"$f":"'4d'!AH19","v":0},{"$f":"'4d'!AI19","v":0},{"$f":"'4d'!AJ19","v":0},{"$f":"'4d'!AK19","v":0},{"$f":"'4d'!AL19","v":0},{"$f":"'4d'!AM19","v":0},{"$f":"'4d'!AN19","v":0},{"$f":"'4d'!AO19","v":0},{"$f":"'4d'!AP19","v":0},{"$f":"'4d'!AQ19","v":0},{"$f":"'4d'!AR19","v":0},{"$f":"'4d'!AS19","v":0},{"$f":"'4d'!AT19","v":0},{"$f":"'4d'!AU19","v":0},{"$f":"'4d'!AV19","v":0},{"$f":"'4d'!AW19","v":0},{"$f":"'4d'!AX19","v":0},{"$f":"'4d'!AY19","v":0},{"$f":"'4d'!AZ19","v":0},{"$f":"'4d'!BA19","v":0},{"$f":"'4d'!BB19","v":0},{"$f":"'4d'!BC19","v":0},{"$f":"'4d'!BD19","v":0},{"$f":"'4d'!BE19","v":0}]
[{"$f":"'4d'!A20","v":"4d"},{"$f":"'4d'!B20","v":0},{"$f":"'4d'!C20","v":0},{"$f":"'4d'!D20","v":"lehrer18"},{"$f":"'4d'!E20","v":0},{"$f":"'4d'!F20","v":0},{"$f":"'4d'!G20","v":0},{"$f":"'4d'!H20","v":0},{"$f":"'4d'!I20","v":0},{"$f":"'4d'!J20","v":0},{"$f":"'4d'!K20","v":0},{"$f":"'4d'!L20","v":0},{"$f":"'4d'!M20","v":0},{"$f":"'4d'!N20","v":0},{"$f":"'4d'!O20","v":0},{"$f":"'4d'!P20","v":0},{"$f":"'4d'!Q20","v":0},{"$f":"'4d'!R20","v":0},{"$f":"'4d'!S20","v":0},{"$f":"'4d'!T20","v":0},{"$f":"'4d'!U20","v":0},{"$f":"'4d'!V20","v":0},{"$f":"'4d'!W20","v":0},{"$f":"'4d'!X20","v":0},{"$f":"'4d'!Y20","v":0},{"$f":"'4d'!Z20","v":0},{"$f":"'4d'!AA20","v":0},{"$f":"'4d'!AB20","v":0},{"$f":"'4d'!AC20","v":0},{"$f":"'4d'!AD20","v":0},{"$f":"'4d'!AE20","v":0},{"$f":"'4d'!AF20","v":0},{"$f":"'4d'!AG20","v":0},{"$f":"'4d'!AH20","v":0},{"$f":"'4d'!AI20","v":0},{"$f":"'4d'!AJ20","v":0},{"$f":"'4d'!AK20","v":0},{"$f":"'4d'!AL20","v":0},{"$f":"'4d'!AM20","v":0},{"$f":"'4d'!AN20","v":0},{"$f":"'4d'!AO20","v":0},{"$f":"'4d'!AP20","v":0},{"$f":"'4d'!AQ20","v":0},{"$f":"'4d'!AR20","v":0},{"$f":"'4d'!AS20","v":0},{"$f":"'4d'!AT20","v":0},{"$f":"'4d'!AU20","v":0},{"$f":"'4d'!AV20","v":0},{"$f":"'4d'!AW20","v":0},{"$f":"'4d'!AX20","v":0},{"$f":"'4d'!AY20","v":0},{"$f":"'4d'!AZ20","v":0},{"$f":"'4d'!BA20","v":0},{"$f":"'4d'!BB20","v":0},{"$f":"'4d'!BC20","v":0},{"$f":"'4d'!BD20","v":0},{"$f":"'4d'!BE20","v":0}]
[{"$f":"'4d'!A21","v":"4d"},{"$f":"'4d'!B21","v":0},{"$f":"'4d'!C21","v":0},{"$f":"'4d'!D21","v":"lehrer19"},{"$f":"'4d'!E21","v":0},{"$f":"'4d'!F21","v":0},{"$f":"'4d'!G21","v":0},{"$f":"'4d'!H21","v":0},{"$f":"'4d'!I21","v":0},{"$f":"'4d'!J21","v":0},{"$f":"'4d'!K21","v":0},{"$f":"'4d'!L21","v":0},{"$f":"'4d'!M21","v":0},{"$f":"'4d'!N21","v":0},{"$f":"'4d'!O21","v":0},{"$f":"'4d'!P21","v":0},{"$f":"'4d'!Q21","v":0},{"$f":"'4d'!R21","v":0},{"$f":"'4d'!S21","v":0},{"$f":"'4d'!T21","v":0},{"$f":"'4d'!U21","v":0},{"$f":"'4d'!V21","v":0},{"$f":"'4d'!W21","v":0},{"$f":"'4d'!X21","v":0},{"$f":"'4d'!Y21","v":0},{"$f":"'4d'!Z21","v":0},{"$f":"'4d'!AA21","v":0},{"$f":"'4d'!AB21","v":0},{"$f":"'4d'!AC21","v":0},{"$f":"'4d'!AD21","v":0},{"$f":"'4d'!AE21","v":0},{"$f":"'4d'!AF21","v":0},{"$f":"'4d'!AG21","v":0},{"$f":"'4d'!AH21","v":0},{"$f":"'4d'!AI21","v":0},{"$f":"'4d'!AJ21","v":0},{"$f":"'4d'!AK21","v":0},{"$f":"'4d'!AL21","v":0},{"$f":"'4d'!AM21","v":0},{"$f":"'4d'!AN21","v":0},{"$f":"'4d'!AO21","v":0},{"$f":"'4d'!AP21","v":0},{"$f":"'4d'!AQ21","v":0},{"$f":"'4d'!AR21","v":0},{"$f":"'4d'!AS21","v":0},{"$f":"'4d'!AT21","v":0},{"$f":"'4d'!AU21","v":0},{"$f":"'4d'!AV21","v":0},{"$f":"'4d'!AW21","v":0},{"$f":"'4d'!AX21","v":0},{"$f":"'4d'!AY21","v":0},{"$f":"'4d'!AZ21","v":0},{"$f":"'4d'!BA21","v":0},{"$f":"'4d'!BB21","v":0},{"$f":"'4d'!BC21","v":0},{"$f":"'4d'!BD21","v":0},{"$f":"'4d'!BE21","v":0}]
[{"$f":"'4d'!A22","v":"4d"},{"$f":"'4d'!B22","v":0},{"$f":"'4d'!C22","v":0},{"$f":"'4d'!D22","v":"lehrer20"},{"$f":"'4d'!E22","v":0},{"$f":"'4d'!F22","v":0},{"$f":"'4d'!G22","v":0},{"$f":"'4d'!H22","v":0},{"$f":"'4d'!I22","v":0},{"$f":"'4d'!J22","v":0},{"$f":"'4d'!K22","v":0},{"$f":"'4d'!L22","v":0},{"$f":"'4d'!M22","v":0},{"$f":"'4d'!N22","v":0},{"$f":"'4d'!O22","v":0},{"$f":"'4d'!P22","v":0},{"$f":"'4d'!Q22","v":0},{"$f":"'4d'!R22","v":0},{"$f":"'4d'!S22","v":0},{"$f":"'4d'!T22","v":0},{"$f":"'4d'!U22","v":0},{"$f":"'4d'!V22","v":0},{"$f":"'4d'!W22","v":0},{"$f":"'4d'!X22","v":0},{"$f":"'4d'!Y22","v":0},{"$f":"'4d'!Z22","v":0},{"$f":"'4d'!AA22","v":0},{"$f":"'4d'!AB22","v":0},{"$f":"'4d'!AC22","v":0},{"$f":"'4d'!AD22","v":0},{"$f":"'4d'!AE22","v":0},{"$f":"'4d'!AF22","v":0},{"$f":"'4d'!AG22","v":0},{"$f":"'4d'!AH22","v":0},{"$f":"'4d'!AI22","v":0},{"$f":"'4d'!AJ22","v":0},{"$f":"'4d'!AK22","v":0},{"$f":"'4d'!AL22","v":0},{"$f":"'4d'!AM22","v":0},{"$f":"'4d'!AN22","v":0},{"$f":"'4d'!AO22","v":0},{"$f":"'4d'!AP22","v":0},{"$f":"'4d'!AQ22","v":0},{"$f":"'4d'!AR22","v":0},{"$f":"'4d'!AS22","v":0},{"$f":"'4d'!AT22","v":0},{"$f":"'4d'!AU22","v":0},{"$f":"'4d'!AV22","v":0},{"$f":"'4d'!AW22","v":0},{"$f":"'4d'!AX22","v":0},{"$f":"'4d'!AY22","v":0},{"$f":"'4d'!AZ22","v":0},{"$f":"'4d'!BA22","v":0},{"$f":"'4d'!BB22","v":0},{"$f":"'4d'!BC22","v":0},{"$f":"'4d'!BD22","v":0},{"$f":"'4d'!BE22","v":0}]
[{"$f":"'4d'!A23","v":"4d"},{"$f":"'4d'!B23","v":0},{"$f":"'4d'!C23","v":0},{"$f":"'4d'!D23","v":"lehrer21"},{"$f":"'4d'!E23","v":0},{"$f":"'4d'!F23","v":0},{"$f":"'4d'!G23","v":0},{"$f":"'4d'!H23","v":0},{"$f":"'4d'!I23","v":0},{"$f":"'4d'!J23","v":0},{"$f":"'4d'!K23","v":0},{"$f":"'4d'!L23","v":0},{"$f":"'4d'!M23","v":0},{"$f":"'4d'!N23","v":0},{"$f":"'4d'!O23","v":0},{"$f":"'4d'!P23","v":0},{"$f":"'4d'!Q23","v":0},{"$f":"'4d'!R23","v":0},{"$f":"'4d'!S23","v":0},{"$f":"'4d'!T23","v":0},{"$f":"'4d'!U23","v":0},{"$f":"'4d'!V23","v":0},{"$f":"'4d'!W23","v":0},{"$f":"'4d'!X23","v":0},{"$f":"'4d'!Y23","v":0},{"$f":"'4d'!Z23","v":0},{"$f":"'4d'!AA23","v":0},{"$f":"'4d'!AB23","v":0},{"$f":"'4d'!AC23","v":0},{"$f":"'4d'!AD23","v":0},{"$f":"'4d'!AE23","v":0},{"$f":"'4d'!AF23","v":0},{"$f":"'4d'!AG23","v":0},{"$f":"'4d'!AH23","v":0},{"$f":"'4d'!AI23","v":0},{"$f":"'4d'!AJ23","v":0},{"$f":"'4d'!AK23","v":0},{"$f":"'4d'!AL23","v":0},{"$f":"'4d'!AM23","v":0},{"$f":"'4d'!AN23","v":0},{"$f":"'4d'!AO23","v":0},{"$f":"'4d'!AP23","v":0},{"$f":"'4d'!AQ23","v":0},{"$f":"'4d'!AR23","v":0},{"$f":"'4d'!AS23","v":0},{"$f":"'4d'!AT23","v":0},{"$f":"'4d'!AU23","v":0},{"$f":"'4d'!AV23","v":0},{"$f":"'4d'!AW23","v":0},{"$f":"'4d'!AX23","v":0},{"$f":"'4d'!AY23","v":0},{"$f":"'4d'!AZ23","v":0},{"$f":"'4d'!BA23","v":0},{"$f":"'4d'!BB23","v":0},{"$f":"'4d'!BC23","v":0},{"$f":"'4d'!BD23","v":0},{"$f":"'4d'!BE23","v":0}]
[{"$f":"'4d'!A24","v":"4d"},{"$f":"'4d'!B24","v":0},{"$f":"'4d'!C24","v":0},{"$f":"'4d'!D24","v":"lehrer22"},{"$f":"'4d'!E24","v":0},{"$f":"'4d'!F24","v":0},{"$f":"'4d'!G24","v":0},{"$f":"'4d'!H24","v":0},{"$f":"'4d'!I24","v":0},{"$f":"'4d'!J24","v":0},{"$f":"'4d'!K24","v":0},{"$f":"'4d'!L24","v":0},{"$f":"'4d'!M24","v":0},{"$f":"'4d'!N24","v":0},{"$f":"'4d'!O24","v":0},{"$f":"'4d'!P24","v":0},{"$f":"'4d'!Q24","v":0},{"$f":"'4d'!R24","v":0},{"$f":"'4d'!S24","v":0},{"$f":"'4d'!T24","v":0},{"$f":"'4d'!U24","v":0},{"$f":"'4d'!V24","v":0},{"$f":"'4d'!W24","v":0},{"$f":"'4d'!X24","v":0},{"$f":"'4d'!Y24","v":0},{"$f":"'4d'!Z24","v":0},{"$f":"'4d'!AA24","v":0},{"$f":"'4d'!AB24","v":0},{"$f":"'4d'!AC24","v":0},{"$f":"'4d'!AD24","v":0},{"$f":"'4d'!AE24","v":0},{"$f":"'4d'!AF24","v":0},{"$f":"'4d'!AG24","v":0},{"$f":"'4d'!AH24","v":0},{"$f":"'4d'!AI24","v":0},{"$f":"'4d'!AJ24","v":0},{"$f":"'4d'!AK24","v":0},{"$f":"'4d'!AL24","v":0},{"$f":"'4d'!AM24","v":0},{"$f":"'4d'!AN24","v":0},{"$f":"'4d'!AO24","v":0},{"$f":"'4d'!AP24","v":0},{"$f":"'4d'!AQ24","v":0},{"$f":"'4d'!AR24","v":0},{"$f":"'4d'!AS24","v":0},{"$f":"'4d'!AT24","v":0},{"$f":"'4d'!AU24","v":0},{"$f":"'4d'!AV24","v":0},{"$f":"'4d'!AW24","v":0},{"$f":"'4d'!AX24","v":0},{"$f":"'4d'!AY24","v":0},{"$f":"'4d'!AZ24","v":0},{"$f":"'4d'!BA24","v":0},{"$f":"'4d'!BB24","v":0},{"$f":"'4d'!BC24","v":0},{"$f":"'4d'!BD24","v":0},{"$f":"'4d'!BE24","v":0}]
[{"$f":"'4d'!A25","v":"4d"},{"$f":"'4d'!B25","v":0},{"$f":"'4d'!C25","v":0},{"$f":"'4d'!D25","v":"lehrer23"},{"$f":"'4d'!E25","v":0},{"$f":"'4d'!F25","v":0},{"$f":"'4d'!G25","v":0},{"$f":"'4d'!H25","v":0},{"$f":"'4d'!I25","v":0},{"$f":"'4d'!J25","v":0},{"$f":"'4d'!K25","v":0},{"$f":"'4d'!L25","v":0},{"$f":"'4d'!M25","v":0},{"$f":"'4d'!N25","v":0},{"$f":"'4d'!O25","v":0},{"$f":"'4d'!P25","v":0},{"$f":"'4d'!Q25","v":0},{"$f":"'4d'!R25","v":0},{"$f":"'4d'!S25","v":0},{"$f":"'4d'!T25","v":0},{"$f":"'4d'!U25","v":0},{"$f":"'4d'!V25","v":0},{"$f":"'4d'!W25","v":0},{"$f":"'4d'!X25","v":0},{"$f":"'4d'!Y25","v":0},{"$f":"'4d'!Z25","v":0},{"$f":"'4d'!AA25","v":0},{"$f":"'4d'!AB25","v":0},{"$f":"'4d'!AC25","v":0},{"$f":"'4d'!AD25","v":0},{"$f":"'4d'!AE25","v":0},{"$f":"'4d'!AF25","v":0},{"$f":"'4d'!AG25","v":0},{"$f":"'4d'!AH25","v":0},{"$f":"'4d'!AI25","v":0},{"$f":"'4d'!AJ25","v":0},{"$f":"'4d'!AK25","v":0},{"$f":"'4d'!AL25","v":0},{"$f":"'4d'!AM25","v":0},{"$f":"'4d'!AN25","v":0},{"$f":"'4d'!AO25","v":0},{"$f":"'4d'!AP25","v":0},{"$f":"'4d'!AQ25","v":0},{"$f":"'4d'!AR25","v":0},{"$f":"'4d'!AS25","v":0},{"$f":"'4d'!AT25","v":0},{"$f":"'4d'!AU25","v":0},{"$f":"'4d'!AV25","v":0},{"$f":"'4d'!AW25","v":0},{"$f":"'4d'!AX25","v":0},{"$f":"'4d'!AY25","v":0},{"$f":"'4d'!AZ25","v":0},{"$f":"'4d'!BA25","v":0},{"$f":"'4d'!BB25","v":0},{"$f":"'4d'!BC25","v":0},{"$f":"'4d'!BD25","v":0},{"$f":"'4d'!BE25","v":0}]
[{"$f":"'4d'!A26","v":"4d"},{"$f":"'4d'!B26","v":0},{"$f":"'4d'!C26","v":0},{"$f":"'4d'!D26","v":"lehrer24"},{"$f":"'4d'!E26","v":0},{"$f":"'4d'!F26","v":0},{"$f":"'4d'!G26","v":0},{"$f":"'4d'!H26","v":0},{"$f":"'4d'!I26","v":0},{"$f":"'4d'!J26","v":0},{"$f":"'4d'!K26","v":0},{"$f":"'4d'!L26","v":0},{"$f":"'4d'!M26","v":0},{"$f":"'4d'!N26","v":0},{"$f":"'4d'!O26","v":0},{"$f":"'4d'!P26","v":0},{"$f":"'4d'!Q26","v":0},{"$f":"'4d'!R26","v":0},{"$f":"'4d'!S26","v":0},{"$f":"'4d'!T26","v":0},{"$f":"'4d'!U26","v":0},{"$f":"'4d'!V26","v":0},{"$f":"'4d'!W26","v":0},{"$f":"'4d'!X26","v":0},{"$f":"'4d'!Y26","v":0},{"$f":"'4d'!Z26","v":0},{"$f":"'4d'!AA26","v":0},{"$f":"'4d'!AB26","v":0},{"$f":"'4d'!AC26","v":0},{"$f":"'4d'!AD26","v":0},{"$f":"'4d'!AE26","v":0},{"$f":"'4d'!AF26","v":0},{"$f":"'4d'!AG26","v":0},{"$f":"'4d'!AH26","v":0},{"$f":"'4d'!AI26","v":0},{"$f":"'4d'!AJ26","v":0},{"$f":"'4d'!AK26","v":0},{"$f":"'4d'!AL26","v":0},{"$f":"'4d'!AM26","v":0},{"$f":"'4d'!AN26","v":0},{"$f":"'4d'!AO26","v":0},{"$f":"'4d'!AP26","v":0},{"$f":"'4d'!AQ26","v":0},{"$f":"'4d'!AR26","v":0},{"$f":"'4d'!AS26","v":0},{"$f":"'4d'!AT26","v":0},{"$f":"'4d'!AU26","v":0},{"$f":"'4d'!AV26","v":0},{"$f":"'4d'!AW26","v":0},{"$f":"'4d'!AX26","v":0},{"$f":"'4d'!AY26","v":0},{"$f":"'4d'!AZ26","v":0},{"$f":"'4d'!BA26","v":0},{"$f":"'4d'!BB26","v":0},{"$f":"'4d'!BC26","v":0},{"$f":"'4d'!BD26","v":0},{"$f":"'4d'!BE26","v":0}]
[{"$f":"'4d'!A27","v":"4d"},{"$f":"'4d'!B27","v":0},{"$f":"'4d'!C27","v":0},{"$f":"'4d'!D27","v":"lehrer25"},{"$f":"'4d'!E27","v":0},{"$f":"'4d'!F27","v":0},{"$f":"'4d'!G27","v":0},{"$f":"'4d'!H27","v":0},{"$f":"'4d'!I27","v":0},{"$f":"'4d'!J27","v":0},{"$f":"'4d'!K27","v":0},{"$f":"'4d'!L27","v":0},{"$f":"'4d'!M27","v":0},{"$f":"'4d'!N27","v":0},{"$f":"'4d'!O27","v":0},{"$f":"'4d'!P27","v":0},{"$f":"'4d'!Q27","v":0},{"$f":"'4d'!R27","v":0},{"$f":"'4d'!S27","v":0},{"$f":"'4d'!T27","v":0},{"$f":"'4d'!U27","v":0},{"$f":"'4d'!V27","v":0},{"$f":"'4d'!W27","v":0},{"$f":"'4d'!X27","v":0},{"$f":"'4d'!Y27","v":0},{"$f":"'4d'!Z27","v":0},{"$f":"'4d'!AA27","v":0},{"$f":"'4d'!AB27","v":0},{"$f":"'4d'!AC27","v":0},{"$f":"'4d'!AD27","v":0},{"$f":"'4d'!AE27","v":0},{"$f":"'4d'!AF27","v":0},{"$f":"'4d'!AG27","v":0},{"$f":"'4d'!AH27","v":0},{"$f":"'4d'!AI27","v":0},{"$f":"'4d'!AJ27","v":0},{"$f":"'4d'!AK27","v":0},{"$f":"'4d'!AL27","v":0},{"$f":"'4d'!AM27","v":0},{"$f":"'4d'!AN27","v":0},{"$f":"'4d'!AO27","v":0},{"$f":"'4d'!AP27","v":0},{"$f":"'4d'!AQ27","v":0},{"$f":"'4d'!AR27","v":0},{"$f":"'4d'!AS27","v":0},{"$f":"'4d'!AT27","v":0},{"$f":"'4d'!AU27","v":0},{"$f":"'4d'!AV27","v":0},{"$f":"'4d'!AW27","v":0},{"$f":"'4d'!AX27","v":0},{"$f":"'4d'!AY27","v":0},{"$f":"'4d'!AZ27","v":0},{"$f":"'4d'!BA27","v":0},{"$f":"'4d'!BB27","v":0},{"$f":"'4d'!BC27","v":0},{"$f":"'4d'!BD27","v":0},{"$f":"'4d'!BE27","v":0}]
[{"$f":"'4d'!A28","v":"4d"},{"$f":"'4d'!B28","v":0},{"$f":"'4d'!C28","v":0},{"$f":"'4d'!D28","v":"lehrer26"},{"$f":"'4d'!E28","v":0},{"$f":"'4d'!F28","v":0},{"$f":"'4d'!G28","v":0},{"$f":"'4d'!H28","v":0},{"$f":"'4d'!I28","v":0},{"$f":"'4d'!J28","v":0},{"$f":"'4d'!K28","v":0},{"$f":"'4d'!L28","v":0},{"$f":"'4d'!M28","v":0},{"$f":"'4d'!N28","v":0},{"$f":"'4d'!O28","v":0},{"$f":"'4d'!P28","v":0},{"$f":"'4d'!Q28","v":0},{"$f":"'4d'!R28","v":0},{"$f":"'4d'!S28","v":0},{"$f":"'4d'!T28","v":0},{"$f":"'4d'!U28","v":0},{"$f":"'4d'!V28","v":0},{"$f":"'4d'!W28","v":0},{"$f":"'4d'!X28","v":0},{"$f":"'4d'!Y28","v":0},{"$f":"'4d'!Z28","v":0},{"$f":"'4d'!AA28","v":0},{"$f":"'4d'!AB28","v":0},{"$f":"'4d'!AC28","v":0},{"$f":"'4d'!AD28","v":0},{"$f":"'4d'!AE28","v":0},{"$f":"'4d'!AF28","v":0},{"$f":"'4d'!AG28","v":0},{"$f":"'4d'!AH28","v":0},{"$f":"'4d'!AI28","v":0},{"$f":"'4d'!AJ28","v":0},{"$f":"'4d'!AK28","v":0},{"$f":"'4d'!AL28","v":0},{"$f":"'4d'!AM28","v":0},{"$f":"'4d'!AN28","v":0},{"$f":"'4d'!AO28","v":0},{"$f":"'4d'!AP28","v":0},{"$f":"'4d'!AQ28","v":0},{"$f":"'4d'!AR28","v":0},{"$f":"'4d'!AS28","v":0},{"$f":"'4d'!AT28","v":0},{"$f":"'4d'!AU28","v":0},{"$f":"'4d'!AV28","v":0},{"$f":"'4d'!AW28","v":0},{"$f":"'4d'!AX28","v":0},{"$f":"'4d'!AY28","v":0},{"$f":"'4d'!AZ28","v":0},{"$f":"'4d'!BA28","v":0},{"$f":"'4d'!BB28","v":0},{"$f":"'4d'!BC28","v":0},{"$f":"'4d'!BD28","v":0},{"$f":"'4d'!BE28","v":0}]
[{"$f":"'4d'!A29","v":"4d"},{"$f":"'4d'!B29","v":0},{"$f":"'4d'!C29","v":0},{"$f":"'4d'!D29","v":"lehrer27"},{"$f":"'4d'!E29","v":0},{"$f":"'4d'!F29","v":0},{"$f":"'4d'!G29","v":0},{"$f":"'4d'!H29","v":0},{"$f":"'4d'!I29","v":0},{"$f":"'4d'!J29","v":0},{"$f":"'4d'!K29","v":0},{"$f":"'4d'!L29","v":0},{"$f":"'4d'!M29","v":0},{"$f":"'4d'!N29","v":0},{"$f":"'4d'!O29","v":0},{"$f":"'4d'!P29","v":0},{"$f":"'4d'!Q29","v":0},{"$f":"'4d'!R29","v":0},{"$f":"'4d'!S29","v":0},{"$f":"'4d'!T29","v":0},{"$f":"'4d'!U29","v":0},{"$f":"'4d'!V29","v":0},{"$f":"'4d'!W29","v":0},{"$f":"'4d'!X29","v":0},{"$f":"'4d'!Y29","v":0},{"$f":"'4d'!Z29","v":0},{"$f":"'4d'!AA29","v":0},{"$f":"'4d'!AB29","v":0},{"$f":"'4d'!AC29","v":0},{"$f":"'4d'!AD29","v":0},{"$f":"'4d'!AE29","v":0},{"$f":"'4d'!AF29","v":0},{"$f":"'4d'!AG29","v":0},{"$f":"'4d'!AH29","v":0},{"$f":"'4d'!AI29","v":0},{"$f":"'4d'!AJ29","v":0},{"$f":"'4d'!AK29","v":0},{"$f":"'4d'!AL29","v":0},{"$f":"'4d'!AM29","v":0},{"$f":"'4d'!AN29","v":0},{"$f":"'4d'!AO29","v":0},{"$f":"'4d'!AP29","v":0},{"$f":"'4d'!AQ29","v":0},{"$f":"'4d'!AR29","v":0},{"$f":"'4d'!AS29","v":0},{"$f":"'4d'!AT29","v":0},{"$f":"'4d'!AU29","v":0},{"$f":"'4d'!AV29","v":0},{"$f":"'4d'!AW29","v":0},{"$f":"'4d'!AX29","v":0},{"$f":"'4d'!AY29","v":0},{"$f":"'4d'!AZ29","v":0},{"$f":"'4d'!BA29","v":0},{"$f":"'4d'!BB29","v":0},{"$f":"'4d'!BC29","v":0},{"$f":"'4d'!BD29","v":0},{"$f":"'4d'!BE29","v":0}]
[{"$f":"'4d'!A30","v":"4d"},{"$f":"'4d'!B30","v":0},{"$f":"'4d'!C30","v":0},{"$f":"'4d'!D30","v":"lehrer28"},{"$f":"'4d'!E30","v":0},{"$f":"'4d'!F30","v":0},{"$f":"'4d'!G30","v":0},{"$f":"'4d'!H30","v":0},{"$f":"'4d'!I30","v":0},{"$f":"'4d'!J30","v":0},{"$f":"'4d'!K30","v":0},{"$f":"'4d'!L30","v":0},{"$f":"'4d'!M30","v":0},{"$f":"'4d'!N30","v":0},{"$f":"'4d'!O30","v":0},{"$f":"'4d'!P30","v":0},{"$f":"'4d'!Q30","v":0},{"$f":"'4d'!R30","v":0},{"$f":"'4d'!S30","v":0},{"$f":"'4d'!T30","v":0},{"$f":"'4d'!U30","v":0},{"$f":"'4d'!V30","v":0},{"$f":"'4d'!W30","v":0},{"$f":"'4d'!X30","v":0},{"$f":"'4d'!Y30","v":0},{"$f":"'4d'!Z30","v":0},{"$f":"'4d'!AA30","v":0},{"$f":"'4d'!AB30","v":0},{"$f":"'4d'!AC30","v":0},{"$f":"'4d'!AD30","v":0},{"$f":"'4d'!AE30","v":0},{"$f":"'4d'!AF30","v":0},{"$f":"'4d'!AG30","v":0},{"$f":"'4d'!AH30","v":0},{"$f":"'4d'!AI30","v":0},{"$f":"'4d'!AJ30","v":0},{"$f":"'4d'!AK30","v":0},{"$f":"'4d'!AL30","v":0},{"$f":"'4d'!AM30","v":0},{"$f":"'4d'!AN30","v":0},{"$f":"'4d'!AO30","v":0},{"$f":"'4d'!AP30","v":0},{"$f":"'4d'!AQ30","v":0},{"$f":"'4d'!AR30","v":0},{"$f":"'4d'!AS30","v":0},{"$f":"'4d'!AT30","v":0},{"$f":"'4d'!AU30","v":0},{"$f":"'4d'!AV30","v":0},{"$f":"'4d'!AW30","v":0},{"$f":"'4d'!AX30","v":0},{"$f":"'4d'!AY30","v":0},{"$f":"'4d'!AZ30","v":0},{"$f":"'4d'!BA30","v":0},{"$f":"'4d'!BB30","v":0},{"$f":"'4d'!BC30","v":0},{"$f":"'4d'!BD30","v":0},{"$f":"'4d'!BE30","v":0}]
[{"$f":"'4d'!A31","v":"4d"},{"$f":"'4d'!B31","v":0},{"$f":"'4d'!C31","v":0},{"$f":"'4d'!D31","v":"lehrer29"},{"$f":"'4d'!E31","v":0},{"$f":"'4d'!F31","v":0},{"$f":"'4d'!G31","v":0},{"$f":"'4d'!H31","v":0},{"$f":"'4d'!I31","v":0},{"$f":"'4d'!J31","v":0},{"$f":"'4d'!K31","v":0},{"$f":"'4d'!L31","v":0},{"$f":"'4d'!M31","v":0},{"$f":"'4d'!N31","v":0},{"$f":"'4d'!O31","v":0},{"$f":"'4d'!P31","v":0},{"$f":"'4d'!Q31","v":0},{"$f":"'4d'!R31","v":0},{"$f":"'4d'!S31","v":0},{"$f":"'4d'!T31","v":0},{"$f":"'4d'!U31","v":0},{"$f":"'4d'!V31","v":0},{"$f":"'4d'!W31","v":0},{"$f":"'4d'!X31","v":0},{"$f":"'4d'!Y31","v":0},{"$f":"'4d'!Z31","v":0},{"$f":"'4d'!AA31","v":0},{"$f":"'4d'!AB31","v":0},{"$f":"'4d'!AC31","v":0},{"$f":"'4d'!AD31","v":0},{"$f":"'4d'!AE31","v":0},{"$f":"'4d'!AF31","v":0},{"$f":"'4d'!AG31","v":0},{"$f":"'4d'!AH31","v":0},{"$f":"'4d'!AI31","v":0},{"$f":"'4d'!AJ31","v":0},{"$f":"'4d'!AK31","v":0},{"$f":"'4d'!AL31","v":0},{"$f":"'4d'!AM31","v":0},{"$f":"'4d'!AN31","v":0},{"$f":"'4d'!AO31","v":0},{"$f":"'4d'!AP31","v":0},{"$f":"'4d'!AQ31","v":0},{"$f":"'4d'!AR31","v":0},{"$f":"'4d'!AS31","v":0},{"$f":"'4d'!AT31","v":0},{"$f":"'4d'!AU31","v":0},{"$f":"'4d'!AV31","v":0},{"$f":"'4d'!AW31","v":0},{"$f":"'4d'!AX31","v":0},{"$f":"'4d'!AY31","v":0},{"$f":"'4d'!AZ31","v":0},{"$f":"'4d'!BA31","v":0},{"$f":"'4d'!BB31","v":0},{"$f":"'4d'!BC31","v":0},{"$f":"'4d'!BD31","v":0},{"$f":"'4d'!BE31","v":0}]
[{"$f":"'4d'!A32","v":"4d"},{"$f":"'4d'!B32","v":0},{"$f":"'4d'!C32","v":0},{"$f":"'4d'!D32","v":"lehrer30"},{"$f":"'4d'!E32","v":0},{"$f":"'4d'!F32","v":0},{"$f":"'4d'!G32","v":0},{"$f":"'4d'!H32","v":0},{"$f":"'4d'!I32","v":0},{"$f":"'4d'!J32","v":0},{"$f":"'4d'!K32","v":0},{"$f":"'4d'!L32","v":0},{"$f":"'4d'!M32","v":0},{"$f":"'4d'!N32","v":0},{"$f":"'4d'!O32","v":0},{"$f":"'4d'!P32","v":0},{"$f":"'4d'!Q32","v":0},{"$f":"'4d'!R32","v":0},{"$f":"'4d'!S32","v":0},{"$f":"'4d'!T32","v":0},{"$f":"'4d'!U32","v":0},{"$f":"'4d'!V32","v":0},{"$f":"'4d'!W32","v":0},{"$f":"'4d'!X32","v":0},{"$f":"'4d'!Y32","v":0},{"$f":"'4d'!Z32","v":0},{"$f":"'4d'!AA32","v":0},{"$f":"'4d'!AB32","v":0},{"$f":"'4d'!AC32","v":0},{"$f":"'4d'!AD32","v":0},{"$f":"'4d'!AE32","v":0},{"$f":"'4d'!AF32","v":0},{"$f":"'4d'!AG32","v":0},{"$f":"'4d'!AH32","v":0},{"$f":"'4d'!AI32","v":0},{"$f":"'4d'!AJ32","v":0},{"$f":"'4d'!AK32","v":0},{"$f":"'4d'!AL32","v":0},{"$f":"'4d'!AM32","v":0},{"$f":"'4d'!AN32","v":0},{"$f":"'4d'!AO32","v":0},{"$f":"'4d'!AP32","v":0},{"$f":"'4d'!AQ32","v":0},{"$f":"'4d'!AR32","v":0},{"$f":"'4d'!AS32","v":0},{"$f":"'4d'!AT32","v":0},{"$f":"'4d'!AU32","v":0},{"$f":"'4d'!AV32","v":0},{"$f":"'4d'!AW32","v":0},{"$f":"'4d'!AX32","v":0},{"$f":"'4d'!AY32","v":0},{"$f":"'4d'!AZ32","v":0},{"$f":"'4d'!BA32","v":0},{"$f":"'4d'!BB32","v":0},{"$f":"'4d'!BC32","v":0},{"$f":"'4d'!BD32","v":0},{"$f":"'4d'!BE32","v":0}]
[{"$f":"'4d'!A33","v":"4d"},{"$f":"'4d'!B33","v":0},{"$f":"'4d'!C33","v":0},{"$f":"'4d'!D33","v":"lehrer31"},{"$f":"'4d'!E33","v":0},{"$f":"'4d'!F33","v":0},{"$f":"'4d'!G33","v":0},{"$f":"'4d'!H33","v":0},{"$f":"'4d'!I33","v":0},{"$f":"'4d'!J33","v":0},{"$f":"'4d'!K33","v":0},{"$f":"'4d'!L33","v":0},{"$f":"'4d'!M33","v":0},{"$f":"'4d'!N33","v":0},{"$f":"'4d'!O33","v":0},{"$f":"'4d'!P33","v":0},{"$f":"'4d'!Q33","v":0},{"$f":"'4d'!R33","v":0},{"$f":"'4d'!S33","v":0},{"$f":"'4d'!T33","v":0},{"$f":"'4d'!U33","v":0},{"$f":"'4d'!V33","v":0},{"$f":"'4d'!W33","v":0},{"$f":"'4d'!X33","v":0},{"$f":"'4d'!Y33","v":0},{"$f":"'4d'!Z33","v":0},{"$f":"'4d'!AA33","v":0},{"$f":"'4d'!AB33","v":0},{"$f":"'4d'!AC33","v":0},{"$f":"'4d'!AD33","v":0},{"$f":"'4d'!AE33","v":0},{"$f":"'4d'!AF33","v":0},{"$f":"'4d'!AG33","v":0},{"$f":"'4d'!AH33","v":0},{"$f":"'4d'!AI33","v":0},{"$f":"'4d'!AJ33","v":0},{"$f":"'4d'!AK33","v":0},{"$f":"'4d'!AL33","v":0},{"$f":"'4d'!AM33","v":0},{"$f":"'4d'!AN33","v":0},{"$f":"'4d'!AO33","v":0},{"$f":"'4d'!AP33","v":0},{"$f":"'4d'!AQ33","v":0},{"$f":"'4d'!AR33","v":0},{"$f":"'4d'!AS33","v":0},{"$f":"'4d'!AT33","v":0},{"$f":"'4d'!AU33","v":0},{"$f":"'4d'!AV33","v":0},{"$f":"'4d'!AW33","v":0},{"$f":"'4d'!AX33","v":0},{"$f":"'4d'!AY33","v":0},{"$f":"'4d'!AZ33","v":0},{"$f":"'4d'!BA33","v":0},{"$f":"'4d'!BB33","v":0},{"$f":"'4d'!BC33","v":0},{"$f":"'4d'!BD33","v":0},{"$f":"'4d'!BE33","v":0}]
[{"$f":"'4d'!A34","v":"4d"},{"$f":"'4d'!B34","v":0},{"$f":"'4d'!C34","v":0},{"$f":"'4d'!D34","v":"lehrer32"},{"$f":"'4d'!E34","v":0},{"$f":"'4d'!F34","v":0},{"$f":"'4d'!G34","v":0},{"$f":"'4d'!H34","v":0},{"$f":"'4d'!I34","v":0},{"$f":"'4d'!J34","v":0},{"$f":"'4d'!K34","v":0},{"$f":"'4d'!L34","v":0},{"$f":"'4d'!M34","v":0},{"$f":"'4d'!N34","v":0},{"$f":"'4d'!O34","v":0},{"$f":"'4d'!P34","v":0},{"$f":"'4d'!Q34","v":0},{"$f":"'4d'!R34","v":0},{"$f":"'4d'!S34","v":0},{"$f":"'4d'!T34","v":0},{"$f":"'4d'!U34","v":0},{"$f":"'4d'!V34","v":0},{"$f":"'4d'!W34","v":0},{"$f":"'4d'!X34","v":0},{"$f":"'4d'!Y34","v":0},{"$f":"'4d'!Z34","v":0},{"$f":"'4d'!AA34","v":0},{"$f":"'4d'!AB34","v":0},{"$f":"'4d'!AC34","v":0},{"$f":"'4d'!AD34","v":0},{"$f":"'4d'!AE34","v":0},{"$f":"'4d'!AF34","v":0},{"$f":"'4d'!AG34","v":0},{"$f":"'4d'!AH34","v":0},{"$f":"'4d'!AI34","v":0},{"$f":"'4d'!AJ34","v":0},{"$f":"'4d'!AK34","v":0},{"$f":"'4d'!AL34","v":0},{"$f":"'4d'!AM34","v":0},{"$f":"'4d'!AN34","v":0},{"$f":"'4d'!AO34","v":0},{"$f":"'4d'!AP34","v":0},{"$f":"'4d'!AQ34","v":0},{"$f":"'4d'!AR34","v":0},{"$f":"'4d'!AS34","v":0},{"$f":"'4d'!AT34","v":0},{"$f":"'4d'!AU34","v":0},{"$f":"'4d'!AV34","v":0},{"$f":"'4d'!AW34","v":0},{"$f":"'4d'!AX34","v":0},{"$f":"'4d'!AY34","v":0},{"$f":"'4d'!AZ34","v":0},{"$f":"'4d'!BA34","v":0},{"$f":"'4d'!BB34","v":0},{"$f":"'4d'!BC34","v":0},{"$f":"'4d'!BD34","v":0},{"$f":"'4d'!BE34","v":0}]
[{"$f":"'4d'!A35","v":"4d"},{"$f":"'4d'!B35","v":0},{"$f":"'4d'!C35","v":0},{"$f":"'4d'!D35","v":"lehrer33"},{"$f":"'4d'!E35","v":0},{"$f":"'4d'!F35","v":0},{"$f":"'4d'!G35","v":0},{"$f":"'4d'!H35","v":0},{"$f":"'4d'!I35","v":0},{"$f":"'4d'!J35","v":0},{"$f":"'4d'!K35","v":0},{"$f":"'4d'!L35","v":0},{"$f":"'4d'!M35","v":0},{"$f":"'4d'!N35","v":0},{"$f":"'4d'!O35","v":0},{"$f":"'4d'!P35","v":0},{"$f":"'4d'!Q35","v":0},{"$f":"'4d'!R35","v":0},{"$f":"'4d'!S35","v":0},{"$f":"'4d'!T35","v":0},{"$f":"'4d'!U35","v":0},{"$f":"'4d'!V35","v":0},{"$f":"'4d'!W35","v":0},{"$f":"'4d'!X35","v":0},{"$f":"'4d'!Y35","v":0},{"$f":"'4d'!Z35","v":0},{"$f":"'4d'!AA35","v":0},{"$f":"'4d'!AB35","v":0},{"$f":"'4d'!AC35","v":0},{"$f":"'4d'!AD35","v":0},{"$f":"'4d'!AE35","v":0},{"$f":"'4d'!AF35","v":0},{"$f":"'4d'!AG35","v":0},{"$f":"'4d'!AH35","v":0},{"$f":"'4d'!AI35","v":0},{"$f":"'4d'!AJ35","v":0},{"$f":"'4d'!AK35","v":0},{"$f":"'4d'!AL35","v":0},{"$f":"'4d'!AM35","v":0},{"$f":"'4d'!AN35","v":0},{"$f":"'4d'!AO35","v":0},{"$f":"'4d'!AP35","v":0},{"$f":"'4d'!AQ35","v":0},{"$f":"'4d'!AR35","v":0},{"$f":"'4d'!AS35","v":0},{"$f":"'4d'!AT35","v":0},{"$f":"'4d'!AU35","v":0},{"$f":"'4d'!AV35","v":0},{"$f":"'4d'!AW35","v":0},{"$f":"'4d'!AX35","v":0},{"$f":"'4d'!AY35","v":0},{"$f":"'4d'!AZ35","v":0},{"$f":"'4d'!BA35","v":0},{"$f":"'4d'!BB35","v":0},{"$f":"'4d'!BC35","v":0},{"$f":"'4d'!BD35","v":0},{"$f":"'4d'!BE35","v":0}]
[{"$f":"'4d'!A36","v":"4d"},{"$f":"'4d'!B36","v":0},{"$f":"'4d'!C36","v":0},{"$f":"'4d'!D36","v":"lehrer34"},{"$f":"'4d'!E36","v":0},{"$f":"'4d'!F36","v":0},{"$f":"'4d'!G36","v":0},{"$f":"'4d'!H36","v":0},{"$f":"'4d'!I36","v":0},{"$f":"'4d'!J36","v":0},{"$f":"'4d'!K36","v":0},{"$f":"'4d'!L36","v":0},{"$f":"'4d'!M36","v":0},{"$f":"'4d'!N36","v":0},{"$f":"'4d'!O36","v":0},{"$f":"'4d'!P36","v":0},{"$f":"'4d'!Q36","v":0},{"$f":"'4d'!R36","v":0},{"$f":"'4d'!S36","v":0},{"$f":"'4d'!T36","v":0},{"$f":"'4d'!U36","v":0},{"$f":"'4d'!V36","v":0},{"$f":"'4d'!W36","v":0},{"$f":"'4d'!X36","v":0},{"$f":"'4d'!Y36","v":0},{"$f":"'4d'!Z36","v":0},{"$f":"'4d'!AA36","v":0},{"$f":"'4d'!AB36","v":0},{"$f":"'4d'!AC36","v":0},{"$f":"'4d'!AD36","v":0},{"$f":"'4d'!AE36","v":0},{"$f":"'4d'!AF36","v":0},{"$f":"'4d'!AG36","v":0},{"$f":"'4d'!AH36","v":0},{"$f":"'4d'!AI36","v":0},{"$f":"'4d'!AJ36","v":0},{"$f":"'4d'!AK36","v":0},{"$f":"'4d'!AL36","v":0},{"$f":"'4d'!AM36","v":0},{"$f":"'4d'!AN36","v":0},{"$f":"'4d'!AO36","v":0},{"$f":"'4d'!AP36","v":0},{"$f":"'4d'!AQ36","v":0},{"$f":"'4d'!AR36","v":0},{"$f":"'4d'!AS36","v":0},{"$f":"'4d'!AT36","v":0},{"$f":"'4d'!AU36","v":0},{"$f":"'4d'!AV36","v":0},{"$f":"'4d'!AW36","v":0},{"$f":"'4d'!AX36","v":0},{"$f":"'4d'!AY36","v":0},{"$f":"'4d'!AZ36","v":0},{"$f":"'4d'!BA36","v":0},{"$f":"'4d'!BB36","v":0},{"$f":"'4d'!BC36","v":0},{"$f":"'4d'!BD36","v":0},{"$f":"'4d'!BE36","v":0}]
[{"$f":"'4d'!A37","v":"4d"},{"$f":"'4d'!B37","v":0},{"$f":"'4d'!C37","v":0},{"$f":"'4d'!D37","v":"lehrer35"},{"$f":"'4d'!E37","v":0},{"$f":"'4d'!F37","v":0},{"$f":"'4d'!G37","v":0},{"$f":"'4d'!H37","v":0},{"$f":"'4d'!I37","v":0},{"$f":"'4d'!J37","v":0},{"$f":"'4d'!K37","v":0},{"$f":"'4d'!L37","v":0},{"$f":"'4d'!M37","v":0},{"$f":"'4d'!N37","v":0},{"$f":"'4d'!O37","v":0},{"$f":"'4d'!P37","v":0},{"$f":"'4d'!Q37","v":0},{"$f":"'4d'!R37","v":0},{"$f":"'4d'!S37","v":0},{"$f":"'4d'!T37","v":0},{"$f":"'4d'!U37","v":0},{"$f":"'4d'!V37","v":0},{"$f":"'4d'!W37","v":0},{"$f":"'4d'!X37","v":0},{"$f":"'4d'!Y37","v":0},{"$f":"'4d'!Z37","v":0},{"$f":"'4d'!AA37","v":0},{"$f":"'4d'!AB37","v":0},{"$f":"'4d'!AC37","v":0},{"$f":"'4d'!AD37","v":0},{"$f":"'4d'!AE37","v":0},{"$f":"'4d'!AF37","v":0},{"$f":"'4d'!AG37","v":0},{"$f":"'4d'!AH37","v":0},{"$f":"'4d'!AI37","v":0},{"$f":"'4d'!AJ37","v":0},{"$f":"'4d'!AK37","v":0},{"$f":"'4d'!AL37","v":0},{"$f":"'4d'!AM37","v":0},{"$f":"'4d'!AN37","v":0},{"$f":"'4d'!AO37","v":0},{"$f":"'4d'!AP37","v":0},{"$f":"'4d'!AQ37","v":0},{"$f":"'4d'!AR37","v":0},{"$f":"'4d'!AS37","v":0},{"$f":"'4d'!AT37","v":0},{"$f":"'4d'!AU37","v":0},{"$f":"'4d'!AV37","v":0},{"$f":"'4d'!AW37","v":0},{"$f":"'4d'!AX37","v":0},{"$f":"'4d'!AY37","v":0},{"$f":"'4d'!AZ37","v":0},{"$f":"'4d'!BA37","v":0},{"$f":"'4d'!BB37","v":0},{"$f":"'4d'!BC37","v":0},{"$f":"'4d'!BD37","v":0},{"$f":"'4d'!BE37","v":0}]
[{"$f":"'4d'!A38","v":"4d"},{"$f":"'4d'!B38","v":0},{"$f":"'4d'!C38","v":0},{"$f":"'4d'!D38","v":"lehrer36"},{"$f":"'4d'!E38","v":0},{"$f":"'4d'!F38","v":0},{"$f":"'4d'!G38","v":0},{"$f":"'4d'!H38","v":0},{"$f":"'4d'!I38","v":0},{"$f":"'4d'!J38","v":0},{"$f":"'4d'!K38","v":0},{"$f":"'4d'!L38","v":0},{"$f":"'4d'!M38","v":0},{"$f":"'4d'!N38","v":0},{"$f":"'4d'!O38","v":0},{"$f":"'4d'!P38","v":0},{"$f":"'4d'!Q38","v":0},{"$f":"'4d'!R38","v":0},{"$f":"'4d'!S38","v":0},{"$f":"'4d'!T38","v":0},{"$f":"'4d'!U38","v":0},{"$f":"'4d'!V38","v":0},{"$f":"'4d'!W38","v":0},{"$f":"'4d'!X38","v":0},{"$f":"'4d'!Y38","v":0},{"$f":"'4d'!Z38","v":0},{"$f":"'4d'!AA38","v":0},{"$f":"'4d'!AB38","v":0},{"$f":"'4d'!AC38","v":0},{"$f":"'4d'!AD38","v":0},{"$f":"'4d'!AE38","v":0},{"$f":"'4d'!AF38","v":0},{"$f":"'4d'!AG38","v":0},{"$f":"'4d'!AH38","v":0},{"$f":"'4d'!AI38","v":0},{"$f":"'4d'!AJ38","v":0},{"$f":"'4d'!AK38","v":0},{"$f":"'4d'!AL38","v":0},{"$f":"'4d'!AM38","v":0},{"$f":"'4d'!AN38","v":0},{"$f":"'4d'!AO38","v":0},{"$f":"'4d'!AP38","v":0},{"$f":"'4d'!AQ38","v":0},{"$f":"'4d'!AR38","v":0},{"$f":"'4d'!AS38","v":0},{"$f":"'4d'!AT38","v":0},{"$f":"'4d'!AU38","v":0},{"$f":"'4d'!AV38","v":0},{"$f":"'4d'!AW38","v":0},{"$f":"'4d'!AX38","v":0},{"$f":"'4d'!AY38","v":0},{"$f":"'4d'!AZ38","v":0},{"$f":"'4d'!BA38","v":0},{"$f":"'4d'!BB38","v":0},{"$f":"'4d'!BC38","v":0},{"$f":"'4d'!BD38","v":0},{"$f":"'4d'!BE38","v":0}]
[{"$f":"'4d'!A39","v":"4d"},{"$f":"'4d'!B39","v":0},{"$f":"'4d'!C39","v":0},{"$f":"'4d'!D39","v":"lehrer37"},{"$f":"'4d'!E39","v":0},{"$f":"'4d'!F39","v":0},{"$f":"'4d'!G39","v":0},{"$f":"'4d'!H39","v":0},{"$f":"'4d'!I39","v":0},{"$f":"'4d'!J39","v":0},{"$f":"'4d'!K39","v":0},{"$f":"'4d'!L39","v":0},{"$f":"'4d'!M39","v":0},{"$f":"'4d'!N39","v":0},{"$f":"'4d'!O39","v":0},{"$f":"'4d'!P39","v":0},{"$f":"'4d'!Q39","v":0},{"$f":"'4d'!R39","v":0},{"$f":"'4d'!S39","v":0},{"$f":"'4d'!T39","v":0},{"$f":"'4d'!U39","v":0},{"$f":"'4d'!V39","v":0},{"$f":"'4d'!W39","v":0},{"$f":"'4d'!X39","v":0},{"$f":"'4d'!Y39","v":0},{"$f":"'4d'!Z39","v":0},{"$f":"'4d'!AA39","v":0},{"$f":"'4d'!AB39","v":0},{"$f":"'4d'!AC39","v":0},{"$f":"'4d'!AD39","v":0},{"$f":"'4d'!AE39","v":0},{"$f":"'4d'!AF39","v":0},{"$f":"'4d'!AG39","v":0},{"$f":"'4d'!AH39","v":0},{"$f":"'4d'!AI39","v":0},{"$f":"'4d'!AJ39","v":0},{"$f":"'4d'!AK39","v":0},{"$f":"'4d'!AL39","v":0},{"$f":"'4d'!AM39","v":0},{"$f":"'4d'!AN39","v":0},{"$f":"'4d'!AO39","v":0},{"$f":"'4d'!AP39","v":0},{"$f":"'4d'!AQ39","v":0},{"$f":"'4d'!AR39","v":0},{"$f":"'4d'!AS39","v":0},{"$f":"'4d'!AT39","v":0},{"$f":"'4d'!AU39","v":0},{"$f":"'4d'!AV39","v":0},{"$f":"'4d'!AW39","v":0},{"$f":"'4d'!AX39","v":0},{"$f":"'4d'!AY39","v":0},{"$f":"'4d'!AZ39","v":0},{"$f":"'4d'!BA39","v":0},{"$f":"'4d'!BB39","v":0},{"$f":"'4d'!BC39","v":0},{"$f":"'4d'!BD39","v":0},{"$f":"'4d'!BE39","v":0}]
[{"$f":"'4d'!A40","v":"4d"},{"$f":"'4d'!B40","v":0},{"$f":"'4d'!C40","v":0},{"$f":"'4d'!D40","v":"lehrer38"},{"$f":"'4d'!E40","v":0},{"$f":"'4d'!F40","v":0},{"$f":"'4d'!G40","v":0},{"$f":"'4d'!H40","v":0},{"$f":"'4d'!I40","v":0},{"$f":"'4d'!J40","v":0},{"$f":"'4d'!K40","v":0},{"$f":"'4d'!L40","v":0},{"$f":"'4d'!M40","v":0},{"$f":"'4d'!N40","v":0},{"$f":"'4d'!O40","v":0},{"$f":"'4d'!P40","v":0},{"$f":"'4d'!Q40","v":0},{"$f":"'4d'!R40","v":0},{"$f":"'4d'!S40","v":0},{"$f":"'4d'!T40","v":0},{"$f":"'4d'!U40","v":0},{"$f":"'4d'!V40","v":0},{"$f":"'4d'!W40","v":0},{"$f":"'4d'!X40","v":0},{"$f":"'4d'!Y40","v":0},{"$f":"'4d'!Z40","v":0},{"$f":"'4d'!AA40","v":0},{"$f":"'4d'!AB40","v":0},{"$f":"'4d'!AC40","v":0},{"$f":"'4d'!AD40","v":0},{"$f":"'4d'!AE40","v":0},{"$f":"'4d'!AF40","v":0},{"$f":"'4d'!AG40","v":0},{"$f":"'4d'!AH40","v":0},{"$f":"'4d'!AI40","v":0},{"$f":"'4d'!AJ40","v":0},{"$f":"'4d'!AK40","v":0},{"$f":"'4d'!AL40","v":0},{"$f":"'4d'!AM40","v":0},{"$f":"'4d'!AN40","v":0},{"$f":"'4d'!AO40","v":0},{"$f":"'4d'!AP40","v":0},{"$f":"'4d'!AQ40","v":0},{"$f":"'4d'!AR40","v":0},{"$f":"'4d'!AS40","v":0},{"$f":"'4d'!AT40","v":0},{"$f":"'4d'!AU40","v":0},{"$f":"'4d'!AV40","v":0},{"$f":"'4d'!AW40","v":0},{"$f":"'4d'!AX40","v":0},{"$f":"'4d'!AY40","v":0},{"$f":"'4d'!AZ40","v":0},{"$f":"'4d'!BA40","v":0},{"$f":"'4d'!BB40","v":0},{"$f":"'4d'!BC40","v":0},{"$f":"'4d'!BD40","v":0},{"$f":"'4d'!BE40","v":0}]
[{"$f":"'4d'!A41","v":"4d"},{"$f":"'4d'!B41","v":0},{"$f":"'4d'!C41","v":0},{"$f":"'4d'!D41","v":"lehrer39"},{"$f":"'4d'!E41","v":0},{"$f":"'4d'!F41","v":0},{"$f":"'4d'!G41","v":0},{"$f":"'4d'!H41","v":0},{"$f":"'4d'!I41","v":0},{"$f":"'4d'!J41","v":0},{"$f":"'4d'!K41","v":0},{"$f":"'4d'!L41","v":0},{"$f":"'4d'!M41","v":0},{"$f":"'4d'!N41","v":0},{"$f":"'4d'!O41","v":0},{"$f":"'4d'!P41","v":0},{"$f":"'4d'!Q41","v":0},{"$f":"'4d'!R41","v":0},{"$f":"'4d'!S41","v":0},{"$f":"'4d'!T41","v":0},{"$f":"'4d'!U41","v":0},{"$f":"'4d'!V41","v":0},{"$f":"'4d'!W41","v":0},{"$f":"'4d'!X41","v":0},{"$f":"'4d'!Y41","v":0},{"$f":"'4d'!Z41","v":0},{"$f":"'4d'!AA41","v":0},{"$f":"'4d'!AB41","v":0},{"$f":"'4d'!AC41","v":0},{"$f":"'4d'!AD41","v":0},{"$f":"'4d'!AE41","v":0},{"$f":"'4d'!AF41","v":0},{"$f":"'4d'!AG41","v":0},{"$f":"'4d'!AH41","v":0},{"$f":"'4d'!AI41","v":0},{"$f":"'4d'!AJ41","v":0},{"$f":"'4d'!AK41","v":0},{"$f":"'4d'!AL41","v":0},{"$f":"'4d'!AM41","v":0},{"$f":"'4d'!AN41","v":0},{"$f":"'4d'!AO41","v":0},{"$f":"'4d'!AP41","v":0},{"$f":"'4d'!AQ41","v":0},{"$f":"'4d'!AR41","v":0},{"$f":"'4d'!AS41","v":0},{"$f":"'4d'!AT41","v":0},{"$f":"'4d'!AU41","v":0},{"$f":"'4d'!AV41","v":0},{"$f":"'4d'!AW41","v":0},{"$f":"'4d'!AX41","v":0},{"$f":"'4d'!AY41","v":0},{"$f":"'4d'!AZ41","v":0},{"$f":"'4d'!BA41","v":0},{"$f":"'4d'!BB41","v":0},{"$f":"'4d'!BC41","v":0},{"$f":"'4d'!BD41","v":0},{"$f":"'4d'!BE41","v":0}]
[{"$f":"'4d'!A42","v":"4d"},{"$f":"'4d'!B42","v":0},{"$f":"'4d'!C42","v":0},{"$f":"'4d'!D42","v":"lehrer40"},{"$f":"'4d'!E42","v":0},{"$f":"'4d'!F42","v":0},{"$f":"'4d'!G42","v":0},{"$f":"'4d'!H42","v":0},{"$f":"'4d'!I42","v":0},{"$f":"'4d'!J42","v":0},{"$f":"'4d'!K42","v":0},{"$f":"'4d'!L42","v":0},{"$f":"'4d'!M42","v":0},{"$f":"'4d'!N42","v":0},{"$f":"'4d'!O42","v":0},{"$f":"'4d'!P42","v":0},{"$f":"'4d'!Q42","v":0},{"$f":"'4d'!R42","v":0},{"$f":"'4d'!S42","v":0},{"$f":"'4d'!T42","v":0},{"$f":"'4d'!U42","v":0},{"$f":"'4d'!V42","v":0},{"$f":"'4d'!W42","v":0},{"$f":"'4d'!X42","v":0},{"$f":"'4d'!Y42","v":0},{"$f":"'4d'!Z42","v":0},{"$f":"'4d'!AA42","v":0},{"$f":"'4d'!AB42","v":0},{"$f":"'4d'!AC42","v":0},{"$f":"'4d'!AD42","v":0},{"$f":"'4d'!AE42","v":0},{"$f":"'4d'!AF42","v":0},{"$f":"'4d'!AG42","v":0},{"$f":"'4d'!AH42","v":0},{"$f":"'4d'!AI42","v":0},{"$f":"'4d'!AJ42","v":0},{"$f":"'4d'!AK42","v":0},{"$f":"'4d'!AL42","v":0},{"$f":"'4d'!AM42","v":0},{"$f":"'4d'!AN42","v":0},{"$f":"'4d'!AO42","v":0},{"$f":"'4d'!AP42","v":0},{"$f":"'4d'!AQ42","v":0},{"$f":"'4d'!AR42","v":0},{"$f":"'4d'!AS42","v":0},{"$f":"'4d'!AT42","v":0},{"$f":"'4d'!AU42","v":0},{"$f":"'4d'!AV42","v":0},{"$f":"'4d'!AW42","v":0},{"$f":"'4d'!AX42","v":0},{"$f":"'4d'!AY42","v":0},{"$f":"'4d'!AZ42","v":0},{"$f":"'4d'!BA42","v":0},{"$f":"'4d'!BB42","v":0},{"$f":"'4d'!BC42","v":0},{"$f":"'4d'!BD42","v":0},{"$f":"'4d'!BE42","v":0}]
[{"$f":"'4d'!A43","v":"4d"},{"$f":"'4d'!B43","v":0},{"$f":"'4d'!C43","v":0},{"$f":"'4d'!D43","v":"lehrer41"},{"$f":"'4d'!E43","v":0},{"$f":"'4d'!F43","v":0},{"$f":"'4d'!G43","v":0},{"$f":"'4d'!H43","v":0},{"$f":"'4d'!I43","v":0},{"$f":"'4d'!J43","v":0},{"$f":"'4d'!K43","v":0},{"$f":"'4d'!L43","v":0},{"$f":"'4d'!M43","v":0},{"$f":"'4d'!N43","v":0},{"$f":"'4d'!O43","v":0},{"$f":"'4d'!P43","v":0},{"$f":"'4d'!Q43","v":0},{"$f":"'4d'!R43","v":0},{"$f":"'4d'!S43","v":0},{"$f":"'4d'!T43","v":0},{"$f":"'4d'!U43","v":0},{"$f":"'4d'!V43","v":0},{"$f":"'4d'!W43","v":0},{"$f":"'4d'!X43","v":0},{"$f":"'4d'!Y43","v":0},{"$f":"'4d'!Z43","v":0},{"$f":"'4d'!AA43","v":0},{"$f":"'4d'!AB43","v":0},{"$f":"'4d'!AC43","v":0},{"$f":"'4d'!AD43","v":0},{"$f":"'4d'!AE43","v":0},{"$f":"'4d'!AF43","v":0},{"$f":"'4d'!AG43","v":0},{"$f":"'4d'!AH43","v":0},{"$f":"'4d'!AI43","v":0},{"$f":"'4d'!AJ43","v":0},{"$f":"'4d'!AK43","v":0},{"$f":"'4d'!AL43","v":0},{"$f":"'4d'!AM43","v":0},{"$f":"'4d'!AN43","v":0},{"$f":"'4d'!AO43","v":0},{"$f":"'4d'!AP43","v":0},{"$f":"'4d'!AQ43","v":0},{"$f":"'4d'!AR43","v":0},{"$f":"'4d'!AS43","v":0},{"$f":"'4d'!AT43","v":0},{"$f":"'4d'!AU43","v":0},{"$f":"'4d'!AV43","v":0},{"$f":"'4d'!AW43","v":0},{"$f":"'4d'!AX43","v":0},{"$f":"'4d'!AY43","v":0},{"$f":"'4d'!AZ43","v":0},{"$f":"'4d'!BA43","v":0},{"$f":"'4d'!BB43","v":0},{"$f":"'4d'!BC43","v":0},{"$f":"'4d'!BD43","v":0},{"$f":"'4d'!BE43","v":0}]
[{"$f":"'4d'!A44","v":"4d"},{"$f":"'4d'!B44","v":0},{"$f":"'4d'!C44","v":0},{"$f":"'4d'!D44","v":"lehrer42"},{"$f":"'4d'!E44","v":0},{"$f":"'4d'!F44","v":0},{"$f":"'4d'!G44","v":0},{"$f":"'4d'!H44","v":0},{"$f":"'4d'!I44","v":0},{"$f":"'4d'!J44","v":0},{"$f":"'4d'!K44","v":0},{"$f":"'4d'!L44","v":0},{"$f":"'4d'!M44","v":0},{"$f":"'4d'!N44","v":0},{"$f":"'4d'!O44","v":0},{"$f":"'4d'!P44","v":0},{"$f":"'4d'!Q44","v":0},{"$f":"'4d'!R44","v":0},{"$f":"'4d'!S44","v":0},{"$f":"'4d'!T44","v":0},{"$f":"'4d'!U44","v":0},{"$f":"'4d'!V44","v":0},{"$f":"'4d'!W44","v":0},{"$f":"'4d'!X44","v":0},{"$f":"'4d'!Y44","v":0},{"$f":"'4d'!Z44","v":0},{"$f":"'4d'!AA44","v":0},{"$f":"'4d'!AB44","v":0},{"$f":"'4d'!AC44","v":0},{"$f":"'4d'!AD44","v":0},{"$f":"'4d'!AE44","v":0},{"$f":"'4d'!AF44","v":0},{"$f":"'4d'!AG44","v":0},{"$f":"'4d'!AH44","v":0},{"$f":"'4d'!AI44","v":0},{"$f":"'4d'!AJ44","v":0},{"$f":"'4d'!AK44","v":0},{"$f":"'4d'!AL44","v":0},{"$f":"'4d'!AM44","v":0},{"$f":"'4d'!AN44","v":0},{"$f":"'4d'!AO44","v":0},{"$f":"'4d'!AP44","v":0},{"$f":"'4d'!AQ44","v":0},{"$f":"'4d'!AR44","v":0},{"$f":"'4d'!AS44","v":0},{"$f":"'4d'!AT44","v":0},{"$f":"'4d'!AU44","v":0},{"$f":"'4d'!AV44","v":0},{"$f":"'4d'!AW44","v":0},{"$f":"'4d'!AX44","v":0},{"$f":"'4d'!AY44","v":0},{"$f":"'4d'!AZ44","v":0},{"$f":"'4d'!BA44","v":0},{"$f":"'4d'!BB44","v":0},{"$f":"'4d'!BC44","v":0},{"$f":"'4d'!BD44","v":0},{"$f":"'4d'!BE44","v":0}]
[{"$f":"'4d'!A45","v":"4d"},{"$f":"'4d'!B45","v":0},{"$f":"'4d'!C45","v":0},{"$f":"'4d'!D45","v":"lehrer43"},{"$f":"'4d'!E45","v":0},{"$f":"'4d'!F45","v":0},{"$f":"'4d'!G45","v":0},{"$f":"'4d'!H45","v":0},{"$f":"'4d'!I45","v":0},{"$f":"'4d'!J45","v":0},{"$f":"'4d'!K45","v":0},{"$f":"'4d'!L45","v":0},{"$f":"'4d'!M45","v":0},{"$f":"'4d'!N45","v":0},{"$f":"'4d'!O45","v":0},{"$f":"'4d'!P45","v":0},{"$f":"'4d'!Q45","v":0},{"$f":"'4d'!R45","v":0},{"$f":"'4d'!S45","v":0},{"$f":"'4d'!T45","v":0},{"$f":"'4d'!U45","v":0},{"$f":"'4d'!V45","v":0},{"$f":"'4d'!W45","v":0},{"$f":"'4d'!X45","v":0},{"$f":"'4d'!Y45","v":0},{"$f":"'4d'!Z45","v":0},{"$f":"'4d'!AA45","v":0},{"$f":"'4d'!AB45","v":0},{"$f":"'4d'!AC45","v":0},{"$f":"'4d'!AD45","v":0},{"$f":"'4d'!AE45","v":0},{"$f":"'4d'!AF45","v":0},{"$f":"'4d'!AG45","v":0},{"$f":"'4d'!AH45","v":0},{"$f":"'4d'!AI45","v":0},{"$f":"'4d'!AJ45","v":0},{"$f":"'4d'!AK45","v":0},{"$f":"'4d'!AL45","v":0},{"$f":"'4d'!AM45","v":0},{"$f":"'4d'!AN45","v":0},{"$f":"'4d'!AO45","v":0},{"$f":"'4d'!AP45","v":0},{"$f":"'4d'!AQ45","v":0},{"$f":"'4d'!AR45","v":0},{"$f":"'4d'!AS45","v":0},{"$f":"'4d'!AT45","v":0},{"$f":"'4d'!AU45","v":0},{"$f":"'4d'!AV45","v":0},{"$f":"'4d'!AW45","v":0},{"$f":"'4d'!AX45","v":0},{"$f":"'4d'!AY45","v":0},{"$f":"'4d'!AZ45","v":0},{"$f":"'4d'!BA45","v":0},{"$f":"'4d'!BB45","v":0},{"$f":"'4d'!BC45","v":0},{"$f":"'4d'!BD45","v":0},{"$f":"'4d'!BE45","v":0}]
[{"$f":"'4d'!A46","v":"4d"},{"$f":"'4d'!B46","v":0},{"$f":"'4d'!C46","v":0},{"$f":"'4d'!D46","v":"lehrer44"},{"$f":"'4d'!E46","v":0},{"$f":"'4d'!F46","v":0},{"$f":"'4d'!G46","v":0},{"$f":"'4d'!H46","v":0},{"$f":"'4d'!I46","v":0},{"$f":"'4d'!J46","v":0},{"$f":"'4d'!K46","v":0},{"$f":"'4d'!L46","v":0},{"$f":"'4d'!M46","v":0},{"$f":"'4d'!N46","v":0},{"$f":"'4d'!O46","v":0},{"$f":"'4d'!P46","v":0},{"$f":"'4d'!Q46","v":0},{"$f":"'4d'!R46","v":0},{"$f":"'4d'!S46","v":0},{"$f":"'4d'!T46","v":0},{"$f":"'4d'!U46","v":0},{"$f":"'4d'!V46","v":0},{"$f":"'4d'!W46","v":0},{"$f":"'4d'!X46","v":0},{"$f":"'4d'!Y46","v":0},{"$f":"'4d'!Z46","v":0},{"$f":"'4d'!AA46","v":0},{"$f":"'4d'!AB46","v":0},{"$f":"'4d'!AC46","v":0},{"$f":"'4d'!AD46","v":0},{"$f":"'4d'!AE46","v":0},{"$f":"'4d'!AF46","v":0},{"$f":"'4d'!AG46","v":0},{"$f":"'4d'!AH46","v":0},{"$f":"'4d'!AI46","v":0},{"$f":"'4d'!AJ46","v":0},{"$f":"'4d'!AK46","v":0},{"$f":"'4d'!AL46","v":0},{"$f":"'4d'!AM46","v":0},{"$f":"'4d'!AN46","v":0},{"$f":"'4d'!AO46","v":0},{"$f":"'4d'!AP46","v":0},{"$f":"'4d'!AQ46","v":0},{"$f":"'4d'!AR46","v":0},{"$f":"'4d'!AS46","v":0},{"$f":"'4d'!AT46","v":0},{"$f":"'4d'!AU46","v":0},{"$f":"'4d'!AV46","v":0},{"$f":"'4d'!AW46","v":0},{"$f":"'4d'!AX46","v":0},{"$f":"'4d'!AY46","v":0},{"$f":"'4d'!AZ46","v":0},{"$f":"'4d'!BA46","v":0},{"$f":"'4d'!BB46","v":0},{"$f":"'4d'!BC46","v":0},{"$f":"'4d'!BD46","v":0},{"$f":"'4d'!BE46","v":0}]
[{"$f":"'4d'!A47","v":"4d"},{"$f":"'4d'!B47","v":0},{"$f":"'4d'!C47","v":0},{"$f":"'4d'!D47","v":"lehrer45"},{"$f":"'4d'!E47","v":0},{"$f":"'4d'!F47","v":0},{"$f":"'4d'!G47","v":0},{"$f":"'4d'!H47","v":0},{"$f":"'4d'!I47","v":0},{"$f":"'4d'!J47","v":0},{"$f":"'4d'!K47","v":0},{"$f":"'4d'!L47","v":0},{"$f":"'4d'!M47","v":0},{"$f":"'4d'!N47","v":0},{"$f":"'4d'!O47","v":0},{"$f":"'4d'!P47","v":0},{"$f":"'4d'!Q47","v":0},{"$f":"'4d'!R47","v":0},{"$f":"'4d'!S47","v":0},{"$f":"'4d'!T47","v":0},{"$f":"'4d'!U47","v":0},{"$f":"'4d'!V47","v":0},{"$f":"'4d'!W47","v":0},{"$f":"'4d'!X47","v":0},{"$f":"'4d'!Y47","v":0},{"$f":"'4d'!Z47","v":0},{"$f":"'4d'!AA47","v":0},{"$f":"'4d'!AB47","v":0},{"$f":"'4d'!AC47","v":0},{"$f":"'4d'!AD47","v":0},{"$f":"'4d'!AE47","v":0},{"$f":"'4d'!AF47","v":0},{"$f":"'4d'!AG47","v":0},{"$f":"'4d'!AH47","v":0},{"$f":"'4d'!AI47","v":0},{"$f":"'4d'!AJ47","v":0},{"$f":"'4d'!AK47","v":0},{"$f":"'4d'!AL47","v":0},{"$f":"'4d'!AM47","v":0},{"$f":"'4d'!AN47","v":0},{"$f":"'4d'!AO47","v":0},{"$f":"'4d'!AP47","v":0},{"$f":"'4d'!AQ47","v":0},{"$f":"'4d'!AR47","v":0},{"$f":"'4d'!AS47","v":0},{"$f":"'4d'!AT47","v":0},{"$f":"'4d'!AU47","v":0},{"$f":"'4d'!AV47","v":0},{"$f":"'4d'!AW47","v":0},{"$f":"'4d'!AX47","v":0},{"$f":"'4d'!AY47","v":0},{"$f":"'4d'!AZ47","v":0},{"$f":"'4d'!BA47","v":0},{"$f":"'4d'!BB47","v":0},{"$f":"'4d'!BC47","v":0},{"$f":"'4d'!BD47","v":0},{"$f":"'4d'!BE47","v":0}]
[{"$f":"'4d'!A48","v":"4d"},{"$f":"'4d'!B48","v":0},{"$f":"'4d'!C48","v":0},{"$f":"'4d'!D48","v":"lehrer46"},{"$f":"'4d'!E48","v":0},{"$f":"'4d'!F48","v":0},{"$f":"'4d'!G48","v":0},{"$f":"'4d'!H48","v":0},{"$f":"'4d'!I48","v":0},{"$f":"'4d'!J48","v":0},{"$f":"'4d'!K48","v":0},{"$f":"'4d'!L48","v":0},{"$f":"'4d'!M48","v":0},{"$f":"'4d'!N48","v":0},{"$f":"'4d'!O48","v":0},{"$f":"'4d'!P48","v":0},{"$f":"'4d'!Q48","v":0},{"$f":"'4d'!R48","v":0},{"$f":"'4d'!S48","v":0},{"$f":"'4d'!T48","v":0},{"$f":"'4d'!U48","v":0},{"$f":"'4d'!V48","v":0},{"$f":"'4d'!W48","v":0},{"$f":"'4d'!X48","v":0},{"$f":"'4d'!Y48","v":0},{"$f":"'4d'!Z48","v":0},{"$f":"'4d'!AA48","v":0},{"$f":"'4d'!AB48","v":0},{"$f":"'4d'!AC48","v":0},{"$f":"'4d'!AD48","v":0},{"$f":"'4d'!AE48","v":0},{"$f":"'4d'!AF48","v":0},{"$f":"'4d'!AG48","v":0},{"$f":"'4d'!AH48","v":0},{"$f":"'4d'!AI48","v":0},{"$f":"'4d'!AJ48","v":0},{"$f":"'4d'!AK48","v":0},{"$f":"'4d'!AL48","v":0},{"$f":"'4d'!AM48","v":0},{"$f":"'4d'!AN48","v":0},{"$f":"'4d'!AO48","v":0},{"$f":"'4d'!AP48","v":0},{"$f":"'4d'!AQ48","v":0},{"$f":"'4d'!AR48","v":0},{"$f":"'4d'!AS48","v":0},{"$f":"'4d'!AT48","v":0},{"$f":"'4d'!AU48","v":0},{"$f":"'4d'!AV48","v":0},{"$f":"'4d'!AW48","v":0},{"$f":"'4d'!AX48","v":0},{"$f":"'4d'!AY48","v":0},{"$f":"'4d'!AZ48","v":0},{"$f":"'4d'!BA48","v":0},{"$f":"'4d'!BB48","v":0},{"$f":"'4d'!BC48","v":0},{"$f":"'4d'!BD48","v":0},{"$f":"'4d'!BE48","v":0}]
[{"$f":"'4d'!A49","v":"4d"},{"$f":"'4d'!B49","v":0},{"$f":"'4d'!C49","v":0},{"$f":"'4d'!D49","v":"lehrer47"},{"$f":"'4d'!E49","v":0},{"$f":"'4d'!F49","v":0},{"$f":"'4d'!G49","v":0},{"$f":"'4d'!H49","v":0},{"$f":"'4d'!I49","v":0},{"$f":"'4d'!J49","v":0},{"$f":"'4d'!K49","v":0},{"$f":"'4d'!L49","v":0},{"$f":"'4d'!M49","v":0},{"$f":"'4d'!N49","v":0},{"$f":"'4d'!O49","v":0},{"$f":"'4d'!P49","v":0},{"$f":"'4d'!Q49","v":0},{"$f":"'4d'!R49","v":0},{"$f":"'4d'!S49","v":0},{"$f":"'4d'!T49","v":0},{"$f":"'4d'!U49","v":0},{"$f":"'4d'!V49","v":0},{"$f":"'4d'!W49","v":0},{"$f":"'4d'!X49","v":0},{"$f":"'4d'!Y49","v":0},{"$f":"'4d'!Z49","v":0},{"$f":"'4d'!AA49","v":0},{"$f":"'4d'!AB49","v":0},{"$f":"'4d'!AC49","v":0},{"$f":"'4d'!AD49","v":0},{"$f":"'4d'!AE49","v":0},{"$f":"'4d'!AF49","v":0},{"$f":"'4d'!AG49","v":0},{"$f":"'4d'!AH49","v":0},{"$f":"'4d'!AI49","v":0},{"$f":"'4d'!AJ49","v":0},{"$f":"'4d'!AK49","v":0},{"$f":"'4d'!AL49","v":0},{"$f":"'4d'!AM49","v":0},{"$f":"'4d'!AN49","v":0},{"$f":"'4d'!AO49","v":0},{"$f":"'4d'!AP49","v":0},{"$f":"'4d'!AQ49","v":0},{"$f":"'4d'!AR49","v":0},{"$f":"'4d'!AS49","v":0},{"$f":"'4d'!AT49","v":0},{"$f":"'4d'!AU49","v":0},{"$f":"'4d'!AV49","v":0},{"$f":"'4d'!AW49","v":0},{"$f":"'4d'!AX49","v":0},{"$f":"'4d'!AY49","v":0},{"$f":"'4d'!AZ49","v":0},{"$f":"'4d'!BA49","v":0},{"$f":"'4d'!BB49","v":0},{"$f":"'4d'!BC49","v":0},{"$f":"'4d'!BD49","v":0},{"$f":"'4d'!BE49","v":0}]
[{"$f":"'4d'!A50","v":"4d"},{"$f":"'4d'!B50","v":0},{"$f":"'4d'!C50","v":0},{"$f":"'4d'!D50","v":"lehrer48"},{"$f":"'4d'!E50","v":0},{"$f":"'4d'!F50","v":0},{"$f":"'4d'!G50","v":0},{"$f":"'4d'!H50","v":0},{"$f":"'4d'!I50","v":0},{"$f":"'4d'!J50","v":0},{"$f":"'4d'!K50","v":0},{"$f":"'4d'!L50","v":0},{"$f":"'4d'!M50","v":0},{"$f":"'4d'!N50","v":0},{"$f":"'4d'!O50","v":0},{"$f":"'4d'!P50","v":0},{"$f":"'4d'!Q50","v":0},{"$f":"'4d'!R50","v":0},{"$f":"'4d'!S50","v":0},{"$f":"'4d'!T50","v":0},{"$f":"'4d'!U50","v":0},{"$f":"'4d'!V50","v":0},{"$f":"'4d'!W50","v":0},{"$f":"'4d'!X50","v":0},{"$f":"'4d'!Y50","v":0},{"$f":"'4d'!Z50","v":0},{"$f":"'4d'!AA50","v":0},{"$f":"'4d'!AB50","v":0},{"$f":"'4d'!AC50","v":0},{"$f":"'4d'!AD50","v":0},{"$f":"'4d'!AE50","v":0},{"$f":"'4d'!AF50","v":0},{"$f":"'4d'!AG50","v":0},{"$f":"'4d'!AH50","v":0},{"$f":"'4d'!AI50","v":0},{"$f":"'4d'!AJ50","v":0},{"$f":"'4d'!AK50","v":0},{"$f":"'4d'!AL50","v":0},{"$f":"'4d'!AM50","v":0},{"$f":"'4d'!AN50","v":0},{"$f":"'4d'!AO50","v":0},{"$f":"'4d'!AP50","v":0},{"$f":"'4d'!AQ50","v":0},{"$f":"'4d'!AR50","v":0},{"$f":"'4d'!AS50","v":0},{"$f":"'4d'!AT50","v":0},{"$f":"'4d'!AU50","v":0},{"$f":"'4d'!AV50","v":0},{"$f":"'4d'!AW50","v":0},{"$f":"'4d'!AX50","v":0},{"$f":"'4d'!AY50","v":0},{"$f":"'4d'!AZ50","v":0},{"$f":"'4d'!BA50","v":0},{"$f":"'4d'!BB50","v":0},{"$f":"'4d'!BC50","v":0},{"$f":"'4d'!BD50","v":0},{"$f":"'4d'!BE50","v":0}]

{"sheet":"Teamteaching","index":19,"n_rows":198,"n_cols":52,"rows_kept":198,"cut":false,"hidden":false,"merged":[[0,1,4,50]]}
[null,"Teamteaching"]
[]
[]
[]
[]
[]
[]
[null,null,"KL"]
[null,"Zeilenbeschriftungen","lehrer01","lehrer02","lehrer03","lehrer04","lehrer05","lehrer06","lehrer07","lehrer08","lehrer09","lehrer10","lehrer11","lehrer12","lehrer13","lehrer14","lehrer15","lehrer16","lehrer17","lehrer18","lehrer19","lehrer20","lehrer21","lehrer22","lehrer23","lehrer24","lehrer25","lehrer26","lehrer27","lehrer28","lehrer29","lehrer30","lehrer31","lehrer32","lehrer33","lehrer34","lehrer35","lehrer36","lehrer37","lehrer38","lehrer39","lehrer40","lehrer41","lehrer42","lehrer43","lehrer44","lehrer45","lehrer46","lehrer47","lehrer48","(Leer)","Gesamtergebnis"]
[null,"1a"]
[null,"M ",0,0,0,0,0,0,0,0,0,0,0,0,0,0,0,0,0,0,0,0,0,0,0,0,0,0,0,0,0,0,0,0,0,0,0,0,0,0,0,0,0,0,0,0,0,0,0,0,null,0]
[null," M-T ",0,0,0,0,0,0,0,0,0,0,0,0,0,0,0,0,0,0,0,0,0,0,0,0,0,0,0,0,0,0,0,0,0,0,0,0,0,0,0,0,0,0,0,0,0,0,0,0,null,0]
[null,"M-Stütz ",0,0,0,0,0,0,0,0,0,0,0,0,0,0,0,0,0,0,0,0,0,0,0,0,0,0,0,0,0,0,0,0,0,0,0,0,0,0,0,0,0,0,0,0,0,0,0,0,null,0]
[null,"D ",0,0,0,0,0,0,0,0,0,0,0,0,0,0,0,0,0,0,0,0,0,0,0,0,0,0,0,0,0,0,0,0,0,0,0,0,0,0,0,0,0,0,0,0,0,0,0,0,null,0]
[null,"D-T ",0,0,0,0,0,0,0,0,0,0,0,0,0,0,0,0,0,0,0,0,0,0,0,0,0,0,0,0,0,0,0,0,0,0,0,0,0,0,0,0,0,0,0,0,0,0,0,0,null,0]
[null,"D-Stütz ",0,0,0,0,0,0,0,0,0,0,0,0,0,0,0,0,0,0,0,0,0,0,0,0,0,0,0,0,0,0,0,0,0,0,0,0,0,0,0,0,0,0,0,0,0,0,0,0,null,0]
[null,"E ",0,0,0,0,0,0,0,0,0,0,0,0,0,0,0,0,0,0,0,0,0,0,0,0,0,0,0,0,0,0,0,0,0,0,0,0,0,0,0,0,0,0,0,0,0,0,0,0,null,0]
[null,"E-T ",0,0,0,0,0,0,0,0,0,0,0,0,0,0,0,0,0,0,0,0,0,0,0,0,0,0,0,0,0,0,0,0,0,0,0,0,0,0,0,0,0,0,0,0,0,0,0,0,null,0]
[null,"E-Stütz ",0,0,0,0,0,0,0,0,0,0,0,0,0,0,0,0,0,0,0,0,0,0,0,0,0,0,0,0,0,0,0,0,0,0,0,0,0,0,0,0,0,0,0,0,0,0,0,0,null,0]
[null,"1b"]
[null,"M ",0,0,0,0,0,0,0,0,0,0,0,0,0,0,0,0,0,0,0,0,0,0,0,0,0,0,0,0,0,0,0,0,0,0,0,0,0,0,0,0,0,0,0,0,0,0,0,0,null,0]
[null," M-T ",0,0,0,0,0,0,0,0,0,0,0,0,0,0,0,0,0,0,0,0,0,0,0,0,0,0,0,0,0,0,0,0,0,0,0,0,0,0,0,0,0,0,0,0,0,0,0,0,null,0]
[null,"M-Stütz ",0,0,0,0,0,0,0,0,0,0,0,0,0,0,0,0,0,0,0,0,0,0,0,0,0,0,0,0,0,0,0,0,0,0,0,0,0,0,0,0,0,0,0,0,0,0,0,0,null,0]
[null,"D ",0,0,0,0,0,0,0,0,0,0,0,0,0,0,0,0,0,0,0,0,0,0,0,0,0,0,0,0,0,0,0,0,0,0,0,0,0,0,0,0,0,0,0,0,0,0,0,0,null,0]
[null,"D-T ",0,0,0,0,0,0,0,0,0,0,0,0,0,0,0,0,0,0,0,0,0,0,0,0,0,0,0,0,0,0,0,0,0,0,0,0,0,0,0,0,0,0,0,0,0,0,0,0,null,0]
[null,"D-Stütz ",0,0,0,0,0,0,0,0,0,0,0,0,0,0,0,0,0,0,0,0,0,0,0,0,0,0,0,0,0,0,0,0,0,0,0,0,0,0,0,0,0,0,0,0,0,0,0,0,null,0]
[null,"E ",0,0,0,0,0,0,0,0,0,0,0,0,0,0,0,0,0,0,0,0,0,0,0,0,0,0,0,0,0,0,0,0,0,0,0,0,0,0,0,0,0,0,0,0,0,0,0,0,null,0]
[null,"E-T ",0,0,0,0,0,0,0,0,0,0,0,0,0,0,0,0,0,0,0,0,0,0,0,0,0,0,0,0,0,0,0,0,0,0,0,0,0,0,0,0,0,0,0,0,0,0,0,0,null,0]
[null,"E-Stütz ",0,0,0,0,0,0,0,0,0,0,0,0,0,0,0,0,0,0,0,0,0,0,0,0,0,0,0,0,0,0,0,0,0,0,0,0,0,0,0,0,0,0,0,0,0,0,0,0,null,0]
[null,"1c"]
[null,"M ",0,0,0,0,0,0,0,0,0,0,0,0,0,0,0,0,0,0,0,0,0,0,0,0,0,0,0,0,0,0,0,0,0,0,0,0,0,0,0,0,0,0,0,0,0,0,0,0,null,0]
[null," M-T ",0,0,0,0,0,0,0,0,0,0,0,0,0,0,0,0,0,0,0,0,0,0,0,0,0,0,0,0,0,0,0,0,0,0,0,0,0,0,0,0,0,0,0,0,0,0,0,0,null,0]
[null,"M-Stütz ",0,0,0,0,0,0,0,0,0,0,0,0,0,0,0,0,0,0,0,0,0,0,0,0,0,0,0,0,0,0,0,0,0,0,0,0,0,0,0,0,0,0,0,0,0,0,0,0,null,0]
[null,"D ",0,0,0,0,0,0,0,0,0,0,0,0,0,0,0,0,0,0,0,0,0,0,0,0,0,0,0,0,0,0,0,0,0,0,0,0,0,0,0,0,0,0,0,0,0,0,0,0,null,0]
[null,"D-T ",0,0,0,0,0,0,0,0,0,0,0,0,0,0,0,0,0,0,0,0,0,0,0,0,0,0,0,0,0,0,0,0,0,0,0,0,0,0,0,0,0,0,0,0,0,0,0,0,null,0]
[null,"D-Stütz ",0,0,0,0,0,0,0,0,0,0,0,0,0,0,0,0,0,0,0,0,0,0,0,0,0,0,0,0,0,0,0,0,0,0,0,0,0,0,0,0,0,0,0,0,0,0,0,0,null,0]
[null,"E ",0,0,0,0,0,0,0,0,0,0,0,0,0,0,0,0,0,0,0,0,0,0,0,0,0,0,0,0,0,0,0,0,0,0,0,0,0,0,0,0,0,0,0,0,0,0,0,0,null,0]
[null,"E-T ",0,0,0,0,0,0,0,0,0,0,0,0,0,0,0,0,0,0,0,0,0,0,0,0,0,0,0,0,0,0,0,0,0,0,0,0,0,0,0,0,0,0,0,0,0,0,0,0,null,0]
[null,"E-Stütz ",0,0,0,0,0,0,0,0,0,0,0,0,0,0,0,0,0,0,0,0,0,0,0,0,0,0,0,0,0,0,0,0,0,0,0,0,0,0,0,0,0,0,0,0,0,0,0,0,null,0]
[null,"1d"]
[null,"M ",0,0,0,0,0,0,0,0,0,0,0,0,0,0,0,0,0,0,0,0,0,0,0,0,0,0,0,0,0,0,0,0,0,0,0,0,0,0,0,0,0,0,0,0,0,0,0,0,null,0]
[null," M-T ",0,0,0,0,0,0,0,0,0,0,0,0,0,0,0,0,0,0,0,0,0,0,0,0,0,0,0,0,0,0,0,0,0,0,0,0,0,0,0,0,0,0,0,0,0,0,0,0,null,0]
[null,"M-Stütz ",0,0,0,0,0,0,0,0,0,0,0,0,0,0,0,0,0,0,0,0,0,0,0,0,0,0,0,0,0,0,0,0,0,0,0,0,0,0,0,0,0,0,0,0,0,0,0,0,null,0]
[null,"D ",0,0,0,0,0,0,0,0,0,0,0,0,0,0,0,0,0,0,0,0,0,0,0,0,0,0,0,0,0,0,0,0,0,0,0,0,0,0,0,0,0,0,0,0,0,0,0,0,null,0]
[null,"D-T ",0,0,0,0,0,0,0,0,0,0,0,0,0,0,0,0,0,0,0,0,0,0,0,0,0,0,0,0,0,0,0,0,0,0,0,0,0,0,0,0,0,0,0,0,0,0,0,0,null,0]
[null,"D-Stütz ",0,0,0,0,0,0,0,0,0,0,0,0,0,0,0,0,0,0,0,0,0,0,0,0,0,0,0,0,0,0,0,0,0,0,0,0,0,0,0,0,0,0,0,0,0,0,0,0,null,0]
[null,"E ",0,0,0,0,0,0,0,0,0,0,0,0,0,0,0,0,0,0,0,0,0,0,0,0,0,0,0,0,0,0,0,0,0,0,0,0,0,0,0,0,0,0,0,0,0,0,0,0,null,0]
[null,"E-T ",0,0,0,0,0,0,0,0,0,0,0,0,0,0,0,0,0,0,0,0,0,0,0,0,0,0,0,0,0,0,0,0,0,0,0,0,0,0,0,0,0,0,0,0,0,0,0,0,null,0]
[null,"E-Stütz ",0,0,0,0,0,0,0,0,0,0,0,0,0,0,0,0,0,0,0,0,0,0,0,0,0,0,0,0,0,0,0,0,0,0,0,0,0,0,0,0,0,0,0,0,0,0,0,0,null,0]
[null,"2a"]
[null,"M ",0,0,0,0,0,0,0,0,0,0,0,0,0,0,0,0,0,0,0,0,0,0,0,0,0,0,0,0,0,0,0,0,0,0,0,0,0,0,0,0,0,0,0,0,0,0,0,0,null,0]
[null," M-T ",0,0,0,0,0,0,0,0,0,0,0,0,0,0,0,0,0,0,0,0,0,0,0,0,0,0,0,0,0,0,0,0,0,0,0,0,0,0,0,0,0,0,0,0,0,0,0,0,null,0]
[null,"M-Stütz ",0,0,0,0,0,0,0,0,0,0,0,0,0,0,0,0,0,0,0,0,0,0,0,0,0,0,0,0,0,0,0,0,0,0,0,0,0,0,0,0,0,0,0,0,0,0,0,0,null,0]
[null,"D ",0,0,0,0,0,0,0,0,0,0,0,0,0,0,0,0,0,0,0,0,0,0,0,0,0,0,0,0,0,0,0,0,0,0,0,0,0,0,0,0,0,0,0,0,0,0,0,0,null,0]
[null,"D-T ",0,0,0,0,0,0,0,0,0,0,0,0,0,0,0,0,0,0,0,0,0,0,0,0,0,0,0,0,0,0,0,0,0,0,0,0,0,0,0,0,0,0,0,0,0,0,0,0,null,0]
[null,"D-Stütz ",0,0,0,0,0,0,0,0,0,0,0,0,0,0,0,0,0,0,0,0,0,0,0,0,0,0,0,0,0,0,0,0,0,0,0,0,0,0,0,0,0,0,0,0,0,0,0,0,null,0]
[null,"E ",0,0,0,0,0,0,0,0,0,0,0,0,0,0,0,0,0,0,0,0,0,0,0,0,0,0,0,0,0,0,0,0,0,0,0,0,0,0,0,0,0,0,0,0,0,0,0,0,null,0]
[null,"E-T ",0,0,0,0,0,0,0,0,0,0,0,0,0,0,0,0,0,0,0,0,0,0,0,0,0,0,0,0,0,0,0,0,0,0,0,0,0,0,0,0,0,0,0,0,0,0,0,0,null,0]
[null,"E-Stütz ",0,0,0,0,0,0,0,0,0,0,0,0,0,0,0,0,0,0,0,0,0,0,0,0,0,0,0,0,0,0,0,0,0,0,0,0,0,0,0,0,0,0,0,0,0,0,0,0,null,0]
[null,"2b"]
[null,"M ",0,0,0,0,0,0,0,0,0,0,0,0,0,0,0,0,0,0,0,0,0,0,0,0,0,0,0,0,0,0,0,0,0,0,0,0,0,0,0,0,0,0,0,0,0,0,0,0,null,0]
[null," M-T ",0,0,0,0,0,0,0,0,0,0,0,0,0,0,0,0,0,0,0,0,0,0,0,0,0,0,0,0,0,0,0,0,0,0,0,0,0,0,0,0,0,0,0,0,0,0,0,0,null,0]
[null,"M-Stütz ",0,0,0,0,0,0,0,0,0,0,0,0,0,0,0,0,0,0,0,0,0,0,0,0,0,0,0,0,0,0,0,0,0,0,0,0,0,0,0,0,0,0,0,0,0,0,0,0,null,0]
[null,"D ",0,0,0,0,0,0,0,0,0,0,0,0,0,0,0,0,0,0,0,0,0,0,0,0,0,0,0,0,0,0,0,0,0,0,0,0,0,0,0,0,0,0,0,0,0,0,0,0,null,0]
[null,"D-T ",0,0,0,0,0,0,0,0,0,0,0,0,0,0,0,0,0,0,0,0,0,0,0,0,0,0,0,0,0,0,0,0,0,0,0,0,0,0,0,0,0,0,0,0,0,0,0,0,null,0]
[null,"D-Stütz ",0,0,0,0,0,0,0,0,0,0,0,0,0,0,0,0,0,0,0,0,0,0,0,0,0,0,0,0,0,0,0,0,0,0,0,0,0,0,0,0,0,0,0,0,0,0,0,0,null,0]
[null,"E ",0,0,0,0,0,0,0,0,0,0,0,0,0,0,0,0,0,0,0,0,0,0,0,0,0,0,0,0,0,0,0,0,0,0,0,0,0,0,0,0,0,0,0,0,0,0,0,0,null,0]
[null,"E-T ",0,0,0,0,0,0,0,0,0,0,0,0,0,0,0,0,0,0,0,0,0,0,0,0,0,0,0,0,0,0,0,0,0,0,0,0,0,0,0,0,0,0,0,0,0,0,0,0,null,0]
[null,"E-Stütz ",0,0,0,0,0,0,0,0,0,0,0,0,0,0,0,0,0,0,0,0,0,0,0,0,0,0,0,0,0,0,0,0,0,0,0,0,0,0,0,0,0,0,0,0,0,0,0,0,null,0]
[null,"2c"]
[null,"M ",0,0,0,0,0,0,0,0,0,0,0,0,0,0,0,0,0,0,0,0,0,0,0,0,0,0,0,0,0,0,0,0,0,0,0,0,0,0,0,0,0,0,0,0,0,0,0,0,null,0]
[null," M-T ",0,0,0,0,0,0,0,0,0,0,0,0,0,0,0,0,0,0,0,0,0,0,0,0,0,0,0,0,0,0,0,0,0,0,0,0,0,0,0,0,0,0,0,0,0,0,0,0,null,0]
[null,"M-Stütz ",0,0,0,0,0,0,0,0,0,0,0,0,0,0,0,0,0,0,0,0,0,0,0,0,0,0,0,0,0,0,0,0,0,0,0,0,0,0,0,0,0,0,0,0,0,0,0,0,null,0]
[null,"D ",0,0,0,0,0,0,0,0,0,0,0,0,0,0,0,0,0,0,0,0,0,0,0,0,0,0,0,0,0,0,0,0,0,0,0,0,0,0,0,0,0,0,0,0,0,0,0,0,null,0]
[null,"D-T ",0,0,0,0,0,0,0,0,0,0,0,0,0,0,0,0,0,0,0,0,0,0,0,0,0,0,0,0,0,0,0,0,0,0,0,0,0,0,0,0,0,0,0,0,0,0,0,0,null,0]
[null,"D-Stütz ",0,0,0,0,0,0,0,0,0,0,0,0,0,0,0,0,0,0,0,0,0,0,0,0,0,0,0,0,0,0,0,0,0,0,0,0,0,0,0,0,0,0,0,0,0,0,0,0,null,0]
[null,"E ",0,0,0,0,0,0,0,0,0,0,0,0,0,0,0,0,0,0,0,0,0,0,0,0,0,0,0,0,0,0,0,0,0,0,0,0,0,0,0,0,0,0,0,0,0,0,0,0,null,0]
[null,"E-T ",0,0,0,0,0,0,0,0,0,0,0,0,0,0,0,0,0,0,0,0,0,0,0,0,0,0,0,0,0,0,0,0,0,0,0,0,0,0,0,0,0,0,0,0,0,0,0,0,null,0]
[null,"E-Stütz ",0,0,0,0,0,0,0,0,0,0,0,0,0,0,0,0,0,0,0,0,0,0,0,0,0,0,0,0,0,0,0,0,0,0,0,0,0,0,0,0,0,0,0,0,0,0,0,0,null,0]
[null,"2d"]
[null,"M ",0,0,0,0,0,0,0,0,0,0,0,0,0,0,0,0,0,0,0,0,0,0,0,0,0,0,0,0,0,0,0,0,0,0,0,0,0,0,0,0,0,0,0,0,0,0,0,0,null,0]
[null," M-T ",0,0,0,0,0,0,0,0,0,0,0,0,0,0,0,0,0,0,0,0,0,0,0,0,0,0,0,0,0,0,0,0,0,0,0,0,0,0,0,0,0,0,0,0,0,0,0,0,null,0]
[null,"M-Stütz ",0,0,0,0,0,0,0,0,0,0,0,0,0,0,0,0,0,0,0,0,0,0,0,0,0,0,0,0,0,0,0,0,0,0,0,0,0,0,0,0,0,0,0,0,0,0,0,0,null,0]
[null,"D ",0,0,0,0,0,0,0,0,0,0,0,0,0,0,0,0,0,0,0,0,0,0,0,0,0,0,0,0,0,0,0,0,0,0,0,0,0,0,0,0,0,0,0,0,0,0,0,0,null,0]
[null,"D-T ",0,0,0,0,0,0,0,0,0,0,0,0,0,0,0,0,0,0,0,0,0,0,0,0,0,0,0,0,0,0,0,0,0,0,0,0,0,0,0,0,0,0,0,0,0,0,0,0,null,0]
[null,"D-Stütz ",0,0,0,0,0,0,0,0,0,0,0,0,0,0,0,0,0,0,0,0,0,0,0,0,0,0,0,0,0,0,0,0,0,0,0,0,0,0,0,0,0,0,0,0,0,0,0,0,null,0]
[null,"E ",0,0,0,0,0,0,0,0,0,0,0,0,0,0,0,0,0,0,0,0,0,0,0,0,0,0,0,0,0,0,0,0,0,0,0,0,0,0,0,0,0,0,0,0,0,0,0,0,null,0]
[null,"E-T ",0,0,0,0,0,0,0,0,0,0,0,0,0,0,0,0,0,0,0,0,0,0,0,0,0,0,0,0,0,0,0,0,0,0,0,0,0,0,0,0,0,0,0,0,0,0,0,0,null,0]
[null,"E-Stütz ",0,0,0,0,0,0,0,0,0,0,0,0,0,0,0,0,0,0,0,0,0,0,0,0,0,0,0,0,0,0,0,0,0,0,0,0,0,0,0,0,0,0,0,0,0,0,0,0,null,0]
[null,"3a"]
[null,"M ",0,0,0,0,0,0,0,0,0,0,0,0,0,0,0,0,0,0,0,0,0,0,0,0,0,0,0,0,0,0,0,0,0,0,0,0,0,0,0,0,0,0,0,0,0,0,0,0,null,0]
[null," M-T ",0,0,0,0,0,0,0,0,0,0,0,0,0,0,0,0,0,0,0,0,0,0,0,0,0,0,0,0,0,0,0,0,0,0,0,0,0,0,0,0,0,0,0,0,0,0,0,0,null,0]
[null,"M-Stütz ",0,0,0,0,0,0,0,0,0,0,0,0,0,0,0,0,0,0,0,0,0,0,0,0,0,0,0,0,0,0,0,0,0,0,0,0,0,0,0,0,0,0,0,0,0,0,0,0,null,0]
[null,"D ",0,0,0,0,0,0,0,0,0,0,0,0,0,0,0,0,0,0,0,0,0,0,0,0,0,0,0,0,0,0,0,0,0,0,0,0,0,0,0,0,0,0,0,0,0,0,0,0,null,0]
[null,"D-T ",0,0,0,0,0,0,0,0,0,0,0,0,0,0,0,0,0,0,0,0,0,0,0,0,0,0,0,0,0,0,0,0,0,0,0,0,0,0,0,0,0,0,0,0,0,0,0,0,null,0]
[null,"D-Stütz ",0,0,0,0,0,0,0,0,0,0,0,0,0,0,0,0,0,0,0,0,0,0,0,0,0,0,0,0,0,0,0,0,0,0,0,0,0,0,0,0,0,0,0,0,0,0,0,0,null,0]
[null,"E ",0,0,0,0,0,0,0,0,0,0,0,0,0,0,0,0,0,0,0,0,0,0,0,0,0,0,0,0,0,0,0,0,0,0,0,0,0,0,0,0,0,0,0,0,0,0,0,0,null,0]
[null,"E-T ",0,0,0,0,0,0,0,0,0,0,0,0,0,0,0,0,0,0,0,0,0,0,0,0,0,0,0,0,0,0,0,0,0,0,0,0,0,0,0,0,0,0,0,0,0,0,0,0,null,0]
[null,"E-Stütz ",0,0,0,0,0,0,0,0,0,0,0,0,0,0,0,0,0,0,0,0,0,0,0,0,0,0,0,0,0,0,0,0,0,0,0,0,0,0,0,0,0,0,0,0,0,0,0,0,null,0]
[null,"3b"]
[null,"M ",0,0,0,0,0,0,0,0,0,0,0,0,0,0,0,0,0,0,0,0,0,0,0,0,0,0,0,0,0,0,0,0,0,0,0,0,0,0,0,0,0,0,0,0,0,0,0,0,null,0]
[null," M-T ",0,0,0,0,0,0,0,0,0,0,0,0,0,0,0,0,0,0,0,0,0,0,0,0,0,0,0,0,0,0,0,0,0,0,0,0,0,0,0,0,0,0,0,0,0,0,0,0,null,0]
[null,"M-Stütz ",0,0,0,0,0,0,0,0,0,0,0,0,0,0,0,0,0,0,0,0,0,0,0,0,0,0,0,0,0,0,0,0,0,0,0,0,0,0,0,0,0,0,0,0,0,0,0,0,null,0]
[null,"D ",0,0,0,0,0,0,0,0,0,0,0,0,0,0,0,0,0,0,0,0,0,0,0,0,0,0,0,0,0,0,0,0,0,0,0,0,0,0,0,0,0,0,0,0,0,0,0,0,null,0]
[null,"D-T ",0,0,0,0,0,0,0,0,0,0,0,0,0,0,0,0,0,0,0,0,0,0,0,0,0,0,0,0,0,0,0,0,0,0,0,0,0,0,0,0,0,0,0,0,0,0,0,0,null,0]
[null,"D-Stütz ",0,0,0,0,0,0,0,0,0,0,0,0,0,0,0,0,0,0,0,0,0,0,0,0,0,0,0,0,0,0,0,0,0,0,0,0,0,0,0,0,0,0,0,0,0,0,0,0,null,0]
[null,"E ",0,0,0,0,0,0,0,0,0,0,0,0,0,0,0,0,0,0,0,0,0,0,0,0,0,0,0,0,0,0,0,0,0,0,0,0,0,0,0,0,0,0,0,0,0,0,0,0,null,0]
[null,"E-T ",0,0,0,0,0,0,0,0,0,0,0,0,0,0,0,0,0,0,0,0,0,0,0,0,0,0,0,0,0,0,0,0,0,0,0,0,0,0,0,0,0,0,0,0,0,0,0,0,null,0]
[null,"E-Stütz ",0,0,0,0,0,0,0,0,0,0,0,0,0,0,0,0,0,0,0,0,0,0,0,0,0,0,0,0,0,0,0,0,0,0,0,0,0,0,0,0,0,0,0,0,0,0,0,0,null,0]
[null,"3c"]
[null,"M ",0,0,0,0,0,0,0,0,0,0,0,0,0,0,0,0,0,0,0,0,0,0,0,0,0,0,0,0,0,0,0,0,0,0,0,0,0,0,0,0,0,0,0,0,0,0,0,0,null,0]
[null," M-T ",0,0,0,0,0,0,0,0,0,0,0,0,0,0,0,0,0,0,0,0,0,0,0,0,0,0,0,0,0,0,0,0,0,0,0,0,0,0,0,0,0,0,0,0,0,0,0,0,null,0]
[null,"M-Stütz ",0,0,0,0,0,0,0,0,0,0,0,0,0,0,0,0,0,0,0,0,0,0,0,0,0,0,0,0,0,0,0,0,0,0,0,0,0,0,0,0,0,0,0,0,0,0,0,0,null,0]
[null,"D ",0,0,0,0,0,0,0,0,0,0,0,0,0,0,0,0,0,0,0,0,0,0,0,0,0,0,0,0,0,0,0,0,0,0,0,0,0,0,0,0,0,0,0,0,0,0,0,0,null,0]
[null,"D-T ",0,0,0,0,0,0,0,0,0,0,0,0,0,0,0,0,0,0,0,0,0,0,0,0,0,0,0,0,0,0,0,0,0,0,0,0,0,0,0,0,0,0,0,0,0,0,0,0,null,0]
[null,"D-Stütz ",0,0,0,0,0,0,0,0,0,0,0,0,0,0,0,0,0,0,0,0,0,0,0,0,0,0,0,0,0,0,0,0,0,0,0,0,0,0,0,0,0,0,0,0,0,0,0,0,null,0]
[null,"E ",0,0,0,0,0,0,0,0,0,0,0,0,0,0,0,0,0,0,0,0,0,0,0,0,0,0,0,0,0,0,0,0,0,0,0,0,0,0,0,0,0,0,0,0,0,0,0,0,null,0]
[null,"E-T ",0,0,0,0,0,0,0,0,0,0,0,0,0,0,0,0,0,0,0,0,0,0,0,0,0,0,0,0,0,0,0,0,0,0,0,0,0,0,0,0,0,0,0,0,0,0,0,0,null,0]
[null,"E-Stütz ",0,0,0,0,0,0,0,0,0,0,0,0,0,0,0,0,0,0,0,0,0,0,0,0,0,0,0,0,0,0,0,0,0,0,0,0,0,0,0,0,0,0,0,0,0,0,0,0,null,0]
[null,"3d"]
[null,"M ",0,0,0,0,0,0,0,0,0,0,0,0,0,0,0,0,0,0,0,0,0,0,0,0,0,0,0,0,0,0,0,0,0,0,0,0,0,0,0,0,0,0,0,0,0,0,0,0,null,0]
[null," M-T ",0,0,0,0,0,0,0,0,0,0,0,0,0,0,0,0,0,0,0,0,0,0,0,0,0,0,0,0,0,0,0,0,0,0,0,0,0,0,0,0,0,0,0,0,0,0,0,0,null,0]
[null,"M-Stütz ",0,0,0,0,0,0,0,0,0,0,0,0,0,0,0,0,0,0,0,0,0,0,0,0,0,0,0,0,0,0,0,0,0,0,0,0,0,0,0,0,0,0,0,0,0,0,0,0,null,0]
[null,"D ",0,0,0,0,0,0,0,0,0,0,0,0,0,0,0,0,0,0,0,0,0,0,0,0,0,0,0,0,0,0,0,0,0,0,0,0,0,0,0,0,0,0,0,0,0,0,0,0,null,0]
[null,"D-T ",0,0,0,0,0,0,0,0,0,0,0,0,0,0,0,0,0,0,0,0,0,0,0,0,0,0,0,0,0,0,0,0,0,0,0,0,0,0,0,0,0,0,0,0,0,0,0,0,null,0]
[null,"D-Stütz ",0,0,0,0,0,0,0,0,0,0,0,0,0,0,0,0,0,0,0,0,0,0,0,0,0,0,0,0,0,0,0,0,0,0,0,0,0,0,0,0,0,0,0,0,0,0,0,0,null,0]
[null,"E ",0,0,0,0,0,0,0,0,0,0,0,0,0,0,0,0,0,0,0,0,0,0,0,0,0,0,0,0,0,0,0,0,0,0,0,0,0,0,0,0,0,0,0,0,0,0,0,0,null,0]
[null,"E-T ",0,0,0,0,0,0,0,0,0,0,0,0,0,0,0,0,0,0,0,0,0,0,0,0,0,0,0,0,0,0,0,0,0,0,0,0,0,0,0,0,0,0,0,0,0,0,0,0,null,0]
[null,"E-Stütz ",0,0,0,0,0,0,0,0,0,0,0,0,0,0,0,0,0,0,0,0,0,0,0,0,0,0,0,0,0,0,0,0,0,0,0,0,0,0,0,0,0,0,0,0,0,0,0,0,null,0]
[null,"4a"]
[null,"M ",0,0,0,0,0,0,0,0,0,0,0,0,0,0,0,0,0,0,0,0,0,0,0,0,0,0,0,0,0,0,0,0,0,0,0,0,0,0,0,0,0,0,0,0,0,0,0,0,null,0]
[null," M-T ",0,0,0,0,0,0,0,0,0,0,0,0,0,0,0,0,0,0,0,0,0,0,0,0,0,0,0,0,0,0,0,0,0,0,0,0,0,0,0,0,0,0,0,0,0,0,0,0,null,0]
[null,"M-Stütz ",0,0,0,0,0,0,0,0,0,0,0,0,0,0,0,0,0,0,0,0,0,0,0,0,0,0,0,0,0,0,0,0,0,0,0,0,0,0,0,0,0,0,0,0,0,0,0,0,null,0]
[null,"D ",0,0,0,0,0,0,0,0,0,0,0,0,0,0,0,0,0,0,0,0,0,0,0,0,0,0,0,0,0,0,0,0,0,0,0,0,0,0,0,0,0,0,0,0,0,0,0,0,null,0]
[null,"D-T ",0,0,0,0,0,0,0,0,0,0,0,0,0,0,0,0,0,0,0,0,0,0,0,0,0,0,0,0,0,0,0,0,0,0,0,0,0,0,0,0,0,0,0,0,0,0,0,0,null,0]
[null,"D-Stütz ",0,0,0,0,0,0,0,0,0,0,0,0,0,0,0,0,0,0,0,0,0,0,0,0,0,0,0,0,0,0,0,0,0,0,0,0,0,0,0,0,0,0,0,0,0,0,0,0,null,0]
[null,"E ",0,0,0,0,0,0,0,0,0,0,0,0,0,0,0,0,0,0,0,0,0,0,0,0,0,0,0,0,0,0,0,0,0,0,0,0,0,0,0,0,0,0,0,0,0,0,0,0,null,0]
[null,"E-T ",0,0,0,0,0,0,0,0,0,0,0,0,0,0,0,0,0,0,0,0,0,0,0,0,0,0,0,0,0,0,0,0,0,0,0,0,0,0,0,0,0,0,0,0,0,0,0,0,null,0]
[null,"E-Stütz ",0,0,0,0,0,0,0,0,0,0,0,0,0,0,0,0,0,0,0,0,0,0,0,0,0,0,0,0,0,0,0,0,0,0,0,0,0,0,0,0,0,0,0,0,0,0,0,0,null,0]
[null,"4b"]
[null,"M ",0,0,0,0,0,0,0,0,0,0,0,0,0,0,0,0,0,0,0,0,0,0,0,0,0,0,0,0,0,0,0,0,0,0,0,0,0,0,0,0,0,0,0,0,0,0,0,0,null,0]
[null," M-T ",0,0,0,0,0,0,0,0,0,0,0,0,0,0,0,0,0,0,0,0,0,0,0,0,0,0,0,0,0,0,0,0,0,0,0,0,0,0,0,0,0,0,0,0,0,0,0,0,null,0]
[null,"M-Stütz ",0,0,0,0,0,0,0,0,0,0,0,0,0,0,0,0,0,0,0,0,0,0,0,0,0,0,0,0,0,0,0,0,0,0,0,0,0,0,0,0,0,0,0,0,0,0,0,0,null,0]
[null,"D ",0,0,0,0,0,0,0,0,0,0,0,0,0,0,0,0,0,0,0,0,0,0,0,0,0,0,0,0,0,0,0,0,0,0,0,0,0,0,0,0,0,0,0,0,0,0,0,0,null,0]
[null,"D-T ",0,0,0,0,0,0,0,0,0,0,0,0,0,0,0,0,0,0,0,0,0,0,0,0,0,0,0,0,0,0,0,0,0,0,0,0,0,0,0,0,0,0,0,0,0,0,0,0,null,0]
[null,"D-Stütz ",0,0,0,0,0,0,0,0,0,0,0,0,0,0,0,0,0,0,0,0,0,0,0,0,0,0,0,0,0,0,0,0,0,0,0,0,0,0,0,0,0,0,0,0,0,0,0,0,null,0]
[null,"E ",0,0,0,0,0,0,0,0,0,0,0,0,0,0,0,0,0,0,0,0,0,0,0,0,0,0,0,0,0,0,0,0,0,0,0,0,0,0,0,0,0,0,0,0,0,0,0,0,null,0]
[null,"E-T ",0,0,0,0,0,0,0,0,0,0,0,0,0,0,0,0,0,0,0,0,0,0,0,0,0,0,0,0,0,0,0,0,0,0,0,0,0,0,0,0,0,0,0,0,0,0,0,0,null,0]
[null,"E-Stütz ",0,0,0,0,0,0,0,0,0,0,0,0,0,0,0,0,0,0,0,0,0,0,0,0,0,0,0,0,0,0,0,0,0,0,0,0,0,0,0,0,0,0,0,0,0,0,0,0,null,0]
[null,"4c"]
[null,"M ",0,0,0,0,0,0,0,0,0,0,0,0,0,0,0,0,0,0,0,0,0,0,0,0,0,0,0,0,0,0,0,0,0,0,0,0,0,0,0,0,0,0,0,0,0,0,0,0,null,0]
[null," M-T ",0,0,0,0,0,0,0,0,0,0,0,0,0,0,0,0,0,0,0,0,0,0,0,0,0,0,0,0,0,0,0,0,0,0,0,0,0,0,0,0,0,0,0,0,0,0,0,0,null,0]
[null,"M-Stütz ",0,0,0,0,0,0,0,0,0,0,0,0,0,0,0,0,0,0,0,0,0,0,0,0,0,0,0,0,0,0,0,0,0,0,0,0,0,0,0,0,0,0,0,0,0,0,0,0,null,0]
[null,"D ",0,0,0,0,0,0,0,0,0,0,0,0,0,0,0,0,0,0,0,0,0,0,0,0,0,0,0,0,0,0,0,0,0,0,0,0,0,0,0,0,0,0,0,0,0,0,0,0,null,0]
[null,"D-T ",0,0,0,0,0,0,0,0,0,0,0,0,0,0,0,0,0,0,0,0,0,0,0,0,0,0,0,0,0,0,0,0,0,0,0,0,0,0,0,0,0,0,0,0,0,0,0,0,null,0]
[null,"D-Stütz ",0,0,0,0,0,0,0,0,0,0,0,0,0,0,0,0,0,0,0,0,0,0,0,0,0,0,0,0,0,0,0,0,0,0,0,0,0,0,0,0,0,0,0,0,0,0,0,0,null,0]
[null,"E ",0,0,0,0,0,0,0,0,0,0,0,0,0,0,0,0,0,0,0,0,0,0,0,0,0,0,0,0,0,0,0,0,0,0,0,0,0,0,0,0,0,0,0,0,0,0,0,0,null,0]
[null,"E-T ",0,0,0,0,0,0,0,0,0,0,0,0,0,0,0,0,0,0,0,0,0,0,0,0,0,0,0,0,0,0,0,0,0,0,0,0,0,0,0,0,0,0,0,0,0,0,0,0,null,0]
[null,"E-Stütz ",0,0,0,0,0,0,0,0,0,0,0,0,0,0,0,0,0,0,0,0,0,0,0,0,0,0,0,0,0,0,0,0,0,0,0,0,0,0,0,0,0,0,0,0,0,0,0,0,null,0]
[null,"4d"]
[null,"M ",0,0,0,0,0,0,0,0,0,0,0,0,0,0,0,0,0,0,0,0,0,0,0,0,0,0,0,0,0,0,0,0,0,0,0,0,0,0,0,0,0,0,0,0,0,0,0,0,null,0]
[null," M-T ",0,0,0,0,0,0,0,0,0,0,0,0,0,0,0,0,0,0,0,0,0,0,0,0,0,0,0,0,0,0,0,0,0,0,0,0,0,0,0,0,0,0,0,0,0,0,0,0,null,0]
[null,"M-Stütz ",0,0,0,0,0,0,0,0,0,0,0,0,0,0,0,0,0,0,0,0,0,0,0,0,0,0,0,0,0,0,0,0,0,0,0,0,0,0,0,0,0,0,0,0,0,0,0,0,null,0]
[null,"D ",0,0,0,0,0,0,0,0,0,0,0,0,0,0,0,0,0,0,0,0,0,0,0,0,0,0,0,0,0,0,0,0,0,0,0,0,0,0,0,0,0,0,0,0,0,0,0,0,null,0]
[null,"D-T ",0,0,0,0,0,0,0,0,0,0,0,0,0,0,0,0,0,0,0,0,0,0,0,0,0,0,0,0,0,0,0,0,0,0,0,0,0,0,0,0,0,0,0,0,0,0,0,0,null,0]
[null,"D-Stütz ",0,0,0,0,0,0,0,0,0,0,0,0,0,0,0,0,0,0,0,0,0,0,0,0,0,0,0,0,0,0,0,0,0,0,0,0,0,0,0,0,0,0,0,0,0,0,0,0,null,0]
[null,"E ",0,0,0,0,0,0,0,0,0,0,0,0,0,0,0,0,0,0,0,0,0,0,0,0,0,0,0,0,0,0,0,0,0,0,0,0,0,0,0,0,0,0,0,0,0,0,0,0,null,0]
[null,"E-T ",0,0,0,0,0,0,0,0,0,0,0,0,0,0,0,0,0,0,0,0,0,0,0,0,0,0,0,0,0,0,0,0,0,0,0,0,0,0,0,0,0,0,0,0,0,0,0,0,null,0]
[null,"E-Stütz ",0,0,0,0,0,0,0,0,0,0,0,0,0,0,0,0,0,0,0,0,0,0,0,0,0,0,0,0,0,0,0,0,0,0,0,0,0,0,0,0,0,0,0,0,0,0,0,0,null,0]
[null,"Gruppe"]
[null,"M ",0,0,0,0,0,0,0,0,0,0,0,0,0,0,0,0,0,0,0,0,0,0,0,0,0,0,0,0,0,0,0,0,0,0,0,0,0,0,0,0,0,0,0,0,0,0,0,0,null,0]
[null," M-T ",0,0,0,0,0,0,0,0,0,0,0,0,0,0,0,0,0,0,0,0,0,0,0,0,0,0,0,0,0,0,0,0,0,0,0,0,0,0,0,0,0,0,0,0,0,0,0,0,null,0]
[null,"M-Stütz ",0,0,0,0,0,0,0,0,0,0,0,0,0,0,0,0,0,0,0,0,0,0,0,0,0,0,0,0,0,0,0,0,0,0,0,0,0,0,0,0,0,0,0,0,0,0,0,0,null,0]
[null,"D ",0,0,0,0,0,0,0,0,0,0,0,0,0,0,0,0,0,0,0,0,0,0,0,0,0,0,0,0,0,0,0,0,0,0,0,0,0,0,0,0,0,0,0,0,0,0,0,0,null,0]
[null,"D-T ",0,0,0,0,0,0,0,0,0,0,0,0,0,0,0,0,0,0,0,0,0,0,0,0,0,0,0,0,0,0,0,0,0,0,0,0,0,0,0,0,0,0,0,0,0,0,0,0,null,0]
[null,"D-Stütz ",0,0,0,0,0,0,0,0,0,0,0,0,0,0,0,0,0,0,0,0,0,0,0,0,0,0,0,0,0,0,0,0,0,0,0,0,0,0,0,0,0,0,0,0,0,0,0,0,null,0]
[null,"E ",0,0,0,0,0,0,0,0,0,0,0,0,0,0,0,0,0,0,0,0,0,0,0,0,0,0,0,0,0,0,0,0,0,0,0,0,0,0,0,0,0,0,0,0,0,0,0,0,null,0]
[null,"E-T ",0,0,0,0,0,0,0,0,0,0,0,0,0,0,0,0,0,0,0,0,0,0,0,0,0,0,0,0,0,0,0,0,0,0,0,0,0,0,0,0,0,0,0,0,0,0,0,0,null,0]
[null,"E-Stütz ",0,0,0,0,0,0,0,0,0,0,0,0,0,0,0,0,0,0,0,0,0,0,0,0,0,0,0,0,0,0,0,0,0,0,0,0,0,0,0,0,0,0,0,0,0,0,0,0,null,0]
[null,"(Leer)"]
[null,"M "]
[null," M-T "]
[null,"M-Stütz "]
[null,"D "]
[null,"D-T "]
[null,"D-Stütz "]
[null,"E "]
[null,"E-T "]
[null,"E-Stütz "]
[null,"Gesamt: M ",0,0,0,0,0,0,0,0,0,0,0,0,0,0,0,0,0,0,0,0,0,0,0,0,0,0,0,0,0,0,0,0,0,0,0,0,0,0,0,0,0,0,0,0,0,0,0,0,null,0]
[null,"Gesamt:  M-T ",0,0,0,0,0,0,0,0,0,0,0,0,0,0,0,0,0,0,0,0,0,0,0,0,0,0,0,0,0,0,0,0,0,0,0,0,0,0,0,0,0,0,0,0,0,0,0,0,null,0]
[null,"Gesamt: M-Stütz ",0,0,0,0,0,0,0,0,0,0,0,0,0,0,0,0,0,0,0,0,0,0,0,0,0,0,0,0,0,0,0,0,0,0,0,0,0,0,0,0,0,0,0,0,0,0,0,0,null,0]
[null,"Gesamt: D ",0,0,0,0,0,0,0,0,0,0,0,0,0,0,0,0,0,0,0,0,0,0,0,0,0,0,0,0,0,0,0,0,0,0,0,0,0,0,0,0,0,0,0,0,0,0,0,0,null,0]
[null,"Gesamt: D-T ",0,0,0,0,0,0,0,0,0,0,0,0,0,0,0,0,0,0,0,0,0,0,0,0,0,0,0,0,0,0,0,0,0,0,0,0,0,0,0,0,0,0,0,0,0,0,0,0,null,0]
[null,"Gesamt: D-Stütz ",0,0,0,0,0,0,0,0,0,0,0,0,0,0,0,0,0,0,0,0,0,0,0,0,0,0,0,0,0,0,0,0,0,0,0,0,0,0,0,0,0,0,0,0,0,0,0,0,null,0]
[null,"Gesamt: E ",0,0,0,0,0,0,0,0,0,0,0,0,0,0,0,0,0,0,0,0,0,0,0,0,0,0,0,0,0,0,0,0,0,0,0,0,0,0,0,0,0,0,0,0,0,0,0,0,null,0]
[null,"Gesamt: E-T ",0,0,0,0,0,0,0,0,0,0,0,0,0,0,0,0,0,0,0,0,0,0,0,0,0,0,0,0,0,0,0,0,0,0,0,0,0,0,0,0,0,0,0,0,0,0,0,0,null,0]
[null,"Gesamt: E-Stütz ",0,0,0,0,0,0,0,0,0,0,0,0,0,0,0,0,0,0,0,0,0,0,0,0,0,0,0,0,0,0,0,0,0,0,0,0,0,0,0,0,0,0,0,0,0,0,0,0,null,0]

{"sheet":"Verteilung Lehrer","index":20,"n_rows":52,"n_cols":20,"rows_kept":52,"cut":false,"hidden":false,"merged":[]}
[]
[null,"Summe","Klasse"]
[null,"Zeilenbeschriftungen","1a","1b","1c","1d","2a","2b","2c","2d","3a","3b","3c","3d","4a","4b","4c","4d","Gruppe","Gesamtergebnis"]
[null,"lehrer01",0,0,0,0,0,0,0,0,0,0,0,0,0,0,0,0,0,0]
[null,"lehrer02",0,0,0,0,0,0,0,0,0,0,0,0,0,0,0,0,0,0]
[null,"lehrer03",0,0,0,0,0,0,0,0,0,0,0,0,0,0,0,0,0,0]
[null,"lehrer04",0,0,0,0,0,0,0,0,0,0,0,0,0,0,0,0,0,0]
[null,"lehrer05",0,0,0,0,0,0,0,0,0,0,0,0,0,0,0,0,0,0]
[null,"lehrer06",0,0,0,0,0,0,0,0,0,0,0,0,0,0,0,0,0,0]
[null,"lehrer07",0,0,0,0,0,0,0,0,0,0,0,0,0,0,0,0,0,0]
[null,"lehrer08",0,0,0,0,0,0,0,0,0,0,0,0,0,0,0,0,0,0]
[null,"lehrer09",0,0,0,0,0,0,0,0,0,0,0,0,0,0,0,0,0,0]
[null,"lehrer10",0,0,0,0,0,0,0,0,0,0,0,0,0,0,0,0,0,0]
[null,"lehrer11",0,0,0,0,0,0,0,0,0,0,0,0,0,0,0,0,0,0]
[null,"lehrer12",0,0,0,0,0,0,0,0,0,0,0,0,0,0,0,0,0,0]
[null,"lehrer13",0,0,0,0,0,0,0,0,0,0,0,0,0,0,0,0,0,0]
[null,"lehrer14",0,0,0,0,0,0,0,0,0,0,0,0,0,0,0,0,0,0]
[null,"lehrer15",0,0,0,0,0,0,0,0,0,0,0,0,0,0,0,0,0,0]
[null,"lehrer16",0,0,0,0,0,0,0,0,0,0,0,0,0,0,0,0,0,0]
[null,"lehrer17",0,0,0,0,0,0,0,0,0,0,0,0,0,0,0,0,0,0]
[null,"lehrer18",0,0,0,0,0,0,0,0,0,0,0,0,0,0,0,0,0,0]
[null,"lehrer19",0,0,0,0,0,0,0,0,0,0,0,0,0,0,0,0,0,0]
[null,"lehrer20",0,0,0,0,0,0,0,0,0,0,0,0,0,0,0,0,0,0]
[null,"lehrer21",0,0,0,0,0,0,0,0,0,0,0,0,0,0,0,0,0,0]
[null,"lehrer22",0,0,0,0,0,0,0,0,0,0,0,0,0,0,0,0,0,0]
[null,"lehrer23",0,0,0,0,0,0,0,0,0,0,0,0,0,0,0,0,0,0]
[null,"lehrer24",0,0,0,0,0,0,0,0,0,0,0,0,0,0,0,0,0,0]
[null,"lehrer25",0,0,0,0,0,0,0,0,0,0,0,0,0,0,0,0,0,0]
[null,"lehrer26",0,0,0,0,0,0,0,0,0,0,0,0,0,0,0,0,0,0]
[null,"lehrer27",0,0,0,0,0,0,0,0,0,0,0,0,0,0,0,0,0,0]
[null,"lehrer28",0,0,0,0,0,0,0,0,0,0,0,0,0,0,0,0,0,0]
[null,"lehrer29",0,0,0,0,0,0,0,0,0,0,0,0,0,0,0,0,0,0]
[null,"lehrer30",0,0,0,0,0,0,0,0,0,0,0,0,0,0,0,0,0,0]
[null,"lehrer31",0,0,0,0,0,0,0,0,0,0,0,0,0,0,0,0,0,0]
[null,"lehrer32",0,0,0,0,0,0,0,0,0,0,0,0,0,0,0,0,0,0]
[null,"lehrer33",0,0,0,0,0,0,0,0,0,0,0,0,0,0,0,0,0,0]
[null,"lehrer34",0,0,0,0,0,0,0,0,0,0,0,0,0,0,0,0,0,0]
[null,"lehrer35",0,0,0,0,0,0,0,0,0,0,0,0,0,0,0,0,0,0]
[null,"lehrer36",0,0,0,0,0,0,0,0,0,0,0,0,0,0,0,0,0,0]
[null,"lehrer37",0,0,0,0,0,0,0,0,0,0,0,0,0,0,0,0,0,0]
[null,"lehrer38",0,0,0,0,0,0,0,0,0,0,0,0,0,0,0,0,0,0]
[null,"lehrer39",0,0,0,0,0,0,0,0,0,0,0,0,0,0,0,0,0,0]
[null,"lehrer40",0,0,0,0,0,0,0,0,0,0,0,0,0,0,0,0,0,0]
[null,"lehrer41",0,0,0,0,0,0,0,0,0,0,0,0,0,0,0,0,0,0]
[null,"lehrer42",0,0,0,0,0,0,0,0,0,0,0,0,0,0,0,0,0,0]
[null,"lehrer43",0,0,0,0,0,0,0,0,0,0,0,0,0,0,0,0,0,0]
[null,"lehrer44",0,0,0,0,0,0,0,0,0,0,0,0,0,0,0,0,0,0]
[null,"lehrer45",0,0,0,0,0,0,0,0,0,0,0,0,0,0,0,0,0,0]
[null,"lehrer46",0,0,0,0,0,0,0,0,0,0,0,0,0,0,0,0,0,0]
[null,"lehrer47",0,0,0,0,0,0,0,0,0,0,0,0,0,0,0,0,0,0]
[null,"lehrer48",0,0,0,0,0,0,0,0,0,0,0,0,0,0,0,0,0,0]
[null,"Gesamtergebnis",0,0,0,0,0,0,0,0,0,0,0,0,0,0,0,0,0,0]

{"sheet":"LehrerLFV","index":21,"n_rows":1320,"n_cols":4,"rows_kept":1320,"cut":false,"hidden":false,"merged":[]}
["Lehrername","Klasse","Gegenstand","Stunden"]
["lehrer01",null,null,"Summe 0"]
[]
["lehrer02",null,null,"Summe 0"]
[]
["lehrer03",null,null,"Summe 0"]
[]
["lehrer04",null,null,"Summe 0"]
[]
["lehrer05",null,null,"Summe 0"]
[]
["lehrer06",null,null,"Summe 0"]
[]
["lehrer07",null,null,"Summe 0"]
[]
["lehrer08",null,null,"Summe 0"]
[]
["lehrer09",null,null,"Summe 0"]
[]
["lehrer10",null,null,"Summe 0"]
[]
["lehrer11",null,null,"Summe 0"]
[]
["lehrer12",null,null,"Summe 0"]
[]
["lehrer13",null,null,"Summe 0"]
[]
["lehrer14",null,null,"Summe 0"]
[]
["lehrer15",null,null,"Summe 0"]
[]
["lehrer16",null,null,"Summe 0"]
[]
["lehrer17",null,null,"Summe 0"]
[]
["lehrer18",null,null,"Summe 0"]
[]
["lehrer19",null,null,"Summe 0"]
[]
["lehrer20",null,null,"Summe 0"]
[]
["lehrer21",null,null,"Summe 0"]
[]
["lehrer22",null,null,"Summe 0"]
[]
["lehrer23",null,null,"Summe 0"]
[]
["lehrer24",null,null,"Summe 0"]
[]
["lehrer25",null,null,"Summe 0"]
[]
["lehrer26",null,null,"Summe 0"]
[]
["lehrer27",null,null,"Summe 0"]
[]
["lehrer28",null,null,"Summe 0"]
[]
["lehrer29",null,null,"Summe 0"]
[]
["lehrer30",null,null,"Summe 0"]
[]
["lehrer31",null,null,"Summe 0"]
[]
["lehrer32",null,null,"Summe 0"]
[]
["lehrer33",null,null,"Summe 0"]
[]
["lehrer34",null,null,"Summe 0"]
[]
["lehrer35",null,null,"Summe 0"]
[]
["lehrer36",null,null,"Summe 0"]
[]
["lehrer37",null,null,"Summe 0"]
[]
["lehrer38",null,null,"Summe 0"]
[]
["lehrer39",null,null,"Summe 0"]
[]
["lehrer40",null,null,"Summe 0"]
[]
["lehrer41",null,null,"Summe 0"]
[]
["lehrer42",null,null,"Summe 0"]
[]
["lehrer43",null,null,"Summe 0"]
[]
["lehrer44",null,null,"Summe 0"]
[]
["lehrer45",null,null,"Summe 0"]
[]
["lehrer46",null,null,"Summe 0"]
[]
["lehrer47",null,null,"Summe 0"]
[]
["lehrer48",null,null,"Summe 0"]
[]
[null,null,null,"Gesamtsumme 0"]
[]
[]
[]
[]
[]
[]
[]
[]
[]
[]
[]
[]
[]
[]
[]
[]
[]
[]
[]
[]
[]
[]
[]
[]
[]
[]
[]
[]
[]
[]
[]
[]
[]
[]
[]
[]
[]
[]
[]
[]
[]
[]
[]
[]
[]
[]
[]
[]
[]
[]
[]
[]
[]
[]
[]
[]
[]
[]
[]
[]
[]
[]
[]
[]
[]
[]
[]
[]
[]
[]
[]
[]
[]
[]
[]
[]
[]
[]
[]
[]
[]
[]
[]
[]
[]
[]
[]
[]
[]
[]
[]
[]
[]
[]
[]
[]
[]
[]
[]
[]
[]
[]
[]
[]
[]
[]
[]
[]
[]
[]
[]
[]
[]
[]
[]
[]
[]
[]
[]
[]
[]
[]
[]
[]
[]
[]
[]
[]
[]
[]
[]
[]
[]
[]
[]
[]
[]
[]
[]
[]
[]
[]
[]
[]
[]
[]
[]
[]
[]
[]
[]
[]
[]
[]
[]
[]
[]
[]
[]
[]
[]
[]
[]
[]
[]
[]
[]
[]
[]
[]
[]
[]
[]
[]
[]
[]
[]
[]
[]
[]
[]
[]
[]
[]
[]
[]
[]
[]
[]
[]
[]
[]
[]
[]
[]
[]
[]
[]
[]
[]
[]
[]
[]
[]
[]
[]
[]
[]
[]
[]
[]
[]
[]
[]
[]
[]
[]
[]
[]
[]
[]
[]
[]
[]
[]
[]
[]
[]
[]
[]
[]
[]
[]
[]
[]
[]
[]
[]
[]
[]
[]
[]
[]
[]
[]
[]
[]
[]
[]
[]
[]
[]
[]
[]
[]
[]
[]
[]
[]
[]
[]
[]
[]
[]
[]
[]
[]
[]
[]
[]
[]
[]
[]
[]
[]
[]
[]
[]
[]
[]
[]
[]
[]
[]
[]
[]
[]
[]
[]
[]
[]
[]
[]
[]
[]
[]
[]
[]
[]
[]
[]
[]
[]
[]
[]
[]
[]
[]
[]
[]
[]
[]
[]
[]
[]
[]
[]
[]
[]
[]
[]
[]
[]
[]
[]
[]
[]
[]
[]
[]
[]
[]
[]
[]
[]
[]
[]
[]
[]
[]
[]
[]
[]
[]
[]
[]
[]
[]
[]
[]
[]
[]
[]
[]
[]
[]
[]
[]
[]
[]
[]
[]
[]
[]
[]
[]
[]
[]
[]
[]
[]
[]
[]
[]
[]
[]
[]
[]
[]
[]
[]
[]
[]
[]
[]
[]
[]
[]
[]
[]
[]
[]
[]
[]
[]
[]
[]
[]
[]
[]
[]
[]
[]
[]
[]
[]
[]
[]
[]
[]
[]
[]
[]
[]
[]
[]
[]
[]
[]
[]
[]
[]
[]
[]
[]
[]
[]
[]
[]
[]
[]
[]
[]
[]
[]
[]
[]
[]
[]
[]
[]
[]
[]
[]
[]
[]
[]
[]
[]
[]
[]
[]
[]
[]
[]
[]
[]
[]
[]
[]
[]
[]
[]
[]
[]
[]
[]
[]
[]
[]
[]
[]
[]
[]
[]
[]
[]
[]
[]
[]
[]
[]
[]
[]
[]
[]
[]
[]
[]
[]
[]
[]
[]
[]
[]
[]
[]
[]
[]
[]
[]
[]
[]
[]
[]
[]
[]
[]
[]
[]
[]
[]
[]
[]
[]
[]
[]
[]
[]
[]
[]
[]
[]
[]
[]
[]
[]
[]
[]
[]
[]
[]
[]
[]
[]
[]
[]
[]
[]
[]
[]
[]
[]
[]
[]
[]
[]
[]
[]
[]
[]
[]
[]
[]
[]
[]
[]
[]
[]
[]
[]
[]
[]
[]
[]
[]
[]
[]
[]
[]
[]
[]
[]
[]
[]
[]
[]
[]
[]
[]
[]
[]
[]
[]
[]
[]
[]
[]
[]
[]
[]
[]
[]
[]
[]
[]
[]
[]
[]
[]
[]
[]
[]
[]
[]
[]
[]
[]
[]
[]
[]
[]
[]
[]
[]
[]
[]
[]
[]
[]
[]
[]
[]
[]
[]
[]
[]
[]
[]
[]
[]
[]
[]
[]
[]
[]
[]
[]
[]
[]
[]
[]
[]
[]
[]
[]
[]
[]
[]
[]
[]
[]
[]
[]
[]
[]
[]
[]
[]
[]
[]
[]
[]
[]
[]
[]
[]
[]
[]
[]
[]
[]
[]
[]
[]
[]
[]
[]
[]
[]
[]
[]
[]
[]
[]
[]
[]
[]
[]
[]
[]
[]
[]
[]
[]
[]
[]
[]
[]
[]
[]
[]
[]
[]
[]
[]
[]
[]
[]
[]
[]
[]
[]
[]
[]
[]
[]
[]
[]
[]
[]
[]
[]
[]
[]
[]
[]
[]
[]
[]
[]
[]
[]
[]
[]
[]
[]
[]
[]
[]
[]
[]
[]
[]
[]
[]
[]
[]
[]
[]
[]
[]
[]
[]
[]
[]
[]
[]
[]
[]
[]
[]
[]
[]
[]
[]
[]
[]
[]
[]
[]
[]
[]
[]
[]
[]
[]
[]
[]
[]
[]
[]
[]
[]
[]
[]
[]
[]
[]
[]
[]
[]
[]
[]
[]
[]
[]
[]
[]
[]
[]
[]
[]
[]
[]
[]
[]
[]
[]
[]
[]
[]
[]
[]
[]
[]
[]
[]
[]
[]
[]
[]
[]
[]
[]
[]
[]
[]
[]
[]
[]
[]
[]
[]
[]
[]
[]
[]
[]
[]
[]
[]
[]
[]
[]
[]
[]
[]
[]
[]
[]
[]
[]
[]
[]
[]
[]
[]
[]
[]
[]
[]
[]
[]
[]
[]
[]
[]
[]
[]
[]
[]
[]
[]
[]
[]
[]
[]
[]
[]
[]
[]
[]
[]
[]
[]
[]
[]
[]
[]
[]
[]
[]
[]
[]
[]
[]
[]
[]
[]
[]
[]
[null,"1a","unv. KET",1]
[null,"1a","GTS",1]
[null,"1a","GTS-L",1]
[null,"1a","frei",1]
[null,"1a","frei",1]
[null,"1a","frei",1]
[null,"1a","frei",1]
[null,"1a","frei",1]
[null,"1a","frei",1]
[null,"1a","frei",1]
[null,"1a","frei",1]
[null,null,null,"Summe 42"]
[]
["Gegendorfer Verena","1a","M",1]
[null,"1a","M-T",1]
[null,"1a","D",1]
[null,"1a","D-T",1]
[null,"1a","E",1]
[null,"1a","E-T",1]
[null,"1a","BE",1]
[null,"1a","Soz",1]
[null,"1a","BSP",1]
[null,"1a","BU",1]
[null,"1a","C",1]
[null,"1a","EH",1]
[null,"1a","GS",1]
[null,"1a","GW",1]
[null,"1a","GZ",1]
[null,"1a","ME",1]
[null,"1a","PH",1]
[null,"1a","P / C",1]
[null,"1a","Werken",1]
[null,"1a","Rel",1]
[null,"1a","S-BO",1]
[null,"1a","S-BU",1]
[null,"1a","S-EH",1]
[null,"1a","S-GW",1]
[null,"1a","S-GZ",1]
[null,"1a","S-PC",1]
[null,"1a","KrGe",1]
[null,"1a","unv. DSP",1]
[null,"1a","unv. FB",1]
[null,"1a","INF Sta",1]
[null,"1a","INF ECDL",1]
[null,"1a","unv. KET",1]
[null,"1a","GTS",1]
[null,"1a","GTS-L",1]
[null,"1a","frei",1]
[null,"1a","frei",1]
[null,"1a","frei",1]
[null,"1a","frei",1]
[null,"1a","frei",1]
[null,"1a","frei",1]
[null,"1a","frei",1]
[null,"1a","frei",1]
[null,null,null,"Summe 42"]
[]
["Kumpera Christina","1a","M",1]
[null,"1a","M-T",1]
[null,"1a","D",1]
[null,"1a","D-T",1]
[null,"1a","E",1]
[null,"1a","E-T",1]
[null,"1a","BE",1]
[null,"1a","Soz",1]
[null,"1a","BSP",1]
[null,"1a","BU",1]
[null,"1a","C",1]
[null,"1a","EH",1]
[null,"1a","GS",1]
[null,"1a","GW",1]
[null,"1a","GZ",1]
[null,"1a","ME",1]
[null,"1a","PH",1]
[null,"1a","P / C",1]
[null,"1a","Werken",1]
[null,"1a","Rel",1]
[null,"1a","S-BO",1]
[null,"1a","S-BU",1]
[null,"1a","S-EH",1]
[null,"1a","S-GW",1]
[null,"1a","S-GZ",1]
[null,"1a","S-PC",1]
[null,"1a","KrGe",1]
[null,"1a","unv. DSP",1]
[null,"1a","unv. FB",1]
[null,"1a","INF Sta",1]
[null,"1a","INF ECDL",1]
[null,"1a","unv. KET",1]
[null,"1a","GTS",1]
[null,"1a","GTS-L",1]
[null,"1a","frei",1]
[null,"1a","frei",1]
[null,"1a","frei",1]
[null,"1a","frei",1]
[null,"1a","frei",1]
[null,"1a","frei",1]
[null,"1a","frei",1]
[null,"1a","frei",1]
[null,null,null,"Summe 42"]
[]
["Koch Paul","1a","M",1]
[null,"1a","M-T",1]
[null,"1a","D",1]
[null,"1a","D-T",1]
[null,"1a","E",1]
[null,"1a","E-T",1]
[null,"1a","BE",1]
[null,"1a","Soz",1]
[null,"1a","BSP",1]
[null,"1a","BU",1]
[null,"1a","C",1]
[null,"1a","EH",1]
[null,"1a","GS",1]
[null,"1a","GW",1]
[null,"1a","GZ",1]
[null,"1a","ME",1]
[null,"1a","PH",1]
[null,"1a","P / C",1]
[null,"1a","Werken",1]
[null,"1a","Rel",1]
[null,"1a","S-BO",1]
[null,"1a","S-BU",1]
[null,"1a","S-EH",1]
[null,"1a","S-GW",1]
[null,"1a","S-GZ",1]
[null,"1a","S-PC",1]
[null,"1a","KrGe",1]
[null,"1a","unv. DSP",1]
[null,"1a","unv. FB",1]
[null,"1a","INF Sta",1]
[null,"1a","INF ECDL",1]
[null,"1a","unv. KET",1]
[null,"1a","GTS",1]
[null,"1a","GTS-L",1]
[null,"1a","frei",1]
[null,"1a","frei",1]
[null,"1a","frei",1]
[null,"1a","frei",1]
[null,"1a","frei",1]
[null,"1a","frei",1]
[null,"1a","frei",1]
[null,"1a","frei",1]
[null,null,null,"Summe 42"]
[]
["Wagner Judith","1a","M",1]
[null,"1a","M-T",1]
[null,"1a","D",1]
[null,"1a","D-T",1]
[null,"1a","E",1]
[null,"1a","E-T",1]
[null,"1a","BE",1]
[null,"1a","Soz",1]
[null,"1a","BSP",1]
[null,"1a","BU",1]
[null,"1a","C",1]
[null,"1a","EH",1]
[null,"1a","GS",1]
[null,"1a","GW",1]
[null,"1a","GZ",1]
[null,"1a","ME",1]
[null,"1a","PH",1]
[null,"1a","P / C",1]
[null,"1a","Werken",1]
[null,"1a","Rel",1]
[null,"1a","S-BO",1]
[null,"1a","S-BU",1]
[null,"1a","S-EH",1]
[null,"1a","S-GW",1]
[null,"1a","S-GZ",1]
[null,"1a","S-PC",1]
[null,"1a","KrGe",1]
[null,"1a","unv. DSP",1]
[null,"1a","unv. FB",1]
[null,"1a","INF Sta",1]
[null,"1a","INF ECDL",1]
[null,"1a","unv. KET",1]
[null,"1a","GTS",1]
[null,"1a","GTS-L",1]
[null,"1a","frei",1]
[null,"1a","frei",1]
[null,"1a","frei",1]
[null,"1a","frei",1]
[null,"1a","frei",1]
[null,"1a","frei",1]
[null,"1a","frei",1]
[null,"1a","frei",1]
[null,null,null,"Summe 42"]
[]
[null,"1a","M",1]
[null,"1a","M-T",1]
[null,"1a","D",1]
[null,"1a","D-T",1]
[null,"1a","E",1]
[null,"1a","E-T",1]
[null,"1a","BE",1]
[null,"1a","Soz",1]
[null,"1a","BSP",1]
[null,"1a","BU",1]
[null,"1a","C",1]
[null,"1a","EH",1]
[null,"1a","GS",1]
[null,"1a","GW",1]
[null,"1a","GZ",1]
[null,"1a","ME",1]
[null,"1a","PH",1]
[null,"1a","P / C",1]
[null,"1a","Werken",1]
[null,"1a","Rel",1]
[null,"1a","S-BO",1]
[null,"1a","S-BU",1]
[null,"1a","S-EH",1]
[null,"1a","S-GW",1]
[null,"1a","S-GZ",1]
[null,"1a","S-PC",1]
[null,"1a","KrGe",1]
[null,"1a","unv. DSP",1]
[null,"1a","unv. FB",1]
[null,"1a","INF Sta",1]
[null,"1a","INF ECDL",1]
[null,"1a","unv. KET",1]
[null,"1a","GTS",1]
[null,"1a","GTS-L",1]
[null,"1a","frei",1]
[null,"1a","frei",1]
[null,"1a","frei",1]
[null,"1a","frei",1]
[null,"1a","frei",1]
[null,"1a","frei",1]
[null,"1a","frei",1]
[null,"1a","frei",1]
[null,null,null,"Summe 42"]
[]
[null,"1a","M",1]
[null,"1a","M-T",1]
[null,"1a","D",1]
[null,"1a","D-T",1]
[null,"1a","E",1]
[null,"1a","E-T",1]
[null,"1a","BE",1]
[null,"1a","Soz",1]
[null,"1a","BSP",1]
[null,"1a","BU",1]
[null,"1a","C",1]
[null,"1a","EH",1]
[null,"1a","GS",1]
[null,"1a","GW",1]
[null,"1a","GZ",1]
[null,"1a","ME",1]
[null,"1a","PH",1]
[null,"1a","P / C",1]
[null,"1a","Werken",1]
[null,"1a","Rel",1]
[null,"1a","S-BO",1]
[null,"1a","S-BU",1]
[null,"1a","S-EH",1]
[null,"1a","S-GW",1]
[null,"1a","S-GZ",1]
[null,"1a","S-PC",1]
[null,"1a","KrGe",1]
[null,"1a","unv. DSP",1]
[null,"1a","unv. FB",1]
[null,"1a","INF Sta",1]
[null,"1a","INF ECDL",1]
[null,"1a","unv. KET",1]
[null,"1a","GTS",1]
[null,"1a","GTS-L",1]
[null,"1a","frei",1]
[null,"1a","frei",1]
[null,"1a","frei",1]
[null,"1a","frei",1]
[null,"1a","frei",1]
[null,"1a","frei",1]
[null,"1a","frei",1]
[null,"1a","frei",1]
[null,null,null,"Summe 42"]
[]
[null,"1a","M",1]
[null,"1a","M-T",1]
[null,"1a","D",1]
[null,"1a","D-T",1]
[null,"1a","E",1]
[null,"1a","E-T",1]
[null,"1a","BE",1]
[null,"1a","Soz",1]
[null,"1a","BSP",1]
[null,"1a","BU",1]
[null,"1a","C",1]
[null,"1a","EH",1]
[null,"1a","GS",1]
[null,"1a","GW",1]
[null,"1a","GZ",1]
[null,"1a","ME",1]
[null,"1a","PH",1]
[null,"1a","P / C",1]
[null,"1a","Werken",1]
[null,"1a","Rel",1]
[null,"1a","S-BO",1]
[null,"1a","S-BU",1]
[null,"1a","S-EH",1]
[null,"1a","S-GW",1]
[null,"1a","S-GZ",1]
[null,"1a","S-PC",1]
[null,"1a","KrGe",1]
[null,"1a","unv. DSP",1]
[null,"1a","unv. FB",1]
[null,"1a","INF Sta",1]
[null,"1a","INF ECDL",1]
[null,"1a","unv. KET",1]
[null,"1a","GTS",1]
[null,"1a","GTS-L",1]
[null,"1a","frei",1]
[null,"1a","frei",1]
[null,"1a","frei",1]
[null,"1a","frei",1]
[null,"1a","frei",1]
[null,"1a","frei",1]
[null,"1a","frei",1]
[null,"1a","frei",1]
[null,null,null,"Summe 42"]

{"sheet":"klasse_lehrer_gegenstaende","index":22,"n_rows":11342,"n_cols":4,"rows_kept":11342,"cut":false,"hidden":false,"merged":[]}
["Klasse","LehrerIn","Gegenstand","Stundenanzahl"]
[]
[]
[]
[]
[]
[]
[]
[]
[]
[]
[]
[]
[]
[]
[]
[]
[]
[]
[]
[]
[]
[]
[]
[]
[]
[]
[]
[]
[]
[]
[]
[]
[]
[]
[]
[]
[]
[]
[]
[]
[]
[]
[]
[]
[]
[]
[]
[]
[]
[]
[]
[]
[]
[]
[]
[]
[]
[]
[]
[]
[]
[]
[]
[]
[]
[]
[]
[]
[]
[]
[]
[]
[]
[]
[]
[]
[]
[]
[]
[]
[]
[]
[]
[]
[]
[]
[]
[]
[]
[]
[]
[]
[]
[]
[]
[]
[]
[]
[]
[]
[]
[]
[]
[]
[]
[]
[]
[]
[]
[]
[]
[]
[]
[]
[]
[]
[]
[]
[]
[]
[]
[]
[]
[]
[]
[]
[]
[]
[]
[]
[]
[]
[]
[]
[]
[]
[]
[]
[]
[]
[]
[]
[]
[]
[]
[]
[]
[]
[]
[]
[]
[]
[]
[]
[]
[]
[]
[]
[]
[]
[]
[]
[]
[]
[]
[]
[]
[]
[]
[]
[]
[]
[]
[]
[]
[]
[]
[]
[]
[]
[]
[]
[]
[]
[]
[]
[]
[]
[]
[]
[]
[]
[]
[]
[]
[]
[]
[]
[]
[]
[]
[]
[]
[]
[]
[]
[]
[]
[]
[]
[]
[]
[]
[]
[]
[]
[]
[]
[]
[]
[]
[]
[]
[]
[]
[]
[]
[]
[]
[]
[]
[]
[]
[]
[]
[]
[]
[]
[]
[]
[]
[]
[]
[]
[]
[]
[]
[]
[]
[]
[]
[]
[]
[]
[]
[]
[]
[]
[]
[]
[]
[]
[]
[]
[]
[]
[]
[]
[]
[]
[]
[]
[]
[]
[]
[]
[]
[]
[]
[]
[]
[]
[]
[]
[]
[]
[]
[]
[]
[]
[]
[]
[]
[]
[]
[]
[]
[]
[]
[]
[]
[]
[]
[]
[]
[]
[]
[]
[]
[]
[]
[]
[]
[]
[]
[]
[]
[]
[]
[]
[]
[]
[]
[]
[]
[]
[]
[]
[]
[]
[]
[]
[]
[]
[]
[]
[]
[]
[]
[]
[]
[]
[]
[]
[]
[]
[]
[]
[]
[]
[]
[]
[]
[]
[]
[]
[]
[]
[]
[]
[]
[]
[]
[]
[]
[]
[]
[]
[]
[]
[]
[]
[]
[]
[]
[]
[]
[]
[]
[]
[]
[]
[]
[]
[]
[]
[]
[]
[]
[]
[]
[]
[]
[]
[]
[]
[]
[]
[]
[]
[]
[]
[]
[]
[]
[]
[]
[]
[]
[]
[]
[]
[]
[]
[]
[]
[]
[]
[]
[]
[]
[]
[]
[]
[]
[]
[]
[]
[]
[]
[]
[]
[]
[]
[]
[]
[]
[]
[]
[]
[]
[]
[]
[]
[]
[]
[]
[]
[]
[]
[]
[]
[]
[]
[]
[]
[]
[]
[]
[]
[]
[]
[]
[]
[]
[]
[]
[]
[]
[]
[]
[]
[]
[]
[]
[]
[]
[]
[]
[]
[]
[]
[]
[]
[]
[]
[]
[]
[]
[]
[]
[]
[]
[]
[]
[]
[]
[]
[]
[]
[]
[]
[]
[]
[]
[]
[]
[]
[]
[]
[]
[]
[]
[]
[]
[]
[]
[]
[]
[]
[]
[]
[]
[]
[]
[]
[]
[]
[]
[]
[]
[]
[]
[]
[]
[]
[]
[]
[]
[]
[]
[]
[]
[]
[]
[]
[]
[]
[]
[]
[]
[]
[]
[]
[]
[]
[]
[]
[]
[]
[]
[]
[]
[]
[]
[]
[]
[]
[]
[]
[]
[]
[]
[]
[]
[]
[]
[]
[]
[]
[]
[]
[]
[]
[]
[]
[]
[]
[]
[]
[]
[]
[]
[]
[]
[]
[]
[]
[]
[]
[]
[]
[]
[]
[]
[]
[]
[]
[]
[]
[]
[]
[]
[]
[]
[]
[]
[]
[]
[]
[]
[]
[]
[]
[]
[]
[]
[]
[]
[]
[]
[]
[]
[]
[]
[]
[]
[]
[]
[]
[]
[]
[]
[]
[]
[]
[]
[]
[]
[]
[]
[]
[]
[]
[]
[]
[]
[]
[]
[]
[]
[]
[]
[]
[]
[]
[]
[]
[]
[]
[]
[]
[]
[]
[]
[]
[]
[]
[]
[]
[]
[]
[]
[]
[]
[]
[]
[]
[]
[]
[]
[]
[]
[]
[]
[]
[]
[]
[]
[]
[]
[]
[]
[]
[]
[]
[]
[]
[]
[]
[]
[]
[]
[]
[]
[]
[]
[]
[]
[]
[]
[]
[]
[]
[]
[]
[]
[]
[]
[]
[]
[]
[]
[]
[]
[]
[]
[]
[]
[]
[]
[]
[]
[]
[]
[]
[]
[]
[]
[]
[]
[]
[]
[]
[]
[]
[]
[]
[]
[]
[]
[]
[]
[]
[]
[]
[]
[]
[]
[]
[]
[]
[]
[]
[]
[]
[]
[]
[]
[]
[]
[]
[]
[]
[]
[]
[]
[]
[]
[]
[]
[]
[]
[]
[]
[]
[]
[]
[]
[]
[]
[]
[]
[]
[]
[]
[]
[]
[]
[]
[]
[]
[]
[]
[]
[]
[]
[]
[]
[]
[]
[]
[]
[]
[]
[]
[]
[]
[]
[]
[]
[]
[]
[]
[]
[]
[]
[]
[]
[]
[]
[]
[]
[]
[]
[]
[]
[]
[]
[]
[]
[]
[]
[]
[]
[]
[]
[]
[]
[]
[]
[]
[]
[]
[]
[]
[]
[]
[]
[]
[]
[]
[]
[]
[]
[]
[]
[]
[]
[]
[]
[]
[]
[]
[]
[]
[]
[]
[]
[]
[]
[]
[]
[]
[]
[]
[]
[]
[]
[]
[]
[]
[]
[]
[]
[]
[]
[]
[]
[]
[]
[]
[]
[]
[]
[]
[]
[]
[]
[]
[]
[]
[]
[]
[]
[]
[]
[]
[]
[]
[]
[]
[]
[]
[]
[]
[]
[]
[]
[]
[]
[]
[]
[]
[]
[]
[]
[]
[]
[]
[]
[]
[]
[]
[]
[]
[]
[]
[]
[]
[]
[]
[]
[]
[]
[]
[]
[]
[]
[]
[]
[]
[]
[]
[]
[]
[]
[]
[]
[]
[]
[]
[]
[]
[]
[]
[]
[]
[]
[]
[]
[]
[]
[]
[]
[]
[]
[]
[]
[]
[]
[]
[]
[]
[]
[]
[]
[]
[]
[]
[]
[]
[]
[]
[]
[]
[]
[]
[]
[]
[]
[]
[]
[]
[]
[]
[]
[]
[]
[]
[]
[]
[]
[]
[]
[]
[]
[]
[]
[]
[]
[]
[]
[]
[]
[]
[]
[]
[]
[]
[]
[]
[]
[]
[]
[]
[]
[]
[]
[]
[]
[]
[]
[]
[]
[]
[]
[]
[]
[]
[]
[]
[]
[]
[]
[]
[]
[]
[]
[]
[]
[]
[]
[]
[]
[]
[]
[]
[]
[]
[]
[]
[]
[]
[]
[]
[]
[]
[]
[]
[]
[]
[]
[]
[]
[]
[]
[]
[]
[]
[]
[]
[]
[]
[]
[]
[]
[]
[]
[]
[]
[]
[]
[]
[]
[]
[]
[]
[]
[]
[]
[]
[]
[]
[]
[]
[]
[]
[]
[]
[]
[]
[]
[]
[]
[]
[]
[]
[]
[]
[]
[]
[]
[]
[]
[]
[]
[]
[]
[]
[]
[]
[]
[]
[]
[]
[]
[]
[]
[]
[]
[]
[]
[]
[]
[]
[]
[]
[]
[]
[]
[]
[]
[]
[]
[]
[]
[]
[]
[]
[]
[]
[]
[]
[]
[]
[]
[]
[]
[]
[]
[]
[]
[]
[]
[]
[]
[]
[]
[]
[]
[]
[]
[]
[]
[]
[]
[]
[]
[]
[]
[]
[]
[]
[]
[]
[]
[]
[]
[]
[]
[]
[]
[]
[]
[]
[]
[]
[]
[]
[]
[]
[]
[]
[]
[]
[]
[]
[]
[]
[]
[]
[]
[]
[]
[]
[]
[]
[]
[]
[]
[]
[]
[]
[]
[]
[]
[]
[]
[]
[]
[]
[]
[]
[]
[]
[]
[]
[]
[]
[]
[]
[]
[]
[]
[]
[]
[]
[]
[]
[]
[]
[]
[]
[]
[]
[]
[]
[]
[]
[]
[]
[]
[]
[]
[]
[]
[]
[]
[]
[]
[]
[]
[]
[]
[]
[]
[]
[]
[]
[]
[]
[]
[]
[]
[]
[]
[]
[]
[]
[]
[]
[]
[]
[]
[]
[]
[]
[]
[]
[]
[]
[]
[]
[]
[]
[]
[]
[]
[]
[]
[]
[]
[]
[]
[]
[]
[]
[]
[]
[]
[]
[]
[]
[]
[]
[]
[]
[]
[]
[]
[]
[]
[]
[]
[]
[]
[]
[]
[]
[]
[]
[]
[]
[]
[]
[]
[]
[]
[]
[]
[]
[]
[]
[]
[]
[]
[]
[]
[]
[]
[]
[]
[]
[]
[]
[]
[]
[]
[]
[]
[]
[]
[]
[]
[]
[]
[]
[]
[]
[]
[]
[]
[]
[]
[]
[]
[]
[]
[]
[]
[]
[]
[]
[]
[]
[]
[]
[]
[]
[]
[]
[]
[]
[]
[]
[]
[]
[]
[]
[]
[]
[]
[]
[]
[]
[]
[]
[]
[]
[]
[]
[]
[]
[]
[]
[]
[]
[]
[]
[]
[]
[]
[]
[]
[]
[]
[]
[]
[]
[]
[]
[]
[]
[]
[]
[]
[]
[]
[]
[]
[]
[]
[]
[]
[]
[]
[]
[]
[]
[]
[]
[]
[]
[]
[]
[]
[]
[]
[]
[]
[]
[]
[]
[]
[]
[]
[]
[]
[]
[]
[]
[]
[]
[]
[]
[]
[]
[]
[]
[]
[]
[]
[]
[]
[]
[]
[]
[]
[]
[]
[]
[]
[]
[]
[]
[]
[]
[]
[]
[]
[]
[]
[]
[]
[]
[]
[]
[]
[]
[]
[]
[]
[]
[]
[]
[]
[]
[]
[]
[]
[]
[]
[]
[]
[]
[]
[]
[]
[]
[]
[]
[]
[]
[]
[]
[]
[]
[]
[]
[]
[]
[]
[]
[]
[]
[]
[]
[]
[]
[]
[]
[]
[]
[]
[]
[]
[]
[]
[]
[]
[]
[]
[]
[]
[]
[]
[]
[]
[]
[]
[]
[]
[]
[]
[]
[]
[]
[]
[]
[]
[]
[]
[]
[]
[]
[]
[]
[]
[]
[]
[]
[]
[]
[]
[]
[]
[]
[]
[]
[]
[]
[]
[]
[]
[]
[]
[]
[]
[]
[]
[]
[]
[]
[]
[]
[]
[]
[]
[]
[]
[]
[]
[]
[]
[]
[]
[]
[]
[]
[]
[]
[]
[]
[]
[]
[]
[]
[]
[]
[]
[]
[]
[]
[]
[]
[]
[]
[]
[]
[]
[]
[]
[]
[]
[]
[]
[]
[]
[]
[]
[]
[]
[]
[]
[]
[]
[]
[]
[]
[]
[]
[]
[]
[]
[]
[]
[]
[]
[]
[]
[]
[]
[]
[]
[]
[]
[]
[]
[]
[]
[]
[]
[]
[]
[]
[]
[]
[]
[]
[]
[]
[]
[]
[]
[]
[]
[]
[]
[]
[]
[]
[]
[]
[]
[]
[]
[]
[]
[]
[]
[]
[]
[]
[]
[]
[]
[]
[]
[]
[]
[]
[]
[]
[]
[]
[]
[]
[]
[]
[]
[]
[]
[]
[]
[]
[]
[]
[]
[]
[]
[]
[]
[]
[]
[]
[]
[]
[]
[]
[]
[]
[]
[]
[]
[]
[]
[]
[]
[]
[]
[]
[]
[]
[]
[]
[]
[]
[]
[]
[]
[]
[]
[]
[]
[]
[]
[]
[]
[]
[]
[]
[]
[]
[]
[]
[]
[]
[]
[]
[]
[]
[]
[]
[]
[]
[]
[]
[]
[]
[]
[]
[]
[]
[]
[]
[]
[]
[]
[]
[]
[]
[]
[]
[]
[]
[]
[]
[]
[]
[]
[]
[]
[]
[]
[]
[]
[]
[]
[]
[]
[]
[]
[]
[]
[]
[]
[]
[]
[]
[]
[]
[]
[]
[]
[]
[]
[]
[]
[]
[]
[]
[]
[]
[]
[]
[]
[]
[]
[]
[]
[]
[]
[]
[]
[]
[]
[]
[]
[]
[]
[]
[]
[]
[]
[]
[]
[]
[]
[]
[]
[]
[]
[]
[]
[]
[]
[]
[]
[]
[]
[]
[]
[]
[]
[]
[]
[]
[]
[]
[]
[]
[]
[]
[]
[]
[]
[]
[]
[]
[]
[]
[]
[]
[]
[]
[]
[]
[]
[]
[]
[]
[]
[]
[]
[]
[]
[]
[]
[]
[]
[]
[]
[]
[]
[]
[]
[]
[]
[]
[]
[]
[]
[]
[]
[]
[]
[]
[]
[]
[]
[]
[]
[]
[]
[]
[]
[]
[]
[]
[]
[]
[]
[]
[]
[]
[]
[]
[]
[]
[]
[]
[]
[]
[]
[]
[]
[]
[]
[]
[]
[]
[]
[]
[]
[]
[]
[]
[]
[]
[]
[]
[]
[]
[]
[]
[]
[]
[]
[]
[]
[]
[]
[]
[]
[]
[]
[]
[]
[]
[]
[]
[]
[]
[]
[]
[]
[]
[]
[]
[]
[]
[]
[]
[]
[]
[]
[]
[]
[]
[]
[]
[]
[]
[]
[]
[]
[]
[]
[]
[]
[]
[]
[]
[]
[]
[]
[]
[]
[]
[]
[]
[]
[]
[]
[]
[]
[]
[]
[]
[]
[]
[]
[]
[]
[]
[]
[]
[]
[]
[]
[]
[]
[]
[]
[]
[]
[]
[]
[]
[]
[]
[]
[]
[]
[]
[]
[]
[]
[]
[]
[]
[]
[]
[]
[]
[]
[]
[]
[]
[]
[]
[]
[]
[]
[]
[]
[]
[]
[]
[]
[]
[]
[]
[]
[]
[]
[]
[]
[]
[]
[]
[]
[]
[]
[]
[]
[]
[]
[]
[]
[]
[]
[]
[]
[]
[]
[]
[]
[]
[]
[]
[]
[]
[]
[]
[]
[]
[]
[]
[]
[]
[]
[]
[]
[]
[]
[]
[]
[]
[]
[]
[]
[]
[]
[]
[]
[]
[]
[]
[]
[]
[]
[]
[]
[]
[]
[]
[]
[]
[]
[]
[]
[]
[]
[]
[]
[]
[]
[]
[]
[]
[]
[]
[]
[]
[]
[]
[]
[]
[]
[]
[]
[]
[]
[]
[]
[]
[]
[]
[]
[]
[]
[]
[]
[]
[]
[]
[]
[]
[]
[]
[]
[]
[]
[]
[]
[]
[]
[]
[]
[]
[]
[]
[]
[]
[]
[]
[]
[]
[]
[]
[]
[]
[]
[]
[]
[]
[]
[]
[]
[]
[]
[]
[]
[]
[]
[]
[]
[]
[]
[]
[]
[]
[]
[]
[]
[]
[]
[]
[]
[]
[]
[]
[]
[]
[]
[]
[]
[]
[]
[]
[]
[]
[]
[]
[]
[]
[]
[]
[]
[]
[]
[]
[]
[]
[]
[]
[]
[]
[]
[]
[]
[]
[]
[]
[]
[]
[]
[]
[]
[]
[]
[]
[]
[]
[]
[]
[]
[]
[]
[]
[]
[]
[]
[]
[]
[]
[]
[]
[]
[]
[]
[]
[]
[]
[]
[]
[]
[]
[]
[]
[]
[]
[]
[]
[]
[]
[]
[]
[]
[]
[]
[]
[]
[]
[]
[]
[]
[]
[]
[]
[]
[]
[]
[]
[]
[]
[]
[]
[]
[]
[]
[]
[]
[]
[]
[]
[]
[]
[]
[]
[]
[]
[]
[]
[]
[]
[]
[]
[]
[]
[]
[]
[]
[]
[]
[]
[]
[]
[]
[]
[]
[]
[]
[]
[]
[]
[]
[]
[]
[]
[]
[]
[]
[]
[]
[]
[]
[]
[]
[]
[]
[]
[]
[]
[]
[]
[]
[]
[]
[]
[]
[]
[]
[]
[]
[]
[]
[]
[]
[]
[]
[]
[]
[]
[]
[]
[]
[]
[]
[]
[]
[]
[]
[]
[]
[]
[]
[]
[]
[]
[]
[]
[]
[]
[]
[]
[]
[]
[]
[]
[]
[]
[]
[]
[]
[]
[]
[]
[]
[]
[]
[]
[]
[]
[]
[]
[]
[]
[]
[]
[]
[]
[]
[]
[]
[]
[]
[]
[]
[]
[]
[]
[]
[]
[]
[]
[]
[]
[]
[]
[]
[]
[]
[]
[]
[]
[]
[]
[]
[]
[]
[]
[]
[]
[]
[]
[]
[]
[]
[]
[]
[]
[]
[]
[]
[]
[]
[]
[]
[]
[]
[]
[]
[]
[]
[]
[]
[]
[]
[]
[]
[]
[]
[]
[]
[]
[]
[]
[]
[]
[]
[]
[]
[]
[]
[]
[]
[]
[]
[]
[]
[]
[]
[]
[]
[]
[]
[]
[]
[]
[]
[]
[]
[]
[]
[]
[]
[]
[]
[]
[]
[]
[]
[]
[]
[]
[]
[]
[]
[]
[]
[]
[]
[]
[]
[]
[]
[]
[]
[]
[]
[]
[]
[]
[]
[]
[]
[]
[]
[]
[]
[]
[]
[]
[]
[]
[]
[]
[]
[]
[]
[]
[]
[]
[]
[]
[]
[]
[]
[]
[]
[]
[]
[]
[]
[]
[]
[]
[]
[]
[]
[]
[]
[]
[]
[]
[]
[]
[]
[]
[]
[]
[]
[]
[]
[]
[]
[]
[]
[]
[]
[]
[]
[]
[]
[]
[]
[]
[]
[]
[]
[]
[]
[]
[]
[]
[]
[]
[]
[]
[]
[]
[]
[]
[]
[]
[]
[]
[]
[]
[]
[]
[]
[]
[]
[]
[]
[]
[]
[]
[]
[]
[]
[]
[]
[]
[]
[]
[]
[]
[]
[]
[]
[]
[]
[]
[]
[]
[]
[]
[]
[]
[]
[]
[]
[]
[]
[]
[]
[]
[]
[]
[]
[]
[]
[]
[]
[]
[]
[]
[]
[]
[]
[]
[]
[]
[]
[]
[]
[]
[]
[]
[]
[]
[]
[]
[]
[]
[]
[]
[]
[]
[]
[]
[]
[]
[]
[]
[]
[]
[]
[]
[]
[]
[]
[]
[]
[]
[]
[]
[]
[]
[]
[]
[]
[]
[]
[]
[]
[]
[]
[]
[]
[]
[]
[]
[]
[]
[]
[]
[]
[]
[]
[]
[]
[]
[]
[]
[]
[]
[]
[]
[]
[]
[]
[]
[]
[]
[]
[]
[]
[]
[]
[]
[]
[]
[]
[]
[]
[]
[]
[]
[]
[]
[]
[]
[]
[]
[]
[]
[]
[]
[]
[]
[]
[]
[]
[]
[]
[]
[]
[]
[]
[]
[]
[]
[]
[]
[]
[]
[]
[]
[]
[]
[]
[]
[]
[]
[]
[]
[]
[]
[]
[]
[]
[]
[]
[]
[]
[]
[]
[]
[]
[]
[]
[]
[]
[]
[]
[]
[]
[]
[]
[]
[]
[]
[]
[]
[]
[]
[]
[]
[]
[]
[]
[]
[]
[]
[]
[]
[]
[]
[]
[]
[]
[]
[]
[]
[]
[]
[]
[]
[]
[]
[]
[]
[]
[]
[]
[]
[]
[]
[]
[]
[]
[]
[]
[]
[]
[]
[]
[]
[]
[]
[]
[]
[]
[]
[]
[]
[]
[]
[]
[]
[]
[]
[]
[]
[]
[]
[]
[]
[]
[]
[]
[]
[]
[]
[]
[]
[]
[]
[]
[]
[]
[]
[]
[]
[]
[]
[]
[]
[]
[]
[]
[]
[]
[]
[]
[]
[]
[]
[]
[]
[]
[]
[]
[]
[]
[]
[]
[]
[]
[]
[]
[]
[]
[]
[]
[]
[]
[]
[]
[]
[]
[]
[]
[]
[]
[]
[]
[]
[]
[]
[]
[]
[]
[]
[]
[]
[]
[]
[]
[]
[]
[]
[]
[]
[]
[]
[]
[]
[]
[]
[]
[]
[]
[]
[]
[]
[]
[]
[]
[]
[]
[]
[]
[]
[]
[]
[]
[]
[]
[]
[]
[]
[]
[]
[]
[]
[]
[]
[]
[]
[]
[]
[]
[]
[]
[]
[]
[]
[]
[]
[]
[]
[]
[]
[]
[]
[]
[]
[]
[]
[]
[]
[]
[]
[]
[]
[]
[]
[]
[]
[]
[]
[]
[]
[]
[]
[]
[]
[]
[]
[]
[]
[]
[]
[]
[]
[]
[]
[]
[]
[]
[]
[]
[]
[]
[]
[]
[]
[]
[]
[]
[]
[]
[]
[]
[]
[]
[]
[]
[]
[]
[]
[]
[]
[]
[]
[]
[]
[]
[]
[]
[]
[]
[]
[]
[]
[]
[]
[]
[]
[]
[]
[]
[]
[]
[]
[]
[]
[]
[]
[]
[]
[]
[]
[]
[]
[]
[]
[]
[]
[]
[]
[]
[]
[]
[]
[]
[]
[]
[]
[]
[]
[]
[]
[]
[]
[]
[]
[]
[]
[]
[]
[]
[]
[]
[]
[]
[]
[]
[]
[]
[]
[]
[]
[]
[]
[]
[]
[]
[]
[]
[]
[]
[]
[]
[]
[]
[]
[]
[]
[]
[]
[]
[]
[]
[]
[]
[]
[]
[]
[]
[]
[]
[]
[]
[]
[]
[]
[]
[]
[]
[]
[]
[]
[]
[]
[]
[]
[]
[]
[]
[]
[]
[]
[]
[]
[]
[]
[]
[]
[]
[]
[]
[]
[]
[]
[]
[]
[]
[]
[]
[]
[]
[]
[]
[]
[]
[]
[]
[]
[]
[]
[]
[]
[]
[]
[]
[]
[]
[]
[]
[]
[]
[]
[]
[]
[]
[]
[]
[]
[]
[]
[]
[]
[]
[]
[]
[]
[]
[]
[]
[]
[]
[]
[]
[]
[]
[]
[]
[]
[]
[]
[]
[]
[]
[]
[]
[]
[]
[]
[]
[]
[]
[]
[]
[]
[]
[]
[]
[]
[]
[]
[]
[]
[]
[]
[]
[]
[]
[]
[]
[]
[]
[]
[]
[]
[]
[]
[]
[]
[]
[]
[]
[]
[]
[]
[]
[]
[]
[]
[]
[]
[]
[]
[]
[]
[]
[]
[]
[]
[]
[]
[]
[]
[]
[]
[]
[]
[]
[]
[]
[]
[]
[]
[]
[]
[]
[]
[]
[]
[]
[]
[]
[]
[]
[]
[]
[]
[]
[]
[]
[]
[]
[]
[]
[]
[]
[]
[]
[]
[]
[]
[]
[]
[]
[]
[]
[]
[]
[]
[]
[]
[]
[]
[]
[]
[]
[]
[]
[]
[]
[]
[]
[]
[]
[]
[]
[]
[]
[]
[]
[]
[]
[]
[]
[]
[]
[]
[]
[]
[]
[]
[]
[]
[]
[]
[]
[]
[]
[]
[]
[]
[]
[]
[]
[]
[]
[]
[]
[]
[]
[]
[]
[]
[]
[]
[]
[]
[]
[]
[]
[]
[]
[]
[]
[]
[]
[]
[]
[]
[]
[]
[]
[]
[]
[]
[]
[]
[]
[]
[]
[]
[]
[]
[]
[]
[]
[]
[]
[]
[]
[]
[]
[]
[]
[]
[]
[]
[]
[]
[]
[]
[]
[]
[]
[]
[]
[]
[]
[]
[]
[]
[]
[]
[]
[]
[]
[]
[]
[]
[]
[]
[]
[]
[]
[]
[]
[]
[]
[]
[]
[]
[]
[]
[]
[]
[]
[]
[]
[]
[]
[]
[]
[]
[]
[]
[]
[]
[]
[]
[]
[]
[]
[]
[]
[]
[]
[]
[]
[]
[]
[]
[]
[]
[]
[]
[]
[]
[]
[]
[]
[]
[]
[]
[]
[]
[]
[]
[]
[]
[]
[]
[]
[]
[]
[]
[]
[]
[]
[]
[]
[]
[]
[]
[]
[]
[]
[]
[]
[]
[]
[]
[]
[]
[]
[]
[]
[]
[]
[]
[]
[]
[]
[]
[]
[]
[]
[]
[]
[]
[]
[]
[]
[]
[]
[]
[]
[]
[]
[]
[]
[]
[]
[]
[]
[]
[]
[]
[]
[]
[]
[]
[]
[]
[]
[]
[]
[]
[]
[]
[]
[]
[]
[]
[]
[]
[]
[]
[]
[]
[]
[]
[]
[]
[]
[]
[]
[]
[]
[]
[]
[]
[]
[]
[]
[]
[]
[]
[]
[]
[]
[]
[]
[]
[]
[]
[]
[]
[]
[]
[]
[]
[]
[]
[]
[]
[]
[]
[]
[]
[]
[]
[]
[]
[]
[]
[]
[]
[]
[]
[]
[]
[]
[]
[]
[]
[]
[]
[]
[]
[]
[]
[]
[]
[]
[]
[]
[]
[]
[]
[]
[]
[]
[]
[]
[]
[]
[]
[]
[]
[]
[]
[]
[]
[]
[]
[]
[]
[]
[]
[]
[]
[]
[]
[]
[]
[]
[]
[]
[]
[]
[]
[]
[]
[]
[]
[]
[]
[]
[]
[]
[]
[]
[]
[]
[]
[]
[]
[]
[]
[]
[]
[]
[]
[]
[]
[]
[]
[]
[]
[]
[]
[]
[]
[]
[]
[]
[]
[]
[]
[]
[]
[]
[]
[]
[]
[]
[]
[]
[]
[]
[]
[]
[]
[]
[]
[]
[]
[]
[]
[]
[]
[]
[]
[]
[]
[]
[]
[]
[]
[]
[]
[]
[]
[]
[]
[]
[]
[]
[]
[]
[]
[]
[]
[]
[]
[]
[]
[]
[]
[]
[]
[]
[]
[]
[]
[]
[]
[]
[]
[]
[]
[]
[]
[]
[]
[]
[]
[]
[]
[]
[]
[]
[]
[]
[]
[]
[]
[]
[]
[]
[]
[]
[]
[]
[]
[]
[]
[]
[]
[]
[]
[]
[]
[]
[]
[]
[]
[]
[]
[]
[]
[]
[]
[]
[]
[]
[]
[]
[]
[]
[]
[]
[]
[]
[]
[]
[]
[]
[]
[]
[]
[]
[]
[]
[]
[]
[]
[]
[]
[]
[]
[]
[]
[]
[]
[]
[]
[]
[]
[]
[]
[]
[]
[]
[]
[]
[]
[]
[]
[]
[]
[]
[]
[]
[]
[]
[]
[]
[]
[]
[]
[]
[]
[]
[]
[]
[]
[]
[]
[]
[]
[]
[]
[]
[]
[]
[]
[]
[]
[]
[]
[]
[]
[]
[]
[]
[]
[]
[]
[]
[]
[]
[]
[]
[]
[]
[]
[]
[]
[]
[]
[]
[]
[]
[]
[]
[]
[]
[]
[]
[]
[]
[]
[]
[]
[]
[]
[]
[]
[]
[]
[]
[]
[]
[]
[]
[]
[]
[]
[]
[]
[]
[]
[]
[]
[]
[]
[]
[]
[]
[]
[]
[]
[]
[]
[]
[]
[]
[]
[]
[]
[]
[]
[]
[]
[]
[]
[]
[]
[]
[]
[]
[]
[]
[]
[]
[]
[]
[]
[]
[]
[]
[]
[]
[]
[]
[]
[]
[]
[]
[]
[]
[]
[]
[]
[]
[]
[]
[]
[]
[]
[]
[]
[]
[]
[]
[]
[]
[]
[]
[]
[]
[]
[]
[]
[]
[]
[]
[]
[]
[]
[]
[]
[]
[]
[]
[]
[]
[]
[]
[]
[]
[]
[]
[]
[]
[]
[]
[]
[]
[]
[]
[]
[]
[]
[]
[]
[]
[]
[]
[]
[]
[]
[]
[]
[]
[]
[]
[]
[]
[]
[]
[]
[]
[]
[]
[]
[]
[]
[]
[]
[]
[]
[]
[]
[]
[]
[]
[]
[]
[]
[]
[]
[]
[]
[]
[]
[]
[]
[]
[]
[]
[]
[]
[]
[]
[]
[]
[]
[]
[]
[]
[]
[]
[]
[]
[]
[]
[]
[]
[]
[]
[]
[]
[]
[]
[]
[]
[]
[]
[]
[]
[]
[]
[]
[]
[]
[]
[]
[]
[]
[]
[]
[]
[]
[]
[]
[]
[]
[]
[]
[]
[]
[]
[]
[]
[]
[]
[]
[]
[]
[]
[]
[]
[]
[]
[]
[]
[]
[]
[]
[]
[]
[]
[]
[]
[]
[]
[]
[]
[]
[]
[]
[]
[]
[]
[]
[]
[]
[]
[]
[]
[]
[]
[]
[]
[]
[]
[]
[]
[]
[]
[]
[]
[]
[]
[]
[]
[]
[]
[]
[]
[]
[]
[]
[]
[]
[]
[]
[]
[]
[]
[]
[]
[]
[]
[]
[]
[]
[]
[]
[]
[]
[]
[]
[]
[]
[]
[]
[]
[]
[]
[]
[]
[]
[]
[]
[]
[]
[]
[]
[]
[]
[]
[]
[]
[]
[]
[]
[]
[]
[]
[]
[]
[]
[]
[]
[]
[]
[]
[]
[]
[]
[]
[]
[]
[]
[]
[]
[]
[]
[]
[]
[]
[]
[]
[]
[]
[]
[]
[]
[]
[]
[]
[]
[]
[]
[]
[]
[]
[]
[]
[]
[]
[]
[]
[]
[]
[]
[]
[]
[]
[]
[]
[]
[]
[]
[]
[]
[]
[]
[]
[]
[]
[]
[]
[]
[]
[]
[]
[]
[]
[]
[]
[]
[]
[]
[]
[]
[]
[]
[]
[]
[]
[]
[]
[]
[]
[]
[]
[]
[]
[]
[]
[]
[]
[]
[]
[]
[]
[]
[]
[]
[]
[]
[]
[]
[]
[]
[]
[]
[]
[]
[]
[]
[]
[]
[]
[]
[]
[]
[]
[]
[]
[]
[]
[]
[]
[]
[]
[]
[]
[]
[]
[]
[]
[]
[]
[]
[]
[]
[]
[]
[]
[]
[]
[]
[]
[]
[]
[]
[]
[]
[]
[]
[]
[]
[]
[]
[]
[]
[]
[]
[]
[]
[]
[]
[]
[]
[]
[]
[]
[]
[]
[]
[]
[]
[]
[]
[]
[]
[]
[]
[]
[]
[]
[]
[]
[]
[]
[]
[]
[]
[]
[]
[]
[]
[]
[]
[]
[]
[]
[]
[]
[]
[]
[]
[]
[]
[]
[]
[]
[]
[]
[]
[]
[]
[]
[]
[]
[]
[]
[]
[]
[]
[]
[]
[]
[]
[]
[]
[]
[]
[]
[]
[]
[]
[]
[]
[]
[]
[]
[]
[]
[]
[]
[]
[]
[]
[]
[]
[]
[]
[]
[]
[]
[]
[]
[]
[]
[]
[]
[]
[]
[]
[]
[]
[]
[]
[]
[]
[]
[]
[]
[]
[]
[]
[]
[]
[]
[]
[]
[]
[]
[]
[]
[]
[]
[]
[]
[]
[]
[]
[]
[]
[]
[]
[]
[]
[]
[]
[]
[]
[]
[]
[]
[]
[]
[]
[]
[]
[]
[]
[]
[]
[]
[]
[]
[]
[]
[]
[]
[]
[]
[]
[]
[]
[]
[]
[]
[]
[]
[]
[]
[]
[]
[]
[]
[]
[]
[]
[]
[]
[]
[]
[]
[]
[]
[]
[]
[]
[]
[]
[]
[]
[]
[]
[]
[]
[]
[]
[]
[]
[]
[]
[]
[]
[]
[]
[]
[]
[]
[]
[]
[]
[]
[]
[]
[]
[]
[]
[]
[]
[]
[]
[]
[]
[]
[]
[]
[]
[]
[]
[]
[]
[]
[]
[]
[]
[]
[]
[]
[]
[]
[]
[]
[]
[]
[]
[]
[]
[]
[]
[]
[]
[]
[]
[]
[]
[]
[]
[]
[]
[]
[]
[]
[]
[]
[]
[]
[]
[]
[]
[]
[]
[]
[]
[]
[]
[]
[]
[]
[]
[]
[]
[]
[]
[]
[]
[]
[]
[]
[]
[]
[]
[]
[]
[]
[]
[]
[]
[]
[]
[]
[]
[]
[]
[]
[]
[]
[]
[]
[]
[]
[]
[]
[]
[]
[]
[]
[]
[]
[]
[]
[]
[]
[]
[]
[]
[]
[]
[]
[]
[]
[]
[]
[]
[]
[]
[]
[]
[]
[]
[]
[]
[]
[]
[]
[]
[]
[]
[]
[]
[]
[]
[]
[]
[]
[]
[]
[]
[]
[]
[]
[]
[]
[]
[]
[]
[]
[]
[]
[]
[]
[]
[]
[]
[]
[]
[]
[]
[]
[]
[]
[]
[]
[]
[]
[]
[]
[]
[]
[]
[]
[]
[]
[]
[]
[]
[]
[]
[]
[]
[]
[]
[]
[]
[]
[]
[]
[]
[]
[]
[]
[]
[]
[]
[]
[]
[]
[]
[]
[]
[]
[]
[]
[]
[]
[]
[]
[]
[]
[]
[]
[]
[]
[]
[]
[]
[]
[]
[]
[]
[]
[]
[]
[]
[]
[]
[]
[]
[]
[]
[]
[]
[]
[]
[]
[]
[]
[]
[]
[]
[]
[]
[]
[]
[]
[]
[]
[]
[]
[]
[]
[]
[]
[]
[]
[]
[]
[]
[]
[]
[]
[]
[]
[]
[]
[]
[]
[]
[]
[]
[]
[]
[]
[]
[]
[]
[]
[]
[]
[]
[]
[]
[]
[]
[]
[]
[]
[]
[]
[]
[]
[]
[]
[]
[]
[]
[]
[]
[]
[]
[]
[]
[]
[]
[]
[]
[]
[]
[]
[]
[]
[]
[]
[]
[]
[]
[]
[]
[]
[]
[]
[]
[]
[]
[]
[]
[]
[]
[]
[]
[]
[]
[]
[]
[]
[]
[]
[]
[]
[]
[]
[]
[]
[]
[]
[]
[]
[]
[]
[]
[]
[]
[]
[]
[]
[]
[]
[]
[]
[]
[]
[]
[]
[]
[]
[]
[]
[]
[]
[]
[]
[]
[]
[]
[]
[]
[]
[]
[]
[]
[]
[]
[]
[]
[]
[]
[]
[]
[]
[]
[]
[]
[]
[]
[]
[]
[]
[]
[]
[]
[]
[]
[]
[]
[]
[]
[]
[]
[]
[]
[]
[]
[]
[]
[]
[]
[]
[]
[]
[]
[]
[]
[]
[]
[]
[]
[]
[]
[]
[]
[]
[]
[]
[]
[]
[]
[]
[]
[]
[]
[]
[]
[]
[]
[]
[]
[]
[]
[]
[]
[]
[]
[]
[]
[]
[]
[]
[]
[]
[]
[]
[]
[]
[]
[]
[]
[]
[]
[]
[]
[]
[]
[]
[]
[]
[]
[]
[]
[]
[]
[]
[]
[]
[]
[]
[]
[]
[]
[]
[]
[]
[]
[]
[]
[]
[]
[]
[]
[]
[]
[]
[]
[]
[]
[]
[]
[]
[]
[]
[]
[]
[]
[]
[]
[]
[]
[]
[]
[]
[]
[]
[]
[]
[]
[]
[]
[]
[]
[]
[]
[]
[]
[]
[]
[]
[]
[]
[]
[]
[]
[]
[]
[]
[]
[]
[]
[]
[]
[]
[]
[]
[]
[]
[]
[]
[]
[]
[]
[]
[]
[]
[]
[]
[]
[]
[]
[]
[]
[]
[]
[]
[]
[]
[]
[]
[]
[]
[]
[]
[]
[]
[]
[]
[]
[]
[]
[]
[]
[]
[]
[]
[]
[]
[]
[]
[]
[]
[]
[]
[]
[]
[]
[]
[]
[]
[]
[]
[]
[]
[]
[]
[]
[]
[]
[]
[]
[]
[]
[]
[]
[]
[]
[]
[]
[]
[]
[]
[]
[]
[]
[]
[]
[]
[]
[]
[]
[]
[]
[]
[]
[]
[]
[]
[]
[]
[]
[]
[]
[]
[]
[]
[]
[]
[]
[]
[]
[]
[]
[]
[]
[]
[]
[]
[]
[]
[]
[]
[]
[]
[]
[]
[]
[]
[]
[]
[]
[]
[]
[]
[]
[]
[]
[]
[]
[]
[]
[]
[]
[]
[]
[]
[]
[]
[]
[]
[]
[]
[]
[]
[]
[]
[]
[]
[]
[]
[]
[]
[]
[]
[]
[]
[]
[]
[]
[]
[]
[]
[]
[]
[]
[]
[]
[]
[]
[]
[]
[]
[]
[]
[]
[]
[]
[]
[]
[]
[]
[]
[]
[]
[]
[]
[]
[]
[]
[]
[]
[]
[]
[]
[]
[]
[]
[]
[]
[]
[]
[]
[]
[]
[]
[]
[]
[]
[]
[]
[]
[]
[]
[]
[]
[]
[]
[]
[]
[]
[]
[]
[]
[]
[]
[]
[]
[]
[]
[]
[]
[]
[]
[]
[]
[]
[]
[]
[]
[]
[]
[]
[]
[]
[]
[]
[]
[]
[]
[]
[]
[]
[]
[]
[]
[]
[]
[]
[]
[]
[]
[]
[]
[]
[]
[]
[]
[]
[]
[]
[]
[]
[]
[]
[]
[]
[]
[]
[]
[]
[]
[]
[]
[]
[]
[]
[]
[]
[]
[]
[]
[]
[]
[]
[]
[]
[]
[]
[]
[]
[]
[]
[]
[]
[]
[]
[]
[]
[]
[]
[]
[]
[]
[]
[]
[]
[]
[]
[]
[]
[]
[]
[]
[]
[]
[]
[]
[]
[]
[]
[]
[]
[]
[]
[]
[]
[]
[]
[]
[]
[]
[]
[]
[]
[]
[]
[]
[]
[]
[]
[]
[]
[]
[]
[]
[]
[]
[]
[]
[]
[]
[]
[]
[]
[]
[]
[]
[]
[]
[]
[]
[]
[]
[]
[]
[]
[]
[]
[]
[]
[]
[]
[]
[]
[]
[]
[]
[]
[]
[]
[]
[]
[]
[]
[]
[]
[]
[]
[]
[]
[]
[]
[]
[]
[]
[]
[]
[]
[]
[]
[]
[]
[]
[]
[]
[]
[]
[]
[]
[]
[]
[]
[]
[]
[]
[]
[]
[]
[]
[]
[]
[]
[]
[]
[]
[]
[]
[]
[]
[]
[]
[]
[]
[]
[]
[]
[]
[]
[]
[]
[]
[]
[]
[]
[]
[]
[]
[]
[]
[]
[]
[]
[]
[]
[]
[]
[]
[]
[]
[]
[]
[]
[]
[]
[]
[]
[]
[]
[]
[]
[]
[]
[]
[]
[]
[]
[]
[]
[]
[]
[]
[]
[]
[]
[]
[]
[]
[]
[]
[]
[]
[]
[]
[]
[]
[]
[]
[]
[]
[]
[]
[]
[]
[]
[]
[]
[]
[]
[]
[]
[]
[]
[]
[]
[]
[]
[]
[]
[]
[]
[]
[]
[]
[]
[]
[]
[]
[]
[]
[]
[]
[]
[]
[]
[]
[]
[]
[]
[]
[]
[]
[]
[]
[]
[]
[]
[]
[]
[]
[]
[]
[]
[]
[]
[]
[]
[]
[]
[]
[]
[]
[]
[]
[]
[]
[]
[]
[]
[]
[]
[]
[]
[]
[]
[]
[]
[]
[]
[]
[]
[]
[]
[]
[]
[]
[]
[]
[]
[]
[]
[]
[]
[]
[]
[]
[]
[]
[]
[]
[]
[]
[]
[]
[]
[]
[]
[]
[]
[]
[]
[]
[]
[]
[]
[]
[]
[]
[]
[]
[]
[]
[]
[]
[]
[]
[]
[]
[]
[]
[]
[]
[]
[]
[]
[]
[]
[]
[]
[]
[]
[]
[]
[]
[]
[]
[]
[]
[]
[]
[]
[]
[]
[]
[]
[]
[]
[]
[]
[]
[]
[]
[]
[]
[]
[]
[]
[]
[]
[]
[]
[]
[]
[]
[]
[]
[]
[]
[]
[]
[]
[]
[]
[]
[]
[]
[]
[]
[]
[]
[]
[]
[]
[]
[]
[]
[]
[]
[]
[]
[]
[]
[]
[]
[]
[]
[]
[]
[]
[]
[]
[]
[]
[]
[]
[]
[]
[]
[]
[]
[]
[]
[]
[]
[]
[]
[]
[]
[]
[]
[]
[]
[]
[]
[]
[]
[]
[]
[]
[]
[]
[]
[]
[]
[]
[]
[]
[]
[]
[]
[]
[]
[]
[]
[]
[]
[]
[]
[]
[]
[]
[]
[]
[]
[]
[]
[]
[]
[]
[]
[]
[]
[]
[]
[]
[]
[]
[]
[]
[]
[]
[]
[]
[]
[]
[]
[]
[]
[]
[]
[]
[]
[]
[]
[]
[]
[]
[]
[]
[]
[]
[]
[]
[]
[]
[]
[]
[]
[]
[]
[]
[]
[]
[]
[]
[]
[]
[]
[]
[]
[]
[]
[]
[]
[]
[]
[]
[]
[]
[]
[]
[]
[]
[]
[]
[]
[]
[]
[]
[]
[]
[]
[]
[]
[]
[]
[]
[]
[]
[]
[]
[]
[]
[]
[]
[]
[]
[]
[]
[]
[]
[]
[]
[]
[]
[]
[]
[]
[]
[]
[]
[]
[]
[]
[]
[]
[]
[]
[]
[]
[]
[]
[]
[]
[]
[]
[]
[]
[]
[]
[]
[]
[]
[]
[]
[]
[]
[]
[]
[]
[]
[]
[]
[]
[]
[]
[]
[]
[]
[]
[]
[]
[]
[]
[]
[]
[]
[]
[]
[]
[]
[]
[]
[]
[]
[]
[]
[]
[]
[]
[]
[]
[]
[]
[]
[]
[]
[]
[]
[]
[]
[]
[]
[]
[]
[]
[]
[]
[]
[]
[]
[]
[]
[]
[]
[]
[]
[]
[]
[]
[]
[]
[]
[]
[]
[]
[]
[]
[]
[]
[]
[]
[]
[]
[]
[]
[]
[]
[]
[]
[]
[]
[]
[]
[]
[]
[]
[]
[]
[]
[]
[]
[]
[]
[]
[]
[]
[]
[]
[]
[]
[]
[]
[]
[]
[]
[]
[]
[]
[]
[]
[]
[]
[]
[]
[]
[]
[]
[]
[]
[]
[]
[]
[]
[]
[]
[]
[]
[]
[]
[]
[]
[]
[]
[]
[]
[]
[]
[]
[]
[]
[]
[]
[]
[]
[]
[]
[]
[]
[]
[]
[]
[]
[]
[]
[]
[]
[]
[]
[]
[]
[]
[]
[]
[]
[]
[]
[]
[]
[]
[]
[]
[]
[]
[]
[]
[]
[]
[]
[]
[]
[]
[]
[]
[]
[]
[]
[]
[]
[]
[]
[]
[]
[]
[]
[]
[]
[]
[]
[]
[]
[]
[]
[]
[]
[]
[]
[]
[]
[]
[]
[]
[]
[]
[]
[]
[]
[]
[]
[]
[]
[]
[]
[]
[]
[]
[]
[]
[]
[]
[]
[]
[]
[]
[]
[]
[]
[]
[]
[]
[]
[]
[]
[]
[]
[]
[]
[]
[]
[]
[]
[]
[]
[]
[]
[]
[]
[]
[]
[]
[]
[]
[]
[]
[]
[]
[]
[]
[]
[]
[]
[]
[]
[]
[]
[]
[]
[]
[]
[]
[]
[]
[]
[]
[]
[]
[]
[]
[]
[]
[]
[]
[]
[]
[]
[]
[]
[]
[]
[]
[]
[]
[]
[]
[]
[]
[]
[]
[]
[]
[]
[]
[]
[]
[]
[]
[]
[]
[]
[]
[]
[]
[]
[]
[]
[]
[]
[]
[]
[]
[]
[]
[]
[]
[]
[]
[]
[]
[]
[]
[]
[]
[]
[]
[]
[]
[]
[]
[]
[]
[]
[]
[]
[]
[]
[]
[]
[]
[]
[]
[]
[]
[]
[]
[]
[]
[]
[]
[]
[]
[]
[]
[]
[]
[]
[]
[]
[]
[]
[]
[]
[]
[]
[]
[]
[]
[]
[]
[]
[]
[]
[]
[]
[]
[]
[]
[]
[]
[]
[]
[]
[]
[]
[]
[]
[]
[]
[]
[]
[]
[]
[]
[]
[]
[]
[]
[]
[]
[]
[]
[]
[]
[]
[]
[]
[]
[]
[]
[]
[]
[]
[]
[]
[]
[]
[]
[]
[]
[]
[]
[]
[]
[]
[]
[]
[]
[]
[]
[]
[]
[]
[]
[]
[]
[]
[]
[]
[]
[]
[]
[]
[]
[]
[]
[]
[]
[]
[]
[]
[]
[]
[]
[]
[]
[]
[]
[]
[]
[]
[]
[]
[]
[]
[]
[]
[]
[]
[]
[]
[]
[]
[]
[]
[]
[]
[]
[]
[]
[]
[]
[]
[]
[]
[]
[]
[]
[]
[]
[]
[]
[]
[]
[]
[]
[]
[]
[]
[]
[]
[]
[]
[]
[]
[]
[]
[]
[]
[]
[]
[]
[]
[]
[]
[]
[]
[]
[]
[]
[]
[]
[]
[]
[]
[]
[]
[]
[]
[]
[]
[]
[]
[]
[]
[]
[]
[]
[]
[]
[]
[]
[]
[]
[]
[]
[]
[]
[]
[]
[]
[]
[]
[]
[]
[]
[]
[]
[]
[]
[]
[]
[]
[]
[]
[]
[]
[]
[]
[]
[]
[]
[]
[]
[]
[]
[]
[]
[]
[]
[]
[]
[]
[]
[]
[]
[]
[]
[]
[]
[]
[]
[]
[]
[]
[]
[]
[]
[]
[]
[]
[]
[]
[]
[]
[]
[]
[]
[]
[]
[]
[]
[]
[]
[]
[]
[]
[]
[]
[]
[]
[]
[]
[]
[]
[]
[]
[]
[]
[]
[]
[]
[]
[]
[]
[]
[]
[]
[]
[]
[]
[]
[]
[]
[]
[]
[]
[]
[]
[]
[]
[]
[]
[]
[]
[]
[]
[]
[]
[]
[]
[]
[]
[]
[]
[]
[]
[]
[]
[]
[]
[]
[]
[]
[]
[]
[]
[]
[]
[]
[]
[]
[]
[]
[]
[]
[]
[]
[]
[]
[]
[]
[]
[]
[]
[]
[]
[]
[]
[]
[]
[]
[]
[]
[]
[]
[]
[]
[]
[]
[]
[]
[]
[]
[]
[]
[]
[]
[]
[]
[]
[]
[]
[]
[]
[]
[]
[]
[]
[]
[]
[]
[]
[]
[]
[]
[]
[]
[]
[]
[]
[]
[]
[]
[]
[]
[]
[]
[]
[]
[]
[]
[]
[]
[]
[]
[]
[]
[]
[]
[]
[]
[]
[]
[]
[]
[]
[]
[]
[]
[]
[]
[]
[]
[]
[]
[]
[]
[]
[]
[]
[]
[]
[]
[]
[]
[]
[]
[]
[]
[]
[]
[]
[]
[]
[]
[]
[]
[]
[]
[]
[]
[]
[]
[]
[]
[]
[]
[]
[]
[]
[]
[]
[]
[]
[]
[]
[]
[]
[]
[]
[]
[]
[]
[]
[]
[]
[]
[]
[]
[]
[]
[]
[]
[]
[]
[]
[]
[]
[]
[]
[]
[]
[]
[]
[]
[]
[]
[]
[]
[]
[]
[]
[]
[]
[]
[]
[]
[]
[]
[]
[]
[]
[]
[]
[]
[]
[]
[]
[]
[]
[]
[]
[]
[]
[]
[]
[]
[]
[]
[]
[]
[]
[]
[]
[]
[]
[]
[]
[]
[]
[]
[]
[]
[]
[]
[]
[]
[]
[]
[]
[]
[]
[]
[]
[]
[]
[]
[]
[]
[]
[]
[]
[]
[]
[]
[]
[]
[]
[]
[]
[]
[]
[]
[]
[]
[]
[]
[]
[]
[]
[]
[]
[]
[]
[]
[]
[]
[]
[]
[]
[]
[]
[]
[]
[]
[]
[]
[]
[]
[]
[]
[]
[]
[]
[]
[]
[]
[]
[]
[]
[]
[]
[]
[]
[]
[]
[]
[]
[]
[]
[]
[]
[]
[]
[]
[]
[]
[]
[]
[]
[]
[]
[]
[]
[]
[]
[]
[]
[]
[]
[]
[]
[]
[]
[]
[]
[]
[]
[]
[]
[]
[]
[]
[]
[]
[]
[]
[]
[]
[]
[]
[]
[]
[]
[]
[]
[]
[]
[]
[]
[]
[]
[]
[]
[]
[]
[]
[]
[]
[]
[]
[]
[]
[]
[]
[]
[]
[]
[]
[]
[]
[]
[]
[]
[]
[]
[]
[]
[]
[]
[]
[]
[]
[]
[]
[]
[]
[]
[]
[]
[]
[]
[]
[]
[]
[]
[]
[]
[]
[]
[]
[]
[]
[]
[]
[]
[]
[]
[]
[]
[]
[]
[]
[]
[]
[]
[]
[]
[]
[]
[]
[]
[]
[]
[]
[]
[]
[]
[]
[]
[]
[]
[]
[]
[]
[]
[]
[]
[]
[]
[]
[]
[]
[]
[]
[]
[]
[]
[]
[]
[]
[]
[]
[]
[]
[]
[]
[]
[]
[]
[]
[]
[]
[]
[]
[]
[]
[]
[]
[]
[]
[]
[]
[]
[]
[]
[]
[]
[]
[]
[]
[]
[]
[]
[]
[]
[]
[]
[]
[]
[]
[]
[]
[]
[]
[]
[]
[]
[]
[]
[]
[]
[]
[]
[]
[]
[]
[]
[]
[]
[]
[]
[]
[]
[]
[]
[]
[]
[]
[]
[]
[]
[]
[]
[]
[]
[]
[]
[]
[]
[]
[]
[]
[]
[]
[]
[]
[]
[]
[]
[]
[]
[]
[]
[]
[]
[]
[]
[]
[]
[]
[]
[]
[]
[]
[]
[]
[]
[]
[]
[]
[]
[]
[]
[]
[]
[]
[]
[]
[]
[]
[]
[]
[]
[]
[]
[]
[]
[]
[]
[]
[]
[]
[]
[]
[]
[]
[]
[]
[]
[]
[]
[]
[]
[]
[]
[]
[]
[]
[]
[]
[]
[]
[]
[]
[]
[]
[]
[]
[]
[]
[]
[]
[]
[]
[]
[]
[]
[]
[]
[]
[]
[]
[]
[]
[]
[]
[]
[]
[]
[]
[]
[]
[]
[]
[]
[]
[]
[]
[]
[]
[]
[]
[]
[]
[]
[]
[]
[]
[]
[]
[]
[]
[]
[]
[]
[]
[]
[]
[]
[]
[]
[]
[]
[]
[]
[]
[]
[]
[]
[]
[]
[]
[]
[]
[]
[]
[]
[]
[]
[]
[]
[]
[]
[]
[]
[]
[]
[]
[]
[]
[]
[]
[]
[]
[]
[]
[]
[]
[]
[]
[]
[]
[]
[]
[]
[]
[]
[]
[]
[]
[]
[]
[]
[]
[]
[]
[]
[]
[]
[]
[]
[]
[]
[]
[]
[]
[]
[]
[]
[]
[]
[]
[]
[]
[]
[]
[]
[]
[]
[]
[]
[]
[]
[]
[]
[]
[]
[]
[]
[]
[]
[]
[]
[]
[]
[]
[]
[]
[]
[]
[]
[]
[]
[]
[]
[]
[]
[]
[]
[]
[]
[]
[]
[]
[]
[]
[]
[]
[]
[]
[]
[]
[]
[]
[]
[]
[]
[]
[]
[]
[]
[]
[]
[]
[]
[]
[]
[]
[]
[]
[]
[]
[]
[]
[]
[]
[]
[]
[]
[]
[]
[]
[]
[]
[]
[]
[]
[]
[]
[]
[]
[]
[]
[]
[]
[]
[]
[]
[]
[]
[]
[]
[]
[]
[]
[]
[]
[]
[]
[]
[]
[]
[]
[]
[]
[]
[]
[]
[]
[]
[]
[]
[]
[]
[]
[]
[]
[]
[]
[]
[]
[]
[]
[]
[]
[]
[]
[]
[]
[]
[]
[]
[]
[]
[]
[]
[]
[]
[]
[]
[]
[]
[]
[]
[]
[]
[]
[]
[]
[]
[]
[]
[]
[]
[]
[]
[]
[]
[]
[]
[]
[]
[]
[]
[]
[]
[]
[]
[]
[]
[]
[]
[]
[]
[]
[]
[]
[]
[]
[]
[]
[]
[]
[]
[]
[]
[]
[]
[]
[]
[]
[]
[]
[]
[]
[]
[]
[]
[]
[]
[]
[]
[]
[]
[]
[]
[]
[]
[]
[]
[]
[]
[]
[]
[]
[]
[]
[]
[]
[]
[]
[]
[]
[]
[]
[]
[]
[]
[]
[]
[]
[]
[]
[]
[]
[]
[]
[]
[]
[]
[]
[]
[]
[]
[]
[]
[]
[]
[]
[]
[]
[]
[]
[]
[]
[]
[]
[]
[]
[]
[]
[]
[]
[]
[]
[]
[]
[]
[]
[]
[]
[]
[]
[]
[]
[]
[]
[]
[]
[]
[]
[]
[]
[]
[]
[]
[]
[]
[]
[]
[]
[]
[]
[]
[]
[]
[]
[]
[]
[]
[]
[]
[]
[]
[]
[]
[]
[]
[]
[]
[]
[]
[]
[]
[]
[]
[]
[]
[]
[]
[]
[]
[]
[]
[]
[]
[]
[]
[]
[]
[]
[]
[]
[]
[]
[]
[]
[]
[]
[]
[]
[]
[]
[]
[]
[]
[]
[]
[]
[]
[]
[]
[]
[]
[]
[]
[]
[]
[]
[]
[]
[]
[]
[]
[]
[]
[]
[]
[]
[]
[]
[]
[]
[]
[]
[]
[]
[]
[]
[]
[]
[]
[]
[]
[]
[]
[]
[]
[]
[]
[]
[]
[]
[]
[]
[]
[]
[]
[]
[]
[]
[]
[]
[]
[]
[]
[]
[]
[]
[]
[]
[]
[]
[]
[]
[]
[]
[]
[]
[]
[]
[]
[]
[]
[]
[]
[]
[]
[]
[]
[]
[]
[]
[]
[]
[]
[]
[]
[]
[]
[]
[]
[]
[]
[]
[]
[]
[]
[]
[]
[]
[]
[]
[]
[]
[]
[]
[]
[]
[]
[]
[]
[]
[]
[]
[]
[]
[]
[]
[]
[]
[]
[]
[]
[]
[]
[]
[]
[]
[]
[]
[]
[]
[]
[]
[]
[]
[]
[]
[]
[]
[]
[]
[]
[]
[]
[]
[]
[]
[]
[]
[]
[]
[]
[]
[]
[]
[]
[]
[]
[]
[]
[]
[]
[]
[]
[]
[]
[]
[]
[]
[]
[]
[]
[]
[]
[]
[]
[]
[]
[]
[]
[]
[]
[]
[]
[]
[]
[]
[]
[]
[]
[]
[]
[]
[]
[]
[]
[]
[]
[]
[]
[]
[]
[]
[]
[]
[]
[]
[]
[]
[]
[]
[]
[]
[]
[]
[]
[]
[]
[]
[]
[]
[]
[]
[]
[]
[]
[]
[]
[]
[]
[]
[]
[]
[]
[]
[]
[]
[]
[]
[]
[]
[]
[]
[]
[]
[]
[]
[]
[]
[]
[]
[]
[]
[]
[]
[]
[]
[]
[]
[]
[]
[]
[]
[]
[]
[]
[]
[]
[]
[]
[]
[]
[]
[]
[]
[]
[]
[]
[]
[]
[]
[]
[]
[]
[]
[]
[]
[]
[]
[]
[]
[]
[]
[]
[]
[]
[]
[]
[]
[]
[]
[]
[]
[]
[]
[]
[]
[]
[]
[]
[]
[]
[]
[]
[]
[]
[]
[]
[]
[]
[]
[]
[]
[]
[]
[]
[]
[]
[]
[]
[]
[]
[]
[]
[]
[]
[]
[]
[]
[]
[]
[]
[]
[]
[]
[]
[]
[]
[]
[]
[]
[]
[]
[]
[]
[]
[]
[]
[]
[]
[]
[]
[]
[]
[]
[]
[]
[]
[]
[]
[]
[]
[]
[]
[]
[]
[]
[]
[]
[]
[]
[]
[]
[]
[]
[]
[]
[]
[]
[]
[]
[]
[]
[]
[]
[]
[]
[]
[]
[]
[]
[]
[]
[]
[]
[]
[]
[]
[]
[]
[]
[]
[]
[]
[]
[]
[]
[]
[]
[]
[]
[]
[]
[]
[]
[]
[]
[]
[]
[]
[]
[]
[]
[]
[]
[]
[]
[]
[]
[]
[]
[]
[]
[]
[]
[]
[]
[]
[]
[]
[]
[]
[]
[]
[]
[]
[]
[]
[]
[]
[]
[]
[]
[]
[]
[]
[]
[]
[]
[]
[]
[]
[]
[]
[]
[]
[]
[]
[]
[]
[]
[]
[]
[]
[]
[]
[]
[]
[]
[]
[]
[]
[]
[]
[]
[]
[]
[]
[]
[]
[]
[]
[]
[]
[]
[]
[]
[]
[]
[]
[]
[]
[]
[]
[]
[]
[]
[]
[]
[]
[]
[]
[]
[]
[]
[]
[]
[]
[]
[]
[]
[]
[]
[]
[]
[]
[]
[]
[]
[]
[]
[]
[]
[]
[]
[]
[]
[]
[]
[]
[]
[]
[]
[]
[]
[]
[]
[]
[]
[]
[]
[]
[]
[]
[]
[]
[]
[]
[]
[]
[]
[]
[]
[]
[]
[]
[]
[]
[]
[]
[]
[]
[]
[]
[]
[]
[]
[]
[]
[]
[]
[]
[]
[]
[]
[]
[]
[]
[]
[]
[]
[]
[]
[]
[]
[]
[]
[]
[]
[]
[]
[]
[]
[]
[]
[]
[]
[]
[]
[]
[]
[]
[]
[]
[]
[]
[]
[]
[]
[]
[]
[]
[]
[]
[]
[]
[]
[]
[]
[]
[]
[]
[]
[]
[]
[]
[]
[]
[]
[]
[]
[]
[]
[]
[]
[]
[]
[]
[]
[]
[]
[]
[]
[]
[]
[]
[]
[]
[]
[]
[]
[]
[]
[]
[]
[]
[]
[]
[]
[]
[]
[]
[]
[]
[]
[]
[]
[]
[]
[]
[]
[]
[]
[]
[]
[]
[]
[]
[]
[]
[]
[]
[]
[]
[]
[]
[]
[]
[]
[]
[]
[]
[]
[]
[]
[]
[]
[]
[]
[]
[]
[]
[]
[]
[]
[]
[]
[]
[]
[]
[]
[]
[]
[]
[]
[]
[]
[]
[]
[]
[]
[]
[]
[]
[]
[]
[]
[]
[]
[]
[]
[]
[]
[]
[]
[]
[]
[]
[]
[]
[]
[]
[]
[]
[]
[]
[]
[]
[]
[]
[]
[]
[]
[]
[]
[]
[]
[]
[]
[]
[]
[]
[]
[]
[]
[]
[]
[]
[]
[]
[]
[]
[]
[]
[]
[]
[]
[]
[]
[]
[]
[]
[]
[]
[]
[]
[]
[]
[]
[]
[]
[]
[]
[]
[]
[]
[]
[]
[]
[]
[]
[]
[]
[]
[]
[]
[]
[]
[]
[]
[]
[]
[]
[]
[]
[]
[]
[]
[]
[]
[]
[]
[]
[]
[]
[]
[]
[]
[]
[]
[]
[]
[]
[]
[]
[]
[]
[]
[]
[]
[]
[]
[]
[]
[]
[]
[]
[]
[]
[]
[]
[]
[]
[]
[]
[]
[]
[]
[]
[]
[]
[]
[]
[]
[]
[]
[]
[]
[]
[]
[]
[]
[]
[]
[]
[]
[]
[]
[]
[]
[]
[]
[]
[]
[]
[]
[]
[]
[]
[]
[]
[]
[]
[]
[]
[]
[]
[]
[]
[]
[]
[]
[]
[]
[]
[]
[]
[]
[]
[]
[]
[]
[]
[]
[]
[]
[]
[]
[]
[]
[]
[]
[]
[]
[]
[]
[]
[]
[]
[]
[]
[]
[]
[]
[]
[]
[]
[]
[]
[]
[]
[]
[]
[]
[]
[]
[]
[]
[]
[]
[]
[]
[]
[]
[]
[]
[]
[]
[]
[]
[]
[]
[]
[]
[]
[]
[]
[]
[]
[]
[]
[]
[]
[]
[]
[]
[]
[]
[]
[]
[]
[]
[]
[]
[]
[]
[]
[]
[]
[]
[]
[]
[]
[]
[]
[]
[]
[]
[]
[]
[]
[]
[]
[]
[]
[]
[]
[]
[]
[]
[]
[]
[]
[]
[]
[]
[]
[]
[]
[]
[]
[]
[]
[]
[]
[]
[]
[]
[]
[]
[]
[]
[]
[]
[]
[]
[]
[]
[]
[]
[]
[]
[]
[]
[]
[]
[]
[]
[]
[]
[]
[]
[]
[]
[]
[]
[]
[]
[]
[]
[]
[]
[]
[]
[]
[]
[]
[]
[]
[]
[]
[]
[]
[]
[]
[]
[]
[]
[]
[]
[]
[]
[]
[]
[]
[]
[]
[]
[]
[]
[]
[]
[]
[]
[]
[]
[]
[]
[]
[]
[]
[]
[]
[]
[]
[]
[]
[]
[]
[]
[]
[]
[]
[]
[]
[]
[]
[]
[]
[]
[]
[]
[]
[]
[]
[]
[]
[]
[]
[]
[]
[]
[]
[]
[]
[]
[]
[]
[]
[]
[]
[]
[]
[]
[]
[]
[]
[]
[]
[]
[]
[]
[]
[]
[]
[]
[]
[]
[]
[]
[]
[]
[]
[]
[]
[]
[]
[]
[]
[]
[]
[]
[]
[]
[]
[]
[]
[]
[]
[]
[]
[]
[]
[]
[]
[]
[]
[]
[]
[]
[]
[]
[]
[]
[]
[]
[]
[]
[]
[]
[]
[]
[]
[]
[]
[]
[]
[]
[]
[]
[]
[]
[]
[]
[]
[]
[]
[]
[]
[]
[]
[]
[]
[]
[]
[]
[]
[]
[]
[]
[]
[]
[]
[]
[]
[]
[]
[]
[]
[]
[]
[]
[]
[]
[]
[]
[]
[]
[]
[]
[]
[]
[]
[]
[]
[]
[]
[]
[]
[]
[]
[]
[]
[]
[]
[]
[]
[]
[]
[]
[]
[]
[]
[]
[]
[]
[]
[]
[]
[]
[]
[]
[]
[]
[]
[]
[]
[]
[]
[]
[]
[]
[]
[]
[]
[]
[]
[]
[]
[]
[]
[]
[]
[]
[]
[]
[]
[]
[]
[]
[]
[]
[]
[]
[]
[]
[]
[]
[]
[]
[]
[]
[]
[]
[]
[]
[]
[]
[]
[]
[]
[]
[]
[]
[]
[]
[]
[]
[]
[]
[]
[]
[]
[]
[]
[]
[]
[]
[]
[]
[]
[]
[]
[]
[]
[]
[]
[]
[]
[]
[]
[]
[]
[]
[]
[]
[]
[]
[]
[]
[]
[]
[]
[]
[]
[]
[]
[]
[]
[]
[]
[]
[]
[]
[]
[]
[]
[]
[]
[]
[]
[]
[]
[]
[]
[]
[]
[]
[]
[]
[]
[]
[]
[]
[]
[]
[]
[]
[]
[]
[]
[]
[]
[]
[]
[]
[]
[]
[]
[]
[]
[]
[]
[]
[]
[]
[]
[]
[]
[]
[]
[]
[]
[]
[]
[]
[]
[]
[]
[]
[]
[]
[]
[]
[]
[]
[]
[]
[]
[]
[]
[]
[]
[]
[]
[]
[]
[]
[]
[]
[]
[]
[]
[]
[]
[]
[]
[]
[]
[]
[]
[]
[]
[]
[]
[]
[]
[]
[]
[]
[]
[]
[]
[]
[]
[]
[]
[]
[]
[]
[]
[]
[]
[]
[]
[]
[]
[]
[]
[]
[]
[]
[]
[]
[]
[]
[]
[]
[]
[]
[]
[]
[]
[]
[]
[]
[]
[]
[]
[]
[]
[]
[]
[]
[]
[]
[]
[]
[]
[]
[]
[]
[]
[]
[]
[]
[]
[]
[]
[]
[]
[]
[]
[]
[]
[]
[]
[]
[]
[]
[]
[]
[]
[]
[]
[]
[]
[]
[]
[]
[]
[]
[]
[]
[]
[]
[]
[]
[]
[]
[]
[]
[]
[]
[]
[]
[]
[]
[]
[]
[]
[]
[]
[]
[]
[]
[]
[]
[]
[]
[]
[]
[]
[]
[]
[]
[]
[]
[]
[]
[]
[]
[]
[]
[]
[]
[]
[]
[]
[]
[]
[]
[]
[]
[]
[]
[]
[]
[]
[]
[]
[]
[]
[]
[]
[]
[]
[]
[]
[]
[]
[]
[]
[]
[]
[]
[]
[]
[]
[]
[]
[]
[]
[]
[]
[]
[]
[]
[]
[]
[]
[]
[]
[]
[]
[]
[]
[]
[]
[]
[]
[]
[]
[]
[]
[]
[]
[]
[]
[]
[]
[]
[]
[]
[]
[]
[]
[]
[]
[]
[]
[]
[]
[]
[]
[]
[]
[]
[]
[]
[]
[]
[]
[]
[]
[]
[]
[]
[]
[]
[]
[]
[]
[]
[]
[]
[]
[]
[]
[]
[]
[]
[]
[]
[]
[]
[]
[]
[]
[]
[]
[]
[]
[]
[]
[]
[]
[]
[]
[]
[]
[]
[]
[]
[]
[]
[]
[]
[]
[]
[]
[]
[]
[]
[]
[]
[]
[]
[]
[]
[]
[]
[]
[]
[]
[]
[]
[]
[]
[]
[]
[]
[]
[]
[]
[]
[]
[]
[]
[]
[]
[]
[]
[]
[]
[]
[]
[]
[]
[]
[]
[]
[]
[]
[]
[]
[]
[]
[]
[]
[]
[]
[]
[]
[]
[]
[]
[]
[]
[]
[]
[]
[]
[]
[]
[]
[]
[]
[]
[]
[]
[]
[]
[]
[]
[]
[]
[]
[]
[]
[]
[]
[]
[]
[]
[]
[]
[]
[]
[]
[]
[]
[]
[]
[]
[]
[]
[]
[]
[]
[]
[]
[]
[]
[]
[]
[]
[]
[]
[]
[]
[]
[]
[]
[]
[]
[]
[]
[]
[]
[]
[]
[]
[]
[]
[]
[]
[]
[]
[]
[]
[]
[]
[]
[]
[]
[]
[]
[]
[]
[]
[]
[]
[]
[]
[]
[]
[]
[]
[]
[]
[]
[]
["4a",null,"D-T"]
["4a",null,"E","D-T"]
["4a",null,"E-T","E"]
["4a",null,"BE","E-T"]
["4a",null,"Soz","BE"]
["4a",null,"BSP","Soz"]
["4a",null,"BU","BSP"]
["4a",null,"C","BU"]
["4a",null,"EH","C"]
["4a",null,"GS","EH"]
["4a",null,"GW","GS"]
["4a",null,"GZ","GW"]
["4a",null,"ME","GZ"]
["4a",null,"PH","ME"]
["4a",null,"P / C","PH"]
["4a",null,"Werken","P / C"]
["4a",null,"Rel","Werken"]
["4a",null,"S-BO","Rel"]
["4a",null,"S-BU","S-BO"]
["4a",null,"S-EH","S-BU"]
["4a",null,"S-GW","S-EH"]
["4a",null,"S-GZ","S-GW"]
["4a",null,"S-PC","S-GZ"]
["4a",null,"KrGe","S-PC"]
["4a",null,"unv. DSP","KrGe"]
["4a",null,"unv. FB","unv. DSP"]
["4a",null,"INF Sta","unv. FB"]
["4a",null,"INF ECDL","INF Sta"]
["4a",null,"unv. KET","INF ECDL"]
["4a",null,"GTS","unv. KET"]
["4a",null,"GTS-L","GTS"]
["4a",null,"frei","GTS-L"]
["4a",null,"frei","frei"]
["4a",null,"frei","frei"]
["4a",null,"frei","frei"]
["4a",null,"frei","frei"]
["4a",null,"frei","frei"]
["4a",null,"frei","frei"]
["4a",null,"frei","frei"]
["4a",null,"M","frei"]
["4a",null,"M-T","M"]
["4a",null,"D","M-T"]
["4a",null,"D-T","D"]
["4a",null,"E","D-T"]
["4a",null,"E-T","E"]
["4a",null,"BE","E-T"]
["4a",null,"Soz","BE"]
["4a",null,"BSP","Soz"]
["4a",null,"BU","BSP"]
["4a",null,"C","BU"]
["4a",null,"EH","C"]
["4a",null,"GS","EH"]
["4a",null,"GW","GS"]
["4a",null,"GZ","GW"]
["4a",null,"ME","GZ"]
["4a",null,"PH","ME"]
["4a",null,"P / C","PH"]
["4a",null,"Werken","P / C"]
["4a",null,"Rel","Werken"]
["4a",null,"S-BO","Rel"]
["4a",null,"S-BU","S-BO"]
["4a",null,"S-EH","S-BU"]
["4a",null,"S-GW","S-EH"]
["4a",null,"S-GZ","S-GW"]
["4a",null,"S-PC","S-GZ"]
["4a",null,"KrGe","S-PC"]
["4a",null,"unv. DSP","KrGe"]
["4a",null,"unv. FB","unv. DSP"]
["4a",null,"INF Sta","unv. FB"]
["4a",null,"INF ECDL","INF Sta"]
["4a",null,"unv. KET","INF ECDL"]
["4a",null,"GTS","unv. KET"]
["4a",null,"GTS-L","GTS"]
["4a",null,"frei","GTS-L"]
["4a",null,"frei","frei"]
["4a",null,"frei","frei"]
["4a",null,"frei","frei"]
["4a",null,"frei","frei"]
["4a",null,"frei","frei"]
["4a",null,"frei","frei"]
["4a",null,"frei","frei"]
["4b","Salfert Sigrid ","M","frei"]
["4b","Salfert Sigrid ","M-T","M"]
["4b","Salfert Sigrid ","D","M-T"]
["4b","Salfert Sigrid ","D-T","D"]
["4b","Salfert Sigrid ","E","D-T"]
["4b","Salfert Sigrid ","E-T","E"]
["4b","Salfert Sigrid ","BE","E-T"]
["4b","Salfert Sigrid ","Soz","BE"]
["4b","Salfert Sigrid ","BSP","Soz"]
["4b","Salfert Sigrid ","BU","BSP"]
["4b","Salfert Sigrid ","C","BU"]
["4b","Salfert Sigrid ","EH","C"]
["4b","Salfert Sigrid ","GS","EH"]
["4b","Salfert Sigrid ","GW","GS"]
["4b","Salfert Sigrid ","GZ","GW"]
["4b","Salfert Sigrid ","ME","GZ"]
["4b","Salfert Sigrid ","PH","ME"]
["4b","Salfert Sigrid ","P / C","PH"]
["4b","Salfert Sigrid ","Werken","P / C"]
["4b","Salfert Sigrid ","Rel","Werken"]
["4b","Salfert Sigrid ","S-BO","Rel"]
["4b","Salfert Sigrid ","S-BU","S-BO"]
["4b","Salfert Sigrid ","S-EH","S-BU"]
["4b","Salfert Sigrid ","S-GW","S-EH"]
["4b","Salfert Sigrid ","S-GZ","S-GW"]
["4b","Salfert Sigrid ","S-PC","S-GZ"]
["4b","Salfert Sigrid ","KrGe","S-PC"]
["4b","Salfert Sigrid ","unv. DSP","KrGe"]
["4b","Salfert Sigrid ","unv. FB","unv. DSP"]
["4b","Salfert Sigrid ","INF Sta","unv. FB"]
["4b","Salfert Sigrid ","INF ECDL","INF Sta"]
["4b","Salfert Sigrid ","unv. KET","INF ECDL"]
["4b","Salfert Sigrid ","GTS","unv. KET"]
["4b","Salfert Sigrid ","GTS-L","GTS"]
["4b","Salfert Sigrid ","frei","GTS-L"]
["4b","Salfert Sigrid ","frei","frei"]
["4b","Salfert Sigrid ","frei","frei"]
["4b","Salfert Sigrid ","frei","frei"]
["4b","Salfert Sigrid ","frei","frei"]
["4b","Salfert Sigrid ","frei","frei"]
["4b","Salfert Sigrid ","frei","frei"]
["4b","Salfert Sigrid ","frei","frei"]
["4b","Bründlmayer Helga","M","frei"]
["4b","Bründlmayer Helga","M-T","M"]
["4b","Bründlmayer Helga","D","M-T"]
["4b","Bründlmayer Helga","D-T","D"]
["4b","Bründlmayer Helga","E","D-T"]
["4b","Bründlmayer Helga","E-T","E"]
["4b","Bründlmayer Helga","BE","E-T"]
["4b","Bründlmayer Helga","Soz","BE"]
["4b","Bründlmayer Helga","BSP","Soz"]
["4b","Bründlmayer Helga","BU","BSP"]
["4b","Bründlmayer Helga","C","BU"]
["4b","Bründlmayer Helga","EH","C"]
["4b","Bründlmayer Helga","GS","EH"]
["4b","Bründlmayer Helga","GW","GS"]
["4b","Bründlmayer Helga","GZ","GW"]
["4b","Bründlmayer Helga","ME","GZ"]
["4b","Bründlmayer Helga","PH","ME"]
["4b","Bründlmayer Helga","P / C","PH"]
["4b","Bründlmayer Helga","Werken","P / C"]
["4b","Bründlmayer Helga","Rel","Werken"]
["4b","Bründlmayer Helga","S-BO","Rel"]
["4b","Bründlmayer Helga","S-BU","S-BO"]
["4b","Bründlmayer Helga","S-EH","S-BU"]
["4b","Bründlmayer Helga","S-GW","S-EH"]
["4b","Bründlmayer Helga","S-GZ","S-GW"]
["4b","Bründlmayer Helga","S-PC","S-GZ"]
["4b","Bründlmayer Helga","KrGe","S-PC"]
["4b","Bründlmayer Helga","unv. DSP","KrGe"]
["4b","Bründlmayer Helga","unv. FB","unv. DSP"]
["4b","Bründlmayer Helga","INF Sta","unv. FB"]
["4b","Bründlmayer Helga","INF ECDL","INF Sta"]
["4b","Bründlmayer Helga","unv. KET","INF ECDL"]
["4b","Bründlmayer Helga","GTS","unv. KET"]
["4b","Bründlmayer Helga","GTS-L","GTS"]
["4b","Bründlmayer Helga","frei","GTS-L"]
["4b","Bründlmayer Helga","frei","frei"]
["4b","Bründlmayer Helga","frei","frei"]
["4b","Bründlmayer Helga","frei","frei"]
["4b","Bründlmayer Helga","frei","frei"]
["4b","Bründlmayer Helga","frei","frei"]
["4b","Bründlmayer Helga","frei","frei"]
["4b","Bründlmayer Helga","frei","frei"]
["4b","Bäuchl Dagmar","M","frei"]
["4b","Bäuchl Dagmar","M-T","M"]
["4b","Bäuchl Dagmar","D","M-T"]
["4b","Bäuchl Dagmar","D-T","D"]
["4b","Bäuchl Dagmar","E","D-T"]
["4b","Bäuchl Dagmar","E-T","E"]
["4b","Bäuchl Dagmar","BE","E-T"]
["4b","Bäuchl Dagmar","Soz","BE"]
["4b","Bäuchl Dagmar","BSP","Soz"]
["4b","Bäuchl Dagmar","BU","BSP"]
["4b","Bäuchl Dagmar","C","BU"]
["4b","Bäuchl Dagmar","EH","C"]
["4b","Bäuchl Dagmar","GS","EH"]
["4b","Bäuchl Dagmar","GW","GS"]
["4b","Bäuchl Dagmar","GZ","GW"]
["4b","Bäuchl Dagmar","ME","GZ"]
["4b","Bäuchl Dagmar","PH","ME"]
["4b","Bäuchl Dagmar","P / C","PH"]
["4b","Bäuchl Dagmar","Werken","P / C"]
["4b","Bäuchl Dagmar","Rel","Werken"]
["4b","Bäuchl Dagmar","S-BO","Rel"]
["4b","Bäuchl Dagmar","S-BU","S-BO"]
["4b","Bäuchl Dagmar","S-EH","S-BU"]
["4b","Bäuchl Dagmar","S-GW","S-EH"]
["4b","Bäuchl Dagmar","S-GZ","S-GW"]
["4b","Bäuchl Dagmar","S-PC","S-GZ"]
["4b","Bäuchl Dagmar","KrGe","S-PC"]
["4b","Bäuchl Dagmar","unv. DSP","KrGe"]
["4b","Bäuchl Dagmar","unv. FB","unv. DSP"]
["4b","Bäuchl Dagmar","INF Sta","unv. FB"]
["4b","Bäuchl Dagmar","INF ECDL","INF Sta"]
["4b","Bäuchl Dagmar","unv. KET","INF ECDL"]
["4b","Bäuchl Dagmar","GTS","unv. KET"]
["4b","Bäuchl Dagmar","GTS-L","GTS"]
["4b","Bäuchl Dagmar","frei","GTS-L"]
["4b","Bäuchl Dagmar","frei","frei"]
["4b","Bäuchl Dagmar","frei","frei"]
["4b","Bäuchl Dagmar","frei","frei"]
["4b","Bäuchl Dagmar","frei","frei"]
["4b","Bäuchl Dagmar","frei","frei"]
["4b","Bäuchl Dagmar","frei","frei"]
["4b","Bäuchl Dagmar","frei","frei"]
["4b","Graf Esther","M","frei"]
["4b","Graf Esther","M-T","M"]
["4b","Graf Esther","D","M-T"]
["4b","Graf Esther","D-T","D"]
["4b","Graf Esther","E","D-T"]
["4b","Graf Esther","E-T","E"]
["4b","Graf Esther","BE","E-T"]
["4b","Graf Esther","Soz","BE"]
["4b","Graf Esther","BSP","Soz"]
["4b","Graf Esther","BU","BSP"]
["4b","Graf Esther","C","BU"]
["4b","Graf Esther","EH","C"]
["4b","Graf Esther","GS","EH"]
["4b","Graf Esther","GW","GS"]
["4b","Graf Esther","GZ","GW"]
["4b","Graf Esther","ME","GZ"]
["4b","Graf Esther","PH","ME"]
["4b","Graf Esther","P / C","PH"]
["4b","Graf Esther","Werken","P / C"]
["4b","Graf Esther","Rel","Werken"]
["4b","Graf Esther","S-BO","Rel"]
["4b","Graf Esther","S-BU","S-BO"]
["4b","Graf Esther","S-EH","S-BU"]
["4b","Graf Esther","S-GW","S-EH"]
["4b","Graf Esther","S-GZ","S-GW"]
["4b","Graf Esther","S-PC","S-GZ"]
["4b","Graf Esther","KrGe","S-PC"]
["4b","Graf Esther","unv. DSP","KrGe"]
["4b","Graf Esther","unv. FB","unv. DSP"]
["4b","Graf Esther","INF Sta","unv. FB"]
["4b","Graf Esther","INF ECDL","INF Sta"]
["4b","Graf Esther","unv. KET","INF ECDL"]
["4b","Graf Esther","GTS","unv. KET"]
["4b","Graf Esther","GTS-L","GTS"]
["4b","Graf Esther","frei","GTS-L"]
["4b","Graf Esther","frei","frei"]
["4b","Graf Esther","frei","frei"]
["4b","Graf Esther","frei","frei"]
["4b","Graf Esther","frei","frei"]
["4b","Graf Esther","frei","frei"]
["4b","Graf Esther","frei","frei"]
["4b","Graf Esther","frei","frei"]
["4b","Hoffmann Petra","M","frei"]
["4b","Hoffmann Petra","M-T","M"]
["4b","Hoffmann Petra","D","M-T"]
["4b","Hoffmann Petra","D-T","D"]
["4b","Hoffmann Petra","E","D-T"]
["4b","Hoffmann Petra","E-T","E"]
["4b","Hoffmann Petra","BE","E-T"]
["4b","Hoffmann Petra","Soz","BE"]
["4b","Hoffmann Petra","BSP","Soz"]
["4b","Hoffmann Petra","BU","BSP"]
["4b","Hoffmann Petra","C","BU"]
["4b","Hoffmann Petra","EH","C"]
["4b","Hoffmann Petra","GS","EH"]
["4b","Hoffmann Petra","GW","GS"]
["4b","Hoffmann Petra","GZ","GW"]
["4b","Hoffmann Petra","ME","GZ"]
["4b","Hoffmann Petra","PH","ME"]
["4b","Hoffmann Petra","P / C","PH"]
["4b","Hoffmann Petra","Werken","P / C"]
["4b","Hoffmann Petra","Rel","Werken"]
["4b","Hoffmann Petra","S-BO","Rel"]
["4b","Hoffmann Petra","S-BU","S-BO"]
["4b","Hoffmann Petra","S-EH","S-BU"]
["4b","Hoffmann Petra","S-GW","S-EH"]
["4b","Hoffmann Petra","S-GZ","S-GW"]
["4b","Hoffmann Petra","S-PC","S-GZ"]
["4b","Hoffmann Petra","KrGe","S-PC"]
["4b","Hoffmann Petra","unv. DSP","KrGe"]
["4b","Hoffmann Petra","unv. FB","unv. DSP"]
["4b","Hoffmann Petra","INF Sta","unv. FB"]
["4b","Hoffmann Petra","INF ECDL","INF Sta"]
["4b","Hoffmann Petra","unv. KET","INF ECDL"]
["4b","Hoffmann Petra","GTS","unv. KET"]
["4b","Hoffmann Petra","GTS-L","GTS"]
["4b","Hoffmann Petra","frei","GTS-L"]
["4b","Hoffmann Petra","frei","frei"]
["4b","Hoffmann Petra","frei","frei"]
["4b","Hoffmann Petra","frei","frei"]
["4b","Hoffmann Petra","frei","frei"]
["4b","Hoffmann Petra","frei","frei"]
["4b","Hoffmann Petra","frei","frei"]
["4b","Hoffmann Petra","frei","frei"]
["4b","Janacek Silke","M","frei"]
["4b","Janacek Silke","M-T","M"]
["4b","Janacek Silke","D","M-T"]
["4b","Janacek Silke","D-T","D"]
["4b","Janacek Silke","E","D-T"]
["4b","Janacek Silke","E-T","E"]
["4b","Janacek Silke","BE","E-T"]
["4b","Janacek Silke","Soz","BE"]
["4b","Janacek Silke","BSP","Soz"]
["4b","Janacek Silke","BU","BSP"]
["4b","Janacek Silke","C","BU"]
["4b","Janacek Silke","EH","C"]
["4b","Janacek Silke","GS","EH"]
["4b","Janacek Silke","GW","GS"]
["4b","Janacek Silke","GZ","GW"]
["4b","Janacek Silke","ME","GZ"]
["4b","Janacek Silke","PH","ME"]
["4b","Janacek Silke","P / C","PH"]
["4b","Janacek Silke","Werken","P / C"]
["4b","Janacek Silke","Rel","Werken"]
["4b","Janacek Silke","S-BO","Rel"]
["4b","Janacek Silke","S-BU","S-BO"]
["4b","Janacek Silke","S-EH","S-BU"]
["4b","Janacek Silke","S-GW","S-EH"]
["4b","Janacek Silke","S-GZ","S-GW"]
["4b","Janacek Silke","S-PC","S-GZ"]
["4b","Janacek Silke","KrGe","S-PC"]
["4b","Janacek Silke","unv. DSP","KrGe"]
["4b","Janacek Silke","unv. FB","unv. DSP"]
["4b","Janacek Silke","INF Sta","unv. FB"]
["4b","Janacek Silke","INF ECDL","INF Sta"]
["4b","Janacek Silke","unv. KET","INF ECDL"]
["4b","Janacek Silke","GTS","unv. KET"]
["4b","Janacek Silke","GTS-L","GTS"]
["4b","Janacek Silke","frei","GTS-L"]
["4b","Janacek Silke","frei","frei"]
["4b","Janacek Silke","frei","frei"]
["4b","Janacek Silke","frei","frei"]
["4b","Janacek Silke","frei","frei"]
["4b","Janacek Silke","frei","frei"]
["4b","Janacek Silke","frei","frei"]
["4b","Janacek Silke","frei","frei"]
["4b","Graf Michael","M","frei"]
["4b","Graf Michael","M-T","M"]
["4b","Graf Michael","D","M-T"]
["4b","Graf Michael","D-T","D"]
["4b","Graf Michael","E","D-T"]
["4b","Graf Michael","E-T","E"]
["4b","Graf Michael","BE","E-T"]
["4b","Graf Michael","Soz","BE"]
["4b","Graf Michael","BSP","Soz"]
["4b","Graf Michael","BU","BSP"]
["4b","Graf Michael","C","BU"]
["4b","Graf Michael","EH","C"]
["4b","Graf Michael","GS","EH"]
["4b","Graf Michael","GW","GS"]
["4b","Graf Michael","GZ","GW"]
["4b","Graf Michael","ME","GZ"]
["4b","Graf Michael","PH","ME"]
["4b","Graf Michael","P / C","PH"]
["4b","Graf Michael","Werken","P / C"]
["4b","Graf Michael","Rel","Werken"]
["4b","Graf Michael","S-BO","Rel"]
["4b","Graf Michael","S-BU","S-BO"]
["4b","Graf Michael","S-EH","S-BU"]
["4b","Graf Michael","S-GW","S-EH"]
["4b","Graf Michael","S-GZ","S-GW"]
["4b","Graf Michael","S-PC","S-GZ"]
["4b","Graf Michael","KrGe","S-PC"]
["4b","Graf Michael","unv. DSP","KrGe"]
["4b","Graf Michael","unv. FB","unv. DSP"]
["4b","Graf Michael","INF Sta","unv. FB"]
["4b","Graf Michael","INF ECDL","INF Sta"]
["4b","Graf Michael","unv. KET","INF ECDL"]
["4b","Graf Michael","GTS","unv. KET"]
["4b","Graf Michael","GTS-L","GTS"]
["4b","Graf Michael","frei","GTS-L"]
["4b","Graf Michael","frei","frei"]
["4b","Graf Michael","frei","frei"]
["4b","Graf Michael","frei","frei"]
["4b","Graf Michael","frei","frei"]
["4b","Graf Michael","frei","frei"]
["4b","Graf Michael","frei","frei"]
["4b","Graf Michael","frei","frei"]
["4b","Klepp Florian","M","frei"]
["4b","Klepp Florian","M-T","M"]
["4b","Klepp Florian","D","M-T"]
["4b","Klepp Florian","D-T","D"]
["4b","Klepp Florian","E","D-T"]
["4b","Klepp Florian","E-T","E"]
["4b","Klepp Florian","BE","E-T"]
["4b","Klepp Florian","Soz","BE"]
["4b","Klepp Florian","BSP","Soz"]
["4b","Klepp Florian","BU","BSP"]
["4b","Klepp Florian","C","BU"]
["4b","Klepp Florian","EH","C"]
["4b","Klepp Florian","GS","EH"]
["4b","Klepp Florian","GW","GS"]
["4b","Klepp Florian","GZ","GW"]
["4b","Klepp Florian","ME","GZ"]
["4b","Klepp Florian","PH","ME"]
["4b","Klepp Florian","P / C","PH"]
["4b","Klepp Florian","Werken","P / C"]
["4b","Klepp Florian","Rel","Werken"]
["4b","Klepp Florian","S-BO","Rel"]
["4b","Klepp Florian","S-BU","S-BO"]
["4b","Klepp Florian","S-EH","S-BU"]
["4b","Klepp Florian","S-GW","S-EH"]
["4b","Klepp Florian","S-GZ","S-GW"]
["4b","Klepp Florian","S-PC","S-GZ"]
["4b","Klepp Florian","KrGe","S-PC"]
["4b","Klepp Florian","unv. DSP","KrGe"]
["4b","Klepp Florian","unv. FB","unv. DSP"]
["4b","Klepp Florian","INF Sta","unv. FB"]
["4b","Klepp Florian","INF ECDL","INF Sta"]
["4b","Klepp Florian","unv. KET","INF ECDL"]
["4b","Klepp Florian","GTS","unv. KET"]
["4b","Klepp Florian","GTS-L","GTS"]
["4b","Klepp Florian","frei","GTS-L"]
["4b","Klepp Florian","frei","frei"]
["4b","Klepp Florian","frei","frei"]
["4b","Klepp Florian","frei","frei"]
["4b","Klepp Florian","frei","frei"]
["4b","Klepp Florian","frei","frei"]
["4b","Klepp Florian","frei","frei"]
["4b","Klepp Florian","frei","frei"]
["4b","Oberndorfer Monika","M","frei"]
["4b","Oberndorfer Monika","M-T","M"]
["4b","Oberndorfer Monika","D","M-T"]
["4b","Oberndorfer Monika","D-T","D"]
["4b","Oberndorfer Monika","E","D-T"]
["4b","Oberndorfer Monika","E-T","E"]
["4b","Oberndorfer Monika","BE","E-T"]
["4b","Oberndorfer Monika","Soz","BE"]
["4b","Oberndorfer Monika","BSP","Soz"]
["4b","Oberndorfer Monika","BU","BSP"]
["4b","Oberndorfer Monika","C","BU"]
["4b","Oberndorfer Monika","EH","C"]
["4b","Oberndorfer Monika","GS","EH"]
["4b","Oberndorfer Monika","GW","GS"]
["4b","Oberndorfer Monika","GZ","GW"]
["4b","Oberndorfer Monika","ME","GZ"]
["4b","Oberndorfer Monika","PH","ME"]
["4b","Oberndorfer Monika","P / C","PH"]
["4b","Oberndorfer Monika","Werken","P / C"]
["4b","Oberndorfer Monika","Rel","Werken"]
["4b","Oberndorfer Monika","S-BO","Rel"]
["4b","Oberndorfer Monika","S-BU","S-BO"]
["4b","Oberndorfer Monika","S-EH","S-BU"]
["4b","Oberndorfer Monika","S-GW","S-EH"]
["4b","Oberndorfer Monika","S-GZ","S-GW"]
["4b","Oberndorfer Monika","S-PC","S-GZ"]
["4b","Oberndorfer Monika","KrGe","S-PC"]
["4b","Oberndorfer Monika","unv. DSP","KrGe"]
["4b","Oberndorfer Monika","unv. FB","unv. DSP"]
["4b","Oberndorfer Monika","INF Sta","unv. FB"]
["4b","Oberndorfer Monika","INF ECDL","INF Sta"]
["4b","Oberndorfer Monika","unv. KET","INF ECDL"]
["4b","Oberndorfer Monika","GTS","unv. KET"]
["4b","Oberndorfer Monika","GTS-L","GTS"]
["4b","Oberndorfer Monika","frei","GTS-L"]
["4b","Oberndorfer Monika","frei","frei"]
["4b","Oberndorfer Monika","frei","frei"]
["4b","Oberndorfer Monika","frei","frei"]
["4b","Oberndorfer Monika","frei","frei"]
["4b","Oberndorfer Monika","frei","frei"]
["4b","Oberndorfer Monika","frei","frei"]
["4b","Oberndorfer Monika","frei","frei"]
["4b","Pachta Mathilde","M","frei"]
["4b","Pachta Mathilde","M-T","M"]
["4b","Pachta Mathilde","D","M-T"]
["4b","Pachta Mathilde","D-T","D"]
["4b","Pachta Mathilde","E","D-T"]
["4b","Pachta Mathilde","E-T","E"]
["4b","Pachta Mathilde","BE","E-T"]
["4b","Pachta Mathilde","Soz","BE"]
["4b","Pachta Mathilde","BSP","Soz"]
["4b","Pachta Mathilde","BU","BSP"]
["4b","Pachta Mathilde","C","BU"]
["4b","Pachta Mathilde","EH","C"]
["4b","Pachta Mathilde","GS","EH"]
["4b","Pachta Mathilde","GW","GS"]
["4b","Pachta Mathilde","GZ","GW"]
["4b","Pachta Mathilde","ME","GZ"]
["4b","Pachta Mathilde","PH","ME"]
["4b","Pachta Mathilde","P / C","PH"]
["4b","Pachta Mathilde","Werken","P / C"]
["4b","Pachta Mathilde","Rel","Werken"]
["4b","Pachta Mathilde","S-BO","Rel"]
["4b","Pachta Mathilde","S-BU","S-BO"]
["4b","Pachta Mathilde","S-EH","S-BU"]
["4b","Pachta Mathilde","S-GW","S-EH"]
["4b","Pachta Mathilde","S-GZ","S-GW"]
["4b","Pachta Mathilde","S-PC","S-GZ"]
["4b","Pachta Mathilde","KrGe","S-PC"]
["4b","Pachta Mathilde","unv. DSP","KrGe"]
["4b","Pachta Mathilde","unv. FB","unv. DSP"]
["4b","Pachta Mathilde","INF Sta","unv. FB"]
["4b","Pachta Mathilde","INF ECDL","INF Sta"]
["4b","Pachta Mathilde","unv. KET","INF ECDL"]
["4b","Pachta Mathilde","GTS","unv. KET"]
["4b","Pachta Mathilde","GTS-L","GTS"]
["4b","Pachta Mathilde","frei","GTS-L"]
["4b","Pachta Mathilde","frei","frei"]
["4b","Pachta Mathilde","frei","frei"]
["4b","Pachta Mathilde","frei","frei"]
["4b","Pachta Mathilde","frei","frei"]
["4b","Pachta Mathilde","frei","frei"]
["4b","Pachta Mathilde","frei","frei"]
["4b","Pachta Mathilde","frei","frei"]
["4b","Posch Gabi","M","frei"]
["4b","Posch Gabi","M-T","M"]
["4b","Posch Gabi","D","M-T"]
["4b","Posch Gabi","D-T","D"]
["4b","Posch Gabi","E","D-T"]
["4b","Posch Gabi","E-T","E"]
["4b","Posch Gabi","BE","E-T"]
["4b","Posch Gabi","Soz","BE"]
["4b","Posch Gabi","BSP","Soz"]
["4b","Posch Gabi","BU","BSP"]
["4b","Posch Gabi","C","BU"]
["4b","Posch Gabi","EH","C"]
["4b","Posch Gabi","GS","EH"]
["4b","Posch Gabi","GW","GS"]
["4b","Posch Gabi","GZ","GW"]
["4b","Posch Gabi","ME","GZ"]
["4b","Posch Gabi","PH","ME"]
["4b","Posch Gabi","P / C","PH"]
["4b","Posch Gabi","Werken","P / C"]
["4b","Posch Gabi","Rel","Werken"]
["4b","Posch Gabi","S-BO","Rel"]
["4b","Posch Gabi","S-BU","S-BO"]
["4b","Posch Gabi","S-EH","S-BU"]
["4b","Posch Gabi","S-GW","S-EH"]
["4b","Posch Gabi","S-GZ","S-GW"]
["4b","Posch Gabi","S-PC","S-GZ"]
["4b","Posch Gabi","KrGe","S-PC"]
["4b","Posch Gabi","unv. DSP","KrGe"]
["4b","Posch Gabi","unv. FB","unv. DSP"]
["4b","Posch Gabi","INF Sta","unv. FB"]
["4b","Posch Gabi","INF ECDL","INF Sta"]
["4b","Posch Gabi","unv. KET","INF ECDL"]
["4b","Posch Gabi","GTS","unv. KET"]
["4b","Posch Gabi","GTS-L","GTS"]
["4b","Posch Gabi","frei","GTS-L"]
["4b","Posch Gabi","frei","frei"]
["4b","Posch Gabi","frei","frei"]
["4b","Posch Gabi","frei","frei"]
["4b","Posch Gabi","frei","frei"]
["4b","Posch Gabi","frei","frei"]
["4b","Posch Gabi","frei","frei"]
["4b","Posch Gabi","frei","frei"]
["4b","Pürstinger Petra","M","frei"]
["4b","Pürstinger Petra","M-T","M"]
["4b","Pürstinger Petra","D","M-T"]
["4b","Pürstinger Petra","D-T","D"]
["4b","Pürstinger Petra","E","D-T"]
["4b","Pürstinger Petra","E-T","E"]
["4b","Pürstinger Petra","BE","E-T"]
["4b","Pürstinger Petra","Soz","BE"]
["4b","Pürstinger Petra","BSP","Soz"]
["4b","Pürstinger Petra","BU","BSP"]
["4b","Pürstinger Petra","C","BU"]
["4b","Pürstinger Petra","EH","C"]
["4b","Pürstinger Petra","GS","EH"]
["4b","Pürstinger Petra","GW","GS"]
["4b","Pürstinger Petra","GZ","GW"]
["4b","Pürstinger Petra","ME","GZ"]
["4b","Pürstinger Petra","PH","ME"]
["4b","Pürstinger Petra","P / C","PH"]
["4b","Pürstinger Petra","Werken","P / C"]
["4b","Pürstinger Petra","Rel","Werken"]
["4b","Pürstinger Petra","S-BO","Rel"]
["4b","Pürstinger Petra","S-BU","S-BO"]
["4b","Pürstinger Petra","S-EH","S-BU"]
["4b","Pürstinger Petra","S-GW","S-EH"]
["4b","Pürstinger Petra","S-GZ","S-GW"]
["4b","Pürstinger Petra","S-PC","S-GZ"]
["4b","Pürstinger Petra","KrGe","S-PC"]
["4b","Pürstinger Petra","unv. DSP","KrGe"]
["4b","Pürstinger Petra","unv. FB","unv. DSP"]
["4b","Pürstinger Petra","INF Sta","unv. FB"]
["4b","Pürstinger Petra","INF ECDL","INF Sta"]
["4b","Pürstinger Petra","unv. KET","INF ECDL"]
["4b","Pürstinger Petra","GTS","unv. KET"]
["4b","Pürstinger Petra","GTS-L","GTS"]
["4b","Pürstinger Petra","frei","GTS-L"]
["4b","Pürstinger Petra","frei","frei"]
["4b","Pürstinger Petra","frei","frei"]
["4b","Pürstinger Petra","frei","frei"]
["4b","Pürstinger Petra","frei","frei"]
["4b","Pürstinger Petra","frei","frei"]
["4b","Pürstinger Petra","frei","frei"]
["4b","Pürstinger Petra","frei","frei"]
["4b","Redl-Gschoss Birgit","M","frei"]
["4b","Redl-Gschoss Birgit","M-T","M"]
["4b","Redl-Gschoss Birgit","D","M-T"]
["4b","Redl-Gschoss Birgit","D-T","D"]
["4b","Redl-Gschoss Birgit","E","D-T"]
["4b","Redl-Gschoss Birgit","E-T","E"]
["4b","Redl-Gschoss Birgit","BE","E-T"]
["4b","Redl-Gschoss Birgit","Soz","BE"]
["4b","Redl-Gschoss Birgit","BSP","Soz"]
["4b","Redl-Gschoss Birgit","BU","BSP"]
["4b","Redl-Gschoss Birgit","C","BU"]
["4b","Redl-Gschoss Birgit","EH","C"]
["4b","Redl-Gschoss Birgit","GS","EH"]
["4b","Redl-Gschoss Birgit","GW","GS"]
["4b","Redl-Gschoss Birgit","GZ","GW"]
["4b","Redl-Gschoss Birgit","ME","GZ"]
["4b","Redl-Gschoss Birgit","PH","ME"]
["4b","Redl-Gschoss Birgit","P / C","PH"]
["4b","Redl-Gschoss Birgit","Werken","P / C"]
["4b","Redl-Gschoss Birgit","Rel","Werken"]
["4b","Redl-Gschoss Birgit","S-BO","Rel"]
["4b","Redl-Gschoss Birgit","S-BU","S-BO"]
["4b","Redl-Gschoss Birgit","S-EH","S-BU"]
["4b","Redl-Gschoss Birgit","S-GW","S-EH"]
["4b","Redl-Gschoss Birgit","S-GZ","S-GW"]
["4b","Redl-Gschoss Birgit","S-PC","S-GZ"]
["4b","Redl-Gschoss Birgit","KrGe","S-PC"]
["4b","Redl-Gschoss Birgit","unv. DSP","KrGe"]
["4b","Redl-Gschoss Birgit","unv. FB","unv. DSP"]
["4b","Redl-Gschoss Birgit","INF Sta","unv. FB"]
["4b","Redl-Gschoss Birgit","INF ECDL","INF Sta"]
["4b","Redl-Gschoss Birgit","unv. KET","INF ECDL"]
["4b","Redl-Gschoss Birgit","GTS","unv. KET"]
["4b","Redl-Gschoss Birgit","GTS-L","GTS"]
["4b","Redl-Gschoss Birgit","frei","GTS-L"]
["4b","Redl-Gschoss Birgit","frei","frei"]
["4b","Redl-Gschoss Birgit","frei","frei"]
["4b","Redl-Gschoss Birgit","frei","frei"]
["4b","Redl-Gschoss Birgit","frei","frei"]
["4b","Redl-Gschoss Birgit","frei","frei"]
["4b","Redl-Gschoss Birgit","frei","frei"]
["4b","Redl-Gschoss Birgit","frei","frei"]
["4b","Schaffer Verena","M","frei"]
["4b","Schaffer Verena","M-T","M"]
["4b","Schaffer Verena","D","M-T"]
["4b","Schaffer Verena","D-T","D"]
["4b","Schaffer Verena","E","D-T"]
["4b","Schaffer Verena","E-T","E"]
["4b","Schaffer Verena","BE","E-T"]
["4b","Schaffer Verena","Soz","BE"]
["4b","Schaffer Verena","BSP","Soz"]
["4b","Schaffer Verena","BU","BSP"]
["4b","Schaffer Verena","C","BU"]
["4b","Schaffer Verena","EH","C"]
["4b","Schaffer Verena","GS","EH"]
["4b","Schaffer Verena","GW","GS"]
["4b","Schaffer Verena","GZ","GW"]
["4b","Schaffer Verena","ME","GZ"]
["4b","Schaffer Verena","PH","ME"]
["4b","Schaffer Verena","P / C","PH"]
["4b","Schaffer Verena","Werken","P / C"]
["4b","Schaffer Verena","Rel","Werken"]
["4b","Schaffer Verena","S-BO","Rel"]
["4b","Schaffer Verena","S-BU","S-BO"]
["4b","Schaffer Verena","S-EH","S-BU"]
["4b","Schaffer Verena","S-GW","S-EH"]
["4b","Schaffer Verena","S-GZ","S-GW"]
["4b","Schaffer Verena","S-PC","S-GZ"]
["4b","Schaffer Verena","KrGe","S-PC"]
["4b","Schaffer Verena","unv. DSP","KrGe"]
["4b","Schaffer Verena","unv. FB","unv. DSP"]
["4b","Schaffer Verena","INF Sta","unv. FB"]
["4b","Schaffer Verena","INF ECDL","INF Sta"]
["4b","Schaffer Verena","unv. KET","INF ECDL"]
["4b","Schaffer Verena","GTS","unv. KET"]
["4b","Schaffer Verena","GTS-L","GTS"]
["4b","Schaffer Verena","frei","GTS-L"]
["4b","Schaffer Verena","frei","frei"]
["4b","Schaffer Verena","frei","frei"]
["4b","Schaffer Verena","frei","frei"]
["4b","Schaffer Verena","frei","frei"]
["4b","Schaffer Verena","frei","frei"]
["4b","Schaffer Verena","frei","frei"]
["4b","Schaffer Verena","frei","frei"]
["4b","Reischer Sophie","M","frei"]
["4b","Reischer Sophie","M-T","M"]
["4b","Reischer Sophie","D","M-T"]
["4b","Reischer Sophie","D-T","D"]
["4b","Reischer Sophie","E","D-T"]
["4b","Reischer Sophie","E-T","E"]
["4b","Reischer Sophie","BE","E-T"]
["4b","Reischer Sophie","Soz","BE"]
["4b","Reischer Sophie","BSP","Soz"]
["4b","Reischer Sophie","BU","BSP"]
["4b","Reischer Sophie","C","BU"]
["4b","Reischer Sophie","EH","C"]
["4b","Reischer Sophie","GS","EH"]
["4b","Reischer Sophie","GW","GS"]
["4b","Reischer Sophie","GZ","GW"]
["4b","Reischer Sophie","ME","GZ"]
["4b","Reischer Sophie","PH","ME"]
["4b","Reischer Sophie","P / C","PH"]
["4b","Reischer Sophie","Werken","P / C"]
["4b","Reischer Sophie","Rel","Werken"]
["4b","Reischer Sophie","S-BO","Rel"]
["4b","Reischer Sophie","S-BU","S-BO"]
["4b","Reischer Sophie","S-EH","S-BU"]
["4b","Reischer Sophie","S-GW","S-EH"]
["4b","Reischer Sophie","S-GZ","S-GW"]
["4b","Reischer Sophie","S-PC","S-GZ"]
["4b","Reischer Sophie","KrGe","S-PC"]
["4b","Reischer Sophie","unv. DSP","KrGe"]
["4b","Reischer Sophie","unv. FB","unv. DSP"]
["4b","Reischer Sophie","INF Sta","unv. FB"]
["4b","Reischer Sophie","INF ECDL","INF Sta"]
["4b","Reischer Sophie","unv. KET","INF ECDL"]
["4b","Reischer Sophie","GTS","unv. KET"]
["4b","Reischer Sophie","GTS-L","GTS"]
["4b","Reischer Sophie","frei","GTS-L"]
["4b","Reischer Sophie","frei","frei"]
["4b","Reischer Sophie","frei","frei"]
["4b","Reischer Sophie","frei","frei"]
["4b","Reischer Sophie","frei","frei"]
["4b","Reischer Sophie","frei","frei"]
["4b","Reischer Sophie","frei","frei"]
["4b","Reischer Sophie","frei","frei"]
["4b","Schuster Lisi","M","frei"]
["4b","Schuster Lisi","M-T","M"]
["4b","Schuster Lisi","D","M-T"]
["4b","Schuster Lisi","D-T","D"]
["4b","Schuster Lisi","E","D-T"]
["4b","Schuster Lisi","E-T","E"]
["4b","Schuster Lisi","BE","E-T"]
["4b","Schuster Lisi","Soz","BE"]
["4b","Schuster Lisi","BSP","Soz"]
["4b","Schuster Lisi","BU","BSP"]
["4b","Schuster Lisi","C","BU"]
["4b","Schuster Lisi","EH","C"]
["4b","Schuster Lisi","GS","EH"]
["4b","Schuster Lisi","GW","GS"]
["4b","Schuster Lisi","GZ","GW"]
["4b","Schuster Lisi","ME","GZ"]
["4b","Schuster Lisi","PH","ME"]
["4b","Schuster Lisi","P / C","PH"]
["4b","Schuster Lisi","Werken","P / C"]
["4b","Schuster Lisi","Rel","Werken"]
["4b","Schuster Lisi","S-BO","Rel"]
["4b","Schuster Lisi","S-BU","S-BO"]
["4b","Schuster Lisi","S-EH","S-BU"]
["4b","Schuster Lisi","S-GW","S-EH"]
["4b","Schuster Lisi","S-GZ","S-GW"]
["4b","Schuster Lisi","S-PC","S-GZ"]
["4b","Schuster Lisi","KrGe","S-PC"]
["4b","Schuster Lisi","unv. DSP","KrGe"]
["4b","Schuster Lisi","unv. FB","unv. DSP"]
["4b","Schuster Lisi","INF Sta","unv. FB"]
["4b","Schuster Lisi","INF ECDL","INF Sta"]
["4b","Schuster Lisi","unv. KET","INF ECDL"]
["4b","Schuster Lisi","GTS","unv. KET"]
["4b","Schuster Lisi","GTS-L","GTS"]
["4b","Schuster Lisi","frei","GTS-L"]
["4b","Schuster Lisi","frei","frei"]
["4b","Schuster Lisi","frei","frei"]
["4b","Schuster Lisi","frei","frei"]
["4b","Schuster Lisi","frei","frei"]
["4b","Schuster Lisi","frei","frei"]
["4b","Schuster Lisi","frei","frei"]
["4b","Schuster Lisi","frei","frei"]
["4b","Steinkellner Petra","M","frei"]
["4b","Steinkellner Petra","M-T","M"]
["4b","Steinkellner Petra","D","M-T"]
["4b","Steinkellner Petra","D-T","D"]
["4b","Steinkellner Petra","E","D-T"]
["4b","Steinkellner Petra","E-T","E"]
["4b","Steinkellner Petra","BE","E-T"]
["4b","Steinkellner Petra","Soz","BE"]
["4b","Steinkellner Petra","BSP","Soz"]
["4b","Steinkellner Petra","BU","BSP"]
["4b","Steinkellner Petra","C","BU"]
["4b","Steinkellner Petra","EH","C"]
["4b","Steinkellner Petra","GS","EH"]
["4b","Steinkellner Petra","GW","GS"]
["4b","Steinkellner Petra","GZ","GW"]
["4b","Steinkellner Petra","ME","GZ"]
["4b","Steinkellner Petra","PH","ME"]
["4b","Steinkellner Petra","P / C","PH"]
["4b","Steinkellner Petra","Werken","P / C"]
["4b","Steinkellner Petra","Rel","Werken"]
["4b","Steinkellner Petra","S-BO","Rel"]
["4b","Steinkellner Petra","S-BU","S-BO"]
["4b","Steinkellner Petra","S-EH","S-BU"]
["4b","Steinkellner Petra","S-GW","S-EH"]
["4b","Steinkellner Petra","S-GZ","S-GW"]
["4b","Steinkellner Petra","S-PC","S-GZ"]
["4b","Steinkellner Petra","KrGe","S-PC"]
["4b","Steinkellner Petra","unv. DSP","KrGe"]
["4b","Steinkellner Petra","unv. FB","unv. DSP"]
["4b","Steinkellner Petra","INF Sta","unv. FB"]
["4b","Steinkellner Petra","INF ECDL","INF Sta"]
["4b","Steinkellner Petra","unv. KET","INF ECDL"]
["4b","Steinkellner Petra","GTS","unv. KET"]
["4b","Steinkellner Petra","GTS-L","GTS"]
["4b","Steinkellner Petra","frei","GTS-L"]
["4b","Steinkellner Petra","frei","frei"]
["4b","Steinkellner Petra","frei","frei"]
["4b","Steinkellner Petra","frei","frei"]
["4b","Steinkellner Petra","frei","frei"]
["4b","Steinkellner Petra","frei","frei"]
["4b","Steinkellner Petra","frei","frei"]
["4b","Steinkellner Petra","frei","frei"]
["4b","Stipek Renate","M","frei"]
["4b","Stipek Renate","M-T","M"]
["4b","Stipek Renate","D","M-T"]
["4b","Stipek Renate","D-T","D"]
["4b","Stipek Renate","E","D-T"]
["4b","Stipek Renate","E-T","E"]
["4b","Stipek Renate","BE","E-T"]
["4b","Stipek Renate","Soz","BE"]
["4b","Stipek Renate","BSP","Soz"]
["4b","Stipek Renate","BU","BSP"]
["4b","Stipek Renate","C","BU"]
["4b","Stipek Renate","EH","C"]
["4b","Stipek Renate","GS","EH"]
["4b","Stipek Renate","GW","GS"]
["4b","Stipek Renate","GZ","GW"]
["4b","Stipek Renate","ME","GZ"]
["4b","Stipek Renate","PH","ME"]
["4b","Stipek Renate","P / C","PH"]
["4b","Stipek Renate","Werken","P / C"]
["4b","Stipek Renate","Rel","Werken"]
["4b","Stipek Renate","S-BO","Rel"]
["4b","Stipek Renate","S-BU","S-BO"]
["4b","Stipek Renate","S-EH","S-BU"]
["4b","Stipek Renate","S-GW","S-EH"]
["4b","Stipek Renate","S-GZ","S-GW"]
["4b","Stipek Renate","S-PC","S-GZ"]
["4b","Stipek Renate","KrGe","S-PC"]
["4b","Stipek Renate","unv. DSP","KrGe"]
["4b","Stipek Renate","unv. FB","unv. DSP"]
["4b","Stipek Renate","INF Sta","unv. FB"]
["4b","Stipek Renate","INF ECDL","INF Sta"]
["4b","Stipek Renate","unv. KET","INF ECDL"]
["4b","Stipek Renate","GTS","unv. KET"]
["4b","Stipek Renate","GTS-L","GTS"]
["4b","Stipek Renate","frei","GTS-L"]
["4b","Stipek Renate","frei","frei"]
["4b","Stipek Renate","frei","frei"]
["4b","Stipek Renate","frei","frei"]
["4b","Stipek Renate","frei","frei"]
["4b","Stipek Renate","frei","frei"]
["4b","Stipek Renate","frei","frei"]
["4b","Stipek Renate","frei","frei"]
["4b","Tscheppen Brigitte","M","frei"]
["4b","Tscheppen Brigitte","M-T","M"]
["4b","Tscheppen Brigitte","D","M-T"]
["4b","Tscheppen Brigitte","D-T","D"]
["4b","Tscheppen Brigitte","E","D-T"]
["4b","Tscheppen Brigitte","E-T","E"]
["4b","Tscheppen Brigitte","BE","E-T"]
["4b","Tscheppen Brigitte","Soz","BE"]
["4b","Tscheppen Brigitte","BSP","Soz"]
["4b","Tscheppen Brigitte","BU","BSP"]
["4b","Tscheppen Brigitte","C","BU"]
["4b","Tscheppen Brigitte","EH","C"]
["4b","Tscheppen Brigitte","GS","EH"]
["4b","Tscheppen Brigitte","GW","GS"]
["4b","Tscheppen Brigitte","GZ","GW"]
["4b","Tscheppen Brigitte","ME","GZ"]
["4b","Tscheppen Brigitte","PH","ME"]
["4b","Tscheppen Brigitte","P / C","PH"]
["4b","Tscheppen Brigitte","Werken","P / C"]
["4b","Tscheppen Brigitte","Rel","Werken"]
["4b","Tscheppen Brigitte","S-BO","Rel"]
["4b","Tscheppen Brigitte","S-BU","S-BO"]
["4b","Tscheppen Brigitte","S-EH","S-BU"]
["4b","Tscheppen Brigitte","S-GW","S-EH"]
["4b","Tscheppen Brigitte","S-GZ","S-GW"]
["4b","Tscheppen Brigitte","S-PC","S-GZ"]
["4b","Tscheppen Brigitte","KrGe","S-PC"]
["4b","Tscheppen Brigitte","unv. DSP","KrGe"]
["4b","Tscheppen Brigitte","unv. FB","unv. DSP"]
["4b","Tscheppen Brigitte","INF Sta","unv. FB"]
["4b","Tscheppen Brigitte","INF ECDL","INF Sta"]
["4b","Tscheppen Brigitte","unv. KET","INF ECDL"]
["4b","Tscheppen Brigitte","GTS","unv. KET"]
["4b","Tscheppen Brigitte","GTS-L","GTS"]
["4b","Tscheppen Brigitte","frei","GTS-L"]
["4b","Tscheppen Brigitte","frei","frei"]
["4b","Tscheppen Brigitte","frei","frei"]
["4b","Tscheppen Brigitte","frei","frei"]
["4b","Tscheppen Brigitte","frei","frei"]
["4b","Tscheppen Brigitte","frei","frei"]
["4b","Tscheppen Brigitte","frei","frei"]
["4b","Tscheppen Brigitte","frei","frei"]
["4b","Vala Franz","M","frei"]
["4b","Vala Franz","M-T","M"]
["4b","Vala Franz","D","M-T"]
["4b","Vala Franz","D-T","D"]
["4b","Vala Franz","E","D-T"]
["4b","Vala Franz","E-T","E"]
["4b","Vala Franz","BE","E-T"]
["4b","Vala Franz","Soz","BE"]
["4b","Vala Franz","BSP","Soz"]
["4b","Vala Franz","BU","BSP"]
["4b","Vala Franz","C","BU"]
["4b","Vala Franz","EH","C"]
["4b","Vala Franz","GS","EH"]
["4b","Vala Franz","GW","GS"]
["4b","Vala Franz","GZ","GW"]
["4b","Vala Franz","ME","GZ"]
["4b","Vala Franz","PH","ME"]
["4b","Vala Franz","P / C","PH"]
["4b","Vala Franz","Werken","P / C"]
["4b","Vala Franz","Rel","Werken"]
["4b","Vala Franz","S-BO","Rel"]
["4b","Vala Franz","S-BU","S-BO"]
["4b","Vala Franz","S-EH","S-BU"]
["4b","Vala Franz","S-GW","S-EH"]
["4b","Vala Franz","S-GZ","S-GW"]
["4b","Vala Franz","S-PC","S-GZ"]
["4b","Vala Franz","KrGe","S-PC"]
["4b","Vala Franz","unv. DSP","KrGe"]
["4b","Vala Franz","unv. FB","unv. DSP"]
["4b","Vala Franz","INF Sta","unv. FB"]
["4b","Vala Franz","INF ECDL","INF Sta"]
["4b","Vala Franz","unv. KET","INF ECDL"]
["4b","Vala Franz","GTS","unv. KET"]
["4b","Vala Franz","GTS-L","GTS"]
["4b","Vala Franz","frei","GTS-L"]
["4b","Vala Franz","frei","frei"]
["4b","Vala Franz","frei","frei"]
["4b","Vala Franz","frei","frei"]
["4b","Vala Franz","frei","frei"]
["4b","Vala Franz","frei","frei"]
["4b","Vala Franz","frei","frei"]
["4b","Vala Franz","frei","frei"]
["4b","Wansch Paul","M","frei"]
["4b","Wansch Paul","M-T","M"]
["4b","Wansch Paul","D","M-T"]
["4b","Wansch Paul","D-T","D"]
["4b","Wansch Paul","E","D-T"]
["4b","Wansch Paul","E-T","E"]
["4b","Wansch Paul","BE","E-T"]
["4b","Wansch Paul","Soz","BE"]
["4b","Wansch Paul","BSP","Soz"]
["4b","Wansch Paul","BU","BSP"]
["4b","Wansch Paul","C","BU"]
["4b","Wansch Paul","EH","C"]
["4b","Wansch Paul","GS","EH"]
["4b","Wansch Paul","GW","GS"]
["4b","Wansch Paul","GZ","GW"]
["4b","Wansch Paul","ME","GZ"]
["4b","Wansch Paul","PH","ME"]
["4b","Wansch Paul","P / C","PH"]
["4b","Wansch Paul","Werken","P / C"]
["4b","Wansch Paul","Rel","Werken"]
["4b","Wansch Paul","S-BO","Rel"]
["4b","Wansch Paul","S-BU","S-BO"]
["4b","Wansch Paul","S-EH","S-BU"]
["4b","Wansch Paul","S-GW","S-EH"]
["4b","Wansch Paul","S-GZ","S-GW"]
["4b","Wansch Paul","S-PC","S-GZ"]
["4b","Wansch Paul","KrGe","S-PC"]
["4b","Wansch Paul","unv. DSP","KrGe"]
["4b","Wansch Paul","unv. FB","unv. DSP"]
["4b","Wansch Paul","INF Sta","unv. FB"]
["4b","Wansch Paul","INF ECDL","INF Sta"]
["4b","Wansch Paul","unv. KET","INF ECDL"]
["4b","Wansch Paul","GTS","unv. KET"]
["4b","Wansch Paul","GTS-L","GTS"]
["4b","Wansch Paul","frei","GTS-L"]
["4b","Wansch Paul","frei","frei"]
["4b","Wansch Paul","frei","frei"]
["4b","Wansch Paul","frei","frei"]
["4b","Wansch Paul","frei","frei"]
["4b","Wansch Paul","frei","frei"]
["4b","Wansch Paul","frei","frei"]
["4b","Wansch Paul","frei","frei"]
["4b","Weichselbaum Susi","M","frei"]
["4b","Weichselbaum Susi","M-T","M"]
["4b","Weichselbaum Susi","D","M-T"]
["4b","Weichselbaum Susi","D-T","D"]
["4b","Weichselbaum Susi","E","D-T"]
["4b","Weichselbaum Susi","E-T","E"]
["4b","Weichselbaum Susi","BE","E-T"]
["4b","Weichselbaum Susi","Soz","BE"]
["4b","Weichselbaum Susi","BSP","Soz"]
["4b","Weichselbaum Susi","BU","BSP"]
["4b","Weichselbaum Susi","C","BU"]
["4b","Weichselbaum Susi","EH","C"]
["4b","Weichselbaum Susi","GS","EH"]
["4b","Weichselbaum Susi","GW","GS"]
["4b","Weichselbaum Susi","GZ","GW"]
["4b","Weichselbaum Susi","ME","GZ"]
["4b","Weichselbaum Susi","PH","ME"]
["4b","Weichselbaum Susi","P / C","PH"]
["4b","Weichselbaum Susi","Werken","P / C"]
["4b","Weichselbaum Susi","Rel","Werken"]
["4b","Weichselbaum Susi","S-BO","Rel"]
["4b","Weichselbaum Susi","S-BU","S-BO"]
["4b","Weichselbaum Susi","S-EH","S-BU"]
["4b","Weichselbaum Susi","S-GW","S-EH"]
["4b","Weichselbaum Susi","S-GZ","S-GW"]
["4b","Weichselbaum Susi","S-PC","S-GZ"]
["4b","Weichselbaum Susi","KrGe","S-PC"]
["4b","Weichselbaum Susi","unv. DSP","KrGe"]
["4b","Weichselbaum Susi","unv. FB","unv. DSP"]
["4b","Weichselbaum Susi","INF Sta","unv. FB"]
["4b","Weichselbaum Susi","INF ECDL","INF Sta"]
["4b","Weichselbaum Susi","unv. KET","INF ECDL"]
["4b","Weichselbaum Susi","GTS","unv. KET"]
["4b","Weichselbaum Susi","GTS-L","GTS"]
["4b","Weichselbaum Susi","frei","GTS-L"]
["4b","Weichselbaum Susi","frei","frei"]
["4b","Weichselbaum Susi","frei","frei"]
["4b","Weichselbaum Susi","frei","frei"]
["4b","Weichselbaum Susi","frei","frei"]
["4b","Weichselbaum Susi","frei","frei"]
["4b","Weichselbaum Susi","frei","frei"]
["4b","Weichselbaum Susi","frei","frei"]
["4b","Aloji Nuhroz","M","frei"]
["4b","Aloji Nuhroz","M-T","M"]
["4b","Aloji Nuhroz","D","M-T"]
["4b","Aloji Nuhroz","D-T","D"]
["4b","Aloji Nuhroz","E","D-T"]
["4b","Aloji Nuhroz","E-T","E"]
["4b","Aloji Nuhroz","BE","E-T"]
["4b","Aloji Nuhroz","Soz","BE"]
["4b","Aloji Nuhroz","BSP","Soz"]
["4b","Aloji Nuhroz","BU","BSP"]
["4b","Aloji Nuhroz","C","BU"]
["4b","Aloji Nuhroz","EH","C"]
["4b","Aloji Nuhroz","GS","EH"]
["4b","Aloji Nuhroz","GW","GS"]
["4b","Aloji Nuhroz","GZ","GW"]
["4b","Aloji Nuhroz","ME","GZ"]
["4b","Aloji Nuhroz","PH","ME"]
["4b","Aloji Nuhroz","P / C","PH"]
["4b","Aloji Nuhroz","Werken","P / C"]
["4b","Aloji Nuhroz","Rel","Werken"]
["4b","Aloji Nuhroz","S-BO","Rel"]
["4b","Aloji Nuhroz","S-BU","S-BO"]
["4b","Aloji Nuhroz","S-EH","S-BU"]
["4b","Aloji Nuhroz","S-GW","S-EH"]
["4b","Aloji Nuhroz","S-GZ","S-GW"]
["4b","Aloji Nuhroz","S-PC","S-GZ"]
["4b","Aloji Nuhroz","KrGe","S-PC"]
["4b","Aloji Nuhroz","unv. DSP","KrGe"]
["4b","Aloji Nuhroz","unv. FB","unv. DSP"]
["4b","Aloji Nuhroz","INF Sta","unv. FB"]
["4b","Aloji Nuhroz","INF ECDL","INF Sta"]
["4b","Aloji Nuhroz","unv. KET","INF ECDL"]
["4b","Aloji Nuhroz","GTS","unv. KET"]
["4b","Aloji Nuhroz","GTS-L","GTS"]
["4b","Aloji Nuhroz","frei","GTS-L"]
["4b","Aloji Nuhroz","frei","frei"]
["4b","Aloji Nuhroz","frei","frei"]
["4b","Aloji Nuhroz","frei","frei"]
["4b","Aloji Nuhroz","frei","frei"]
["4b","Aloji Nuhroz","frei","frei"]
["4b","Aloji Nuhroz","frei","frei"]
["4b","Aloji Nuhroz","frei","frei"]
["4b","Gegendorfer Verena","M","frei"]
["4b","Gegendorfer Verena","M-T","M"]
["4b","Gegendorfer Verena","D","M-T"]
["4b","Gegendorfer Verena","D-T","D"]
["4b","Gegendorfer Verena","E","D-T"]
["4b","Gegendorfer Verena","E-T","E"]
["4b","Gegendorfer Verena","BE","E-T"]
["4b","Gegendorfer Verena","Soz","BE"]
["4b","Gegendorfer Verena","BSP","Soz"]
["4b","Gegendorfer Verena","BU","BSP"]
["4b","Gegendorfer Verena","C","BU"]
["4b","Gegendorfer Verena","EH","C"]
["4b","Gegendorfer Verena","GS","EH"]
["4b","Gegendorfer Verena","GW","GS"]
["4b","Gegendorfer Verena","GZ","GW"]
["4b","Gegendorfer Verena","ME","GZ"]
["4b","Gegendorfer Verena","PH","ME"]
["4b","Gegendorfer Verena","P / C","PH"]
["4b","Gegendorfer Verena","Werken","P / C"]
["4b","Gegendorfer Verena","Rel","Werken"]
["4b","Gegendorfer Verena","S-BO","Rel"]
["4b","Gegendorfer Verena","S-BU","S-BO"]
["4b","Gegendorfer Verena","S-EH","S-BU"]
["4b","Gegendorfer Verena","S-GW","S-EH"]
["4b","Gegendorfer Verena","S-GZ","S-GW"]
["4b","Gegendorfer Verena","S-PC","S-GZ"]
["4b","Gegendorfer Verena","KrGe","S-PC"]
["4b","Gegendorfer Verena","unv. DSP","KrGe"]
["4b","Gegendorfer Verena","unv. FB","unv. DSP"]
["4b","Gegendorfer Verena","INF Sta","unv. FB"]
["4b","Gegendorfer Verena","INF ECDL","INF Sta"]
["4b","Gegendorfer Verena","unv. KET","INF ECDL"]
["4b","Gegendorfer Verena","GTS","unv. KET"]
["4b","Gegendorfer Verena","GTS-L","GTS"]
["4b","Gegendorfer Verena","frei","GTS-L"]
["4b","Gegendorfer Verena","frei","frei"]
["4b","Gegendorfer Verena","frei","frei"]
["4b","Gegendorfer Verena","frei","frei"]
["4b","Gegendorfer Verena","frei","frei"]
["4b","Gegendorfer Verena","frei","frei"]
["4b","Gegendorfer Verena","frei","frei"]
["4b","Gegendorfer Verena","frei","frei"]
["4b","Kumpera Christina","M","frei"]
["4b","Kumpera Christina","M-T","M"]
["4b","Kumpera Christina","D","M-T"]
["4b","Kumpera Christina","D-T","D"]
["4b","Kumpera Christina","E","D-T"]
["4b","Kumpera Christina","E-T","E"]
["4b","Kumpera Christina","BE","E-T"]
["4b","Kumpera Christina","Soz","BE"]
["4b","Kumpera Christina","BSP","Soz"]
["4b","Kumpera Christina","BU","BSP"]
["4b","Kumpera Christina","C","BU"]
["4b","Kumpera Christina","EH","C"]
["4b","Kumpera Christina","GS","EH"]
["4b","Kumpera Christina","GW","GS"]
["4b","Kumpera Christina","GZ","GW"]
["4b","Kumpera Christina","ME","GZ"]
["4b","Kumpera Christina","PH","ME"]
["4b","Kumpera Christina","P / C","PH"]
["4b","Kumpera Christina","Werken","P / C"]
["4b","Kumpera Christina","Rel","Werken"]
["4b","Kumpera Christina","S-BO","Rel"]
["4b","Kumpera Christina","S-BU","S-BO"]
["4b","Kumpera Christina","S-EH","S-BU"]
["4b","Kumpera Christina","S-GW","S-EH"]
["4b","Kumpera Christina","S-GZ","S-GW"]
["4b","Kumpera Christina","S-PC","S-GZ"]
["4b","Kumpera Christina","KrGe","S-PC"]
["4b","Kumpera Christina","unv. DSP","KrGe"]
["4b","Kumpera Christina","unv. FB","unv. DSP"]
["4b","Kumpera Christina","INF Sta","unv. FB"]
["4b","Kumpera Christina","INF ECDL","INF Sta"]
["4b","Kumpera Christina","unv. KET","INF ECDL"]
["4b","Kumpera Christina","GTS","unv. KET"]
["4b","Kumpera Christina","GTS-L","GTS"]
["4b","Kumpera Christina","frei","GTS-L"]
["4b","Kumpera Christina","frei","frei"]
["4b","Kumpera Christina","frei","frei"]
["4b","Kumpera Christina","frei","frei"]
["4b","Kumpera Christina","frei","frei"]
["4b","Kumpera Christina","frei","frei"]
["4b","Kumpera Christina","frei","frei"]
["4b","Kumpera Christina","frei","frei"]
["4b","Koch Paul","M","frei"]
["4b","Koch Paul","M-T","M"]
["4b","Koch Paul","D","M-T"]
["4b","Koch Paul","D-T","D"]
["4b","Koch Paul","E","D-T"]
["4b","Koch Paul","E-T","E"]
["4b","Koch Paul","BE","E-T"]
["4b","Koch Paul","Soz","BE"]
["4b","Koch Paul","BSP","Soz"]
["4b","Koch Paul","BU","BSP"]
["4b","Koch Paul","C","BU"]
["4b","Koch Paul","EH","C"]
["4b","Koch Paul","GS","EH"]
["4b","Koch Paul","GW","GS"]
["4b","Koch Paul","GZ","GW"]
["4b","Koch Paul","ME","GZ"]
["4b","Koch Paul","PH","ME"]
["4b","Koch Paul","P / C","PH"]
["4b","Koch Paul","Werken","P / C"]
["4b","Koch Paul","Rel","Werken"]
["4b","Koch Paul","S-BO","Rel"]
["4b","Koch Paul","S-BU","S-BO"]
["4b","Koch Paul","S-EH","S-BU"]
["4b","Koch Paul","S-GW","S-EH"]
["4b","Koch Paul","S-GZ","S-GW"]
["4b","Koch Paul","S-PC","S-GZ"]
["4b","Koch Paul","KrGe","S-PC"]
["4b","Koch Paul","unv. DSP","KrGe"]
["4b","Koch Paul","unv. FB","unv. DSP"]
["4b","Koch Paul","INF Sta","unv. FB"]
["4b","Koch Paul","INF ECDL","INF Sta"]
["4b","Koch Paul","unv. KET","INF ECDL"]
["4b","Koch Paul","GTS","unv. KET"]
["4b","Koch Paul","GTS-L","GTS"]
["4b","Koch Paul","frei","GTS-L"]
["4b","Koch Paul","frei","frei"]
["4b","Koch Paul","frei","frei"]
["4b","Koch Paul","frei","frei"]
["4b","Koch Paul","frei","frei"]
["4b","Koch Paul","frei","frei"]
["4b","Koch Paul","frei","frei"]
["4b","Koch Paul","frei","frei"]
["4b","Wagner Judith","M","frei"]
["4b","Wagner Judith","M-T","M"]
["4b","Wagner Judith","D","M-T"]
["4b","Wagner Judith","D-T","D"]
["4b","Wagner Judith","E","D-T"]
["4b","Wagner Judith","E-T","E"]
["4b","Wagner Judith","BE","E-T"]
["4b","Wagner Judith","Soz","BE"]
["4b","Wagner Judith","BSP","Soz"]
["4b","Wagner Judith","BU","BSP"]
["4b","Wagner Judith","C","BU"]
["4b","Wagner Judith","EH","C"]
["4b","Wagner Judith","GS","EH"]
["4b","Wagner Judith","GW","GS"]
["4b","Wagner Judith","GZ","GW"]
["4b","Wagner Judith","ME","GZ"]
["4b","Wagner Judith","PH","ME"]
["4b","Wagner Judith","P / C","PH"]
["4b","Wagner Judith","Werken","P / C"]
["4b","Wagner Judith","Rel","Werken"]
["4b","Wagner Judith","S-BO","Rel"]
["4b","Wagner Judith","S-BU","S-BO"]
["4b","Wagner Judith","S-EH","S-BU"]
["4b","Wagner Judith","S-GW","S-EH"]
["4b","Wagner Judith","S-GZ","S-GW"]
["4b","Wagner Judith","S-PC","S-GZ"]
["4b","Wagner Judith","KrGe","S-PC"]
["4b","Wagner Judith","unv. DSP","KrGe"]
["4b","Wagner Judith","unv. FB","unv. DSP"]
["4b","Wagner Judith","INF Sta","unv. FB"]
["4b","Wagner Judith","INF ECDL","INF Sta"]
["4b","Wagner Judith","unv. KET","INF ECDL"]
["4b","Wagner Judith","GTS","unv. KET"]
["4b","Wagner Judith","GTS-L","GTS"]
["4b","Wagner Judith","frei","GTS-L"]
["4b","Wagner Judith","frei","frei"]
["4b","Wagner Judith","frei","frei"]
["4b","Wagner Judith","frei","frei"]
["4b","Wagner Judith","frei","frei"]
["4b","Wagner Judith","frei","frei"]
["4b","Wagner Judith","frei","frei"]
["4b","Wagner Judith","frei","frei"]
["4b",null,"M","frei"]
["4b",null,"M-T","M"]
["4b",null,"D","M-T"]
["4b",null,"D-T","D"]
["4b",null,"E","D-T"]
["4b",null,"E-T","E"]
["4b",null,"BE","E-T"]
["4b",null,"Soz","BE"]
["4b",null,"BSP","Soz"]
["4b",null,"BU","BSP"]
["4b",null,"C","BU"]
["4b",null,"EH","C"]
["4b",null,"GS","EH"]
["4b",null,"GW","GS"]
["4b",null,"GZ","GW"]
["4b",null,"ME","GZ"]
["4b",null,"PH","ME"]
["4b",null,"P / C","PH"]
["4b",null,"Werken","P / C"]
["4b",null,"Rel","Werken"]
["4b",null,"S-BO","Rel"]
["4b",null,"S-BU","S-BO"]
["4b",null,"S-EH","S-BU"]
["4b",null,"S-GW","S-EH"]
["4b",null,"S-GZ","S-GW"]
["4b",null,"S-PC","S-GZ"]
["4b",null,"KrGe","S-PC"]
["4b",null,"unv. DSP","KrGe"]
["4b",null,"unv. FB","unv. DSP"]
["4b",null,"INF Sta","unv. FB"]
["4b",null,"INF ECDL","INF Sta"]
["4b",null,"unv. KET","INF ECDL"]
["4b",null,"GTS","unv. KET"]
["4b",null,"GTS-L","GTS"]
["4b",null,"frei","GTS-L"]
["4b",null,"frei","frei"]
["4b",null,"frei","frei"]
["4b",null,"frei","frei"]
["4b",null,"frei","frei"]
["4b",null,"frei","frei"]
["4b",null,"frei","frei"]
["4b",null,"frei","frei"]
["4b",null,"M","frei"]
["4b",null,"M-T","M"]
["4b",null,"D","M-T"]
["4b",null,"D-T","D"]
["4b",null,"E","D-T"]
["4b",null,"E-T","E"]
["4b",null,"BE","E-T"]
["4b",null,"Soz","BE"]
["4b",null,"BSP","Soz"]
["4b",null,"BU","BSP"]
["4b",null,"C","BU"]
["4b",null,"EH","C"]
["4b",null,"GS","EH"]
["4b",null,"GW","GS"]
["4b",null,"GZ","GW"]
["4b",null,"ME","GZ"]
["4b",null,"PH","ME"]
["4b",null,"P / C","PH"]
["4b",null,"Werken","P / C"]
["4b",null,"Rel","Werken"]
["4b",null,"S-BO","Rel"]
["4b",null,"S-BU","S-BO"]
["4b",null,"S-EH","S-BU"]
["4b",null,"S-GW","S-EH"]
["4b",null,"S-GZ","S-GW"]
["4b",null,"S-PC","S-GZ"]
["4b",null,"KrGe","S-PC"]
["4b",null,"unv. DSP","KrGe"]
["4b",null,"unv. FB","unv. DSP"]
["4b",null,"INF Sta","unv. FB"]
["4b",null,"INF ECDL","INF Sta"]
["4b",null,"unv. KET","INF ECDL"]
["4b",null,"GTS","unv. KET"]
["4b",null,"GTS-L","GTS"]
["4b",null,"frei","GTS-L"]
["4b",null,"frei","frei"]
["4b",null,"frei","frei"]
["4b",null,"frei","frei"]
["4b",null,"frei","frei"]
["4b",null,"frei","frei"]
["4b",null,"frei","frei"]
["4b",null,"frei","frei"]
["4b",null,"M","frei"]
["4b",null,"M-T","M"]
["4b",null,"D","M-T"]
["4b",null,"D-T","D"]
["4b",null,"E","D-T"]
["4b",null,"E-T","E"]
["4b",null,"BE","E-T"]
["4b",null,"Soz","BE"]
["4b",null,"BSP","Soz"]
["4b",null,"BU","BSP"]
["4b",null,"C","BU"]
["4b",null,"EH","C"]
["4b",null,"GS","EH"]
["4b",null,"GW","GS"]
["4b",null,"GZ","GW"]
["4b",null,"ME","GZ"]
["4b",null,"PH","ME"]
["4b",null,"P / C","PH"]
["4b",null,"Werken","P / C"]
["4b",null,"Rel","Werken"]
["4b",null,"S-BO","Rel"]
["4b",null,"S-BU","S-BO"]
["4b",null,"S-EH","S-BU"]
["4b",null,"S-GW","S-EH"]
["4b",null,"S-GZ","S-GW"]
["4b",null,"S-PC","S-GZ"]
["4b",null,"KrGe","S-PC"]
["4b",null,"unv. DSP","KrGe"]
["4b",null,"unv. FB","unv. DSP"]
["4b",null,"INF Sta","unv. FB"]
["4b",null,"INF ECDL","INF Sta"]
["4b",null,"unv. KET","INF ECDL"]
["4b",null,"GTS","unv. KET"]
["4b",null,"GTS-L","GTS"]
["4b",null,"frei","GTS-L"]
["4b",null,"frei","frei"]
["4b",null,"frei","frei"]
["4b",null,"frei","frei"]
["4b",null,"frei","frei"]
["4b",null,"frei","frei"]
["4b",null,"frei","frei"]
["4b",null,"frei","frei"]
[null,null,null,"frei"]

{"sheet":"Gesamtverbrauch","index":23,"n_rows":14,"n_cols":8,"rows_kept":14,"cut":false,"hidden":false,"merged":[[0,0,0,9],[2,4,2,6],[4,4,4,6],[6,4,6,5]]}
[" Übersicht Stundenverbrauch der Schule"]
[]
[null,"Bereich","Stunden",null,"Kontingent zugewiesen:",null,null,0]
[null,"Stunden aus LFV",{"$f":"'1a'!C1","v":0}]
[null,"Schulleitung",0,null,"Bilanz",null,null,{"$f":"H3-C14","v":0}]
[null,"IT Kustos",0]
[null,"Bibliothek",0,null,"minus = überzogen"]
[null,"pat LSR Lerndesign",0]
[null,"pat LSR Stunden",0]
[null,"Noemedia",0]
[null,"Mitverwendung",0]
[null,"Sonstiges",0]
[]
[null,"Summe Verbrauch",{"$f":"SUM(C4:C12)","v":0}]